Back to Multiple platform build/check report for BioC 3.12
A[B]CDEFGHIJKLMNOPQRSTUVWXYZ

BUILD report for BgeeCall on nebbiolo1

This page was generated on 2021-01-17 11:50:51 -0500 (Sun, 17 Jan 2021).

TO THE DEVELOPERS/MAINTAINERS OF THE BgeeCall PACKAGE: Please make sure to use the following settings in order to reproduce any error or warning you see on this page.
Package 140/1974HostnameOS / ArchINSTALLBUILDCHECKBUILD BIN
BgeeCall 1.6.2
Julien Wollbrett
Snapshot Date: 2021-01-16 14:41:12 -0500 (Sat, 16 Jan 2021)
URL: https://git.bioconductor.org/packages/BgeeCall
Branch: RELEASE_3_12
Last Commit: 1b74dcf
Last Changed Date: 2020-12-10 05:55:05 -0500 (Thu, 10 Dec 2020)
malbec1 Linux (Ubuntu 18.04.5 LTS) / x86_64  OK  ERROR  skipped 
nebbiolo1 Linux (Ubuntu 20.04.1 LTS) / x86_64  OK [ OK ] OK 
tokay1 Windows Server 2012 R2 Standard / x64  OK  OK  OK  OK UNNEEDED, same version exists in internal repository
merida1 macOS 10.14.6 Mojave / x86_64  OK  OK  OK  OK UNNEEDED, same version exists in internal repository

Summary

Package: BgeeCall
Version: 1.6.2
Command: /home/biocbuild/bbs-3.12-bioc/R/bin/R CMD build --keep-empty-dirs --no-resave-data BgeeCall
StartedAt: 2021-01-16 17:43:24 -0500 (Sat, 16 Jan 2021)
EndedAt: 2021-01-16 17:45:45 -0500 (Sat, 16 Jan 2021)
EllapsedTime: 140.9 seconds
RetCode: 0
Status:  OK 
PackageFile: BgeeCall_1.6.2.tar.gz
PackageFileSize: 5.635 MiB

Command output

##############################################################################
##############################################################################
###
### Running command:
###
###   /home/biocbuild/bbs-3.12-bioc/R/bin/R CMD build --keep-empty-dirs --no-resave-data BgeeCall
###
##############################################################################
##############################################################################


* checking for file ‘BgeeCall/DESCRIPTION’ ... OK
* preparing ‘BgeeCall’:
* checking DESCRIPTION meta-information ... OK
* installing the package to build vignettes
* creating vignettes ... OK
* checking for LF line-endings in source and make files and shell scripts
* checking for empty or unneeded directories
* building ‘BgeeCall_1.6.2.tar.gz’