Back to Multiple platform build/check report for BioC 3.12
A[B]CDEFGHIJKLMNOPQRSTUVWXYZ

BUILD BIN report for BayesKnockdown on riesling1

This page was generated on 2020-10-28 13:27:53 -0400 (Wed, 28 Oct 2020).

TO THE DEVELOPERS/MAINTAINERS OF THE BayesKnockdown PACKAGE: Please make sure to use the following settings in order to reproduce any error or warning you see on this page.
Package 125/1974HostnameOS / ArchINSTALLBUILDCHECKBUILD BIN
BayesKnockdown 1.16.0
William Chad Young
Snapshot Date: 2020-10-27 13:12:07 -0400 (Tue, 27 Oct 2020)
URL: https://git.bioconductor.org/packages/BayesKnockdown
Branch: RELEASE_3_12
Last Commit: e11dfe6
Last Changed Date: 2020-10-27 11:16:44 -0400 (Tue, 27 Oct 2020)
malbec1 Linux (Ubuntu 18.04.4 LTS) / x86_64  OK  OK  OK YES, new version is higher than in internal repository
nebbiolo1 Linux (Ubuntu 20.04.1 LTS) / x86_64  OK  OK  OK 
tokay1 Windows Server 2012 R2 Standard / x64  OK  OK  OK  OK YES, new version is higher than in internal repository
riesling1 Windows Server 2019 Standard / x64  OK  OK  OK [ OK ]
merida1 macOS 10.14.6 Mojave / x86_64  OK  OK  OK  OK YES, new version is higher than in internal repository

Summary

Package: BayesKnockdown
Version: 1.16.0
Command: rm -rf BayesKnockdown.buildbin-libdir && mkdir BayesKnockdown.buildbin-libdir && D:\biocbuild\bbs-3.12-bioc\R\bin\R.exe CMD INSTALL --merge-multiarch --build --library=BayesKnockdown.buildbin-libdir BayesKnockdown_1.16.0.tar.gz
StartedAt: 2020-10-27 23:15:18 -0400 (Tue, 27 Oct 2020)
EndedAt: 2020-10-27 23:17:16 -0400 (Tue, 27 Oct 2020)
EllapsedTime: 118.0 seconds
RetCode: 0
Status:  OK  
PackageFile: BayesKnockdown_1.16.0.zip
PackageFileSize: 147.4 KiB

Command output

##############################################################################
##############################################################################
###
### Running command:
###
###   rm -rf BayesKnockdown.buildbin-libdir && mkdir BayesKnockdown.buildbin-libdir && D:\biocbuild\bbs-3.12-bioc\R\bin\R.exe CMD INSTALL --merge-multiarch --build --library=BayesKnockdown.buildbin-libdir BayesKnockdown_1.16.0.tar.gz
###
##############################################################################
##############################################################################



install for i386

* installing *source* package 'BayesKnockdown' ...
** using staged installation
** R
** data
*** moving datasets to lazyload DB
** inst
** byte-compile and prepare package for lazy loading
** help
*** installing help indices
  converting help for package 'BayesKnockdown'
    finding HTML links ... done
    BayesKnockdown                          html  
    BayesKnockdown.diffExp                  html  
    BayesKnockdown.es                       html  
    lincs.kd                                html  
** building package indices
** installing vignettes
** testing if installed package can be loaded from temporary location
** testing if installed package can be loaded from final location
** testing if installed package keeps a record of temporary installation path

install for x64

* installing *source* package 'BayesKnockdown' ...
** testing if installed package can be loaded
* MD5 sums
packaged installation of 'BayesKnockdown' as BayesKnockdown_1.16.0.zip
* DONE (BayesKnockdown)