Back to Multiple platform build/check report for BioC 3.12
A[B]CDEFGHIJKLMNOPQRSTUVWXYZ

BUILD report for BatchQC on nebbiolo1

This page was generated on 2020-09-28 11:12:24 -0400 (Mon, 28 Sep 2020).

TO THE DEVELOPERS/MAINTAINERS OF THE BatchQC PACKAGE: Please make sure to use the following settings in order to reproduce any error or warning you see on this page.
Package 118/1923HostnameOS / ArchINSTALLBUILDCHECKBUILD BIN
BatchQC 1.17.2
Solaiappan Manimaran
Snapshot Date: 2020-09-27 14:41:58 -0400 (Sun, 27 Sep 2020)
URL: https://git.bioconductor.org/packages/BatchQC
Branch: master
Last Commit: b610f4a
Last Changed Date: 2020-07-13 01:42:07 -0400 (Mon, 13 Jul 2020)
malbec1 Linux (Ubuntu 18.04.4 LTS) / x86_64  OK  OK  OK UNNEEDED, same version exists in internal repository
nebbiolo1 Linux (Ubuntu 20.04.1 LTS) / x86_64  OK [ OK ] OK 
tokay1 Windows Server 2012 R2 Standard / x64  OK  OK  OK  OK UNNEEDED, same version exists in internal repository
riesling1 Windows Server 2019 Standard / x64  OK  OK  OK  OK 
merida1 macOS 10.14.6 Mojave / x86_64  OK  OK  OK  OK UNNEEDED, same version exists in internal repository

Summary

Package: BatchQC
Version: 1.17.2
Command: /home/biocbuild/bbs-3.12-bioc/R/bin/R CMD build --keep-empty-dirs --no-resave-data BatchQC
StartedAt: 2020-09-27 18:31:44 -0400 (Sun, 27 Sep 2020)
EndedAt: 2020-09-27 18:32:24 -0400 (Sun, 27 Sep 2020)
EllapsedTime: 40.0 seconds
RetCode: 0
Status:  OK 
PackageFile: BatchQC_1.17.2.tar.gz
PackageFileSize: 1.461 MiB

Command output

##############################################################################
##############################################################################
###
### Running command:
###
###   /home/biocbuild/bbs-3.12-bioc/R/bin/R CMD build --keep-empty-dirs --no-resave-data BatchQC
###
##############################################################################
##############################################################################


* checking for file ‘BatchQC/DESCRIPTION’ ... OK
* preparing ‘BatchQC’:
* checking DESCRIPTION meta-information ... OK
* installing the package to build vignettes
* creating vignettes ... OK
* checking for LF line-endings in source and make files and shell scripts
* checking for empty or unneeded directories
* looking to see if a ‘data/datalist’ file should be added
* building ‘BatchQC_1.17.2.tar.gz’