Back to Multiple platform build/check report for BioC 3.12
A[B]CDEFGHIJKLMNOPQRSTUVWXYZ

INSTALL report for BaseSpaceR on riesling1

This page was generated on 2020-10-28 13:27:52 -0400 (Wed, 28 Oct 2020).

TO THE DEVELOPERS/MAINTAINERS OF THE BaseSpaceR PACKAGE: Please make sure to use the following settings in order to reproduce any error or warning you see on this page.
Package 117/1974HostnameOS / ArchINSTALLBUILDCHECKBUILD BIN
BaseSpaceR 1.34.0
Jared O'Connell
Snapshot Date: 2020-10-27 13:12:07 -0400 (Tue, 27 Oct 2020)
URL: https://git.bioconductor.org/packages/BaseSpaceR
Branch: RELEASE_3_12
Last Commit: 40c323f
Last Changed Date: 2020-10-27 10:49:55 -0400 (Tue, 27 Oct 2020)
malbec1 Linux (Ubuntu 18.04.4 LTS) / x86_64  OK  OK  OK YES, new version is higher than in internal repository
nebbiolo1 Linux (Ubuntu 20.04.1 LTS) / x86_64  OK  OK  OK 
tokay1 Windows Server 2012 R2 Standard / x64  OK  OK  OK  OK YES, new version is higher than in internal repository
riesling1 Windows Server 2019 Standard / x64 [ OK ] OK  OK  OK 
merida1 macOS 10.14.6 Mojave / x86_64  OK  OK  OK  OK YES, new version is higher than in internal repository

Summary

Package: BaseSpaceR
Version: 1.34.0
Command: C:\cygwin\bin\curl.exe -O http://172.29.0.3/BBS/3.12/bioc/src/contrib/BaseSpaceR_1.34.0.tar.gz && rm -rf BaseSpaceR.buildbin-libdir && mkdir BaseSpaceR.buildbin-libdir && D:\biocbuild\bbs-3.12-bioc\R\bin\R.exe CMD INSTALL --merge-multiarch --build --library=BaseSpaceR.buildbin-libdir BaseSpaceR_1.34.0.tar.gz && D:\biocbuild\bbs-3.12-bioc\R\bin\R.exe CMD INSTALL BaseSpaceR_1.34.0.zip && rm BaseSpaceR_1.34.0.tar.gz BaseSpaceR_1.34.0.zip
StartedAt: 2020-10-27 16:32:15 -0400 (Tue, 27 Oct 2020)
EndedAt: 2020-10-27 16:33:56 -0400 (Tue, 27 Oct 2020)
EllapsedTime: 100.9 seconds
RetCode: 0
Status:  OK  

Command output

##############################################################################
##############################################################################
###
### Running command:
###
###   C:\cygwin\bin\curl.exe -O http://172.29.0.3/BBS/3.12/bioc/src/contrib/BaseSpaceR_1.34.0.tar.gz && rm -rf BaseSpaceR.buildbin-libdir && mkdir BaseSpaceR.buildbin-libdir && D:\biocbuild\bbs-3.12-bioc\R\bin\R.exe CMD INSTALL --merge-multiarch --build --library=BaseSpaceR.buildbin-libdir BaseSpaceR_1.34.0.tar.gz && D:\biocbuild\bbs-3.12-bioc\R\bin\R.exe CMD INSTALL BaseSpaceR_1.34.0.zip && rm BaseSpaceR_1.34.0.tar.gz BaseSpaceR_1.34.0.zip
###
##############################################################################
##############################################################################


  % Total    % Received % Xferd  Average Speed   Time    Time     Time  Current
                                 Dload  Upload   Total   Spent    Left  Speed

  0     0    0     0    0     0      0      0 --:--:-- --:--:-- --:--:--     0
100  272k  100  272k    0     0  1059k      0 --:--:-- --:--:-- --:--:-- 1063k

install for i386

* installing *source* package 'BaseSpaceR' ...
** using staged installation
** R
** data
** inst
** byte-compile and prepare package for lazy loading
** help
*** installing help indices
  converting help for package 'BaseSpaceR'
    finding HTML links ... done
    AppAuth-class                           html  
    AppResults-class                        html  
    AppSessionAuth                          html  
    AppSessions-class                       html  
    BaseSpaceR-package                      html  
    Coverage                                html  
    Error                                   html  
    Files-class                             html  
    FilesExtra                              html  
    Genomes-class                           html  
    Projects-class                          html  
    Response-class                          html  
    Runs-class                              html  
    Samples-class                           html  
    ServiceURI-class                        html  
    Users-class                             html  
    Variants                                html  
    data-aAuth                              html  
    private_methods                         html  
** building package indices
** installing vignettes
** testing if installed package can be loaded from temporary location
** testing if installed package can be loaded from final location
** testing if installed package keeps a record of temporary installation path

install for x64

* installing *source* package 'BaseSpaceR' ...
** testing if installed package can be loaded
* MD5 sums
packaged installation of 'BaseSpaceR' as BaseSpaceR_1.34.0.zip
* DONE (BaseSpaceR)
* installing to library 'D:/biocbuild/bbs-3.12-bioc/R/library'
package 'BaseSpaceR' successfully unpacked and MD5 sums checked