Back to Multiple platform build/check report for BioC 3.12
A[B]CDEFGHIJKLMNOPQRSTUVWXYZ

BUILD report for BaseSpaceR on nebbiolo1

This page was generated on 2020-10-29 12:19:42 -0400 (Thu, 29 Oct 2020).

TO THE DEVELOPERS/MAINTAINERS OF THE BaseSpaceR PACKAGE: Please make sure to use the following settings in order to reproduce any error or warning you see on this page.
Package 117/1974HostnameOS / ArchINSTALLBUILDCHECKBUILD BIN
BaseSpaceR 1.34.0
Jared O'Connell
Snapshot Date: 2020-10-28 14:42:40 -0400 (Wed, 28 Oct 2020)
URL: https://git.bioconductor.org/packages/BaseSpaceR
Branch: RELEASE_3_12
Last Commit: 40c323f
Last Changed Date: 2020-10-27 10:49:55 -0400 (Tue, 27 Oct 2020)
malbec1 Linux (Ubuntu 18.04.4 LTS) / x86_64  OK  OK  OK UNNEEDED, same version exists in internal repository
nebbiolo1 Linux (Ubuntu 20.04.1 LTS) / x86_64  OK [ OK ] OK 
tokay1 Windows Server 2012 R2 Standard / x64  OK  OK  OK  OK UNNEEDED, same version exists in internal repository
merida1 macOS 10.14.6 Mojave / x86_64  OK  OK  OK  OK UNNEEDED, same version exists in internal repository

Summary

Package: BaseSpaceR
Version: 1.34.0
Command: /home/biocbuild/bbs-3.12-bioc/R/bin/R CMD build --keep-empty-dirs --no-resave-data BaseSpaceR
StartedAt: 2020-10-28 17:33:45 -0400 (Wed, 28 Oct 2020)
EndedAt: 2020-10-28 17:34:42 -0400 (Wed, 28 Oct 2020)
EllapsedTime: 57.1 seconds
RetCode: 0
Status:  OK 
PackageFile: BaseSpaceR_1.34.0.tar.gz
PackageFileSize: 460.9 KiB

Command output

##############################################################################
##############################################################################
###
### Running command:
###
###   /home/biocbuild/bbs-3.12-bioc/R/bin/R CMD build --keep-empty-dirs --no-resave-data BaseSpaceR
###
##############################################################################
##############################################################################


* checking for file ‘BaseSpaceR/DESCRIPTION’ ... OK
* preparing ‘BaseSpaceR’:
* checking DESCRIPTION meta-information ... OK
* installing the package to build vignettes
* creating vignettes ... OK
* checking for LF line-endings in source and make files and shell scripts
* checking for empty or unneeded directories
* looking to see if a ‘data/datalist’ file should be added
* building ‘BaseSpaceR_1.34.0.tar.gz’