Back to Multiple platform build/check report for BioC 3.12
A[B]CDEFGHIJKLMNOPQRSTUVWXYZ

BUILD BIN report for BaseSpaceR on merida1

This page was generated on 2020-10-29 12:36:15 -0400 (Thu, 29 Oct 2020).

TO THE DEVELOPERS/MAINTAINERS OF THE BaseSpaceR PACKAGE: Please make sure to use the following settings in order to reproduce any error or warning you see on this page.
Package 117/1974HostnameOS / ArchINSTALLBUILDCHECKBUILD BIN
BaseSpaceR 1.34.0
Jared O'Connell
Snapshot Date: 2020-10-28 14:42:40 -0400 (Wed, 28 Oct 2020)
URL: https://git.bioconductor.org/packages/BaseSpaceR
Branch: RELEASE_3_12
Last Commit: 40c323f
Last Changed Date: 2020-10-27 10:49:55 -0400 (Tue, 27 Oct 2020)
malbec1 Linux (Ubuntu 18.04.4 LTS) / x86_64  OK  OK  OK UNNEEDED, same version exists in internal repository
nebbiolo1 Linux (Ubuntu 20.04.1 LTS) / x86_64  OK  OK  OK 
tokay1 Windows Server 2012 R2 Standard / x64  OK  OK  OK  OK UNNEEDED, same version exists in internal repository
merida1 macOS 10.14.6 Mojave / x86_64  OK  OK  OK [ OK ]UNNEEDED, same version exists in internal repository

Summary

Package: BaseSpaceR
Version: 1.34.0
Command: rm -rf BaseSpaceR.buildbin-libdir && mkdir BaseSpaceR.buildbin-libdir && /Users/biocbuild/BBS/utils/build-universal.sh BaseSpaceR_1.34.0.tar.gz /Library/Frameworks/R.framework/Versions/Current/Resources/bin/R BaseSpaceR.buildbin-libdir
StartedAt: 2020-10-29 07:35:37 -0400 (Thu, 29 Oct 2020)
EndedAt: 2020-10-29 07:36:30 -0400 (Thu, 29 Oct 2020)
EllapsedTime: 52.2 seconds
RetCode: 0
Status:  OK 
PackageFile: BaseSpaceR_1.34.0.tgz
PackageFileSize: 614.4 KiB

Command output

##############################################################################
##############################################################################
###
### Running command:
###
###   rm -rf BaseSpaceR.buildbin-libdir && mkdir BaseSpaceR.buildbin-libdir && /Users/biocbuild/BBS/utils/build-universal.sh BaseSpaceR_1.34.0.tar.gz /Library/Frameworks/R.framework/Versions/Current/Resources/bin/R BaseSpaceR.buildbin-libdir
###
##############################################################################
##############################################################################


>>>>>>> 
>>>>>>> INSTALLATION WITH 'R CMD INSTALL --preclean --no-multiarch --library=BaseSpaceR.buildbin-libdir BaseSpaceR_1.34.0.tar.gz'
>>>>>>> 

* installing *source* package ‘BaseSpaceR’ ...
** using staged installation
** R
** data
** inst
** byte-compile and prepare package for lazy loading
** help
*** installing help indices
** building package indices
** installing vignettes
** testing if installed package can be loaded from temporary location
** testing if installed package can be loaded from final location
** testing if installed package keeps a record of temporary installation path
* DONE (BaseSpaceR)