Back to Multiple platform build/check report for BioC 3.12
A[B]CDEFGHIJKLMNOPQRSTUVWXYZ

CHECK report for BEARscc on nebbiolo1

This page was generated on 2021-01-17 11:50:51 -0500 (Sun, 17 Jan 2021).

TO THE DEVELOPERS/MAINTAINERS OF THE BEARscc PACKAGE: Please make sure to use the following settings in order to reproduce any error or warning you see on this page.
Package 137/1974HostnameOS / ArchINSTALLBUILDCHECKBUILD BIN
BEARscc 1.10.0
Benjamin Schuster-Boeckler
Snapshot Date: 2021-01-16 14:41:12 -0500 (Sat, 16 Jan 2021)
URL: https://git.bioconductor.org/packages/BEARscc
Branch: RELEASE_3_12
Last Commit: e20aa4b
Last Changed Date: 2020-10-27 11:31:46 -0500 (Tue, 27 Oct 2020)
malbec1 Linux (Ubuntu 18.04.5 LTS) / x86_64  OK  OK  OK UNNEEDED, same version exists in internal repository
nebbiolo1 Linux (Ubuntu 20.04.1 LTS) / x86_64  OK  OK [ OK ]
tokay1 Windows Server 2012 R2 Standard / x64  OK  OK  OK  OK UNNEEDED, same version exists in internal repository
merida1 macOS 10.14.6 Mojave / x86_64  OK  OK  OK  OK UNNEEDED, same version exists in internal repository

Summary

Package: BEARscc
Version: 1.10.0
Command: /home/biocbuild/bbs-3.12-bioc/R/bin/R CMD check --install=check:BEARscc.install-out.txt --library=/home/biocbuild/bbs-3.12-bioc/R/library --no-vignettes --timings BEARscc_1.10.0.tar.gz
StartedAt: 2021-01-16 20:19:17 -0500 (Sat, 16 Jan 2021)
EndedAt: 2021-01-16 20:22:55 -0500 (Sat, 16 Jan 2021)
EllapsedTime: 217.5 seconds
RetCode: 0
Status:  OK 
CheckDir: BEARscc.Rcheck
Warnings: 0

Command output

##############################################################################
##############################################################################
###
### Running command:
###
###   /home/biocbuild/bbs-3.12-bioc/R/bin/R CMD check --install=check:BEARscc.install-out.txt --library=/home/biocbuild/bbs-3.12-bioc/R/library --no-vignettes --timings BEARscc_1.10.0.tar.gz
###
##############################################################################
##############################################################################


* using log directory ‘/home/biocbuild/bbs-3.12-bioc/meat/BEARscc.Rcheck’
* using R version 4.0.3 (2020-10-10)
* using platform: x86_64-pc-linux-gnu (64-bit)
* using session charset: UTF-8
* using option ‘--no-vignettes’
* checking for file ‘BEARscc/DESCRIPTION’ ... OK
* checking extension type ... Package
* this is package ‘BEARscc’ version ‘1.10.0’
* checking package namespace information ... OK
* checking package dependencies ... OK
* checking if this is a source package ... OK
* checking if there is a namespace ... OK
* checking for hidden files and directories ... OK
* checking for portable file names ... OK
* checking for sufficient/correct file permissions ... OK
* checking whether package ‘BEARscc’ can be installed ... OK
* checking installed package size ... OK
* checking package directory ... OK
* checking ‘build’ directory ... OK
* checking DESCRIPTION meta-information ... OK
* checking top-level files ... OK
* checking for left-over files ... OK
* checking index information ... OK
* checking package subdirectories ... OK
* checking R files for non-ASCII characters ... OK
* checking R files for syntax errors ... OK
* checking whether the package can be loaded ... OK
* checking whether the package can be loaded with stated dependencies ... OK
* checking whether the package can be unloaded cleanly ... OK
* checking whether the namespace can be loaded with stated dependencies ... OK
* checking whether the namespace can be unloaded cleanly ... OK
* checking dependencies in R code ... OK
* checking S3 generic/method consistency ... OK
* checking replacement functions ... OK
* checking foreign function calls ... OK
* checking R code for possible problems ... OK
* checking Rd files ... OK
* checking Rd metadata ... OK
* checking Rd cross-references ... OK
* checking for missing documentation entries ... OK
* checking for code/documentation mismatches ... OK
* checking Rd \usage sections ... OK
* checking Rd contents ... OK
* checking for unstated dependencies in examples ... OK
* checking contents of ‘data’ directory ... OK
* checking data for non-ASCII characters ... OK
* checking data for ASCII and uncompressed saves ... OK
* checking files in ‘vignettes’ ... OK
* checking examples ... OK
Examples with CPU (user + system) or elapsed time > 5s
                           user system elapsed
estimate_noiseparameters 20.367  0.338  11.720
simulate_replicates       5.611  0.128   5.766
* checking for unstated dependencies in ‘tests’ ... OK
* checking tests ...
  Running ‘testthat.R’
 OK
* checking for unstated dependencies in vignettes ... OK
* checking package vignettes in ‘inst/doc’ ... OK
* checking running R code from vignettes ... SKIPPED
* checking re-building of vignette outputs ... SKIPPED
* checking PDF version of manual ... OK
* DONE

Status: OK


Installation output

BEARscc.Rcheck/00install.out

##############################################################################
##############################################################################
###
### Running command:
###
###   /home/biocbuild/bbs-3.12-bioc/R/bin/R CMD INSTALL BEARscc
###
##############################################################################
##############################################################################


* installing to library ‘/home/biocbuild/bbs-3.12-bioc/R/library’
* installing *source* package ‘BEARscc’ ...
** using staged installation
** R
** data
** inst
** byte-compile and prepare package for lazy loading
** help
*** installing help indices
** building package indices
** installing vignettes
** testing if installed package can be loaded from temporary location
** testing if installed package can be loaded from final location
** testing if installed package keeps a record of temporary installation path
* DONE (BEARscc)

Tests output

BEARscc.Rcheck/tests/testthat.Rout


R version 4.0.3 (2020-10-10) -- "Bunny-Wunnies Freak Out"
Copyright (C) 2020 The R Foundation for Statistical Computing
Platform: x86_64-pc-linux-gnu (64-bit)

R is free software and comes with ABSOLUTELY NO WARRANTY.
You are welcome to redistribute it under certain conditions.
Type 'license()' or 'licence()' for distribution details.

R is a collaborative project with many contributors.
Type 'contributors()' for more information and
'citation()' on how to cite R or R packages in publications.

Type 'demo()' for some demos, 'help()' for on-line help, or
'help.start()' for an HTML browser interface to help.
Type 'q()' to quit R.

> library(testthat)
> library(BEARscc)
> 
> test_check("BEARscc")

[1] "Running BEARscc on example data to test for correct installation."

[1] "Fitting parameter alpha to establish spike-in derived noise model."
[1] "Estimating error for spike-ins with alpha = 0"
[1] "Estimating error for spike-ins with alpha = 0.25"
[1] "Estimating error for spike-ins with alpha = 0.5"
[1] "Estimating error for spike-ins with alpha = 0.75"
[1] "Estimating error for spike-ins with alpha = 1"
[1] "There are adequate spike-in drop-outs to build the drop-out model. Estimating the drop-out model now."

[1] "Injecting noise for testing..."
[1] "Creating a simulated replicated counts matrix: 1."
[1] "Creating a simulated replicated counts matrix: 2."
[1] "Creating a simulated replicated counts matrix: 3."

[1] "Creating consensus matrix for testing..."

[1] "Computing cluster and cell metrics for testing..."
══ Warnings ════════════════════════════════════════════════════════════════════
── Warning (test_noise.R:75:1): (code run outside of `test_that()`) ────────────
The melt generic in data.table has been passed a list and will attempt to redirect to the relevant reshape2 method; please note that reshape2 is deprecated, and this redirection is now deprecated as well. To continue using melt methods from reshape2 while both libraries are attached, e.g. melt.list, you can prepend the namespace like reshape2::melt(metric_list). In the next version, this warning will become an error.
Backtrace:
 1. BEARscc::report_cluster_metrics(...) test_noise.R:75:0
 3. base::lapply(...)
 4. BEARscc:::FUN(X[[i]], ...)
 5. data.table::melt(metric_list, id.vars = c("size"))
── Warning (test_noise.R:75:1): (code run outside of `test_that()`) ────────────
The melt generic in data.table has been passed a list and will attempt to redirect to the relevant reshape2 method; please note that reshape2 is deprecated, and this redirection is now deprecated as well. To continue using melt methods from reshape2 while both libraries are attached, e.g. melt.list, you can prepend the namespace like reshape2::melt(metric_list). In the next version, this warning will become an error.
Backtrace:
 1. BEARscc::report_cluster_metrics(...) test_noise.R:75:0
 3. base::lapply(...)
 4. BEARscc:::FUN(X[[i]], ...)
 5. data.table::melt(metric_list, id.vars = c("size"))
── Warning (test_noise.R:75:1): (code run outside of `test_that()`) ────────────
The melt generic in data.table has been passed a list and will attempt to redirect to the relevant reshape2 method; please note that reshape2 is deprecated, and this redirection is now deprecated as well. To continue using melt methods from reshape2 while both libraries are attached, e.g. melt.list, you can prepend the namespace like reshape2::melt(metric_list). In the next version, this warning will become an error.
Backtrace:
 1. BEARscc::report_cluster_metrics(...) test_noise.R:75:0
 3. base::lapply(...)
 4. BEARscc:::FUN(X[[i]], ...)
 5. data.table::melt(metric_list, id.vars = c("size"))
── Warning (test_noise.R:75:1): (code run outside of `test_that()`) ────────────
The melt generic in data.table has been passed a list and will attempt to redirect to the relevant reshape2 method; please note that reshape2 is deprecated, and this redirection is now deprecated as well. To continue using melt methods from reshape2 while both libraries are attached, e.g. melt.list, you can prepend the namespace like reshape2::melt(metric_list). In the next version, this warning will become an error.
Backtrace:
 1. BEARscc::report_cluster_metrics(...) test_noise.R:75:0
 3. base::lapply(...)
 4. BEARscc:::FUN(X[[i]], ...)
 5. data.table::melt(metric_list, id.vars = c("size"))
── Warning (test_noise.R:75:1): (code run outside of `test_that()`) ────────────
The melt generic in data.table has been passed a list and will attempt to redirect to the relevant reshape2 method; please note that reshape2 is deprecated, and this redirection is now deprecated as well. To continue using melt methods from reshape2 while both libraries are attached, e.g. melt.list, you can prepend the namespace like reshape2::melt(metric_list). In the next version, this warning will become an error.
Backtrace:
 1. BEARscc::report_cluster_metrics(...) test_noise.R:75:0
 3. base::lapply(...)
 4. BEARscc:::FUN(X[[i]], ...)
 5. data.table::melt(metric_list, id.vars = c("size"))
── Warning (test_noise.R:75:1): (code run outside of `test_that()`) ────────────
The melt generic in data.table has been passed a list and will attempt to redirect to the relevant reshape2 method; please note that reshape2 is deprecated, and this redirection is now deprecated as well. To continue using melt methods from reshape2 while both libraries are attached, e.g. melt.list, you can prepend the namespace like reshape2::melt(cluster.scores). In the next version, this warning will become an error.
Backtrace:
 1. BEARscc::report_cluster_metrics(...) test_noise.R:75:0
 3. data.table::melt(cluster.scores, id.var = c("rn", "size", "metric"))
── Warning (test_noise.R:77:1): (code run outside of `test_that()`) ────────────
The melt generic in data.table has been passed a list and will attempt to redirect to the relevant reshape2 method; please note that reshape2 is deprecated, and this redirection is now deprecated as well. To continue using melt methods from reshape2 while both libraries are attached, e.g. melt.list, you can prepend the namespace like reshape2::melt(lapply(cluster_names, calculate_cell_metrics_by_cluster, consensus_matrix = consensus_matrix,     cluster_labels = cluster_labels)). In the next version, this warning will become an error.
Backtrace:
 1. BEARscc::report_cell_metrics(BEARscc_clusts.df, noise_consensus) test_noise.R:77:0
 2. base::lapply(...)
 3. BEARscc:::FUN(X[[i]], ...)
 5. data.table::melt(...)
── Warning (test_noise.R:77:1): (code run outside of `test_that()`) ────────────
The melt generic in data.table has been passed a list and will attempt to redirect to the relevant reshape2 method; please note that reshape2 is deprecated, and this redirection is now deprecated as well. To continue using melt methods from reshape2 while both libraries are attached, e.g. melt.list, you can prepend the namespace like reshape2::melt(lapply(cluster_names, calculate_cell_metrics_by_cluster, consensus_matrix = consensus_matrix,     cluster_labels = cluster_labels)). In the next version, this warning will become an error.
Backtrace:
 1. BEARscc::report_cell_metrics(BEARscc_clusts.df, noise_consensus) test_noise.R:77:0
 2. base::lapply(...)
 3. BEARscc:::FUN(X[[i]], ...)
 5. data.table::melt(...)
── Warning (test_noise.R:77:1): (code run outside of `test_that()`) ────────────
The melt generic in data.table has been passed a list and will attempt to redirect to the relevant reshape2 method; please note that reshape2 is deprecated, and this redirection is now deprecated as well. To continue using melt methods from reshape2 while both libraries are attached, e.g. melt.list, you can prepend the namespace like reshape2::melt(lapply(cluster_names, calculate_cell_metrics_by_cluster, consensus_matrix = consensus_matrix,     cluster_labels = cluster_labels)). In the next version, this warning will become an error.
Backtrace:
 1. BEARscc::report_cell_metrics(BEARscc_clusts.df, noise_consensus) test_noise.R:77:0
 2. base::lapply(...)
 3. BEARscc:::FUN(X[[i]], ...)
 5. data.table::melt(...)
── Warning (test_noise.R:77:1): (code run outside of `test_that()`) ────────────
The melt generic in data.table has been passed a list and will attempt to redirect to the relevant reshape2 method; please note that reshape2 is deprecated, and this redirection is now deprecated as well. To continue using melt methods from reshape2 while both libraries are attached, e.g. melt.list, you can prepend the namespace like reshape2::melt(lapply(cluster_names, calculate_cell_metrics_by_cluster, consensus_matrix = consensus_matrix,     cluster_labels = cluster_labels)). In the next version, this warning will become an error.
Backtrace:
 1. BEARscc::report_cell_metrics(BEARscc_clusts.df, noise_consensus) test_noise.R:77:0
 2. base::lapply(...)
 3. BEARscc:::FUN(X[[i]], ...)
 5. data.table::melt(...)
── Warning (test_noise.R:77:1): (code run outside of `test_that()`) ────────────
The melt generic in data.table has been passed a list and will attempt to redirect to the relevant reshape2 method; please note that reshape2 is deprecated, and this redirection is now deprecated as well. To continue using melt methods from reshape2 while both libraries are attached, e.g. melt.list, you can prepend the namespace like reshape2::melt(lapply(cluster_names, calculate_cell_metrics_by_cluster, consensus_matrix = consensus_matrix,     cluster_labels = cluster_labels)). In the next version, this warning will become an error.
Backtrace:
 1. BEARscc::report_cell_metrics(BEARscc_clusts.df, noise_consensus) test_noise.R:77:0
 2. base::lapply(...)
 3. BEARscc:::FUN(X[[i]], ...)
 5. data.table::melt(...)
── Warning (test_noise.R:77:1): (code run outside of `test_that()`) ────────────
The melt generic in data.table has been passed a list and will attempt to redirect to the relevant reshape2 method; please note that reshape2 is deprecated, and this redirection is now deprecated as well. To continue using melt methods from reshape2 while both libraries are attached, e.g. melt.list, you can prepend the namespace like reshape2::melt(lapply(cluster_names, calculate_cell_metrics_by_cluster, consensus_matrix = consensus_matrix,     cluster_labels = cluster_labels)). In the next version, this warning will become an error.
Backtrace:
 1. BEARscc::report_cell_metrics(BEARscc_clusts.df, noise_consensus) test_noise.R:77:0
 2. base::lapply(...)
 3. BEARscc:::FUN(X[[i]], ...)
 5. data.table::melt(...)
── Warning (test_noise.R:77:1): (code run outside of `test_that()`) ────────────
The melt generic in data.table has been passed a list and will attempt to redirect to the relevant reshape2 method; please note that reshape2 is deprecated, and this redirection is now deprecated as well. To continue using melt methods from reshape2 while both libraries are attached, e.g. melt.list, you can prepend the namespace like reshape2::melt(cell.scores). In the next version, this warning will become an error.
Backtrace:
 1. BEARscc::report_cell_metrics(BEARscc_clusts.df, noise_consensus) test_noise.R:77:0
 3. data.table::melt(...)

[ FAIL 0 | WARN 13 | SKIP 0 | PASS 25 ]
> 
> proc.time()
   user  system elapsed 
 23.589   0.695  19.600 

Example timings

BEARscc.Rcheck/BEARscc-Ex.timings

nameusersystemelapsed
BEARscc_examples0.0440.0000.049
analysis_examples0.0540.0040.057
cluster_consensus0.0690.0040.073
compute_consensus0.1230.0400.163
estimate_noiseparameters20.367 0.33811.720
report_cell_metrics0.4790.0490.528
report_cluster_metrics1.5390.0170.819
simulate_replicates5.6110.1285.766