Back to Multiple platform build/check report for BioC 3.12 |
|
This page was generated on 2021-01-25 11:50:08 -0500 (Mon, 25 Jan 2021).
TO THE DEVELOPERS/MAINTAINERS OF THE BEARscc PACKAGE: Please make sure to use the following settings in order to reproduce any error or warning you see on this page. |
Package 137/1974 | Hostname | OS / Arch | INSTALL | BUILD | CHECK | BUILD BIN | ||||||
BEARscc 1.10.0 Benjamin Schuster-Boeckler
| malbec1 | Linux (Ubuntu 18.04.5 LTS) / x86_64 | OK | OK | OK | ![]() | ||||||
nebbiolo1 | Linux (Ubuntu 20.04.1 LTS) / x86_64 | OK | [ OK ] | OK | ||||||||
tokay1 | Windows Server 2012 R2 Standard / x64 | OK | OK | OK | OK | ![]() | ||||||
merida1 | macOS 10.14.6 Mojave / x86_64 | OK | OK | OK | OK | ![]() |
Package: BEARscc |
Version: 1.10.0 |
Command: /home/biocbuild/bbs-3.12-bioc/R/bin/R CMD build --keep-empty-dirs --no-resave-data BEARscc |
StartedAt: 2021-01-24 17:45:51 -0500 (Sun, 24 Jan 2021) |
EndedAt: 2021-01-24 17:47:10 -0500 (Sun, 24 Jan 2021) |
EllapsedTime: 79.3 seconds |
RetCode: 0 |
Status: OK |
PackageFile: BEARscc_1.10.0.tar.gz |
PackageFileSize: 629.1 KiB |
############################################################################## ############################################################################## ### ### Running command: ### ### /home/biocbuild/bbs-3.12-bioc/R/bin/R CMD build --keep-empty-dirs --no-resave-data BEARscc ### ############################################################################## ############################################################################## * checking for file ‘BEARscc/DESCRIPTION’ ... OK * preparing ‘BEARscc’: * checking DESCRIPTION meta-information ... OK * installing the package to process help pages * saving partial Rd database * creating vignettes ... OK * checking for LF line-endings in source and make files and shell scripts * checking for empty or unneeded directories * looking to see if a ‘data/datalist’ file should be added NB: this package now depends on R (>= 3.5.0) WARNING: Added dependency on R >= 3.5.0 because serialized objects in serialize/load version 3 cannot be read in older versions of R. File(s) containing such objects: ‘BEARscc/data/BEARscc_examples.RData’ WARNING: Added dependency on R >= 3.5.0 because serialized objects in serialize/load version 3 cannot be read in older versions of R. File(s) containing such objects: ‘BEARscc/data/analysis_examples.RData’ * building ‘BEARscc_1.10.0.tar.gz’