Back to Multiple platform build/check report for BioC 3.12
A[B]CDEFGHIJKLMNOPQRSTUVWXYZ

BUILD BIN report for BDMMAcorrect on tokay1

This page was generated on 2020-09-27 10:18:19 -0400 (Sun, 27 Sep 2020).

TO THE DEVELOPERS/MAINTAINERS OF THE BDMMAcorrect PACKAGE: Please make sure to use the following settings in order to reproduce any error or warning you see on this page.
Package 125/1923HostnameOS / ArchINSTALLBUILDCHECKBUILD BIN
BDMMAcorrect 1.7.0
ZHENWEI DAI
Snapshot Date: 2020-09-26 14:42:06 -0400 (Sat, 26 Sep 2020)
URL: https://git.bioconductor.org/packages/BDMMAcorrect
Branch: master
Last Commit: a783c25
Last Changed Date: 2020-04-27 15:21:40 -0400 (Mon, 27 Apr 2020)
malbec1 Linux (Ubuntu 18.04.4 LTS) / x86_64  OK  OK  OK UNNEEDED, same version exists in internal repository
nebbiolo1 Linux (Ubuntu 20.04.1 LTS) / x86_64  OK  OK  OK 
tokay1 Windows Server 2012 R2 Standard / x64  OK  OK  OK [ OK ]UNNEEDED, same version exists in internal repository
riesling1 Windows Server 2019 Standard / x64  OK  OK  OK  OK 
merida1 macOS 10.14.6 Mojave / x86_64  OK  OK  OK  OK UNNEEDED, same version exists in internal repository

Summary

Package: BDMMAcorrect
Version: 1.7.0
Command: rm -rf BDMMAcorrect.buildbin-libdir && mkdir BDMMAcorrect.buildbin-libdir && C:\Users\biocbuild\bbs-3.12-bioc\R\bin\R.exe CMD INSTALL --merge-multiarch --build --library=BDMMAcorrect.buildbin-libdir BDMMAcorrect_1.7.0.tar.gz
StartedAt: 2020-09-27 09:38:20 -0400 (Sun, 27 Sep 2020)
EndedAt: 2020-09-27 09:39:38 -0400 (Sun, 27 Sep 2020)
EllapsedTime: 77.4 seconds
RetCode: 0
Status:  OK  
PackageFile: BDMMAcorrect_1.7.0.zip
PackageFileSize: 1.177 MiB

Command output

##############################################################################
##############################################################################
###
### Running command:
###
###   rm -rf BDMMAcorrect.buildbin-libdir && mkdir BDMMAcorrect.buildbin-libdir && C:\Users\biocbuild\bbs-3.12-bioc\R\bin\R.exe CMD INSTALL --merge-multiarch --build --library=BDMMAcorrect.buildbin-libdir BDMMAcorrect_1.7.0.tar.gz
###
##############################################################################
##############################################################################



install for i386

* installing *source* package 'BDMMAcorrect' ...
** using staged installation
** libs
"C:/rtools40/mingw32/bin/"g++ -std=gnu++11  -I"C:/Users/BIOCBU~1/BBS-3~1.12-/R/include" -DNDEBUG  -I'C:/Users/biocbuild/bbs-3.12-bioc/R/library/Rcpp/include' -I'C:/Users/biocbuild/bbs-3.12-bioc/R/library/RcppArmadillo/include' -I'C:/Users/biocbuild/bbs-3.12-bioc/R/library/RcppEigen/include'   -I"C:/extsoft/include"  -DARMA_DONT_USE_OPENMP   -O2 -Wall  -mfpmath=sse -msse2 -mstackrealign -c MCMC_algorithm.cpp -o MCMC_algorithm.o
In file included from C:/Users/biocbuild/bbs-3.12-bioc/R/library/RcppEigen/include/Eigen/Core:392,
                 from C:/Users/biocbuild/bbs-3.12-bioc/R/library/RcppEigen/include/Eigen/Dense:1,
                 from C:/Users/biocbuild/bbs-3.12-bioc/R/library/RcppEigen/include/RcppEigenForward.h:30,
                 from C:/Users/biocbuild/bbs-3.12-bioc/R/library/RcppEigen/include/RcppEigen.h:25,
                 from MCMC_algorithm.cpp:3:
C:/Users/biocbuild/bbs-3.12-bioc/R/library/RcppEigen/include/Eigen/src/Core/arch/SSE/PacketMath.h:60:39: warning: ignoring attributes on template argument '__m128' {aka '__vector(4) float'} [-Wignored-attributes]
 template<> struct is_arithmetic<__m128>  { enum { value = true }; };
                                       ^
C:/Users/biocbuild/bbs-3.12-bioc/R/library/RcppEigen/include/Eigen/src/Core/arch/SSE/PacketMath.h:61:40: warning: ignoring attributes on template argument '__m128i' {aka '__vector(2) long long int'} [-Wignored-attributes]
 template<> struct is_arithmetic<__m128i> { enum { value = true }; };
                                        ^
C:/Users/biocbuild/bbs-3.12-bioc/R/library/RcppEigen/include/Eigen/src/Core/arch/SSE/PacketMath.h:62:40: warning: ignoring attributes on template argument '__m128d' {aka '__vector(2) double'} [-Wignored-attributes]
 template<> struct is_arithmetic<__m128d> { enum { value = true }; };
                                        ^
C:/Users/biocbuild/bbs-3.12-bioc/R/library/RcppEigen/include/Eigen/src/Core/arch/SSE/PacketMath.h:161:43: warning: ignoring attributes on template argument 'Eigen::internal::Packet4f' {aka '__vector(4) float'} [-Wignored-attributes]
 template<> struct unpacket_traits<Packet4f> { typedef float  type; enum {size=4, alignment=Aligned16}; typedef Packet4f half; };
                                           ^
C:/Users/biocbuild/bbs-3.12-bioc/R/library/RcppEigen/include/Eigen/src/Core/arch/SSE/PacketMath.h:162:43: warning: ignoring attributes on template argument 'Eigen::internal::Packet2d' {aka '__vector(2) double'} [-Wignored-attributes]
 template<> struct unpacket_traits<Packet2d> { typedef double type; enum {size=2, alignment=Aligned16}; typedef Packet2d half; };
                                           ^
C:/Users/biocbuild/bbs-3.12-bioc/R/library/RcppEigen/include/Eigen/src/Core/arch/SSE/PacketMath.h:163:43: warning: ignoring attributes on template argument 'Eigen::internal::Packet4i' {aka '__vector(2) long long int'} [-Wignored-attributes]
 template<> struct unpacket_traits<Packet4i> { typedef int    type; enum {size=4, alignment=Aligned16}; typedef Packet4i half; };
                                           ^
C:/Users/biocbuild/bbs-3.12-bioc/R/library/RcppEigen/include/Eigen/src/Core/arch/SSE/PacketMath.h:718:35: warning: ignoring attributes on template argument 'Eigen::internal::Packet4f' {aka '__vector(4) float'} [-Wignored-attributes]
 struct palign_impl<Offset,Packet4f>
                                   ^
C:/Users/biocbuild/bbs-3.12-bioc/R/library/RcppEigen/include/Eigen/src/Core/arch/SSE/PacketMath.h:741:35: warning: ignoring attributes on template argument 'Eigen::internal::Packet4i' {aka '__vector(2) long long int'} [-Wignored-attributes]
 struct palign_impl<Offset,Packet4i>
                                   ^
C:/Users/biocbuild/bbs-3.12-bioc/R/library/RcppEigen/include/Eigen/src/Core/arch/SSE/PacketMath.h:764:35: warning: ignoring attributes on template argument 'Eigen::internal::Packet2d' {aka '__vector(2) double'} [-Wignored-attributes]
 struct palign_impl<Offset,Packet2d>
                                   ^
C:/Users/biocbuild/bbs-3.12-bioc/R/library/RcppEigen/include/Eigen/src/Core/arch/SSE/PacketMath.h:778:34: warning: ignoring attributes on template argument 'Eigen::internal::Packet4f' {aka '__vector(4) float'} [-Wignored-attributes]
 ptranspose(PacketBlock<Packet4f,4>& kernel) {
                                  ^
C:/Users/biocbuild/bbs-3.12-bioc/R/library/RcppEigen/include/Eigen/src/Core/arch/SSE/PacketMath.h:783:34: warning: ignoring attributes on template argument 'Eigen::internal::Packet2d' {aka '__vector(2) double'} [-Wignored-attributes]
 ptranspose(PacketBlock<Packet2d,2>& kernel) {
                                  ^
C:/Users/biocbuild/bbs-3.12-bioc/R/library/RcppEigen/include/Eigen/src/Core/arch/SSE/PacketMath.h:790:34: warning: ignoring attributes on template argument 'Eigen::internal::Packet4i' {aka '__vector(2) long long int'} [-Wignored-attributes]
 ptranspose(PacketBlock<Packet4i,4>& kernel) {
                                  ^
In file included from C:/Users/biocbuild/bbs-3.12-bioc/R/library/RcppEigen/include/Eigen/Core:374,
                 from C:/Users/biocbuild/bbs-3.12-bioc/R/library/RcppEigen/include/Eigen/Dense:1,
                 from C:/Users/biocbuild/bbs-3.12-bioc/R/library/RcppEigen/include/RcppEigenForward.h:30,
                 from C:/Users/biocbuild/bbs-3.12-bioc/R/library/RcppEigen/include/RcppEigen.h:25,
                 from MCMC_algorithm.cpp:3:
C:/Users/biocbuild/bbs-3.12-bioc/R/library/RcppEigen/include/Eigen/src/Core/arch/Default/ConjHelper.h:15:70: warning: ignoring attributes on template argument 'Eigen::internal::Packet4f' {aka '__vector(4) float'} [-Wignored-attributes]
   template<> struct conj_helper<PACKET_REAL, PACKET_CPLX, false,false> {                                          \
                                                                      ^
C:/Users/biocbuild/bbs-3.12-bioc/R/library/RcppEigen/include/Eigen/src/Core/arch/SSE/Complex.h:232:1: note: in expansion of macro 'EIGEN_MAKE_CONJ_HELPER_CPLX_REAL'
 EIGEN_MAKE_CONJ_HELPER_CPLX_REAL(Packet2cf,Packet4f)
 ^~~~~~~~~~~~~~~~~~~~~~~~~~~~~~~~
C:/Users/biocbuild/bbs-3.12-bioc/R/library/RcppEigen/include/Eigen/src/Core/arch/Default/ConjHelper.h:22:70: warning: ignoring attributes on template argument 'Eigen::internal::Packet4f' {aka '__vector(4) float'} [-Wignored-attributes]
   template<> struct conj_helper<PACKET_CPLX, PACKET_REAL, false,false> {                                          \
                                                                      ^
C:/Users/biocbuild/bbs-3.12-bioc/R/library/RcppEigen/include/Eigen/src/Core/arch/SSE/Complex.h:232:1: note: in expansion of macro 'EIGEN_MAKE_CONJ_HELPER_CPLX_REAL'
 EIGEN_MAKE_CONJ_HELPER_CPLX_REAL(Packet2cf,Packet4f)
 ^~~~~~~~~~~~~~~~~~~~~~~~~~~~~~~~
C:/Users/biocbuild/bbs-3.12-bioc/R/library/RcppEigen/include/Eigen/src/Core/arch/Default/ConjHelper.h:15:70: warning: ignoring attributes on template argument 'Eigen::internal::Packet2d' {aka '__vector(2) double'} [-Wignored-attributes]
   template<> struct conj_helper<PACKET_REAL, PACKET_CPLX, false,false> {                                          \
                                                                      ^
C:/Users/biocbuild/bbs-3.12-bioc/R/library/RcppEigen/include/Eigen/src/Core/arch/SSE/Complex.h:417:1: note: in expansion of macro 'EIGEN_MAKE_CONJ_HELPER_CPLX_REAL'
 EIGEN_MAKE_CONJ_HELPER_CPLX_REAL(Packet1cd,Packet2d)
 ^~~~~~~~~~~~~~~~~~~~~~~~~~~~~~~~
C:/Users/biocbuild/bbs-3.12-bioc/R/library/RcppEigen/include/Eigen/src/Core/arch/Default/ConjHelper.h:22:70: warning: ignoring attributes on template argument 'Eigen::internal::Packet2d' {aka '__vector(2) double'} [-Wignored-attributes]
   template<> struct conj_helper<PACKET_CPLX, PACKET_REAL, false,false> {                                          \
                                                                      ^
C:/Users/biocbuild/bbs-3.12-bioc/R/library/RcppEigen/include/Eigen/src/Core/arch/SSE/Complex.h:417:1: note: in expansion of macro 'EIGEN_MAKE_CONJ_HELPER_CPLX_REAL'
 EIGEN_MAKE_CONJ_HELPER_CPLX_REAL(Packet1cd,Packet2d)
 ^~~~~~~~~~~~~~~~~~~~~~~~~~~~~~~~
In file included from C:/Users/biocbuild/bbs-3.12-bioc/R/library/RcppEigen/include/Eigen/Core:367,
                 from C:/Users/biocbuild/bbs-3.12-bioc/R/library/RcppEigen/include/Eigen/Dense:1,
                 from C:/Users/biocbuild/bbs-3.12-bioc/R/library/RcppEigen/include/RcppEigenForward.h:30,
                 from C:/Users/biocbuild/bbs-3.12-bioc/R/library/RcppEigen/include/RcppEigen.h:25,
                 from MCMC_algorithm.cpp:3:
C:/Users/biocbuild/bbs-3.12-bioc/R/library/RcppEigen/include/Eigen/src/Core/util/XprHelper.h: In instantiation of 'struct Eigen::internal::find_best_packet<int, -1>':
C:/Users/biocbuild/bbs-3.12-bioc/R/library/RcppEigen/include/Eigen/src/Core/Matrix.h:22:57:   required from 'struct Eigen::internal::traits<Eigen::Matrix<int, 1, -1> >'
C:/Users/biocbuild/bbs-3.12-bioc/R/library/RcppEigen/include/Eigen/src/Core/Array.h:17:8:   required from 'struct Eigen::internal::traits<Eigen::Array<int, 1, -1> >'
C:/Users/biocbuild/bbs-3.12-bioc/R/library/RcppEigen/include/Eigen/src/Core/PlainObjectBase.h:98:7:   required from 'class Eigen::PlainObjectBase<Eigen::Array<int, 1, -1> >'
C:/Users/biocbuild/bbs-3.12-bioc/R/library/RcppEigen/include/Eigen/src/Core/Array.h:45:7:   required from 'class Eigen::Array<int, 1, -1>'
C:/Users/biocbuild/bbs-3.12-bioc/R/library/RcppEigen/include/Eigen/src/SVD/BDCSVD.h:101:22:   required from here
C:/Users/biocbuild/bbs-3.12-bioc/R/library/RcppEigen/include/Eigen/src/Core/util/XprHelper.h:170:44: warning: ignoring attributes on template argument 'Eigen::internal::packet_traits<int>::type' {aka '__vector(2) long long int'} [-Wignored-attributes]
          bool Stop = Size==Dynamic || (Size%unpacket_traits<PacketType>::size)==0 || is_same<PacketType,typename unpacket_traits<PacketType>::half>::value>
                                       ~~~~~^~~~~~~~~~~~~~~~~~~~~~~~~~~~~~~~~~~
C:/Users/biocbuild/bbs-3.12-bioc/R/library/RcppEigen/include/Eigen/src/Core/util/XprHelper.h:170:83: warning: ignoring attributes on template argument 'Eigen::internal::packet_traits<int>::type' {aka '__vector(2) long long int'} [-Wignored-attributes]
          bool Stop = Size==Dynamic || (Size%unpacket_traits<PacketType>::size)==0 || is_same<PacketType,typename unpacket_traits<PacketType>::half>::value>
                      ~~~~~~~~~~~~~~~~~~~~~~~~~~~~~~~~~~~~~~~~~~~~~~~~~~~~~~~~~~~~~^~~~~~~~~~~~~~~~~~~~~~~~~~~~~~~~~~~~~~~~~~~~~~~~~~~~~~~~~~~~~~~~~
C:/Users/biocbuild/bbs-3.12-bioc/R/library/RcppEigen/include/Eigen/src/Core/util/XprHelper.h:170:83: warning: ignoring attributes on template argument 'Eigen::internal::packet_traits<int>::type' {aka '__vector(2) long long int'} [-Wignored-attributes]
C:/Users/biocbuild/bbs-3.12-bioc/R/library/RcppEigen/include/Eigen/src/Core/util/XprHelper.h:170:83: warning: ignoring attributes on template argument 'Eigen::internal::unpacket_traits<__vector(2) long long int>::half' {aka '__vector(2) long long int'} [-Wignored-attributes]
C:/Users/biocbuild/bbs-3.12-bioc/R/library/RcppEigen/include/Eigen/src/Core/util/XprHelper.h:188:88: warning: ignoring attributes on template argument 'Eigen::internal::packet_traits<int>::type' {aka '__vector(2) long long int'} [-Wignored-attributes]
   typedef typename find_best_packet_helper<Size,typename packet_traits<T>::type>::type type;
                                                                                        ^~~~
In file included from C:/Users/biocbuild/bbs-3.12-bioc/R/library/RcppEigen/include/Eigen/Core:434,
                 from C:/Users/biocbuild/bbs-3.12-bioc/R/library/RcppEigen/include/Eigen/Dense:1,
                 from C:/Users/biocbuild/bbs-3.12-bioc/R/library/RcppEigen/include/RcppEigenForward.h:30,
                 from C:/Users/biocbuild/bbs-3.12-bioc/R/library/RcppEigen/include/RcppEigen.h:25,
                 from MCMC_algorithm.cpp:3:
C:/Users/biocbuild/bbs-3.12-bioc/R/library/RcppEigen/include/Eigen/src/Core/DenseCoeffsBase.h: In instantiation of 'class Eigen::DenseCoeffsBase<Eigen::Array<int, 1, -1>, 0>':
C:/Users/biocbuild/bbs-3.12-bioc/R/library/RcppEigen/include/Eigen/src/Core/DenseCoeffsBase.h:300:7:   required from 'class Eigen::DenseCoeffsBase<Eigen::Array<int, 1, -1>, 1>'
C:/Users/biocbuild/bbs-3.12-bioc/R/library/RcppEigen/include/Eigen/src/Core/DenseCoeffsBase.h:551:7:   required from 'class Eigen::DenseCoeffsBase<Eigen::Array<int, 1, -1>, 3>'
C:/Users/biocbuild/bbs-3.12-bioc/R/library/RcppEigen/include/Eigen/src/Core/DenseBase.h:41:34:   required from 'class Eigen::DenseBase<Eigen::Array<int, 1, -1> >'
C:/Users/biocbuild/bbs-3.12-bioc/R/library/RcppEigen/include/Eigen/src/Core/ArrayBase.h:39:34:   required from 'class Eigen::ArrayBase<Eigen::Array<int, 1, -1> >'
C:/Users/biocbuild/bbs-3.12-bioc/R/library/RcppEigen/include/Eigen/src/Core/PlainObjectBase.h:98:7:   required from 'class Eigen::PlainObjectBase<Eigen::Array<int, 1, -1> >'
C:/Users/biocbuild/bbs-3.12-bioc/R/library/RcppEigen/include/Eigen/src/Core/Array.h:45:7:   required from 'class Eigen::Array<int, 1, -1>'
C:/Users/biocbuild/bbs-3.12-bioc/R/library/RcppEigen/include/Eigen/src/SVD/BDCSVD.h:101:22:   required from here
C:/Users/biocbuild/bbs-3.12-bioc/R/library/RcppEigen/include/Eigen/src/Core/DenseCoeffsBase.h:55:30: warning: ignoring attributes on template argument 'Eigen::internal::packet_traits<int>::type' {aka '__vector(2) long long int'} [-Wignored-attributes]
                      >::type PacketReturnType;
                              ^~~~~~~~~~~~~~~~
C:/Users/biocbuild/bbs-3.12-bioc/R/library/RcppEigen/include/Eigen/src/Core/DenseCoeffsBase.h: In instantiation of 'class Eigen::DenseCoeffsBase<Eigen::Ref<Eigen::Array<int, 1, -1> >, 0>':
C:/Users/biocbuild/bbs-3.12-bioc/R/library/RcppEigen/include/Eigen/src/Core/DenseCoeffsBase.h:300:7:   required from 'class Eigen::DenseCoeffsBase<Eigen::Ref<Eigen::Array<int, 1, -1> >, 1>'
C:/Users/biocbuild/bbs-3.12-bioc/R/library/RcppEigen/include/Eigen/src/Core/DenseCoeffsBase.h:551:7:   required from 'class Eigen::DenseCoeffsBase<Eigen::Ref<Eigen::Array<int, 1, -1> >, 3>'
C:/Users/biocbuild/bbs-3.12-bioc/R/library/RcppEigen/include/Eigen/src/Core/DenseBase.h:41:34:   required from 'class Eigen::DenseBase<Eigen::Ref<Eigen::Array<int, 1, -1> > >'
C:/Users/biocbuild/bbs-3.12-bioc/R/library/RcppEigen/include/Eigen/src/Core/ArrayBase.h:39:34:   required from 'class Eigen::ArrayBase<Eigen::Ref<Eigen::Array<int, 1, -1> > >'
C:/Users/biocbuild/bbs-3.12-bioc/R/library/RcppEigen/include/Eigen/src/Core/MapBase.h:37:34:   required from 'class Eigen::MapBase<Eigen::Ref<Eigen::Array<int, 1, -1> >, 0>'
C:/Users/biocbuild/bbs-3.12-bioc/R/library/RcppEigen/include/Eigen/src/Core/MapBase.h:219:34:   required from 'class Eigen::MapBase<Eigen::Ref<Eigen::Array<int, 1, -1> >, 1>'
C:/Users/biocbuild/bbs-3.12-bioc/R/library/RcppEigen/include/Eigen/src/Core/Ref.h:58:34:   required from 'class Eigen::RefBase<Eigen::Ref<Eigen::Array<int, 1, -1> > >'
C:/Users/biocbuild/bbs-3.12-bioc/R/library/RcppEigen/include/Eigen/src/Core/Ref.h:192:76:   required from 'class Eigen::Ref<Eigen::Array<int, 1, -1> >'
C:/Users/biocbuild/bbs-3.12-bioc/R/library/RcppEigen/include/Eigen/src/SVD/BDCSVD.h:694:17:   required from here
C:/Users/biocbuild/bbs-3.12-bioc/R/library/RcppEigen/include/Eigen/src/Core/DenseCoeffsBase.h:55:30: warning: ignoring attributes on template argument 'Eigen::internal::packet_traits<int>::type' {aka '__vector(2) long long int'} [-Wignored-attributes]
In file included from C:/Users/biocbuild/bbs-3.12-bioc/R/library/RcppEigen/include/Eigen/Core:367,
                 from C:/Users/biocbuild/bbs-3.12-bioc/R/library/RcppEigen/include/Eigen/Dense:1,
                 from C:/Users/biocbuild/bbs-3.12-bioc/R/library/RcppEigen/include/RcppEigenForward.h:30,
                 from C:/Users/biocbuild/bbs-3.12-bioc/R/library/RcppEigen/include/RcppEigen.h:25,
                 from MCMC_algorithm.cpp:3:
C:/Users/biocbuild/bbs-3.12-bioc/R/library/RcppEigen/include/Eigen/src/Core/util/XprHelper.h: In instantiation of 'struct Eigen::internal::find_best_packet<float, 4>':
C:/Users/biocbuild/bbs-3.12-bioc/R/library/RcppEigen/include/Eigen/src/Core/Matrix.h:22:57:   required from 'struct Eigen::internal::traits<Eigen::Matrix<float, 4, 1> >'
C:/Users/biocbuild/bbs-3.12-bioc/R/library/RcppEigen/include/Eigen/src/Geometry/Quaternion.h:224:7:   required from 'struct Eigen::internal::traits<Eigen::Quaternion<float> >'
C:/Users/biocbuild/bbs-3.12-bioc/R/library/RcppEigen/include/Eigen/src/Geometry/arch/Geometry_SSE.h:24:46:   required from here
C:/Users/biocbuild/bbs-3.12-bioc/R/library/RcppEigen/include/Eigen/src/Core/util/XprHelper.h:170:44: warning: ignoring attributes on template argument 'Eigen::internal::packet_traits<float>::type' {aka '__vector(4) float'} [-Wignored-attributes]
          bool Stop = Size==Dynamic || (Size%unpacket_traits<PacketType>::size)==0 || is_same<PacketType,typename unpacket_traits<PacketType>::half>::value>
                                       ~~~~~^~~~~~~~~~~~~~~~~~~~~~~~~~~~~~~~~~~
C:/Users/biocbuild/bbs-3.12-bioc/R/library/RcppEigen/include/Eigen/src/Core/util/XprHelper.h:170:83: warning: ignoring attributes on template argument 'Eigen::internal::packet_traits<float>::type' {aka '__vector(4) float'} [-Wignored-attributes]
          bool Stop = Size==Dynamic || (Size%unpacket_traits<PacketType>::size)==0 || is_same<PacketType,typename unpacket_traits<PacketType>::half>::value>
                      ~~~~~~~~~~~~~~~~~~~~~~~~~~~~~~~~~~~~~~~~~~~~~~~~~~~~~~~~~~~~~^~~~~~~~~~~~~~~~~~~~~~~~~~~~~~~~~~~~~~~~~~~~~~~~~~~~~~~~~~~~~~~~~
C:/Users/biocbuild/bbs-3.12-bioc/R/library/RcppEigen/include/Eigen/src/Core/util/XprHelper.h:170:83: warning: ignoring attributes on template argument 'Eigen::internal::packet_traits<float>::type' {aka '__vector(4) float'} [-Wignored-attributes]
C:/Users/biocbuild/bbs-3.12-bioc/R/library/RcppEigen/include/Eigen/src/Core/util/XprHelper.h:170:83: warning: ignoring attributes on template argument 'Eigen::internal::unpacket_traits<__vector(4) float>::half' {aka '__vector(4) float'} [-Wignored-attributes]
C:/Users/biocbuild/bbs-3.12-bioc/R/library/RcppEigen/include/Eigen/src/Core/util/XprHelper.h:188:88: warning: ignoring attributes on template argument 'Eigen::internal::packet_traits<float>::type' {aka '__vector(4) float'} [-Wignored-attributes]
   typedef typename find_best_packet_helper<Size,typename packet_traits<T>::type>::type type;
                                                                                        ^~~~
In file included from C:/Users/biocbuild/bbs-3.12-bioc/R/library/RcppEigen/include/Eigen/Core:434,
                 from C:/Users/biocbuild/bbs-3.12-bioc/R/library/RcppEigen/include/Eigen/Dense:1,
                 from C:/Users/biocbuild/bbs-3.12-bioc/R/library/RcppEigen/include/RcppEigenForward.h:30,
                 from C:/Users/biocbuild/bbs-3.12-bioc/R/library/RcppEigen/include/RcppEigen.h:25,
                 from MCMC_algorithm.cpp:3:
C:/Users/biocbuild/bbs-3.12-bioc/R/library/RcppEigen/include/Eigen/src/Core/DenseCoeffsBase.h: In instantiation of 'class Eigen::DenseCoeffsBase<Eigen::Matrix<float, 4, 1>, 0>':
C:/Users/biocbuild/bbs-3.12-bioc/R/library/RcppEigen/include/Eigen/src/Core/DenseCoeffsBase.h:300:7:   required from 'class Eigen::DenseCoeffsBase<Eigen::Matrix<float, 4, 1>, 1>'
C:/Users/biocbuild/bbs-3.12-bioc/R/library/RcppEigen/include/Eigen/src/Core/DenseCoeffsBase.h:551:7:   required from 'class Eigen::DenseCoeffsBase<Eigen::Matrix<float, 4, 1>, 3>'
C:/Users/biocbuild/bbs-3.12-bioc/R/library/RcppEigen/include/Eigen/src/Core/DenseBase.h:41:34:   required from 'class Eigen::DenseBase<Eigen::Matrix<float, 4, 1> >'
C:/Users/biocbuild/bbs-3.12-bioc/R/library/RcppEigen/include/Eigen/src/Core/MatrixBase.h:48:34:   required from 'class Eigen::MatrixBase<Eigen::Matrix<float, 4, 1> >'
C:/Users/biocbuild/bbs-3.12-bioc/R/library/RcppEigen/include/Eigen/src/Core/PlainObjectBase.h:98:7:   required from 'class Eigen::PlainObjectBase<Eigen::Matrix<float, 4, 1> >'
C:/Users/biocbuild/bbs-3.12-bioc/R/library/RcppEigen/include/Eigen/src/Core/Matrix.h:178:7:   required from 'class Eigen::Matrix<float, 4, 1>'
C:/Users/biocbuild/bbs-3.12-bioc/R/library/RcppEigen/include/Eigen/src/Geometry/Quaternion.h:46:50:   required from 'class Eigen::QuaternionBase<Eigen::Quaternion<float> >'
C:/Users/biocbuild/bbs-3.12-bioc/R/library/RcppEigen/include/Eigen/src/Geometry/Quaternion.h:232:7:   required from 'class Eigen::Quaternion<float>'
C:/Users/biocbuild/bbs-3.12-bioc/R/library/RcppEigen/include/Eigen/src/Geometry/arch/Geometry_SSE.h:27:3:   required from here
C:/Users/biocbuild/bbs-3.12-bioc/R/library/RcppEigen/include/Eigen/src/Core/DenseCoeffsBase.h:55:30: warning: ignoring attributes on template argument 'Eigen::internal::packet_traits<float>::type' {aka '__vector(4) float'} [-Wignored-attributes]
                      >::type PacketReturnType;
                              ^~~~~~~~~~~~~~~~
In file included from C:/Users/biocbuild/bbs-3.12-bioc/R/library/RcppEigen/include/Eigen/Core:367,
                 from C:/Users/biocbuild/bbs-3.12-bioc/R/library/RcppEigen/include/Eigen/Dense:1,
                 from C:/Users/biocbuild/bbs-3.12-bioc/R/library/RcppEigen/include/RcppEigenForward.h:30,
                 from C:/Users/biocbuild/bbs-3.12-bioc/R/library/RcppEigen/include/RcppEigen.h:25,
                 from MCMC_algorithm.cpp:3:
C:/Users/biocbuild/bbs-3.12-bioc/R/library/RcppEigen/include/Eigen/src/Core/util/XprHelper.h: In instantiation of 'struct Eigen::internal::find_best_packet<double, 4>':
C:/Users/biocbuild/bbs-3.12-bioc/R/library/RcppEigen/include/Eigen/src/Core/Matrix.h:22:57:   required from 'struct Eigen::internal::traits<Eigen::Matrix<double, 4, 1> >'
C:/Users/biocbuild/bbs-3.12-bioc/R/library/RcppEigen/include/Eigen/src/Geometry/Quaternion.h:224:7:   required from 'struct Eigen::internal::traits<Eigen::Quaternion<double> >'
C:/Users/biocbuild/bbs-3.12-bioc/R/library/RcppEigen/include/Eigen/src/Geometry/arch/Geometry_SSE.h:88:47:   required from here
C:/Users/biocbuild/bbs-3.12-bioc/R/library/RcppEigen/include/Eigen/src/Core/util/XprHelper.h:170:44: warning: ignoring attributes on template argument 'Eigen::internal::packet_traits<double>::type' {aka '__vector(2) double'} [-Wignored-attributes]
          bool Stop = Size==Dynamic || (Size%unpacket_traits<PacketType>::size)==0 || is_same<PacketType,typename unpacket_traits<PacketType>::half>::value>
                                       ~~~~~^~~~~~~~~~~~~~~~~~~~~~~~~~~~~~~~~~~
C:/Users/biocbuild/bbs-3.12-bioc/R/library/RcppEigen/include/Eigen/src/Core/util/XprHelper.h:170:83: warning: ignoring attributes on template argument 'Eigen::internal::packet_traits<double>::type' {aka '__vector(2) double'} [-Wignored-attributes]
          bool Stop = Size==Dynamic || (Size%unpacket_traits<PacketType>::size)==0 || is_same<PacketType,typename unpacket_traits<PacketType>::half>::value>
                      ~~~~~~~~~~~~~~~~~~~~~~~~~~~~~~~~~~~~~~~~~~~~~~~~~~~~~~~~~~~~~^~~~~~~~~~~~~~~~~~~~~~~~~~~~~~~~~~~~~~~~~~~~~~~~~~~~~~~~~~~~~~~~~
C:/Users/biocbuild/bbs-3.12-bioc/R/library/RcppEigen/include/Eigen/src/Core/util/XprHelper.h:170:83: warning: ignoring attributes on template argument 'Eigen::internal::packet_traits<double>::type' {aka '__vector(2) double'} [-Wignored-attributes]
C:/Users/biocbuild/bbs-3.12-bioc/R/library/RcppEigen/include/Eigen/src/Core/util/XprHelper.h:170:83: warning: ignoring attributes on template argument 'Eigen::internal::unpacket_traits<__vector(2) double>::half' {aka '__vector(2) double'} [-Wignored-attributes]
C:/Users/biocbuild/bbs-3.12-bioc/R/library/RcppEigen/include/Eigen/src/Core/util/XprHelper.h:188:88: warning: ignoring attributes on template argument 'Eigen::internal::packet_traits<double>::type' {aka '__vector(2) double'} [-Wignored-attributes]
   typedef typename find_best_packet_helper<Size,typename packet_traits<T>::type>::type type;
                                                                                        ^~~~
In file included from C:/Users/biocbuild/bbs-3.12-bioc/R/library/RcppEigen/include/Eigen/Core:434,
                 from C:/Users/biocbuild/bbs-3.12-bioc/R/library/RcppEigen/include/Eigen/Dense:1,
                 from C:/Users/biocbuild/bbs-3.12-bioc/R/library/RcppEigen/include/RcppEigenForward.h:30,
                 from C:/Users/biocbuild/bbs-3.12-bioc/R/library/RcppEigen/include/RcppEigen.h:25,
                 from MCMC_algorithm.cpp:3:
C:/Users/biocbuild/bbs-3.12-bioc/R/library/RcppEigen/include/Eigen/src/Core/DenseCoeffsBase.h: In instantiation of 'class Eigen::DenseCoeffsBase<Eigen::Matrix<double, 4, 1>, 0>':
C:/Users/biocbuild/bbs-3.12-bioc/R/library/RcppEigen/include/Eigen/src/Core/DenseCoeffsBase.h:300:7:   required from 'class Eigen::DenseCoeffsBase<Eigen::Matrix<double, 4, 1>, 1>'
C:/Users/biocbuild/bbs-3.12-bioc/R/library/RcppEigen/include/Eigen/src/Core/DenseCoeffsBase.h:551:7:   required from 'class Eigen::DenseCoeffsBase<Eigen::Matrix<double, 4, 1>, 3>'
C:/Users/biocbuild/bbs-3.12-bioc/R/library/RcppEigen/include/Eigen/src/Core/DenseBase.h:41:34:   required from 'class Eigen::DenseBase<Eigen::Matrix<double, 4, 1> >'
C:/Users/biocbuild/bbs-3.12-bioc/R/library/RcppEigen/include/Eigen/src/Core/MatrixBase.h:48:34:   required from 'class Eigen::MatrixBase<Eigen::Matrix<double, 4, 1> >'
C:/Users/biocbuild/bbs-3.12-bioc/R/library/RcppEigen/include/Eigen/src/Core/PlainObjectBase.h:98:7:   required from 'class Eigen::PlainObjectBase<Eigen::Matrix<double, 4, 1> >'
C:/Users/biocbuild/bbs-3.12-bioc/R/library/RcppEigen/include/Eigen/src/Core/Matrix.h:178:7:   required from 'class Eigen::Matrix<double, 4, 1>'
C:/Users/biocbuild/bbs-3.12-bioc/R/library/RcppEigen/include/Eigen/src/Geometry/Quaternion.h:46:50:   required from 'class Eigen::QuaternionBase<Eigen::Quaternion<double> >'
C:/Users/biocbuild/bbs-3.12-bioc/R/library/RcppEigen/include/Eigen/src/Geometry/Quaternion.h:232:7:   required from 'class Eigen::Quaternion<double>'
C:/Users/biocbuild/bbs-3.12-bioc/R/library/RcppEigen/include/Eigen/src/Geometry/arch/Geometry_SSE.h:92:3:   required from here
C:/Users/biocbuild/bbs-3.12-bioc/R/library/RcppEigen/include/Eigen/src/Core/DenseCoeffsBase.h:55:30: warning: ignoring attributes on template argument 'Eigen::internal::packet_traits<double>::type' {aka '__vector(2) double'} [-Wignored-attributes]
                      >::type PacketReturnType;
                              ^~~~~~~~~~~~~~~~
In file included from C:/Users/biocbuild/bbs-3.12-bioc/R/library/RcppEigen/include/Eigen/SparseCore:37,
                 from C:/Users/biocbuild/bbs-3.12-bioc/R/library/RcppEigen/include/Eigen/Sparse:26,
                 from C:/Users/biocbuild/bbs-3.12-bioc/R/library/RcppEigen/include/RcppEigenForward.h:31,
                 from C:/Users/biocbuild/bbs-3.12-bioc/R/library/RcppEigen/include/RcppEigen.h:25,
                 from MCMC_algorithm.cpp:3:
C:/Users/biocbuild/bbs-3.12-bioc/R/library/RcppEigen/include/Eigen/src/SparseCore/SparseMatrixBase.h: In instantiation of 'class Eigen::SparseMatrixBase<Eigen::SparseMatrix<double, 0, int> >':
C:/Users/biocbuild/bbs-3.12-bioc/R/library/RcppEigen/include/Eigen/src/SparseCore/SparseCompressedBase.h:36:7:   required from 'class Eigen::SparseCompressedBase<Eigen::SparseMatrix<double, 0, int> >'
C:/Users/biocbuild/bbs-3.12-bioc/R/library/RcppEigen/include/Eigen/src/SparseCore/SparseMatrix.h:96:7:   required from 'class Eigen::SparseMatrix<double, 0, int>'
C:/Users/biocbuild/bbs-3.12-bioc/R/library/RcppEigen/include/unsupported/Eigen/src/IterativeSolvers/ConstrainedConjGrad.h:61:25:   required from here
C:/Users/biocbuild/bbs-3.12-bioc/R/library/RcppEigen/include/Eigen/src/SparseCore/SparseMatrixBase.h:47:30: warning: ignoring attributes on template argument 'Eigen::internal::packet_traits<double>::type' {aka '__vector(2) double'} [-Wignored-attributes]
                      >::type PacketReturnType;
                              ^~~~~~~~~~~~~~~~
In file included from C:/Users/biocbuild/bbs-3.12-bioc/R/library/RcppEigen/include/Eigen/Core:434,
                 from C:/Users/biocbuild/bbs-3.12-bioc/R/library/RcppEigen/include/Eigen/Dense:1,
                 from C:/Users/biocbuild/bbs-3.12-bioc/R/library/RcppEigen/include/RcppEigenForward.h:30,
                 from C:/Users/biocbuild/bbs-3.12-bioc/R/library/RcppEigen/include/RcppEigen.h:25,
                 from MCMC_algorithm.cpp:3:
C:/Users/biocbuild/bbs-3.12-bioc/R/library/RcppEigen/include/Eigen/src/Core/DenseCoeffsBase.h: In instantiation of 'class Eigen::DenseCoeffsBase<Eigen::Matrix<int, -1, 1>, 0>':
C:/Users/biocbuild/bbs-3.12-bioc/R/library/RcppEigen/include/Eigen/src/Core/DenseCoeffsBase.h:300:7:   required from 'class Eigen::DenseCoeffsBase<Eigen::Matrix<int, -1, 1>, 1>'
C:/Users/biocbuild/bbs-3.12-bioc/R/library/RcppEigen/include/Eigen/src/Core/DenseCoeffsBase.h:551:7:   required from 'class Eigen::DenseCoeffsBase<Eigen::Matrix<int, -1, 1>, 3>'
C:/Users/biocbuild/bbs-3.12-bioc/R/library/RcppEigen/include/Eigen/src/Core/DenseBase.h:41:34:   required from 'class Eigen::DenseBase<Eigen::Matrix<int, -1, 1> >'
C:/Users/biocbuild/bbs-3.12-bioc/R/library/RcppEigen/include/Eigen/src/Core/MatrixBase.h:48:34:   required from 'class Eigen::MatrixBase<Eigen::Matrix<int, -1, 1> >'
C:/Users/biocbuild/bbs-3.12-bioc/R/library/RcppEigen/include/Eigen/src/Core/PlainObjectBase.h:98:7:   required from 'class Eigen::PlainObjectBase<Eigen::Matrix<int, -1, 1> >'
C:/Users/biocbuild/bbs-3.12-bioc/R/library/RcppEigen/include/Eigen/src/Core/Matrix.h:178:7:   required from 'class Eigen::Matrix<int, -1, 1>'
C:/Users/biocbuild/bbs-3.12-bioc/R/library/RcppEigen/include/unsupported/Eigen/src/KroneckerProduct/KroneckerTensorProduct.h:168:29:   required from here
C:/Users/biocbuild/bbs-3.12-bioc/R/library/RcppEigen/include/Eigen/src/Core/DenseCoeffsBase.h:55:30: warning: ignoring attributes on template argument 'Eigen::internal::packet_traits<int>::type' {aka '__vector(2) long long int'} [-Wignored-attributes]
                      >::type PacketReturnType;
                              ^~~~~~~~~~~~~~~~
C:/Users/biocbuild/bbs-3.12-bioc/R/library/RcppEigen/include/Eigen/src/Core/DenseCoeffsBase.h: In instantiation of 'class Eigen::DenseCoeffsBase<Eigen::Transpose<Eigen::Matrix<int, -1, 1> >, 0>':
C:/Users/biocbuild/bbs-3.12-bioc/R/library/RcppEigen/include/Eigen/src/Core/DenseCoeffsBase.h:300:7:   required from 'class Eigen::DenseCoeffsBase<Eigen::Transpose<Eigen::Matrix<int, -1, 1> >, 1>'
C:/Users/biocbuild/bbs-3.12-bioc/R/library/RcppEigen/include/Eigen/src/Core/DenseCoeffsBase.h:551:7:   required from 'class Eigen::DenseCoeffsBase<Eigen::Transpose<Eigen::Matrix<int, -1, 1> >, 3>'
C:/Users/biocbuild/bbs-3.12-bioc/R/library/RcppEigen/include/Eigen/src/Core/DenseBase.h:41:34:   required from 'class Eigen::DenseBase<Eigen::Transpose<Eigen::Matrix<int, -1, 1> > >'
C:/Users/biocbuild/bbs-3.12-bioc/R/library/RcppEigen/include/Eigen/src/Core/MatrixBase.h:48:34:   required from 'class Eigen::MatrixBase<Eigen::Transpose<Eigen::Matrix<int, -1, 1> > >'
C:/Users/biocbuild/bbs-3.12-bioc/R/library/RcppEigen/include/Eigen/src/Core/Transpose.h:115:37:   required from 'class Eigen::TransposeImpl<Eigen::Matrix<int, -1, 1>, Eigen::Dense>'
C:/Users/biocbuild/bbs-3.12-bioc/R/library/RcppEigen/include/Eigen/src/Core/Transpose.h:52:37:   required from 'class Eigen::Transpose<Eigen::Matrix<int, -1, 1> >'
C:/Users/biocbuild/bbs-3.12-bioc/R/library/RcppEigen/include/unsupported/Eigen/src/KroneckerProduct/KroneckerTensorProduct.h:178:72:   required from here
C:/Users/biocbuild/bbs-3.12-bioc/R/library/RcppEigen/include/Eigen/src/Core/DenseCoeffsBase.h:55:30: warning: ignoring attributes on template argument 'Eigen::internal::packet_traits<int>::type' {aka '__vector(2) long long int'} [-Wignored-attributes]
C:/Users/biocbuild/bbs-3.12-bioc/R/library/RcppEigen/include/Eigen/src/Core/DenseCoeffsBase.h: In instantiation of 'class Eigen::DenseCoeffsBase<Eigen::Matrix<int, -1, -1>, 0>':
C:/Users/biocbuild/bbs-3.12-bioc/R/library/RcppEigen/include/Eigen/src/Core/DenseCoeffsBase.h:300:7:   required from 'class Eigen::DenseCoeffsBase<Eigen::Matrix<int, -1, -1>, 1>'
C:/Users/biocbuild/bbs-3.12-bioc/R/library/RcppEigen/include/Eigen/src/Core/DenseCoeffsBase.h:551:7:   required from 'class Eigen::DenseCoeffsBase<Eigen::Matrix<int, -1, -1>, 3>'
C:/Users/biocbuild/bbs-3.12-bioc/R/library/RcppEigen/include/Eigen/src/Core/DenseBase.h:41:34:   required from 'class Eigen::DenseBase<Eigen::Matrix<int, -1, -1> >'
C:/Users/biocbuild/bbs-3.12-bioc/R/library/RcppEigen/include/Eigen/src/Core/MatrixBase.h:48:34:   required from 'class Eigen::MatrixBase<Eigen::Matrix<int, -1, -1> >'
C:/Users/biocbuild/bbs-3.12-bioc/R/library/RcppEigen/include/Eigen/src/Core/PlainObjectBase.h:98:7:   required from 'class Eigen::PlainObjectBase<Eigen::Matrix<int, -1, -1> >'
C:/Users/biocbuild/bbs-3.12-bioc/R/library/RcppEigen/include/Eigen/src/Core/Matrix.h:178:7:   required from 'class Eigen::Matrix<int, -1, -1>'
C:/Users/biocbuild/bbs-3.12-bioc/R/library/RcppEigen/include/unsupported/Eigen/src/KroneckerProduct/KroneckerTensorProduct.h:179:36:   required from here
C:/Users/biocbuild/bbs-3.12-bioc/R/library/RcppEigen/include/Eigen/src/Core/DenseCoeffsBase.h:55:30: warning: ignoring attributes on template argument 'Eigen::internal::packet_traits<int>::type' {aka '__vector(2) long long int'} [-Wignored-attributes]
"C:/rtools40/mingw32/bin/"g++ -std=gnu++11  -I"C:/Users/BIOCBU~1/BBS-3~1.12-/R/include" -DNDEBUG  -I'C:/Users/biocbuild/bbs-3.12-bioc/R/library/Rcpp/include' -I'C:/Users/biocbuild/bbs-3.12-bioc/R/library/RcppArmadillo/include' -I'C:/Users/biocbuild/bbs-3.12-bioc/R/library/RcppEigen/include'   -I"C:/extsoft/include"  -DARMA_DONT_USE_OPENMP   -O2 -Wall  -mfpmath=sse -msse2 -mstackrealign -c RcppExports.cpp -o RcppExports.o
In file included from C:/Users/biocbuild/bbs-3.12-bioc/R/library/RcppEigen/include/Eigen/Core:392,
                 from C:/Users/biocbuild/bbs-3.12-bioc/R/library/RcppEigen/include/Eigen/Dense:1,
                 from C:/Users/biocbuild/bbs-3.12-bioc/R/library/RcppEigen/include/RcppEigenForward.h:30,
                 from C:/Users/biocbuild/bbs-3.12-bioc/R/library/RcppEigen/include/RcppEigen.h:25,
                 from RcppExports.cpp:5:
C:/Users/biocbuild/bbs-3.12-bioc/R/library/RcppEigen/include/Eigen/src/Core/arch/SSE/PacketMath.h:60:39: warning: ignoring attributes on template argument '__m128' {aka '__vector(4) float'} [-Wignored-attributes]
 template<> struct is_arithmetic<__m128>  { enum { value = true }; };
                                       ^
C:/Users/biocbuild/bbs-3.12-bioc/R/library/RcppEigen/include/Eigen/src/Core/arch/SSE/PacketMath.h:61:40: warning: ignoring attributes on template argument '__m128i' {aka '__vector(2) long long int'} [-Wignored-attributes]
 template<> struct is_arithmetic<__m128i> { enum { value = true }; };
                                        ^
C:/Users/biocbuild/bbs-3.12-bioc/R/library/RcppEigen/include/Eigen/src/Core/arch/SSE/PacketMath.h:62:40: warning: ignoring attributes on template argument '__m128d' {aka '__vector(2) double'} [-Wignored-attributes]
 template<> struct is_arithmetic<__m128d> { enum { value = true }; };
                                        ^
C:/Users/biocbuild/bbs-3.12-bioc/R/library/RcppEigen/include/Eigen/src/Core/arch/SSE/PacketMath.h:161:43: warning: ignoring attributes on template argument 'Eigen::internal::Packet4f' {aka '__vector(4) float'} [-Wignored-attributes]
 template<> struct unpacket_traits<Packet4f> { typedef float  type; enum {size=4, alignment=Aligned16}; typedef Packet4f half; };
                                           ^
C:/Users/biocbuild/bbs-3.12-bioc/R/library/RcppEigen/include/Eigen/src/Core/arch/SSE/PacketMath.h:162:43: warning: ignoring attributes on template argument 'Eigen::internal::Packet2d' {aka '__vector(2) double'} [-Wignored-attributes]
 template<> struct unpacket_traits<Packet2d> { typedef double type; enum {size=2, alignment=Aligned16}; typedef Packet2d half; };
                                           ^
C:/Users/biocbuild/bbs-3.12-bioc/R/library/RcppEigen/include/Eigen/src/Core/arch/SSE/PacketMath.h:163:43: warning: ignoring attributes on template argument 'Eigen::internal::Packet4i' {aka '__vector(2) long long int'} [-Wignored-attributes]
 template<> struct unpacket_traits<Packet4i> { typedef int    type; enum {size=4, alignment=Aligned16}; typedef Packet4i half; };
                                           ^
C:/Users/biocbuild/bbs-3.12-bioc/R/library/RcppEigen/include/Eigen/src/Core/arch/SSE/PacketMath.h:718:35: warning: ignoring attributes on template argument 'Eigen::internal::Packet4f' {aka '__vector(4) float'} [-Wignored-attributes]
 struct palign_impl<Offset,Packet4f>
                                   ^
C:/Users/biocbuild/bbs-3.12-bioc/R/library/RcppEigen/include/Eigen/src/Core/arch/SSE/PacketMath.h:741:35: warning: ignoring attributes on template argument 'Eigen::internal::Packet4i' {aka '__vector(2) long long int'} [-Wignored-attributes]
 struct palign_impl<Offset,Packet4i>
                                   ^
C:/Users/biocbuild/bbs-3.12-bioc/R/library/RcppEigen/include/Eigen/src/Core/arch/SSE/PacketMath.h:764:35: warning: ignoring attributes on template argument 'Eigen::internal::Packet2d' {aka '__vector(2) double'} [-Wignored-attributes]
 struct palign_impl<Offset,Packet2d>
                                   ^
C:/Users/biocbuild/bbs-3.12-bioc/R/library/RcppEigen/include/Eigen/src/Core/arch/SSE/PacketMath.h:778:34: warning: ignoring attributes on template argument 'Eigen::internal::Packet4f' {aka '__vector(4) float'} [-Wignored-attributes]
 ptranspose(PacketBlock<Packet4f,4>& kernel) {
                                  ^
C:/Users/biocbuild/bbs-3.12-bioc/R/library/RcppEigen/include/Eigen/src/Core/arch/SSE/PacketMath.h:783:34: warning: ignoring attributes on template argument 'Eigen::internal::Packet2d' {aka '__vector(2) double'} [-Wignored-attributes]
 ptranspose(PacketBlock<Packet2d,2>& kernel) {
                                  ^
C:/Users/biocbuild/bbs-3.12-bioc/R/library/RcppEigen/include/Eigen/src/Core/arch/SSE/PacketMath.h:790:34: warning: ignoring attributes on template argument 'Eigen::internal::Packet4i' {aka '__vector(2) long long int'} [-Wignored-attributes]
 ptranspose(PacketBlock<Packet4i,4>& kernel) {
                                  ^
In file included from C:/Users/biocbuild/bbs-3.12-bioc/R/library/RcppEigen/include/Eigen/Core:374,
                 from C:/Users/biocbuild/bbs-3.12-bioc/R/library/RcppEigen/include/Eigen/Dense:1,
                 from C:/Users/biocbuild/bbs-3.12-bioc/R/library/RcppEigen/include/RcppEigenForward.h:30,
                 from C:/Users/biocbuild/bbs-3.12-bioc/R/library/RcppEigen/include/RcppEigen.h:25,
                 from RcppExports.cpp:5:
C:/Users/biocbuild/bbs-3.12-bioc/R/library/RcppEigen/include/Eigen/src/Core/arch/Default/ConjHelper.h:15:70: warning: ignoring attributes on template argument 'Eigen::internal::Packet4f' {aka '__vector(4) float'} [-Wignored-attributes]
   template<> struct conj_helper<PACKET_REAL, PACKET_CPLX, false,false> {                                          \
                                                                      ^
C:/Users/biocbuild/bbs-3.12-bioc/R/library/RcppEigen/include/Eigen/src/Core/arch/SSE/Complex.h:232:1: note: in expansion of macro 'EIGEN_MAKE_CONJ_HELPER_CPLX_REAL'
 EIGEN_MAKE_CONJ_HELPER_CPLX_REAL(Packet2cf,Packet4f)
 ^~~~~~~~~~~~~~~~~~~~~~~~~~~~~~~~
C:/Users/biocbuild/bbs-3.12-bioc/R/library/RcppEigen/include/Eigen/src/Core/arch/Default/ConjHelper.h:22:70: warning: ignoring attributes on template argument 'Eigen::internal::Packet4f' {aka '__vector(4) float'} [-Wignored-attributes]
   template<> struct conj_helper<PACKET_CPLX, PACKET_REAL, false,false> {                                          \
                                                                      ^
C:/Users/biocbuild/bbs-3.12-bioc/R/library/RcppEigen/include/Eigen/src/Core/arch/SSE/Complex.h:232:1: note: in expansion of macro 'EIGEN_MAKE_CONJ_HELPER_CPLX_REAL'
 EIGEN_MAKE_CONJ_HELPER_CPLX_REAL(Packet2cf,Packet4f)
 ^~~~~~~~~~~~~~~~~~~~~~~~~~~~~~~~
C:/Users/biocbuild/bbs-3.12-bioc/R/library/RcppEigen/include/Eigen/src/Core/arch/Default/ConjHelper.h:15:70: warning: ignoring attributes on template argument 'Eigen::internal::Packet2d' {aka '__vector(2) double'} [-Wignored-attributes]
   template<> struct conj_helper<PACKET_REAL, PACKET_CPLX, false,false> {                                          \
                                                                      ^
C:/Users/biocbuild/bbs-3.12-bioc/R/library/RcppEigen/include/Eigen/src/Core/arch/SSE/Complex.h:417:1: note: in expansion of macro 'EIGEN_MAKE_CONJ_HELPER_CPLX_REAL'
 EIGEN_MAKE_CONJ_HELPER_CPLX_REAL(Packet1cd,Packet2d)
 ^~~~~~~~~~~~~~~~~~~~~~~~~~~~~~~~
C:/Users/biocbuild/bbs-3.12-bioc/R/library/RcppEigen/include/Eigen/src/Core/arch/Default/ConjHelper.h:22:70: warning: ignoring attributes on template argument 'Eigen::internal::Packet2d' {aka '__vector(2) double'} [-Wignored-attributes]
   template<> struct conj_helper<PACKET_CPLX, PACKET_REAL, false,false> {                                          \
                                                                      ^
C:/Users/biocbuild/bbs-3.12-bioc/R/library/RcppEigen/include/Eigen/src/Core/arch/SSE/Complex.h:417:1: note: in expansion of macro 'EIGEN_MAKE_CONJ_HELPER_CPLX_REAL'
 EIGEN_MAKE_CONJ_HELPER_CPLX_REAL(Packet1cd,Packet2d)
 ^~~~~~~~~~~~~~~~~~~~~~~~~~~~~~~~
In file included from C:/Users/biocbuild/bbs-3.12-bioc/R/library/RcppEigen/include/Eigen/Core:367,
                 from C:/Users/biocbuild/bbs-3.12-bioc/R/library/RcppEigen/include/Eigen/Dense:1,
                 from C:/Users/biocbuild/bbs-3.12-bioc/R/library/RcppEigen/include/RcppEigenForward.h:30,
                 from C:/Users/biocbuild/bbs-3.12-bioc/R/library/RcppEigen/include/RcppEigen.h:25,
                 from RcppExports.cpp:5:
C:/Users/biocbuild/bbs-3.12-bioc/R/library/RcppEigen/include/Eigen/src/Core/util/XprHelper.h: In instantiation of 'struct Eigen::internal::find_best_packet<int, -1>':
C:/Users/biocbuild/bbs-3.12-bioc/R/library/RcppEigen/include/Eigen/src/Core/Matrix.h:22:57:   required from 'struct Eigen::internal::traits<Eigen::Matrix<int, 1, -1> >'
C:/Users/biocbuild/bbs-3.12-bioc/R/library/RcppEigen/include/Eigen/src/Core/Array.h:17:8:   required from 'struct Eigen::internal::traits<Eigen::Array<int, 1, -1> >'
C:/Users/biocbuild/bbs-3.12-bioc/R/library/RcppEigen/include/Eigen/src/Core/PlainObjectBase.h:98:7:   required from 'class Eigen::PlainObjectBase<Eigen::Array<int, 1, -1> >'
C:/Users/biocbuild/bbs-3.12-bioc/R/library/RcppEigen/include/Eigen/src/Core/Array.h:45:7:   required from 'class Eigen::Array<int, 1, -1>'
C:/Users/biocbuild/bbs-3.12-bioc/R/library/RcppEigen/include/Eigen/src/SVD/BDCSVD.h:101:22:   required from here
C:/Users/biocbuild/bbs-3.12-bioc/R/library/RcppEigen/include/Eigen/src/Core/util/XprHelper.h:170:44: warning: ignoring attributes on template argument 'Eigen::internal::packet_traits<int>::type' {aka '__vector(2) long long int'} [-Wignored-attributes]
          bool Stop = Size==Dynamic || (Size%unpacket_traits<PacketType>::size)==0 || is_same<PacketType,typename unpacket_traits<PacketType>::half>::value>
                                       ~~~~~^~~~~~~~~~~~~~~~~~~~~~~~~~~~~~~~~~~
C:/Users/biocbuild/bbs-3.12-bioc/R/library/RcppEigen/include/Eigen/src/Core/util/XprHelper.h:170:83: warning: ignoring attributes on template argument 'Eigen::internal::packet_traits<int>::type' {aka '__vector(2) long long int'} [-Wignored-attributes]
          bool Stop = Size==Dynamic || (Size%unpacket_traits<PacketType>::size)==0 || is_same<PacketType,typename unpacket_traits<PacketType>::half>::value>
                      ~~~~~~~~~~~~~~~~~~~~~~~~~~~~~~~~~~~~~~~~~~~~~~~~~~~~~~~~~~~~~^~~~~~~~~~~~~~~~~~~~~~~~~~~~~~~~~~~~~~~~~~~~~~~~~~~~~~~~~~~~~~~~~
C:/Users/biocbuild/bbs-3.12-bioc/R/library/RcppEigen/include/Eigen/src/Core/util/XprHelper.h:170:83: warning: ignoring attributes on template argument 'Eigen::internal::packet_traits<int>::type' {aka '__vector(2) long long int'} [-Wignored-attributes]
C:/Users/biocbuild/bbs-3.12-bioc/R/library/RcppEigen/include/Eigen/src/Core/util/XprHelper.h:170:83: warning: ignoring attributes on template argument 'Eigen::internal::unpacket_traits<__vector(2) long long int>::half' {aka '__vector(2) long long int'} [-Wignored-attributes]
C:/Users/biocbuild/bbs-3.12-bioc/R/library/RcppEigen/include/Eigen/src/Core/util/XprHelper.h:188:88: warning: ignoring attributes on template argument 'Eigen::internal::packet_traits<int>::type' {aka '__vector(2) long long int'} [-Wignored-attributes]
   typedef typename find_best_packet_helper<Size,typename packet_traits<T>::type>::type type;
                                                                                        ^~~~
In file included from C:/Users/biocbuild/bbs-3.12-bioc/R/library/RcppEigen/include/Eigen/Core:434,
                 from C:/Users/biocbuild/bbs-3.12-bioc/R/library/RcppEigen/include/Eigen/Dense:1,
                 from C:/Users/biocbuild/bbs-3.12-bioc/R/library/RcppEigen/include/RcppEigenForward.h:30,
                 from C:/Users/biocbuild/bbs-3.12-bioc/R/library/RcppEigen/include/RcppEigen.h:25,
                 from RcppExports.cpp:5:
C:/Users/biocbuild/bbs-3.12-bioc/R/library/RcppEigen/include/Eigen/src/Core/DenseCoeffsBase.h: In instantiation of 'class Eigen::DenseCoeffsBase<Eigen::Array<int, 1, -1>, 0>':
C:/Users/biocbuild/bbs-3.12-bioc/R/library/RcppEigen/include/Eigen/src/Core/DenseCoeffsBase.h:300:7:   required from 'class Eigen::DenseCoeffsBase<Eigen::Array<int, 1, -1>, 1>'
C:/Users/biocbuild/bbs-3.12-bioc/R/library/RcppEigen/include/Eigen/src/Core/DenseCoeffsBase.h:551:7:   required from 'class Eigen::DenseCoeffsBase<Eigen::Array<int, 1, -1>, 3>'
C:/Users/biocbuild/bbs-3.12-bioc/R/library/RcppEigen/include/Eigen/src/Core/DenseBase.h:41:34:   required from 'class Eigen::DenseBase<Eigen::Array<int, 1, -1> >'
C:/Users/biocbuild/bbs-3.12-bioc/R/library/RcppEigen/include/Eigen/src/Core/ArrayBase.h:39:34:   required from 'class Eigen::ArrayBase<Eigen::Array<int, 1, -1> >'
C:/Users/biocbuild/bbs-3.12-bioc/R/library/RcppEigen/include/Eigen/src/Core/PlainObjectBase.h:98:7:   required from 'class Eigen::PlainObjectBase<Eigen::Array<int, 1, -1> >'
C:/Users/biocbuild/bbs-3.12-bioc/R/library/RcppEigen/include/Eigen/src/Core/Array.h:45:7:   required from 'class Eigen::Array<int, 1, -1>'
C:/Users/biocbuild/bbs-3.12-bioc/R/library/RcppEigen/include/Eigen/src/SVD/BDCSVD.h:101:22:   required from here
C:/Users/biocbuild/bbs-3.12-bioc/R/library/RcppEigen/include/Eigen/src/Core/DenseCoeffsBase.h:55:30: warning: ignoring attributes on template argument 'Eigen::internal::packet_traits<int>::type' {aka '__vector(2) long long int'} [-Wignored-attributes]
                      >::type PacketReturnType;
                              ^~~~~~~~~~~~~~~~
C:/Users/biocbuild/bbs-3.12-bioc/R/library/RcppEigen/include/Eigen/src/Core/DenseCoeffsBase.h: In instantiation of 'class Eigen::DenseCoeffsBase<Eigen::Ref<Eigen::Array<int, 1, -1> >, 0>':
C:/Users/biocbuild/bbs-3.12-bioc/R/library/RcppEigen/include/Eigen/src/Core/DenseCoeffsBase.h:300:7:   required from 'class Eigen::DenseCoeffsBase<Eigen::Ref<Eigen::Array<int, 1, -1> >, 1>'
C:/Users/biocbuild/bbs-3.12-bioc/R/library/RcppEigen/include/Eigen/src/Core/DenseCoeffsBase.h:551:7:   required from 'class Eigen::DenseCoeffsBase<Eigen::Ref<Eigen::Array<int, 1, -1> >, 3>'
C:/Users/biocbuild/bbs-3.12-bioc/R/library/RcppEigen/include/Eigen/src/Core/DenseBase.h:41:34:   required from 'class Eigen::DenseBase<Eigen::Ref<Eigen::Array<int, 1, -1> > >'
C:/Users/biocbuild/bbs-3.12-bioc/R/library/RcppEigen/include/Eigen/src/Core/ArrayBase.h:39:34:   required from 'class Eigen::ArrayBase<Eigen::Ref<Eigen::Array<int, 1, -1> > >'
C:/Users/biocbuild/bbs-3.12-bioc/R/library/RcppEigen/include/Eigen/src/Core/MapBase.h:37:34:   required from 'class Eigen::MapBase<Eigen::Ref<Eigen::Array<int, 1, -1> >, 0>'
C:/Users/biocbuild/bbs-3.12-bioc/R/library/RcppEigen/include/Eigen/src/Core/MapBase.h:219:34:   required from 'class Eigen::MapBase<Eigen::Ref<Eigen::Array<int, 1, -1> >, 1>'
C:/Users/biocbuild/bbs-3.12-bioc/R/library/RcppEigen/include/Eigen/src/Core/Ref.h:58:34:   required from 'class Eigen::RefBase<Eigen::Ref<Eigen::Array<int, 1, -1> > >'
C:/Users/biocbuild/bbs-3.12-bioc/R/library/RcppEigen/include/Eigen/src/Core/Ref.h:192:76:   required from 'class Eigen::Ref<Eigen::Array<int, 1, -1> >'
C:/Users/biocbuild/bbs-3.12-bioc/R/library/RcppEigen/include/Eigen/src/SVD/BDCSVD.h:694:17:   required from here
C:/Users/biocbuild/bbs-3.12-bioc/R/library/RcppEigen/include/Eigen/src/Core/DenseCoeffsBase.h:55:30: warning: ignoring attributes on template argument 'Eigen::internal::packet_traits<int>::type' {aka '__vector(2) long long int'} [-Wignored-attributes]
In file included from C:/Users/biocbuild/bbs-3.12-bioc/R/library/RcppEigen/include/Eigen/Core:367,
                 from C:/Users/biocbuild/bbs-3.12-bioc/R/library/RcppEigen/include/Eigen/Dense:1,
                 from C:/Users/biocbuild/bbs-3.12-bioc/R/library/RcppEigen/include/RcppEigenForward.h:30,
                 from C:/Users/biocbuild/bbs-3.12-bioc/R/library/RcppEigen/include/RcppEigen.h:25,
                 from RcppExports.cpp:5:
C:/Users/biocbuild/bbs-3.12-bioc/R/library/RcppEigen/include/Eigen/src/Core/util/XprHelper.h: In instantiation of 'struct Eigen::internal::find_best_packet<float, 4>':
C:/Users/biocbuild/bbs-3.12-bioc/R/library/RcppEigen/include/Eigen/src/Core/Matrix.h:22:57:   required from 'struct Eigen::internal::traits<Eigen::Matrix<float, 4, 1> >'
C:/Users/biocbuild/bbs-3.12-bioc/R/library/RcppEigen/include/Eigen/src/Geometry/Quaternion.h:224:7:   required from 'struct Eigen::internal::traits<Eigen::Quaternion<float> >'
C:/Users/biocbuild/bbs-3.12-bioc/R/library/RcppEigen/include/Eigen/src/Geometry/arch/Geometry_SSE.h:24:46:   required from here
C:/Users/biocbuild/bbs-3.12-bioc/R/library/RcppEigen/include/Eigen/src/Core/util/XprHelper.h:170:44: warning: ignoring attributes on template argument 'Eigen::internal::packet_traits<float>::type' {aka '__vector(4) float'} [-Wignored-attributes]
          bool Stop = Size==Dynamic || (Size%unpacket_traits<PacketType>::size)==0 || is_same<PacketType,typename unpacket_traits<PacketType>::half>::value>
                                       ~~~~~^~~~~~~~~~~~~~~~~~~~~~~~~~~~~~~~~~~
C:/Users/biocbuild/bbs-3.12-bioc/R/library/RcppEigen/include/Eigen/src/Core/util/XprHelper.h:170:83: warning: ignoring attributes on template argument 'Eigen::internal::packet_traits<float>::type' {aka '__vector(4) float'} [-Wignored-attributes]
          bool Stop = Size==Dynamic || (Size%unpacket_traits<PacketType>::size)==0 || is_same<PacketType,typename unpacket_traits<PacketType>::half>::value>
                      ~~~~~~~~~~~~~~~~~~~~~~~~~~~~~~~~~~~~~~~~~~~~~~~~~~~~~~~~~~~~~^~~~~~~~~~~~~~~~~~~~~~~~~~~~~~~~~~~~~~~~~~~~~~~~~~~~~~~~~~~~~~~~~
C:/Users/biocbuild/bbs-3.12-bioc/R/library/RcppEigen/include/Eigen/src/Core/util/XprHelper.h:170:83: warning: ignoring attributes on template argument 'Eigen::internal::packet_traits<float>::type' {aka '__vector(4) float'} [-Wignored-attributes]
C:/Users/biocbuild/bbs-3.12-bioc/R/library/RcppEigen/include/Eigen/src/Core/util/XprHelper.h:170:83: warning: ignoring attributes on template argument 'Eigen::internal::unpacket_traits<__vector(4) float>::half' {aka '__vector(4) float'} [-Wignored-attributes]
C:/Users/biocbuild/bbs-3.12-bioc/R/library/RcppEigen/include/Eigen/src/Core/util/XprHelper.h:188:88: warning: ignoring attributes on template argument 'Eigen::internal::packet_traits<float>::type' {aka '__vector(4) float'} [-Wignored-attributes]
   typedef typename find_best_packet_helper<Size,typename packet_traits<T>::type>::type type;
                                                                                        ^~~~
In file included from C:/Users/biocbuild/bbs-3.12-bioc/R/library/RcppEigen/include/Eigen/Core:434,
                 from C:/Users/biocbuild/bbs-3.12-bioc/R/library/RcppEigen/include/Eigen/Dense:1,
                 from C:/Users/biocbuild/bbs-3.12-bioc/R/library/RcppEigen/include/RcppEigenForward.h:30,
                 from C:/Users/biocbuild/bbs-3.12-bioc/R/library/RcppEigen/include/RcppEigen.h:25,
                 from RcppExports.cpp:5:
C:/Users/biocbuild/bbs-3.12-bioc/R/library/RcppEigen/include/Eigen/src/Core/DenseCoeffsBase.h: In instantiation of 'class Eigen::DenseCoeffsBase<Eigen::Matrix<float, 4, 1>, 0>':
C:/Users/biocbuild/bbs-3.12-bioc/R/library/RcppEigen/include/Eigen/src/Core/DenseCoeffsBase.h:300:7:   required from 'class Eigen::DenseCoeffsBase<Eigen::Matrix<float, 4, 1>, 1>'
C:/Users/biocbuild/bbs-3.12-bioc/R/library/RcppEigen/include/Eigen/src/Core/DenseCoeffsBase.h:551:7:   required from 'class Eigen::DenseCoeffsBase<Eigen::Matrix<float, 4, 1>, 3>'
C:/Users/biocbuild/bbs-3.12-bioc/R/library/RcppEigen/include/Eigen/src/Core/DenseBase.h:41:34:   required from 'class Eigen::DenseBase<Eigen::Matrix<float, 4, 1> >'
C:/Users/biocbuild/bbs-3.12-bioc/R/library/RcppEigen/include/Eigen/src/Core/MatrixBase.h:48:34:   required from 'class Eigen::MatrixBase<Eigen::Matrix<float, 4, 1> >'
C:/Users/biocbuild/bbs-3.12-bioc/R/library/RcppEigen/include/Eigen/src/Core/PlainObjectBase.h:98:7:   required from 'class Eigen::PlainObjectBase<Eigen::Matrix<float, 4, 1> >'
C:/Users/biocbuild/bbs-3.12-bioc/R/library/RcppEigen/include/Eigen/src/Core/Matrix.h:178:7:   required from 'class Eigen::Matrix<float, 4, 1>'
C:/Users/biocbuild/bbs-3.12-bioc/R/library/RcppEigen/include/Eigen/src/Geometry/Quaternion.h:46:50:   required from 'class Eigen::QuaternionBase<Eigen::Quaternion<float> >'
C:/Users/biocbuild/bbs-3.12-bioc/R/library/RcppEigen/include/Eigen/src/Geometry/Quaternion.h:232:7:   required from 'class Eigen::Quaternion<float>'
C:/Users/biocbuild/bbs-3.12-bioc/R/library/RcppEigen/include/Eigen/src/Geometry/arch/Geometry_SSE.h:27:3:   required from here
C:/Users/biocbuild/bbs-3.12-bioc/R/library/RcppEigen/include/Eigen/src/Core/DenseCoeffsBase.h:55:30: warning: ignoring attributes on template argument 'Eigen::internal::packet_traits<float>::type' {aka '__vector(4) float'} [-Wignored-attributes]
                      >::type PacketReturnType;
                              ^~~~~~~~~~~~~~~~
In file included from C:/Users/biocbuild/bbs-3.12-bioc/R/library/RcppEigen/include/Eigen/Core:367,
                 from C:/Users/biocbuild/bbs-3.12-bioc/R/library/RcppEigen/include/Eigen/Dense:1,
                 from C:/Users/biocbuild/bbs-3.12-bioc/R/library/RcppEigen/include/RcppEigenForward.h:30,
                 from C:/Users/biocbuild/bbs-3.12-bioc/R/library/RcppEigen/include/RcppEigen.h:25,
                 from RcppExports.cpp:5:
C:/Users/biocbuild/bbs-3.12-bioc/R/library/RcppEigen/include/Eigen/src/Core/util/XprHelper.h: In instantiation of 'struct Eigen::internal::find_best_packet<double, 4>':
C:/Users/biocbuild/bbs-3.12-bioc/R/library/RcppEigen/include/Eigen/src/Core/Matrix.h:22:57:   required from 'struct Eigen::internal::traits<Eigen::Matrix<double, 4, 1> >'
C:/Users/biocbuild/bbs-3.12-bioc/R/library/RcppEigen/include/Eigen/src/Geometry/Quaternion.h:224:7:   required from 'struct Eigen::internal::traits<Eigen::Quaternion<double> >'
C:/Users/biocbuild/bbs-3.12-bioc/R/library/RcppEigen/include/Eigen/src/Geometry/arch/Geometry_SSE.h:88:47:   required from here
C:/Users/biocbuild/bbs-3.12-bioc/R/library/RcppEigen/include/Eigen/src/Core/util/XprHelper.h:170:44: warning: ignoring attributes on template argument 'Eigen::internal::packet_traits<double>::type' {aka '__vector(2) double'} [-Wignored-attributes]
          bool Stop = Size==Dynamic || (Size%unpacket_traits<PacketType>::size)==0 || is_same<PacketType,typename unpacket_traits<PacketType>::half>::value>
                                       ~~~~~^~~~~~~~~~~~~~~~~~~~~~~~~~~~~~~~~~~
C:/Users/biocbuild/bbs-3.12-bioc/R/library/RcppEigen/include/Eigen/src/Core/util/XprHelper.h:170:83: warning: ignoring attributes on template argument 'Eigen::internal::packet_traits<double>::type' {aka '__vector(2) double'} [-Wignored-attributes]
          bool Stop = Size==Dynamic || (Size%unpacket_traits<PacketType>::size)==0 || is_same<PacketType,typename unpacket_traits<PacketType>::half>::value>
                      ~~~~~~~~~~~~~~~~~~~~~~~~~~~~~~~~~~~~~~~~~~~~~~~~~~~~~~~~~~~~~^~~~~~~~~~~~~~~~~~~~~~~~~~~~~~~~~~~~~~~~~~~~~~~~~~~~~~~~~~~~~~~~~
C:/Users/biocbuild/bbs-3.12-bioc/R/library/RcppEigen/include/Eigen/src/Core/util/XprHelper.h:170:83: warning: ignoring attributes on template argument 'Eigen::internal::packet_traits<double>::type' {aka '__vector(2) double'} [-Wignored-attributes]
C:/Users/biocbuild/bbs-3.12-bioc/R/library/RcppEigen/include/Eigen/src/Core/util/XprHelper.h:170:83: warning: ignoring attributes on template argument 'Eigen::internal::unpacket_traits<__vector(2) double>::half' {aka '__vector(2) double'} [-Wignored-attributes]
C:/Users/biocbuild/bbs-3.12-bioc/R/library/RcppEigen/include/Eigen/src/Core/util/XprHelper.h:188:88: warning: ignoring attributes on template argument 'Eigen::internal::packet_traits<double>::type' {aka '__vector(2) double'} [-Wignored-attributes]
   typedef typename find_best_packet_helper<Size,typename packet_traits<T>::type>::type type;
                                                                                        ^~~~
In file included from C:/Users/biocbuild/bbs-3.12-bioc/R/library/RcppEigen/include/Eigen/Core:434,
                 from C:/Users/biocbuild/bbs-3.12-bioc/R/library/RcppEigen/include/Eigen/Dense:1,
                 from C:/Users/biocbuild/bbs-3.12-bioc/R/library/RcppEigen/include/RcppEigenForward.h:30,
                 from C:/Users/biocbuild/bbs-3.12-bioc/R/library/RcppEigen/include/RcppEigen.h:25,
                 from RcppExports.cpp:5:
C:/Users/biocbuild/bbs-3.12-bioc/R/library/RcppEigen/include/Eigen/src/Core/DenseCoeffsBase.h: In instantiation of 'class Eigen::DenseCoeffsBase<Eigen::Matrix<double, 4, 1>, 0>':
C:/Users/biocbuild/bbs-3.12-bioc/R/library/RcppEigen/include/Eigen/src/Core/DenseCoeffsBase.h:300:7:   required from 'class Eigen::DenseCoeffsBase<Eigen::Matrix<double, 4, 1>, 1>'
C:/Users/biocbuild/bbs-3.12-bioc/R/library/RcppEigen/include/Eigen/src/Core/DenseCoeffsBase.h:551:7:   required from 'class Eigen::DenseCoeffsBase<Eigen::Matrix<double, 4, 1>, 3>'
C:/Users/biocbuild/bbs-3.12-bioc/R/library/RcppEigen/include/Eigen/src/Core/DenseBase.h:41:34:   required from 'class Eigen::DenseBase<Eigen::Matrix<double, 4, 1> >'
C:/Users/biocbuild/bbs-3.12-bioc/R/library/RcppEigen/include/Eigen/src/Core/MatrixBase.h:48:34:   required from 'class Eigen::MatrixBase<Eigen::Matrix<double, 4, 1> >'
C:/Users/biocbuild/bbs-3.12-bioc/R/library/RcppEigen/include/Eigen/src/Core/PlainObjectBase.h:98:7:   required from 'class Eigen::PlainObjectBase<Eigen::Matrix<double, 4, 1> >'
C:/Users/biocbuild/bbs-3.12-bioc/R/library/RcppEigen/include/Eigen/src/Core/Matrix.h:178:7:   required from 'class Eigen::Matrix<double, 4, 1>'
C:/Users/biocbuild/bbs-3.12-bioc/R/library/RcppEigen/include/Eigen/src/Geometry/Quaternion.h:46:50:   required from 'class Eigen::QuaternionBase<Eigen::Quaternion<double> >'
C:/Users/biocbuild/bbs-3.12-bioc/R/library/RcppEigen/include/Eigen/src/Geometry/Quaternion.h:232:7:   required from 'class Eigen::Quaternion<double>'
C:/Users/biocbuild/bbs-3.12-bioc/R/library/RcppEigen/include/Eigen/src/Geometry/arch/Geometry_SSE.h:92:3:   required from here
C:/Users/biocbuild/bbs-3.12-bioc/R/library/RcppEigen/include/Eigen/src/Core/DenseCoeffsBase.h:55:30: warning: ignoring attributes on template argument 'Eigen::internal::packet_traits<double>::type' {aka '__vector(2) double'} [-Wignored-attributes]
                      >::type PacketReturnType;
                              ^~~~~~~~~~~~~~~~
In file included from C:/Users/biocbuild/bbs-3.12-bioc/R/library/RcppEigen/include/Eigen/SparseCore:37,
                 from C:/Users/biocbuild/bbs-3.12-bioc/R/library/RcppEigen/include/Eigen/Sparse:26,
                 from C:/Users/biocbuild/bbs-3.12-bioc/R/library/RcppEigen/include/RcppEigenForward.h:31,
                 from C:/Users/biocbuild/bbs-3.12-bioc/R/library/RcppEigen/include/RcppEigen.h:25,
                 from RcppExports.cpp:5:
C:/Users/biocbuild/bbs-3.12-bioc/R/library/RcppEigen/include/Eigen/src/SparseCore/SparseMatrixBase.h: In instantiation of 'class Eigen::SparseMatrixBase<Eigen::SparseMatrix<double, 0, int> >':
C:/Users/biocbuild/bbs-3.12-bioc/R/library/RcppEigen/include/Eigen/src/SparseCore/SparseCompressedBase.h:36:7:   required from 'class Eigen::SparseCompressedBase<Eigen::SparseMatrix<double, 0, int> >'
C:/Users/biocbuild/bbs-3.12-bioc/R/library/RcppEigen/include/Eigen/src/SparseCore/SparseMatrix.h:96:7:   required from 'class Eigen::SparseMatrix<double, 0, int>'
C:/Users/biocbuild/bbs-3.12-bioc/R/library/RcppEigen/include/unsupported/Eigen/src/IterativeSolvers/ConstrainedConjGrad.h:61:25:   required from here
C:/Users/biocbuild/bbs-3.12-bioc/R/library/RcppEigen/include/Eigen/src/SparseCore/SparseMatrixBase.h:47:30: warning: ignoring attributes on template argument 'Eigen::internal::packet_traits<double>::type' {aka '__vector(2) double'} [-Wignored-attributes]
                      >::type PacketReturnType;
                              ^~~~~~~~~~~~~~~~
In file included from C:/Users/biocbuild/bbs-3.12-bioc/R/library/RcppEigen/include/Eigen/Core:434,
                 from C:/Users/biocbuild/bbs-3.12-bioc/R/library/RcppEigen/include/Eigen/Dense:1,
                 from C:/Users/biocbuild/bbs-3.12-bioc/R/library/RcppEigen/include/RcppEigenForward.h:30,
                 from C:/Users/biocbuild/bbs-3.12-bioc/R/library/RcppEigen/include/RcppEigen.h:25,
                 from RcppExports.cpp:5:
C:/Users/biocbuild/bbs-3.12-bioc/R/library/RcppEigen/include/Eigen/src/Core/DenseCoeffsBase.h: In instantiation of 'class Eigen::DenseCoeffsBase<Eigen::Matrix<int, -1, 1>, 0>':
C:/Users/biocbuild/bbs-3.12-bioc/R/library/RcppEigen/include/Eigen/src/Core/DenseCoeffsBase.h:300:7:   required from 'class Eigen::DenseCoeffsBase<Eigen::Matrix<int, -1, 1>, 1>'
C:/Users/biocbuild/bbs-3.12-bioc/R/library/RcppEigen/include/Eigen/src/Core/DenseCoeffsBase.h:551:7:   required from 'class Eigen::DenseCoeffsBase<Eigen::Matrix<int, -1, 1>, 3>'
C:/Users/biocbuild/bbs-3.12-bioc/R/library/RcppEigen/include/Eigen/src/Core/DenseBase.h:41:34:   required from 'class Eigen::DenseBase<Eigen::Matrix<int, -1, 1> >'
C:/Users/biocbuild/bbs-3.12-bioc/R/library/RcppEigen/include/Eigen/src/Core/MatrixBase.h:48:34:   required from 'class Eigen::MatrixBase<Eigen::Matrix<int, -1, 1> >'
C:/Users/biocbuild/bbs-3.12-bioc/R/library/RcppEigen/include/Eigen/src/Core/PlainObjectBase.h:98:7:   required from 'class Eigen::PlainObjectBase<Eigen::Matrix<int, -1, 1> >'
C:/Users/biocbuild/bbs-3.12-bioc/R/library/RcppEigen/include/Eigen/src/Core/Matrix.h:178:7:   required from 'class Eigen::Matrix<int, -1, 1>'
C:/Users/biocbuild/bbs-3.12-bioc/R/library/RcppEigen/include/unsupported/Eigen/src/KroneckerProduct/KroneckerTensorProduct.h:168:29:   required from here
C:/Users/biocbuild/bbs-3.12-bioc/R/library/RcppEigen/include/Eigen/src/Core/DenseCoeffsBase.h:55:30: warning: ignoring attributes on template argument 'Eigen::internal::packet_traits<int>::type' {aka '__vector(2) long long int'} [-Wignored-attributes]
                      >::type PacketReturnType;
                              ^~~~~~~~~~~~~~~~
C:/Users/biocbuild/bbs-3.12-bioc/R/library/RcppEigen/include/Eigen/src/Core/DenseCoeffsBase.h: In instantiation of 'class Eigen::DenseCoeffsBase<Eigen::Transpose<Eigen::Matrix<int, -1, 1> >, 0>':
C:/Users/biocbuild/bbs-3.12-bioc/R/library/RcppEigen/include/Eigen/src/Core/DenseCoeffsBase.h:300:7:   required from 'class Eigen::DenseCoeffsBase<Eigen::Transpose<Eigen::Matrix<int, -1, 1> >, 1>'
C:/Users/biocbuild/bbs-3.12-bioc/R/library/RcppEigen/include/Eigen/src/Core/DenseCoeffsBase.h:551:7:   required from 'class Eigen::DenseCoeffsBase<Eigen::Transpose<Eigen::Matrix<int, -1, 1> >, 3>'
C:/Users/biocbuild/bbs-3.12-bioc/R/library/RcppEigen/include/Eigen/src/Core/DenseBase.h:41:34:   required from 'class Eigen::DenseBase<Eigen::Transpose<Eigen::Matrix<int, -1, 1> > >'
C:/Users/biocbuild/bbs-3.12-bioc/R/library/RcppEigen/include/Eigen/src/Core/MatrixBase.h:48:34:   required from 'class Eigen::MatrixBase<Eigen::Transpose<Eigen::Matrix<int, -1, 1> > >'
C:/Users/biocbuild/bbs-3.12-bioc/R/library/RcppEigen/include/Eigen/src/Core/Transpose.h:115:37:   required from 'class Eigen::TransposeImpl<Eigen::Matrix<int, -1, 1>, Eigen::Dense>'
C:/Users/biocbuild/bbs-3.12-bioc/R/library/RcppEigen/include/Eigen/src/Core/Transpose.h:52:37:   required from 'class Eigen::Transpose<Eigen::Matrix<int, -1, 1> >'
C:/Users/biocbuild/bbs-3.12-bioc/R/library/RcppEigen/include/unsupported/Eigen/src/KroneckerProduct/KroneckerTensorProduct.h:178:72:   required from here
C:/Users/biocbuild/bbs-3.12-bioc/R/library/RcppEigen/include/Eigen/src/Core/DenseCoeffsBase.h:55:30: warning: ignoring attributes on template argument 'Eigen::internal::packet_traits<int>::type' {aka '__vector(2) long long int'} [-Wignored-attributes]
C:/Users/biocbuild/bbs-3.12-bioc/R/library/RcppEigen/include/Eigen/src/Core/DenseCoeffsBase.h: In instantiation of 'class Eigen::DenseCoeffsBase<Eigen::Matrix<int, -1, -1>, 0>':
C:/Users/biocbuild/bbs-3.12-bioc/R/library/RcppEigen/include/Eigen/src/Core/DenseCoeffsBase.h:300:7:   required from 'class Eigen::DenseCoeffsBase<Eigen::Matrix<int, -1, -1>, 1>'
C:/Users/biocbuild/bbs-3.12-bioc/R/library/RcppEigen/include/Eigen/src/Core/DenseCoeffsBase.h:551:7:   required from 'class Eigen::DenseCoeffsBase<Eigen::Matrix<int, -1, -1>, 3>'
C:/Users/biocbuild/bbs-3.12-bioc/R/library/RcppEigen/include/Eigen/src/Core/DenseBase.h:41:34:   required from 'class Eigen::DenseBase<Eigen::Matrix<int, -1, -1> >'
C:/Users/biocbuild/bbs-3.12-bioc/R/library/RcppEigen/include/Eigen/src/Core/MatrixBase.h:48:34:   required from 'class Eigen::MatrixBase<Eigen::Matrix<int, -1, -1> >'
C:/Users/biocbuild/bbs-3.12-bioc/R/library/RcppEigen/include/Eigen/src/Core/PlainObjectBase.h:98:7:   required from 'class Eigen::PlainObjectBase<Eigen::Matrix<int, -1, -1> >'
C:/Users/biocbuild/bbs-3.12-bioc/R/library/RcppEigen/include/Eigen/src/Core/Matrix.h:178:7:   required from 'class Eigen::Matrix<int, -1, -1>'
C:/Users/biocbuild/bbs-3.12-bioc/R/library/RcppEigen/include/unsupported/Eigen/src/KroneckerProduct/KroneckerTensorProduct.h:179:36:   required from here
C:/Users/biocbuild/bbs-3.12-bioc/R/library/RcppEigen/include/Eigen/src/Core/DenseCoeffsBase.h:55:30: warning: ignoring attributes on template argument 'Eigen::internal::packet_traits<int>::type' {aka '__vector(2) long long int'} [-Wignored-attributes]
C:/rtools40/mingw32/bin/g++ -std=gnu++11 -shared -s -static-libgcc -o BDMMAcorrect.dll tmp.def MCMC_algorithm.o RcppExports.o -LC:/Users/BIOCBU~1/BBS-3~1.12-/R/bin/i386 -lRlapack -LC:/Users/BIOCBU~1/BBS-3~1.12-/R/bin/i386 -lRblas -lgfortran -lm -lquadmath -O2 -msse2 -mfpmath=sse -LC:/extsoft/lib/i386 -LC:/extsoft/lib -LC:/Users/BIOCBU~1/BBS-3~1.12-/R/bin/i386 -lR
installing to C:/Users/biocbuild/bbs-3.12-bioc/meat/BDMMAcorrect.buildbin-libdir/00LOCK-BDMMAcorrect/00new/BDMMAcorrect/libs/i386
** R
** data
*** moving datasets to lazyload DB
** inst
** byte-compile and prepare package for lazy loading
** help
*** installing help indices
  converting help for package 'BDMMAcorrect'
    finding HTML links ... done
    BDMMA                                   html  
    L_mean                                  html  
    Microbiome_dat                          html  
    VBatch                                  html  
    fdr_cut                                 html  
    trace_plot                              html  
** building package indices
** installing vignettes
** testing if installed package can be loaded from temporary location
** testing if installed package can be loaded from final location
** testing if installed package keeps a record of temporary installation path

install for x64

* installing *source* package 'BDMMAcorrect' ...
** libs
"C:/rtools40/mingw64/bin/"g++ -std=gnu++11  -I"C:/Users/BIOCBU~1/BBS-3~1.12-/R/include" -DNDEBUG  -I'C:/Users/biocbuild/bbs-3.12-bioc/R/library/Rcpp/include' -I'C:/Users/biocbuild/bbs-3.12-bioc/R/library/RcppArmadillo/include' -I'C:/Users/biocbuild/bbs-3.12-bioc/R/library/RcppEigen/include'   -I"C:/extsoft/include"  -DARMA_DONT_USE_OPENMP   -O2 -Wall  -mfpmath=sse -msse2 -mstackrealign -c MCMC_algorithm.cpp -o MCMC_algorithm.o
In file included from C:/Users/biocbuild/bbs-3.12-bioc/R/library/RcppEigen/include/Eigen/Core:392,
                 from C:/Users/biocbuild/bbs-3.12-bioc/R/library/RcppEigen/include/Eigen/Dense:1,
                 from C:/Users/biocbuild/bbs-3.12-bioc/R/library/RcppEigen/include/RcppEigenForward.h:30,
                 from C:/Users/biocbuild/bbs-3.12-bioc/R/library/RcppEigen/include/RcppEigen.h:25,
                 from MCMC_algorithm.cpp:3:
C:/Users/biocbuild/bbs-3.12-bioc/R/library/RcppEigen/include/Eigen/src/Core/arch/SSE/PacketMath.h:60:39: warning: ignoring attributes on template argument '__m128' {aka '__vector(4) float'} [-Wignored-attributes]
 template<> struct is_arithmetic<__m128>  { enum { value = true }; };
                                       ^
C:/Users/biocbuild/bbs-3.12-bioc/R/library/RcppEigen/include/Eigen/src/Core/arch/SSE/PacketMath.h:61:40: warning: ignoring attributes on template argument '__m128i' {aka '__vector(2) long long int'} [-Wignored-attributes]
 template<> struct is_arithmetic<__m128i> { enum { value = true }; };
                                        ^
C:/Users/biocbuild/bbs-3.12-bioc/R/library/RcppEigen/include/Eigen/src/Core/arch/SSE/PacketMath.h:62:40: warning: ignoring attributes on template argument '__m128d' {aka '__vector(2) double'} [-Wignored-attributes]
 template<> struct is_arithmetic<__m128d> { enum { value = true }; };
                                        ^
C:/Users/biocbuild/bbs-3.12-bioc/R/library/RcppEigen/include/Eigen/src/Core/arch/SSE/PacketMath.h:161:43: warning: ignoring attributes on template argument 'Eigen::internal::Packet4f' {aka '__vector(4) float'} [-Wignored-attributes]
 template<> struct unpacket_traits<Packet4f> { typedef float  type; enum {size=4, alignment=Aligned16}; typedef Packet4f half; };
                                           ^
C:/Users/biocbuild/bbs-3.12-bioc/R/library/RcppEigen/include/Eigen/src/Core/arch/SSE/PacketMath.h:162:43: warning: ignoring attributes on template argument 'Eigen::internal::Packet2d' {aka '__vector(2) double'} [-Wignored-attributes]
 template<> struct unpacket_traits<Packet2d> { typedef double type; enum {size=2, alignment=Aligned16}; typedef Packet2d half; };
                                           ^
C:/Users/biocbuild/bbs-3.12-bioc/R/library/RcppEigen/include/Eigen/src/Core/arch/SSE/PacketMath.h:163:43: warning: ignoring attributes on template argument 'Eigen::internal::Packet4i' {aka '__vector(2) long long int'} [-Wignored-attributes]
 template<> struct unpacket_traits<Packet4i> { typedef int    type; enum {size=4, alignment=Aligned16}; typedef Packet4i half; };
                                           ^
C:/Users/biocbuild/bbs-3.12-bioc/R/library/RcppEigen/include/Eigen/src/Core/arch/SSE/PacketMath.h:718:35: warning: ignoring attributes on template argument 'Eigen::internal::Packet4f' {aka '__vector(4) float'} [-Wignored-attributes]
 struct palign_impl<Offset,Packet4f>
                                   ^
C:/Users/biocbuild/bbs-3.12-bioc/R/library/RcppEigen/include/Eigen/src/Core/arch/SSE/PacketMath.h:741:35: warning: ignoring attributes on template argument 'Eigen::internal::Packet4i' {aka '__vector(2) long long int'} [-Wignored-attributes]
 struct palign_impl<Offset,Packet4i>
                                   ^
C:/Users/biocbuild/bbs-3.12-bioc/R/library/RcppEigen/include/Eigen/src/Core/arch/SSE/PacketMath.h:764:35: warning: ignoring attributes on template argument 'Eigen::internal::Packet2d' {aka '__vector(2) double'} [-Wignored-attributes]
 struct palign_impl<Offset,Packet2d>
                                   ^
C:/Users/biocbuild/bbs-3.12-bioc/R/library/RcppEigen/include/Eigen/src/Core/arch/SSE/PacketMath.h:778:34: warning: ignoring attributes on template argument 'Eigen::internal::Packet4f' {aka '__vector(4) float'} [-Wignored-attributes]
 ptranspose(PacketBlock<Packet4f,4>& kernel) {
                                  ^
C:/Users/biocbuild/bbs-3.12-bioc/R/library/RcppEigen/include/Eigen/src/Core/arch/SSE/PacketMath.h:783:34: warning: ignoring attributes on template argument 'Eigen::internal::Packet2d' {aka '__vector(2) double'} [-Wignored-attributes]
 ptranspose(PacketBlock<Packet2d,2>& kernel) {
                                  ^
C:/Users/biocbuild/bbs-3.12-bioc/R/library/RcppEigen/include/Eigen/src/Core/arch/SSE/PacketMath.h:790:34: warning: ignoring attributes on template argument 'Eigen::internal::Packet4i' {aka '__vector(2) long long int'} [-Wignored-attributes]
 ptranspose(PacketBlock<Packet4i,4>& kernel) {
                                  ^
In file included from C:/Users/biocbuild/bbs-3.12-bioc/R/library/RcppEigen/include/Eigen/Core:374,
                 from C:/Users/biocbuild/bbs-3.12-bioc/R/library/RcppEigen/include/Eigen/Dense:1,
                 from C:/Users/biocbuild/bbs-3.12-bioc/R/library/RcppEigen/include/RcppEigenForward.h:30,
                 from C:/Users/biocbuild/bbs-3.12-bioc/R/library/RcppEigen/include/RcppEigen.h:25,
                 from MCMC_algorithm.cpp:3:
C:/Users/biocbuild/bbs-3.12-bioc/R/library/RcppEigen/include/Eigen/src/Core/arch/Default/ConjHelper.h:15:70: warning: ignoring attributes on template argument 'Eigen::internal::Packet4f' {aka '__vector(4) float'} [-Wignored-attributes]
   template<> struct conj_helper<PACKET_REAL, PACKET_CPLX, false,false> {                                          \
                                                                      ^
C:/Users/biocbuild/bbs-3.12-bioc/R/library/RcppEigen/include/Eigen/src/Core/arch/SSE/Complex.h:232:1: note: in expansion of macro 'EIGEN_MAKE_CONJ_HELPER_CPLX_REAL'
 EIGEN_MAKE_CONJ_HELPER_CPLX_REAL(Packet2cf,Packet4f)
 ^~~~~~~~~~~~~~~~~~~~~~~~~~~~~~~~
C:/Users/biocbuild/bbs-3.12-bioc/R/library/RcppEigen/include/Eigen/src/Core/arch/Default/ConjHelper.h:22:70: warning: ignoring attributes on template argument 'Eigen::internal::Packet4f' {aka '__vector(4) float'} [-Wignored-attributes]
   template<> struct conj_helper<PACKET_CPLX, PACKET_REAL, false,false> {                                          \
                                                                      ^
C:/Users/biocbuild/bbs-3.12-bioc/R/library/RcppEigen/include/Eigen/src/Core/arch/SSE/Complex.h:232:1: note: in expansion of macro 'EIGEN_MAKE_CONJ_HELPER_CPLX_REAL'
 EIGEN_MAKE_CONJ_HELPER_CPLX_REAL(Packet2cf,Packet4f)
 ^~~~~~~~~~~~~~~~~~~~~~~~~~~~~~~~
C:/Users/biocbuild/bbs-3.12-bioc/R/library/RcppEigen/include/Eigen/src/Core/arch/Default/ConjHelper.h:15:70: warning: ignoring attributes on template argument 'Eigen::internal::Packet2d' {aka '__vector(2) double'} [-Wignored-attributes]
   template<> struct conj_helper<PACKET_REAL, PACKET_CPLX, false,false> {                                          \
                                                                      ^
C:/Users/biocbuild/bbs-3.12-bioc/R/library/RcppEigen/include/Eigen/src/Core/arch/SSE/Complex.h:417:1: note: in expansion of macro 'EIGEN_MAKE_CONJ_HELPER_CPLX_REAL'
 EIGEN_MAKE_CONJ_HELPER_CPLX_REAL(Packet1cd,Packet2d)
 ^~~~~~~~~~~~~~~~~~~~~~~~~~~~~~~~
C:/Users/biocbuild/bbs-3.12-bioc/R/library/RcppEigen/include/Eigen/src/Core/arch/Default/ConjHelper.h:22:70: warning: ignoring attributes on template argument 'Eigen::internal::Packet2d' {aka '__vector(2) double'} [-Wignored-attributes]
   template<> struct conj_helper<PACKET_CPLX, PACKET_REAL, false,false> {                                          \
                                                                      ^
C:/Users/biocbuild/bbs-3.12-bioc/R/library/RcppEigen/include/Eigen/src/Core/arch/SSE/Complex.h:417:1: note: in expansion of macro 'EIGEN_MAKE_CONJ_HELPER_CPLX_REAL'
 EIGEN_MAKE_CONJ_HELPER_CPLX_REAL(Packet1cd,Packet2d)
 ^~~~~~~~~~~~~~~~~~~~~~~~~~~~~~~~
In file included from C:/Users/biocbuild/bbs-3.12-bioc/R/library/RcppEigen/include/Eigen/Core:367,
                 from C:/Users/biocbuild/bbs-3.12-bioc/R/library/RcppEigen/include/Eigen/Dense:1,
                 from C:/Users/biocbuild/bbs-3.12-bioc/R/library/RcppEigen/include/RcppEigenForward.h:30,
                 from C:/Users/biocbuild/bbs-3.12-bioc/R/library/RcppEigen/include/RcppEigen.h:25,
                 from MCMC_algorithm.cpp:3:
C:/Users/biocbuild/bbs-3.12-bioc/R/library/RcppEigen/include/Eigen/src/Core/util/XprHelper.h: In instantiation of 'struct Eigen::internal::find_best_packet<float, 4>':
C:/Users/biocbuild/bbs-3.12-bioc/R/library/RcppEigen/include/Eigen/src/Core/Matrix.h:22:57:   required from 'struct Eigen::internal::traits<Eigen::Matrix<float, 4, 1> >'
C:/Users/biocbuild/bbs-3.12-bioc/R/library/RcppEigen/include/Eigen/src/Geometry/Quaternion.h:224:7:   required from 'struct Eigen::internal::traits<Eigen::Quaternion<float> >'
C:/Users/biocbuild/bbs-3.12-bioc/R/library/RcppEigen/include/Eigen/src/Geometry/arch/Geometry_SSE.h:24:46:   required from here
C:/Users/biocbuild/bbs-3.12-bioc/R/library/RcppEigen/include/Eigen/src/Core/util/XprHelper.h:170:44: warning: ignoring attributes on template argument 'Eigen::internal::packet_traits<float>::type' {aka '__vector(4) float'} [-Wignored-attributes]
          bool Stop = Size==Dynamic || (Size%unpacket_traits<PacketType>::size)==0 || is_same<PacketType,typename unpacket_traits<PacketType>::half>::value>
                                       ~~~~~^~~~~~~~~~~~~~~~~~~~~~~~~~~~~~~~~~~
C:/Users/biocbuild/bbs-3.12-bioc/R/library/RcppEigen/include/Eigen/src/Core/util/XprHelper.h:170:83: warning: ignoring attributes on template argument 'Eigen::internal::packet_traits<float>::type' {aka '__vector(4) float'} [-Wignored-attributes]
          bool Stop = Size==Dynamic || (Size%unpacket_traits<PacketType>::size)==0 || is_same<PacketType,typename unpacket_traits<PacketType>::half>::value>
                      ~~~~~~~~~~~~~~~~~~~~~~~~~~~~~~~~~~~~~~~~~~~~~~~~~~~~~~~~~~~~~^~~~~~~~~~~~~~~~~~~~~~~~~~~~~~~~~~~~~~~~~~~~~~~~~~~~~~~~~~~~~~~~~
C:/Users/biocbuild/bbs-3.12-bioc/R/library/RcppEigen/include/Eigen/src/Core/util/XprHelper.h:170:83: warning: ignoring attributes on template argument 'Eigen::internal::packet_traits<float>::type' {aka '__vector(4) float'} [-Wignored-attributes]
C:/Users/biocbuild/bbs-3.12-bioc/R/library/RcppEigen/include/Eigen/src/Core/util/XprHelper.h:170:83: warning: ignoring attributes on template argument 'Eigen::internal::unpacket_traits<__vector(4) float>::half' {aka '__vector(4) float'} [-Wignored-attributes]
C:/Users/biocbuild/bbs-3.12-bioc/R/library/RcppEigen/include/Eigen/src/Core/util/XprHelper.h:188:88: warning: ignoring attributes on template argument 'Eigen::internal::packet_traits<float>::type' {aka '__vector(4) float'} [-Wignored-attributes]
   typedef typename find_best_packet_helper<Size,typename packet_traits<T>::type>::type type;
                                                                                        ^~~~
In file included from C:/Users/biocbuild/bbs-3.12-bioc/R/library/RcppEigen/include/Eigen/Core:434,
                 from C:/Users/biocbuild/bbs-3.12-bioc/R/library/RcppEigen/include/Eigen/Dense:1,
                 from C:/Users/biocbuild/bbs-3.12-bioc/R/library/RcppEigen/include/RcppEigenForward.h:30,
                 from C:/Users/biocbuild/bbs-3.12-bioc/R/library/RcppEigen/include/RcppEigen.h:25,
                 from MCMC_algorithm.cpp:3:
C:/Users/biocbuild/bbs-3.12-bioc/R/library/RcppEigen/include/Eigen/src/Core/DenseCoeffsBase.h: In instantiation of 'class Eigen::DenseCoeffsBase<Eigen::Matrix<float, 4, 1>, 0>':
C:/Users/biocbuild/bbs-3.12-bioc/R/library/RcppEigen/include/Eigen/src/Core/DenseCoeffsBase.h:300:7:   required from 'class Eigen::DenseCoeffsBase<Eigen::Matrix<float, 4, 1>, 1>'
C:/Users/biocbuild/bbs-3.12-bioc/R/library/RcppEigen/include/Eigen/src/Core/DenseCoeffsBase.h:551:7:   required from 'class Eigen::DenseCoeffsBase<Eigen::Matrix<float, 4, 1>, 3>'
C:/Users/biocbuild/bbs-3.12-bioc/R/library/RcppEigen/include/Eigen/src/Core/DenseBase.h:41:34:   required from 'class Eigen::DenseBase<Eigen::Matrix<float, 4, 1> >'
C:/Users/biocbuild/bbs-3.12-bioc/R/library/RcppEigen/include/Eigen/src/Core/MatrixBase.h:48:34:   required from 'class Eigen::MatrixBase<Eigen::Matrix<float, 4, 1> >'
C:/Users/biocbuild/bbs-3.12-bioc/R/library/RcppEigen/include/Eigen/src/Core/PlainObjectBase.h:98:7:   required from 'class Eigen::PlainObjectBase<Eigen::Matrix<float, 4, 1> >'
C:/Users/biocbuild/bbs-3.12-bioc/R/library/RcppEigen/include/Eigen/src/Core/Matrix.h:178:7:   required from 'class Eigen::Matrix<float, 4, 1>'
C:/Users/biocbuild/bbs-3.12-bioc/R/library/RcppEigen/include/Eigen/src/Geometry/Quaternion.h:46:50:   required from 'class Eigen::QuaternionBase<Eigen::Quaternion<float> >'
C:/Users/biocbuild/bbs-3.12-bioc/R/library/RcppEigen/include/Eigen/src/Geometry/Quaternion.h:232:7:   required from 'class Eigen::Quaternion<float>'
C:/Users/biocbuild/bbs-3.12-bioc/R/library/RcppEigen/include/Eigen/src/Geometry/arch/Geometry_SSE.h:27:3:   required from here
C:/Users/biocbuild/bbs-3.12-bioc/R/library/RcppEigen/include/Eigen/src/Core/DenseCoeffsBase.h:55:30: warning: ignoring attributes on template argument 'Eigen::internal::packet_traits<float>::type' {aka '__vector(4) float'} [-Wignored-attributes]
                      >::type PacketReturnType;
                              ^~~~~~~~~~~~~~~~
In file included from C:/Users/biocbuild/bbs-3.12-bioc/R/library/RcppEigen/include/Eigen/Core:367,
                 from C:/Users/biocbuild/bbs-3.12-bioc/R/library/RcppEigen/include/Eigen/Dense:1,
                 from C:/Users/biocbuild/bbs-3.12-bioc/R/library/RcppEigen/include/RcppEigenForward.h:30,
                 from C:/Users/biocbuild/bbs-3.12-bioc/R/library/RcppEigen/include/RcppEigen.h:25,
                 from MCMC_algorithm.cpp:3:
C:/Users/biocbuild/bbs-3.12-bioc/R/library/RcppEigen/include/Eigen/src/Core/util/XprHelper.h: In instantiation of 'struct Eigen::internal::find_best_packet<double, 4>':
C:/Users/biocbuild/bbs-3.12-bioc/R/library/RcppEigen/include/Eigen/src/Core/Matrix.h:22:57:   required from 'struct Eigen::internal::traits<Eigen::Matrix<double, 4, 1> >'
C:/Users/biocbuild/bbs-3.12-bioc/R/library/RcppEigen/include/Eigen/src/Geometry/Quaternion.h:224:7:   required from 'struct Eigen::internal::traits<Eigen::Quaternion<double> >'
C:/Users/biocbuild/bbs-3.12-bioc/R/library/RcppEigen/include/Eigen/src/Geometry/arch/Geometry_SSE.h:88:47:   required from here
C:/Users/biocbuild/bbs-3.12-bioc/R/library/RcppEigen/include/Eigen/src/Core/util/XprHelper.h:170:44: warning: ignoring attributes on template argument 'Eigen::internal::packet_traits<double>::type' {aka '__vector(2) double'} [-Wignored-attributes]
          bool Stop = Size==Dynamic || (Size%unpacket_traits<PacketType>::size)==0 || is_same<PacketType,typename unpacket_traits<PacketType>::half>::value>
                                       ~~~~~^~~~~~~~~~~~~~~~~~~~~~~~~~~~~~~~~~~
C:/Users/biocbuild/bbs-3.12-bioc/R/library/RcppEigen/include/Eigen/src/Core/util/XprHelper.h:170:83: warning: ignoring attributes on template argument 'Eigen::internal::packet_traits<double>::type' {aka '__vector(2) double'} [-Wignored-attributes]
          bool Stop = Size==Dynamic || (Size%unpacket_traits<PacketType>::size)==0 || is_same<PacketType,typename unpacket_traits<PacketType>::half>::value>
                      ~~~~~~~~~~~~~~~~~~~~~~~~~~~~~~~~~~~~~~~~~~~~~~~~~~~~~~~~~~~~~^~~~~~~~~~~~~~~~~~~~~~~~~~~~~~~~~~~~~~~~~~~~~~~~~~~~~~~~~~~~~~~~~
C:/Users/biocbuild/bbs-3.12-bioc/R/library/RcppEigen/include/Eigen/src/Core/util/XprHelper.h:170:83: warning: ignoring attributes on template argument 'Eigen::internal::packet_traits<double>::type' {aka '__vector(2) double'} [-Wignored-attributes]
C:/Users/biocbuild/bbs-3.12-bioc/R/library/RcppEigen/include/Eigen/src/Core/util/XprHelper.h:170:83: warning: ignoring attributes on template argument 'Eigen::internal::unpacket_traits<__vector(2) double>::half' {aka '__vector(2) double'} [-Wignored-attributes]
C:/Users/biocbuild/bbs-3.12-bioc/R/library/RcppEigen/include/Eigen/src/Core/util/XprHelper.h:188:88: warning: ignoring attributes on template argument 'Eigen::internal::packet_traits<double>::type' {aka '__vector(2) double'} [-Wignored-attributes]
   typedef typename find_best_packet_helper<Size,typename packet_traits<T>::type>::type type;
                                                                                        ^~~~
In file included from C:/Users/biocbuild/bbs-3.12-bioc/R/library/RcppEigen/include/Eigen/Core:434,
                 from C:/Users/biocbuild/bbs-3.12-bioc/R/library/RcppEigen/include/Eigen/Dense:1,
                 from C:/Users/biocbuild/bbs-3.12-bioc/R/library/RcppEigen/include/RcppEigenForward.h:30,
                 from C:/Users/biocbuild/bbs-3.12-bioc/R/library/RcppEigen/include/RcppEigen.h:25,
                 from MCMC_algorithm.cpp:3:
C:/Users/biocbuild/bbs-3.12-bioc/R/library/RcppEigen/include/Eigen/src/Core/DenseCoeffsBase.h: In instantiation of 'class Eigen::DenseCoeffsBase<Eigen::Matrix<double, 4, 1>, 0>':
C:/Users/biocbuild/bbs-3.12-bioc/R/library/RcppEigen/include/Eigen/src/Core/DenseCoeffsBase.h:300:7:   required from 'class Eigen::DenseCoeffsBase<Eigen::Matrix<double, 4, 1>, 1>'
C:/Users/biocbuild/bbs-3.12-bioc/R/library/RcppEigen/include/Eigen/src/Core/DenseCoeffsBase.h:551:7:   required from 'class Eigen::DenseCoeffsBase<Eigen::Matrix<double, 4, 1>, 3>'
C:/Users/biocbuild/bbs-3.12-bioc/R/library/RcppEigen/include/Eigen/src/Core/DenseBase.h:41:34:   required from 'class Eigen::DenseBase<Eigen::Matrix<double, 4, 1> >'
C:/Users/biocbuild/bbs-3.12-bioc/R/library/RcppEigen/include/Eigen/src/Core/MatrixBase.h:48:34:   required from 'class Eigen::MatrixBase<Eigen::Matrix<double, 4, 1> >'
C:/Users/biocbuild/bbs-3.12-bioc/R/library/RcppEigen/include/Eigen/src/Core/PlainObjectBase.h:98:7:   required from 'class Eigen::PlainObjectBase<Eigen::Matrix<double, 4, 1> >'
C:/Users/biocbuild/bbs-3.12-bioc/R/library/RcppEigen/include/Eigen/src/Core/Matrix.h:178:7:   required from 'class Eigen::Matrix<double, 4, 1>'
C:/Users/biocbuild/bbs-3.12-bioc/R/library/RcppEigen/include/Eigen/src/Geometry/Quaternion.h:46:50:   required from 'class Eigen::QuaternionBase<Eigen::Quaternion<double> >'
C:/Users/biocbuild/bbs-3.12-bioc/R/library/RcppEigen/include/Eigen/src/Geometry/Quaternion.h:232:7:   required from 'class Eigen::Quaternion<double>'
C:/Users/biocbuild/bbs-3.12-bioc/R/library/RcppEigen/include/Eigen/src/Geometry/arch/Geometry_SSE.h:92:3:   required from here
C:/Users/biocbuild/bbs-3.12-bioc/R/library/RcppEigen/include/Eigen/src/Core/DenseCoeffsBase.h:55:30: warning: ignoring attributes on template argument 'Eigen::internal::packet_traits<double>::type' {aka '__vector(2) double'} [-Wignored-attributes]
                      >::type PacketReturnType;
                              ^~~~~~~~~~~~~~~~
In file included from C:/Users/biocbuild/bbs-3.12-bioc/R/library/RcppEigen/include/Eigen/SparseCore:37,
                 from C:/Users/biocbuild/bbs-3.12-bioc/R/library/RcppEigen/include/Eigen/Sparse:26,
                 from C:/Users/biocbuild/bbs-3.12-bioc/R/library/RcppEigen/include/RcppEigenForward.h:31,
                 from C:/Users/biocbuild/bbs-3.12-bioc/R/library/RcppEigen/include/RcppEigen.h:25,
                 from MCMC_algorithm.cpp:3:
C:/Users/biocbuild/bbs-3.12-bioc/R/library/RcppEigen/include/Eigen/src/SparseCore/SparseMatrixBase.h: In instantiation of 'class Eigen::SparseMatrixBase<Eigen::SparseMatrix<double, 0, int> >':
C:/Users/biocbuild/bbs-3.12-bioc/R/library/RcppEigen/include/Eigen/src/SparseCore/SparseCompressedBase.h:36:7:   required from 'class Eigen::SparseCompressedBase<Eigen::SparseMatrix<double, 0, int> >'
C:/Users/biocbuild/bbs-3.12-bioc/R/library/RcppEigen/include/Eigen/src/SparseCore/SparseMatrix.h:96:7:   required from 'class Eigen::SparseMatrix<double, 0, int>'
C:/Users/biocbuild/bbs-3.12-bioc/R/library/RcppEigen/include/unsupported/Eigen/src/IterativeSolvers/ConstrainedConjGrad.h:61:25:   required from here
C:/Users/biocbuild/bbs-3.12-bioc/R/library/RcppEigen/include/Eigen/src/SparseCore/SparseMatrixBase.h:47:30: warning: ignoring attributes on template argument 'Eigen::internal::packet_traits<double>::type' {aka '__vector(2) double'} [-Wignored-attributes]
                      >::type PacketReturnType;
                              ^~~~~~~~~~~~~~~~
In file included from C:/Users/biocbuild/bbs-3.12-bioc/R/library/RcppEigen/include/Eigen/Core:367,
                 from C:/Users/biocbuild/bbs-3.12-bioc/R/library/RcppEigen/include/Eigen/Dense:1,
                 from C:/Users/biocbuild/bbs-3.12-bioc/R/library/RcppEigen/include/RcppEigenForward.h:30,
                 from C:/Users/biocbuild/bbs-3.12-bioc/R/library/RcppEigen/include/RcppEigen.h:25,
                 from MCMC_algorithm.cpp:3:
C:/Users/biocbuild/bbs-3.12-bioc/R/library/RcppEigen/include/Eigen/src/Core/util/XprHelper.h: In instantiation of 'struct Eigen::internal::find_best_packet<int, -1>':
C:/Users/biocbuild/bbs-3.12-bioc/R/library/RcppEigen/include/Eigen/src/Core/Matrix.h:22:57:   required from 'struct Eigen::internal::traits<Eigen::Matrix<int, -1, 1> >'
C:/Users/biocbuild/bbs-3.12-bioc/R/library/RcppEigen/include/Eigen/src/Core/PlainObjectBase.h:98:7:   required from 'class Eigen::PlainObjectBase<Eigen::Matrix<int, -1, 1> >'
C:/Users/biocbuild/bbs-3.12-bioc/R/library/RcppEigen/include/Eigen/src/Core/Matrix.h:178:7:   required from 'class Eigen::Matrix<int, -1, 1>'
C:/Users/biocbuild/bbs-3.12-bioc/R/library/RcppEigen/include/unsupported/Eigen/src/KroneckerProduct/KroneckerTensorProduct.h:168:29:   required from here
C:/Users/biocbuild/bbs-3.12-bioc/R/library/RcppEigen/include/Eigen/src/Core/util/XprHelper.h:170:44: warning: ignoring attributes on template argument 'Eigen::internal::packet_traits<int>::type' {aka '__vector(2) long long int'} [-Wignored-attributes]
          bool Stop = Size==Dynamic || (Size%unpacket_traits<PacketType>::size)==0 || is_same<PacketType,typename unpacket_traits<PacketType>::half>::value>
                                       ~~~~~^~~~~~~~~~~~~~~~~~~~~~~~~~~~~~~~~~~
C:/Users/biocbuild/bbs-3.12-bioc/R/library/RcppEigen/include/Eigen/src/Core/util/XprHelper.h:170:83: warning: ignoring attributes on template argument 'Eigen::internal::packet_traits<int>::type' {aka '__vector(2) long long int'} [-Wignored-attributes]
          bool Stop = Size==Dynamic || (Size%unpacket_traits<PacketType>::size)==0 || is_same<PacketType,typename unpacket_traits<PacketType>::half>::value>
                      ~~~~~~~~~~~~~~~~~~~~~~~~~~~~~~~~~~~~~~~~~~~~~~~~~~~~~~~~~~~~~^~~~~~~~~~~~~~~~~~~~~~~~~~~~~~~~~~~~~~~~~~~~~~~~~~~~~~~~~~~~~~~~~
C:/Users/biocbuild/bbs-3.12-bioc/R/library/RcppEigen/include/Eigen/src/Core/util/XprHelper.h:170:83: warning: ignoring attributes on template argument 'Eigen::internal::packet_traits<int>::type' {aka '__vector(2) long long int'} [-Wignored-attributes]
C:/Users/biocbuild/bbs-3.12-bioc/R/library/RcppEigen/include/Eigen/src/Core/util/XprHelper.h:170:83: warning: ignoring attributes on template argument 'Eigen::internal::unpacket_traits<__vector(2) long long int>::half' {aka '__vector(2) long long int'} [-Wignored-attributes]
C:/Users/biocbuild/bbs-3.12-bioc/R/library/RcppEigen/include/Eigen/src/Core/util/XprHelper.h:188:88: warning: ignoring attributes on template argument 'Eigen::internal::packet_traits<int>::type' {aka '__vector(2) long long int'} [-Wignored-attributes]
   typedef typename find_best_packet_helper<Size,typename packet_traits<T>::type>::type type;
                                                                                        ^~~~
In file included from C:/Users/biocbuild/bbs-3.12-bioc/R/library/RcppEigen/include/Eigen/Core:434,
                 from C:/Users/biocbuild/bbs-3.12-bioc/R/library/RcppEigen/include/Eigen/Dense:1,
                 from C:/Users/biocbuild/bbs-3.12-bioc/R/library/RcppEigen/include/RcppEigenForward.h:30,
                 from C:/Users/biocbuild/bbs-3.12-bioc/R/library/RcppEigen/include/RcppEigen.h:25,
                 from MCMC_algorithm.cpp:3:
C:/Users/biocbuild/bbs-3.12-bioc/R/library/RcppEigen/include/Eigen/src/Core/DenseCoeffsBase.h: In instantiation of 'class Eigen::DenseCoeffsBase<Eigen::Matrix<int, -1, 1>, 0>':
C:/Users/biocbuild/bbs-3.12-bioc/R/library/RcppEigen/include/Eigen/src/Core/DenseCoeffsBase.h:300:7:   required from 'class Eigen::DenseCoeffsBase<Eigen::Matrix<int, -1, 1>, 1>'
C:/Users/biocbuild/bbs-3.12-bioc/R/library/RcppEigen/include/Eigen/src/Core/DenseCoeffsBase.h:551:7:   required from 'class Eigen::DenseCoeffsBase<Eigen::Matrix<int, -1, 1>, 3>'
C:/Users/biocbuild/bbs-3.12-bioc/R/library/RcppEigen/include/Eigen/src/Core/DenseBase.h:41:34:   required from 'class Eigen::DenseBase<Eigen::Matrix<int, -1, 1> >'
C:/Users/biocbuild/bbs-3.12-bioc/R/library/RcppEigen/include/Eigen/src/Core/MatrixBase.h:48:34:   required from 'class Eigen::MatrixBase<Eigen::Matrix<int, -1, 1> >'
C:/Users/biocbuild/bbs-3.12-bioc/R/library/RcppEigen/include/Eigen/src/Core/PlainObjectBase.h:98:7:   required from 'class Eigen::PlainObjectBase<Eigen::Matrix<int, -1, 1> >'
C:/Users/biocbuild/bbs-3.12-bioc/R/library/RcppEigen/include/Eigen/src/Core/Matrix.h:178:7:   required from 'class Eigen::Matrix<int, -1, 1>'
C:/Users/biocbuild/bbs-3.12-bioc/R/library/RcppEigen/include/unsupported/Eigen/src/KroneckerProduct/KroneckerTensorProduct.h:168:29:   required from here
C:/Users/biocbuild/bbs-3.12-bioc/R/library/RcppEigen/include/Eigen/src/Core/DenseCoeffsBase.h:55:30: warning: ignoring attributes on template argument 'Eigen::internal::packet_traits<int>::type' {aka '__vector(2) long long int'} [-Wignored-attributes]
                      >::type PacketReturnType;
                              ^~~~~~~~~~~~~~~~
C:/Users/biocbuild/bbs-3.12-bioc/R/library/RcppEigen/include/Eigen/src/Core/DenseCoeffsBase.h: In instantiation of 'class Eigen::DenseCoeffsBase<Eigen::Transpose<Eigen::Matrix<int, -1, 1> >, 0>':
C:/Users/biocbuild/bbs-3.12-bioc/R/library/RcppEigen/include/Eigen/src/Core/DenseCoeffsBase.h:300:7:   required from 'class Eigen::DenseCoeffsBase<Eigen::Transpose<Eigen::Matrix<int, -1, 1> >, 1>'
C:/Users/biocbuild/bbs-3.12-bioc/R/library/RcppEigen/include/Eigen/src/Core/DenseCoeffsBase.h:551:7:   required from 'class Eigen::DenseCoeffsBase<Eigen::Transpose<Eigen::Matrix<int, -1, 1> >, 3>'
C:/Users/biocbuild/bbs-3.12-bioc/R/library/RcppEigen/include/Eigen/src/Core/DenseBase.h:41:34:   required from 'class Eigen::DenseBase<Eigen::Transpose<Eigen::Matrix<int, -1, 1> > >'
C:/Users/biocbuild/bbs-3.12-bioc/R/library/RcppEigen/include/Eigen/src/Core/MatrixBase.h:48:34:   required from 'class Eigen::MatrixBase<Eigen::Transpose<Eigen::Matrix<int, -1, 1> > >'
C:/Users/biocbuild/bbs-3.12-bioc/R/library/RcppEigen/include/Eigen/src/Core/Transpose.h:115:37:   required from 'class Eigen::TransposeImpl<Eigen::Matrix<int, -1, 1>, Eigen::Dense>'
C:/Users/biocbuild/bbs-3.12-bioc/R/library/RcppEigen/include/Eigen/src/Core/Transpose.h:52:37:   required from 'class Eigen::Transpose<Eigen::Matrix<int, -1, 1> >'
C:/Users/biocbuild/bbs-3.12-bioc/R/library/RcppEigen/include/unsupported/Eigen/src/KroneckerProduct/KroneckerTensorProduct.h:178:72:   required from here
C:/Users/biocbuild/bbs-3.12-bioc/R/library/RcppEigen/include/Eigen/src/Core/DenseCoeffsBase.h:55:30: warning: ignoring attributes on template argument 'Eigen::internal::packet_traits<int>::type' {aka '__vector(2) long long int'} [-Wignored-attributes]
C:/Users/biocbuild/bbs-3.12-bioc/R/library/RcppEigen/include/Eigen/src/Core/DenseCoeffsBase.h: In instantiation of 'class Eigen::DenseCoeffsBase<Eigen::Matrix<int, -1, -1>, 0>':
C:/Users/biocbuild/bbs-3.12-bioc/R/library/RcppEigen/include/Eigen/src/Core/DenseCoeffsBase.h:300:7:   required from 'class Eigen::DenseCoeffsBase<Eigen::Matrix<int, -1, -1>, 1>'
C:/Users/biocbuild/bbs-3.12-bioc/R/library/RcppEigen/include/Eigen/src/Core/DenseCoeffsBase.h:551:7:   required from 'class Eigen::DenseCoeffsBase<Eigen::Matrix<int, -1, -1>, 3>'
C:/Users/biocbuild/bbs-3.12-bioc/R/library/RcppEigen/include/Eigen/src/Core/DenseBase.h:41:34:   required from 'class Eigen::DenseBase<Eigen::Matrix<int, -1, -1> >'
C:/Users/biocbuild/bbs-3.12-bioc/R/library/RcppEigen/include/Eigen/src/Core/MatrixBase.h:48:34:   required from 'class Eigen::MatrixBase<Eigen::Matrix<int, -1, -1> >'
C:/Users/biocbuild/bbs-3.12-bioc/R/library/RcppEigen/include/Eigen/src/Core/PlainObjectBase.h:98:7:   required from 'class Eigen::PlainObjectBase<Eigen::Matrix<int, -1, -1> >'
C:/Users/biocbuild/bbs-3.12-bioc/R/library/RcppEigen/include/Eigen/src/Core/Matrix.h:178:7:   required from 'class Eigen::Matrix<int, -1, -1>'
C:/Users/biocbuild/bbs-3.12-bioc/R/library/RcppEigen/include/unsupported/Eigen/src/KroneckerProduct/KroneckerTensorProduct.h:179:36:   required from here
C:/Users/biocbuild/bbs-3.12-bioc/R/library/RcppEigen/include/Eigen/src/Core/DenseCoeffsBase.h:55:30: warning: ignoring attributes on template argument 'Eigen::internal::packet_traits<int>::type' {aka '__vector(2) long long int'} [-Wignored-attributes]
"C:/rtools40/mingw64/bin/"g++ -std=gnu++11  -I"C:/Users/BIOCBU~1/BBS-3~1.12-/R/include" -DNDEBUG  -I'C:/Users/biocbuild/bbs-3.12-bioc/R/library/Rcpp/include' -I'C:/Users/biocbuild/bbs-3.12-bioc/R/library/RcppArmadillo/include' -I'C:/Users/biocbuild/bbs-3.12-bioc/R/library/RcppEigen/include'   -I"C:/extsoft/include"  -DARMA_DONT_USE_OPENMP   -O2 -Wall  -mfpmath=sse -msse2 -mstackrealign -c RcppExports.cpp -o RcppExports.o
In file included from C:/Users/biocbuild/bbs-3.12-bioc/R/library/RcppEigen/include/Eigen/Core:392,
                 from C:/Users/biocbuild/bbs-3.12-bioc/R/library/RcppEigen/include/Eigen/Dense:1,
                 from C:/Users/biocbuild/bbs-3.12-bioc/R/library/RcppEigen/include/RcppEigenForward.h:30,
                 from C:/Users/biocbuild/bbs-3.12-bioc/R/library/RcppEigen/include/RcppEigen.h:25,
                 from RcppExports.cpp:5:
C:/Users/biocbuild/bbs-3.12-bioc/R/library/RcppEigen/include/Eigen/src/Core/arch/SSE/PacketMath.h:60:39: warning: ignoring attributes on template argument '__m128' {aka '__vector(4) float'} [-Wignored-attributes]
 template<> struct is_arithmetic<__m128>  { enum { value = true }; };
                                       ^
C:/Users/biocbuild/bbs-3.12-bioc/R/library/RcppEigen/include/Eigen/src/Core/arch/SSE/PacketMath.h:61:40: warning: ignoring attributes on template argument '__m128i' {aka '__vector(2) long long int'} [-Wignored-attributes]
 template<> struct is_arithmetic<__m128i> { enum { value = true }; };
                                        ^
C:/Users/biocbuild/bbs-3.12-bioc/R/library/RcppEigen/include/Eigen/src/Core/arch/SSE/PacketMath.h:62:40: warning: ignoring attributes on template argument '__m128d' {aka '__vector(2) double'} [-Wignored-attributes]
 template<> struct is_arithmetic<__m128d> { enum { value = true }; };
                                        ^
C:/Users/biocbuild/bbs-3.12-bioc/R/library/RcppEigen/include/Eigen/src/Core/arch/SSE/PacketMath.h:161:43: warning: ignoring attributes on template argument 'Eigen::internal::Packet4f' {aka '__vector(4) float'} [-Wignored-attributes]
 template<> struct unpacket_traits<Packet4f> { typedef float  type; enum {size=4, alignment=Aligned16}; typedef Packet4f half; };
                                           ^
C:/Users/biocbuild/bbs-3.12-bioc/R/library/RcppEigen/include/Eigen/src/Core/arch/SSE/PacketMath.h:162:43: warning: ignoring attributes on template argument 'Eigen::internal::Packet2d' {aka '__vector(2) double'} [-Wignored-attributes]
 template<> struct unpacket_traits<Packet2d> { typedef double type; enum {size=2, alignment=Aligned16}; typedef Packet2d half; };
                                           ^
C:/Users/biocbuild/bbs-3.12-bioc/R/library/RcppEigen/include/Eigen/src/Core/arch/SSE/PacketMath.h:163:43: warning: ignoring attributes on template argument 'Eigen::internal::Packet4i' {aka '__vector(2) long long int'} [-Wignored-attributes]
 template<> struct unpacket_traits<Packet4i> { typedef int    type; enum {size=4, alignment=Aligned16}; typedef Packet4i half; };
                                           ^
C:/Users/biocbuild/bbs-3.12-bioc/R/library/RcppEigen/include/Eigen/src/Core/arch/SSE/PacketMath.h:718:35: warning: ignoring attributes on template argument 'Eigen::internal::Packet4f' {aka '__vector(4) float'} [-Wignored-attributes]
 struct palign_impl<Offset,Packet4f>
                                   ^
C:/Users/biocbuild/bbs-3.12-bioc/R/library/RcppEigen/include/Eigen/src/Core/arch/SSE/PacketMath.h:741:35: warning: ignoring attributes on template argument 'Eigen::internal::Packet4i' {aka '__vector(2) long long int'} [-Wignored-attributes]
 struct palign_impl<Offset,Packet4i>
                                   ^
C:/Users/biocbuild/bbs-3.12-bioc/R/library/RcppEigen/include/Eigen/src/Core/arch/SSE/PacketMath.h:764:35: warning: ignoring attributes on template argument 'Eigen::internal::Packet2d' {aka '__vector(2) double'} [-Wignored-attributes]
 struct palign_impl<Offset,Packet2d>
                                   ^
C:/Users/biocbuild/bbs-3.12-bioc/R/library/RcppEigen/include/Eigen/src/Core/arch/SSE/PacketMath.h:778:34: warning: ignoring attributes on template argument 'Eigen::internal::Packet4f' {aka '__vector(4) float'} [-Wignored-attributes]
 ptranspose(PacketBlock<Packet4f,4>& kernel) {
                                  ^
C:/Users/biocbuild/bbs-3.12-bioc/R/library/RcppEigen/include/Eigen/src/Core/arch/SSE/PacketMath.h:783:34: warning: ignoring attributes on template argument 'Eigen::internal::Packet2d' {aka '__vector(2) double'} [-Wignored-attributes]
 ptranspose(PacketBlock<Packet2d,2>& kernel) {
                                  ^
C:/Users/biocbuild/bbs-3.12-bioc/R/library/RcppEigen/include/Eigen/src/Core/arch/SSE/PacketMath.h:790:34: warning: ignoring attributes on template argument 'Eigen::internal::Packet4i' {aka '__vector(2) long long int'} [-Wignored-attributes]
 ptranspose(PacketBlock<Packet4i,4>& kernel) {
                                  ^
In file included from C:/Users/biocbuild/bbs-3.12-bioc/R/library/RcppEigen/include/Eigen/Core:374,
                 from C:/Users/biocbuild/bbs-3.12-bioc/R/library/RcppEigen/include/Eigen/Dense:1,
                 from C:/Users/biocbuild/bbs-3.12-bioc/R/library/RcppEigen/include/RcppEigenForward.h:30,
                 from C:/Users/biocbuild/bbs-3.12-bioc/R/library/RcppEigen/include/RcppEigen.h:25,
                 from RcppExports.cpp:5:
C:/Users/biocbuild/bbs-3.12-bioc/R/library/RcppEigen/include/Eigen/src/Core/arch/Default/ConjHelper.h:15:70: warning: ignoring attributes on template argument 'Eigen::internal::Packet4f' {aka '__vector(4) float'} [-Wignored-attributes]
   template<> struct conj_helper<PACKET_REAL, PACKET_CPLX, false,false> {                                          \
                                                                      ^
C:/Users/biocbuild/bbs-3.12-bioc/R/library/RcppEigen/include/Eigen/src/Core/arch/SSE/Complex.h:232:1: note: in expansion of macro 'EIGEN_MAKE_CONJ_HELPER_CPLX_REAL'
 EIGEN_MAKE_CONJ_HELPER_CPLX_REAL(Packet2cf,Packet4f)
 ^~~~~~~~~~~~~~~~~~~~~~~~~~~~~~~~
C:/Users/biocbuild/bbs-3.12-bioc/R/library/RcppEigen/include/Eigen/src/Core/arch/Default/ConjHelper.h:22:70: warning: ignoring attributes on template argument 'Eigen::internal::Packet4f' {aka '__vector(4) float'} [-Wignored-attributes]
   template<> struct conj_helper<PACKET_CPLX, PACKET_REAL, false,false> {                                          \
                                                                      ^
C:/Users/biocbuild/bbs-3.12-bioc/R/library/RcppEigen/include/Eigen/src/Core/arch/SSE/Complex.h:232:1: note: in expansion of macro 'EIGEN_MAKE_CONJ_HELPER_CPLX_REAL'
 EIGEN_MAKE_CONJ_HELPER_CPLX_REAL(Packet2cf,Packet4f)
 ^~~~~~~~~~~~~~~~~~~~~~~~~~~~~~~~
C:/Users/biocbuild/bbs-3.12-bioc/R/library/RcppEigen/include/Eigen/src/Core/arch/Default/ConjHelper.h:15:70: warning: ignoring attributes on template argument 'Eigen::internal::Packet2d' {aka '__vector(2) double'} [-Wignored-attributes]
   template<> struct conj_helper<PACKET_REAL, PACKET_CPLX, false,false> {                                          \
                                                                      ^
C:/Users/biocbuild/bbs-3.12-bioc/R/library/RcppEigen/include/Eigen/src/Core/arch/SSE/Complex.h:417:1: note: in expansion of macro 'EIGEN_MAKE_CONJ_HELPER_CPLX_REAL'
 EIGEN_MAKE_CONJ_HELPER_CPLX_REAL(Packet1cd,Packet2d)
 ^~~~~~~~~~~~~~~~~~~~~~~~~~~~~~~~
C:/Users/biocbuild/bbs-3.12-bioc/R/library/RcppEigen/include/Eigen/src/Core/arch/Default/ConjHelper.h:22:70: warning: ignoring attributes on template argument 'Eigen::internal::Packet2d' {aka '__vector(2) double'} [-Wignored-attributes]
   template<> struct conj_helper<PACKET_CPLX, PACKET_REAL, false,false> {                                          \
                                                                      ^
C:/Users/biocbuild/bbs-3.12-bioc/R/library/RcppEigen/include/Eigen/src/Core/arch/SSE/Complex.h:417:1: note: in expansion of macro 'EIGEN_MAKE_CONJ_HELPER_CPLX_REAL'
 EIGEN_MAKE_CONJ_HELPER_CPLX_REAL(Packet1cd,Packet2d)
 ^~~~~~~~~~~~~~~~~~~~~~~~~~~~~~~~
In file included from C:/Users/biocbuild/bbs-3.12-bioc/R/library/RcppEigen/include/Eigen/Core:367,
                 from C:/Users/biocbuild/bbs-3.12-bioc/R/library/RcppEigen/include/Eigen/Dense:1,
                 from C:/Users/biocbuild/bbs-3.12-bioc/R/library/RcppEigen/include/RcppEigenForward.h:30,
                 from C:/Users/biocbuild/bbs-3.12-bioc/R/library/RcppEigen/include/RcppEigen.h:25,
                 from RcppExports.cpp:5:
C:/Users/biocbuild/bbs-3.12-bioc/R/library/RcppEigen/include/Eigen/src/Core/util/XprHelper.h: In instantiation of 'struct Eigen::internal::find_best_packet<float, 4>':
C:/Users/biocbuild/bbs-3.12-bioc/R/library/RcppEigen/include/Eigen/src/Core/Matrix.h:22:57:   required from 'struct Eigen::internal::traits<Eigen::Matrix<float, 4, 1> >'
C:/Users/biocbuild/bbs-3.12-bioc/R/library/RcppEigen/include/Eigen/src/Geometry/Quaternion.h:224:7:   required from 'struct Eigen::internal::traits<Eigen::Quaternion<float> >'
C:/Users/biocbuild/bbs-3.12-bioc/R/library/RcppEigen/include/Eigen/src/Geometry/arch/Geometry_SSE.h:24:46:   required from here
C:/Users/biocbuild/bbs-3.12-bioc/R/library/RcppEigen/include/Eigen/src/Core/util/XprHelper.h:170:44: warning: ignoring attributes on template argument 'Eigen::internal::packet_traits<float>::type' {aka '__vector(4) float'} [-Wignored-attributes]
          bool Stop = Size==Dynamic || (Size%unpacket_traits<PacketType>::size)==0 || is_same<PacketType,typename unpacket_traits<PacketType>::half>::value>
                                       ~~~~~^~~~~~~~~~~~~~~~~~~~~~~~~~~~~~~~~~~
C:/Users/biocbuild/bbs-3.12-bioc/R/library/RcppEigen/include/Eigen/src/Core/util/XprHelper.h:170:83: warning: ignoring attributes on template argument 'Eigen::internal::packet_traits<float>::type' {aka '__vector(4) float'} [-Wignored-attributes]
          bool Stop = Size==Dynamic || (Size%unpacket_traits<PacketType>::size)==0 || is_same<PacketType,typename unpacket_traits<PacketType>::half>::value>
                      ~~~~~~~~~~~~~~~~~~~~~~~~~~~~~~~~~~~~~~~~~~~~~~~~~~~~~~~~~~~~~^~~~~~~~~~~~~~~~~~~~~~~~~~~~~~~~~~~~~~~~~~~~~~~~~~~~~~~~~~~~~~~~~
C:/Users/biocbuild/bbs-3.12-bioc/R/library/RcppEigen/include/Eigen/src/Core/util/XprHelper.h:170:83: warning: ignoring attributes on template argument 'Eigen::internal::packet_traits<float>::type' {aka '__vector(4) float'} [-Wignored-attributes]
C:/Users/biocbuild/bbs-3.12-bioc/R/library/RcppEigen/include/Eigen/src/Core/util/XprHelper.h:170:83: warning: ignoring attributes on template argument 'Eigen::internal::unpacket_traits<__vector(4) float>::half' {aka '__vector(4) float'} [-Wignored-attributes]
C:/Users/biocbuild/bbs-3.12-bioc/R/library/RcppEigen/include/Eigen/src/Core/util/XprHelper.h:188:88: warning: ignoring attributes on template argument 'Eigen::internal::packet_traits<float>::type' {aka '__vector(4) float'} [-Wignored-attributes]
   typedef typename find_best_packet_helper<Size,typename packet_traits<T>::type>::type type;
                                                                                        ^~~~
In file included from C:/Users/biocbuild/bbs-3.12-bioc/R/library/RcppEigen/include/Eigen/Core:434,
                 from C:/Users/biocbuild/bbs-3.12-bioc/R/library/RcppEigen/include/Eigen/Dense:1,
                 from C:/Users/biocbuild/bbs-3.12-bioc/R/library/RcppEigen/include/RcppEigenForward.h:30,
                 from C:/Users/biocbuild/bbs-3.12-bioc/R/library/RcppEigen/include/RcppEigen.h:25,
                 from RcppExports.cpp:5:
C:/Users/biocbuild/bbs-3.12-bioc/R/library/RcppEigen/include/Eigen/src/Core/DenseCoeffsBase.h: In instantiation of 'class Eigen::DenseCoeffsBase<Eigen::Matrix<float, 4, 1>, 0>':
C:/Users/biocbuild/bbs-3.12-bioc/R/library/RcppEigen/include/Eigen/src/Core/DenseCoeffsBase.h:300:7:   required from 'class Eigen::DenseCoeffsBase<Eigen::Matrix<float, 4, 1>, 1>'
C:/Users/biocbuild/bbs-3.12-bioc/R/library/RcppEigen/include/Eigen/src/Core/DenseCoeffsBase.h:551:7:   required from 'class Eigen::DenseCoeffsBase<Eigen::Matrix<float, 4, 1>, 3>'
C:/Users/biocbuild/bbs-3.12-bioc/R/library/RcppEigen/include/Eigen/src/Core/DenseBase.h:41:34:   required from 'class Eigen::DenseBase<Eigen::Matrix<float, 4, 1> >'
C:/Users/biocbuild/bbs-3.12-bioc/R/library/RcppEigen/include/Eigen/src/Core/MatrixBase.h:48:34:   required from 'class Eigen::MatrixBase<Eigen::Matrix<float, 4, 1> >'
C:/Users/biocbuild/bbs-3.12-bioc/R/library/RcppEigen/include/Eigen/src/Core/PlainObjectBase.h:98:7:   required from 'class Eigen::PlainObjectBase<Eigen::Matrix<float, 4, 1> >'
C:/Users/biocbuild/bbs-3.12-bioc/R/library/RcppEigen/include/Eigen/src/Core/Matrix.h:178:7:   required from 'class Eigen::Matrix<float, 4, 1>'
C:/Users/biocbuild/bbs-3.12-bioc/R/library/RcppEigen/include/Eigen/src/Geometry/Quaternion.h:46:50:   required from 'class Eigen::QuaternionBase<Eigen::Quaternion<float> >'
C:/Users/biocbuild/bbs-3.12-bioc/R/library/RcppEigen/include/Eigen/src/Geometry/Quaternion.h:232:7:   required from 'class Eigen::Quaternion<float>'
C:/Users/biocbuild/bbs-3.12-bioc/R/library/RcppEigen/include/Eigen/src/Geometry/arch/Geometry_SSE.h:27:3:   required from here
C:/Users/biocbuild/bbs-3.12-bioc/R/library/RcppEigen/include/Eigen/src/Core/DenseCoeffsBase.h:55:30: warning: ignoring attributes on template argument 'Eigen::internal::packet_traits<float>::type' {aka '__vector(4) float'} [-Wignored-attributes]
                      >::type PacketReturnType;
                              ^~~~~~~~~~~~~~~~
In file included from C:/Users/biocbuild/bbs-3.12-bioc/R/library/RcppEigen/include/Eigen/Core:367,
                 from C:/Users/biocbuild/bbs-3.12-bioc/R/library/RcppEigen/include/Eigen/Dense:1,
                 from C:/Users/biocbuild/bbs-3.12-bioc/R/library/RcppEigen/include/RcppEigenForward.h:30,
                 from C:/Users/biocbuild/bbs-3.12-bioc/R/library/RcppEigen/include/RcppEigen.h:25,
                 from RcppExports.cpp:5:
C:/Users/biocbuild/bbs-3.12-bioc/R/library/RcppEigen/include/Eigen/src/Core/util/XprHelper.h: In instantiation of 'struct Eigen::internal::find_best_packet<double, 4>':
C:/Users/biocbuild/bbs-3.12-bioc/R/library/RcppEigen/include/Eigen/src/Core/Matrix.h:22:57:   required from 'struct Eigen::internal::traits<Eigen::Matrix<double, 4, 1> >'
C:/Users/biocbuild/bbs-3.12-bioc/R/library/RcppEigen/include/Eigen/src/Geometry/Quaternion.h:224:7:   required from 'struct Eigen::internal::traits<Eigen::Quaternion<double> >'
C:/Users/biocbuild/bbs-3.12-bioc/R/library/RcppEigen/include/Eigen/src/Geometry/arch/Geometry_SSE.h:88:47:   required from here
C:/Users/biocbuild/bbs-3.12-bioc/R/library/RcppEigen/include/Eigen/src/Core/util/XprHelper.h:170:44: warning: ignoring attributes on template argument 'Eigen::internal::packet_traits<double>::type' {aka '__vector(2) double'} [-Wignored-attributes]
          bool Stop = Size==Dynamic || (Size%unpacket_traits<PacketType>::size)==0 || is_same<PacketType,typename unpacket_traits<PacketType>::half>::value>
                                       ~~~~~^~~~~~~~~~~~~~~~~~~~~~~~~~~~~~~~~~~
C:/Users/biocbuild/bbs-3.12-bioc/R/library/RcppEigen/include/Eigen/src/Core/util/XprHelper.h:170:83: warning: ignoring attributes on template argument 'Eigen::internal::packet_traits<double>::type' {aka '__vector(2) double'} [-Wignored-attributes]
          bool Stop = Size==Dynamic || (Size%unpacket_traits<PacketType>::size)==0 || is_same<PacketType,typename unpacket_traits<PacketType>::half>::value>
                      ~~~~~~~~~~~~~~~~~~~~~~~~~~~~~~~~~~~~~~~~~~~~~~~~~~~~~~~~~~~~~^~~~~~~~~~~~~~~~~~~~~~~~~~~~~~~~~~~~~~~~~~~~~~~~~~~~~~~~~~~~~~~~~
C:/Users/biocbuild/bbs-3.12-bioc/R/library/RcppEigen/include/Eigen/src/Core/util/XprHelper.h:170:83: warning: ignoring attributes on template argument 'Eigen::internal::packet_traits<double>::type' {aka '__vector(2) double'} [-Wignored-attributes]
C:/Users/biocbuild/bbs-3.12-bioc/R/library/RcppEigen/include/Eigen/src/Core/util/XprHelper.h:170:83: warning: ignoring attributes on template argument 'Eigen::internal::unpacket_traits<__vector(2) double>::half' {aka '__vector(2) double'} [-Wignored-attributes]
C:/Users/biocbuild/bbs-3.12-bioc/R/library/RcppEigen/include/Eigen/src/Core/util/XprHelper.h:188:88: warning: ignoring attributes on template argument 'Eigen::internal::packet_traits<double>::type' {aka '__vector(2) double'} [-Wignored-attributes]
   typedef typename find_best_packet_helper<Size,typename packet_traits<T>::type>::type type;
                                                                                        ^~~~
In file included from C:/Users/biocbuild/bbs-3.12-bioc/R/library/RcppEigen/include/Eigen/Core:434,
                 from C:/Users/biocbuild/bbs-3.12-bioc/R/library/RcppEigen/include/Eigen/Dense:1,
                 from C:/Users/biocbuild/bbs-3.12-bioc/R/library/RcppEigen/include/RcppEigenForward.h:30,
                 from C:/Users/biocbuild/bbs-3.12-bioc/R/library/RcppEigen/include/RcppEigen.h:25,
                 from RcppExports.cpp:5:
C:/Users/biocbuild/bbs-3.12-bioc/R/library/RcppEigen/include/Eigen/src/Core/DenseCoeffsBase.h: In instantiation of 'class Eigen::DenseCoeffsBase<Eigen::Matrix<double, 4, 1>, 0>':
C:/Users/biocbuild/bbs-3.12-bioc/R/library/RcppEigen/include/Eigen/src/Core/DenseCoeffsBase.h:300:7:   required from 'class Eigen::DenseCoeffsBase<Eigen::Matrix<double, 4, 1>, 1>'
C:/Users/biocbuild/bbs-3.12-bioc/R/library/RcppEigen/include/Eigen/src/Core/DenseCoeffsBase.h:551:7:   required from 'class Eigen::DenseCoeffsBase<Eigen::Matrix<double, 4, 1>, 3>'
C:/Users/biocbuild/bbs-3.12-bioc/R/library/RcppEigen/include/Eigen/src/Core/DenseBase.h:41:34:   required from 'class Eigen::DenseBase<Eigen::Matrix<double, 4, 1> >'
C:/Users/biocbuild/bbs-3.12-bioc/R/library/RcppEigen/include/Eigen/src/Core/MatrixBase.h:48:34:   required from 'class Eigen::MatrixBase<Eigen::Matrix<double, 4, 1> >'
C:/Users/biocbuild/bbs-3.12-bioc/R/library/RcppEigen/include/Eigen/src/Core/PlainObjectBase.h:98:7:   required from 'class Eigen::PlainObjectBase<Eigen::Matrix<double, 4, 1> >'
C:/Users/biocbuild/bbs-3.12-bioc/R/library/RcppEigen/include/Eigen/src/Core/Matrix.h:178:7:   required from 'class Eigen::Matrix<double, 4, 1>'
C:/Users/biocbuild/bbs-3.12-bioc/R/library/RcppEigen/include/Eigen/src/Geometry/Quaternion.h:46:50:   required from 'class Eigen::QuaternionBase<Eigen::Quaternion<double> >'
C:/Users/biocbuild/bbs-3.12-bioc/R/library/RcppEigen/include/Eigen/src/Geometry/Quaternion.h:232:7:   required from 'class Eigen::Quaternion<double>'
C:/Users/biocbuild/bbs-3.12-bioc/R/library/RcppEigen/include/Eigen/src/Geometry/arch/Geometry_SSE.h:92:3:   required from here
C:/Users/biocbuild/bbs-3.12-bioc/R/library/RcppEigen/include/Eigen/src/Core/DenseCoeffsBase.h:55:30: warning: ignoring attributes on template argument 'Eigen::internal::packet_traits<double>::type' {aka '__vector(2) double'} [-Wignored-attributes]
                      >::type PacketReturnType;
                              ^~~~~~~~~~~~~~~~
In file included from C:/Users/biocbuild/bbs-3.12-bioc/R/library/RcppEigen/include/Eigen/SparseCore:37,
                 from C:/Users/biocbuild/bbs-3.12-bioc/R/library/RcppEigen/include/Eigen/Sparse:26,
                 from C:/Users/biocbuild/bbs-3.12-bioc/R/library/RcppEigen/include/RcppEigenForward.h:31,
                 from C:/Users/biocbuild/bbs-3.12-bioc/R/library/RcppEigen/include/RcppEigen.h:25,
                 from RcppExports.cpp:5:
C:/Users/biocbuild/bbs-3.12-bioc/R/library/RcppEigen/include/Eigen/src/SparseCore/SparseMatrixBase.h: In instantiation of 'class Eigen::SparseMatrixBase<Eigen::SparseMatrix<double, 0, int> >':
C:/Users/biocbuild/bbs-3.12-bioc/R/library/RcppEigen/include/Eigen/src/SparseCore/SparseCompressedBase.h:36:7:   required from 'class Eigen::SparseCompressedBase<Eigen::SparseMatrix<double, 0, int> >'
C:/Users/biocbuild/bbs-3.12-bioc/R/library/RcppEigen/include/Eigen/src/SparseCore/SparseMatrix.h:96:7:   required from 'class Eigen::SparseMatrix<double, 0, int>'
C:/Users/biocbuild/bbs-3.12-bioc/R/library/RcppEigen/include/unsupported/Eigen/src/IterativeSolvers/ConstrainedConjGrad.h:61:25:   required from here
C:/Users/biocbuild/bbs-3.12-bioc/R/library/RcppEigen/include/Eigen/src/SparseCore/SparseMatrixBase.h:47:30: warning: ignoring attributes on template argument 'Eigen::internal::packet_traits<double>::type' {aka '__vector(2) double'} [-Wignored-attributes]
                      >::type PacketReturnType;
                              ^~~~~~~~~~~~~~~~
In file included from C:/Users/biocbuild/bbs-3.12-bioc/R/library/RcppEigen/include/Eigen/Core:367,
                 from C:/Users/biocbuild/bbs-3.12-bioc/R/library/RcppEigen/include/Eigen/Dense:1,
                 from C:/Users/biocbuild/bbs-3.12-bioc/R/library/RcppEigen/include/RcppEigenForward.h:30,
                 from C:/Users/biocbuild/bbs-3.12-bioc/R/library/RcppEigen/include/RcppEigen.h:25,
                 from RcppExports.cpp:5:
C:/Users/biocbuild/bbs-3.12-bioc/R/library/RcppEigen/include/Eigen/src/Core/util/XprHelper.h: In instantiation of 'struct Eigen::internal::find_best_packet<int, -1>':
C:/Users/biocbuild/bbs-3.12-bioc/R/library/RcppEigen/include/Eigen/src/Core/Matrix.h:22:57:   required from 'struct Eigen::internal::traits<Eigen::Matrix<int, -1, 1> >'
C:/Users/biocbuild/bbs-3.12-bioc/R/library/RcppEigen/include/Eigen/src/Core/PlainObjectBase.h:98:7:   required from 'class Eigen::PlainObjectBase<Eigen::Matrix<int, -1, 1> >'
C:/Users/biocbuild/bbs-3.12-bioc/R/library/RcppEigen/include/Eigen/src/Core/Matrix.h:178:7:   required from 'class Eigen::Matrix<int, -1, 1>'
C:/Users/biocbuild/bbs-3.12-bioc/R/library/RcppEigen/include/unsupported/Eigen/src/KroneckerProduct/KroneckerTensorProduct.h:168:29:   required from here
C:/Users/biocbuild/bbs-3.12-bioc/R/library/RcppEigen/include/Eigen/src/Core/util/XprHelper.h:170:44: warning: ignoring attributes on template argument 'Eigen::internal::packet_traits<int>::type' {aka '__vector(2) long long int'} [-Wignored-attributes]
          bool Stop = Size==Dynamic || (Size%unpacket_traits<PacketType>::size)==0 || is_same<PacketType,typename unpacket_traits<PacketType>::half>::value>
                                       ~~~~~^~~~~~~~~~~~~~~~~~~~~~~~~~~~~~~~~~~
C:/Users/biocbuild/bbs-3.12-bioc/R/library/RcppEigen/include/Eigen/src/Core/util/XprHelper.h:170:83: warning: ignoring attributes on template argument 'Eigen::internal::packet_traits<int>::type' {aka '__vector(2) long long int'} [-Wignored-attributes]
          bool Stop = Size==Dynamic || (Size%unpacket_traits<PacketType>::size)==0 || is_same<PacketType,typename unpacket_traits<PacketType>::half>::value>
                      ~~~~~~~~~~~~~~~~~~~~~~~~~~~~~~~~~~~~~~~~~~~~~~~~~~~~~~~~~~~~~^~~~~~~~~~~~~~~~~~~~~~~~~~~~~~~~~~~~~~~~~~~~~~~~~~~~~~~~~~~~~~~~~
C:/Users/biocbuild/bbs-3.12-bioc/R/library/RcppEigen/include/Eigen/src/Core/util/XprHelper.h:170:83: warning: ignoring attributes on template argument 'Eigen::internal::packet_traits<int>::type' {aka '__vector(2) long long int'} [-Wignored-attributes]
C:/Users/biocbuild/bbs-3.12-bioc/R/library/RcppEigen/include/Eigen/src/Core/util/XprHelper.h:170:83: warning: ignoring attributes on template argument 'Eigen::internal::unpacket_traits<__vector(2) long long int>::half' {aka '__vector(2) long long int'} [-Wignored-attributes]
C:/Users/biocbuild/bbs-3.12-bioc/R/library/RcppEigen/include/Eigen/src/Core/util/XprHelper.h:188:88: warning: ignoring attributes on template argument 'Eigen::internal::packet_traits<int>::type' {aka '__vector(2) long long int'} [-Wignored-attributes]
   typedef typename find_best_packet_helper<Size,typename packet_traits<T>::type>::type type;
                                                                                        ^~~~
In file included from C:/Users/biocbuild/bbs-3.12-bioc/R/library/RcppEigen/include/Eigen/Core:434,
                 from C:/Users/biocbuild/bbs-3.12-bioc/R/library/RcppEigen/include/Eigen/Dense:1,
                 from C:/Users/biocbuild/bbs-3.12-bioc/R/library/RcppEigen/include/RcppEigenForward.h:30,
                 from C:/Users/biocbuild/bbs-3.12-bioc/R/library/RcppEigen/include/RcppEigen.h:25,
                 from RcppExports.cpp:5:
C:/Users/biocbuild/bbs-3.12-bioc/R/library/RcppEigen/include/Eigen/src/Core/DenseCoeffsBase.h: In instantiation of 'class Eigen::DenseCoeffsBase<Eigen::Matrix<int, -1, 1>, 0>':
C:/Users/biocbuild/bbs-3.12-bioc/R/library/RcppEigen/include/Eigen/src/Core/DenseCoeffsBase.h:300:7:   required from 'class Eigen::DenseCoeffsBase<Eigen::Matrix<int, -1, 1>, 1>'
C:/Users/biocbuild/bbs-3.12-bioc/R/library/RcppEigen/include/Eigen/src/Core/DenseCoeffsBase.h:551:7:   required from 'class Eigen::DenseCoeffsBase<Eigen::Matrix<int, -1, 1>, 3>'
C:/Users/biocbuild/bbs-3.12-bioc/R/library/RcppEigen/include/Eigen/src/Core/DenseBase.h:41:34:   required from 'class Eigen::DenseBase<Eigen::Matrix<int, -1, 1> >'
C:/Users/biocbuild/bbs-3.12-bioc/R/library/RcppEigen/include/Eigen/src/Core/MatrixBase.h:48:34:   required from 'class Eigen::MatrixBase<Eigen::Matrix<int, -1, 1> >'
C:/Users/biocbuild/bbs-3.12-bioc/R/library/RcppEigen/include/Eigen/src/Core/PlainObjectBase.h:98:7:   required from 'class Eigen::PlainObjectBase<Eigen::Matrix<int, -1, 1> >'
C:/Users/biocbuild/bbs-3.12-bioc/R/library/RcppEigen/include/Eigen/src/Core/Matrix.h:178:7:   required from 'class Eigen::Matrix<int, -1, 1>'
C:/Users/biocbuild/bbs-3.12-bioc/R/library/RcppEigen/include/unsupported/Eigen/src/KroneckerProduct/KroneckerTensorProduct.h:168:29:   required from here
C:/Users/biocbuild/bbs-3.12-bioc/R/library/RcppEigen/include/Eigen/src/Core/DenseCoeffsBase.h:55:30: warning: ignoring attributes on template argument 'Eigen::internal::packet_traits<int>::type' {aka '__vector(2) long long int'} [-Wignored-attributes]
                      >::type PacketReturnType;
                              ^~~~~~~~~~~~~~~~
C:/Users/biocbuild/bbs-3.12-bioc/R/library/RcppEigen/include/Eigen/src/Core/DenseCoeffsBase.h: In instantiation of 'class Eigen::DenseCoeffsBase<Eigen::Transpose<Eigen::Matrix<int, -1, 1> >, 0>':
C:/Users/biocbuild/bbs-3.12-bioc/R/library/RcppEigen/include/Eigen/src/Core/DenseCoeffsBase.h:300:7:   required from 'class Eigen::DenseCoeffsBase<Eigen::Transpose<Eigen::Matrix<int, -1, 1> >, 1>'
C:/Users/biocbuild/bbs-3.12-bioc/R/library/RcppEigen/include/Eigen/src/Core/DenseCoeffsBase.h:551:7:   required from 'class Eigen::DenseCoeffsBase<Eigen::Transpose<Eigen::Matrix<int, -1, 1> >, 3>'
C:/Users/biocbuild/bbs-3.12-bioc/R/library/RcppEigen/include/Eigen/src/Core/DenseBase.h:41:34:   required from 'class Eigen::DenseBase<Eigen::Transpose<Eigen::Matrix<int, -1, 1> > >'
C:/Users/biocbuild/bbs-3.12-bioc/R/library/RcppEigen/include/Eigen/src/Core/MatrixBase.h:48:34:   required from 'class Eigen::MatrixBase<Eigen::Transpose<Eigen::Matrix<int, -1, 1> > >'
C:/Users/biocbuild/bbs-3.12-bioc/R/library/RcppEigen/include/Eigen/src/Core/Transpose.h:115:37:   required from 'class Eigen::TransposeImpl<Eigen::Matrix<int, -1, 1>, Eigen::Dense>'
C:/Users/biocbuild/bbs-3.12-bioc/R/library/RcppEigen/include/Eigen/src/Core/Transpose.h:52:37:   required from 'class Eigen::Transpose<Eigen::Matrix<int, -1, 1> >'
C:/Users/biocbuild/bbs-3.12-bioc/R/library/RcppEigen/include/unsupported/Eigen/src/KroneckerProduct/KroneckerTensorProduct.h:178:72:   required from here
C:/Users/biocbuild/bbs-3.12-bioc/R/library/RcppEigen/include/Eigen/src/Core/DenseCoeffsBase.h:55:30: warning: ignoring attributes on template argument 'Eigen::internal::packet_traits<int>::type' {aka '__vector(2) long long int'} [-Wignored-attributes]
C:/Users/biocbuild/bbs-3.12-bioc/R/library/RcppEigen/include/Eigen/src/Core/DenseCoeffsBase.h: In instantiation of 'class Eigen::DenseCoeffsBase<Eigen::Matrix<int, -1, -1>, 0>':
C:/Users/biocbuild/bbs-3.12-bioc/R/library/RcppEigen/include/Eigen/src/Core/DenseCoeffsBase.h:300:7:   required from 'class Eigen::DenseCoeffsBase<Eigen::Matrix<int, -1, -1>, 1>'
C:/Users/biocbuild/bbs-3.12-bioc/R/library/RcppEigen/include/Eigen/src/Core/DenseCoeffsBase.h:551:7:   required from 'class Eigen::DenseCoeffsBase<Eigen::Matrix<int, -1, -1>, 3>'
C:/Users/biocbuild/bbs-3.12-bioc/R/library/RcppEigen/include/Eigen/src/Core/DenseBase.h:41:34:   required from 'class Eigen::DenseBase<Eigen::Matrix<int, -1, -1> >'
C:/Users/biocbuild/bbs-3.12-bioc/R/library/RcppEigen/include/Eigen/src/Core/MatrixBase.h:48:34:   required from 'class Eigen::MatrixBase<Eigen::Matrix<int, -1, -1> >'
C:/Users/biocbuild/bbs-3.12-bioc/R/library/RcppEigen/include/Eigen/src/Core/PlainObjectBase.h:98:7:   required from 'class Eigen::PlainObjectBase<Eigen::Matrix<int, -1, -1> >'
C:/Users/biocbuild/bbs-3.12-bioc/R/library/RcppEigen/include/Eigen/src/Core/Matrix.h:178:7:   required from 'class Eigen::Matrix<int, -1, -1>'
C:/Users/biocbuild/bbs-3.12-bioc/R/library/RcppEigen/include/unsupported/Eigen/src/KroneckerProduct/KroneckerTensorProduct.h:179:36:   required from here
C:/Users/biocbuild/bbs-3.12-bioc/R/library/RcppEigen/include/Eigen/src/Core/DenseCoeffsBase.h:55:30: warning: ignoring attributes on template argument 'Eigen::internal::packet_traits<int>::type' {aka '__vector(2) long long int'} [-Wignored-attributes]
C:/rtools40/mingw64/bin/g++ -std=gnu++11 -shared -s -static-libgcc -o BDMMAcorrect.dll tmp.def MCMC_algorithm.o RcppExports.o -LC:/Users/BIOCBU~1/BBS-3~1.12-/R/bin/x64 -lRlapack -LC:/Users/BIOCBU~1/BBS-3~1.12-/R/bin/x64 -lRblas -lgfortran -lm -lquadmath -O2 -msse2 -mfpmath=sse -LC:/extsoft/lib/x64 -LC:/extsoft/lib -LC:/Users/BIOCBU~1/BBS-3~1.12-/R/bin/x64 -lR
installing to C:/Users/biocbuild/bbs-3.12-bioc/meat/BDMMAcorrect.buildbin-libdir/BDMMAcorrect/libs/x64
** testing if installed package can be loaded
* MD5 sums
packaged installation of 'BDMMAcorrect' as BDMMAcorrect_1.7.0.zip
* DONE (BDMMAcorrect)