Back to Multiple platform build/check report for BioC 3.12
A[B]CDEFGHIJKLMNOPQRSTUVWXYZ

CHECK report for BDMMAcorrect on nebbiolo1

This page was generated on 2020-10-29 12:19:43 -0400 (Thu, 29 Oct 2020).

TO THE DEVELOPERS/MAINTAINERS OF THE BDMMAcorrect PACKAGE: Please make sure to use the following settings in order to reproduce any error or warning you see on this page.
Package 132/1974HostnameOS / ArchINSTALLBUILDCHECKBUILD BIN
BDMMAcorrect 1.8.0
ZHENWEI DAI
Snapshot Date: 2020-10-28 14:42:40 -0400 (Wed, 28 Oct 2020)
URL: https://git.bioconductor.org/packages/BDMMAcorrect
Branch: RELEASE_3_12
Last Commit: 0e87f21
Last Changed Date: 2020-10-27 11:40:39 -0400 (Tue, 27 Oct 2020)
malbec1 Linux (Ubuntu 18.04.4 LTS) / x86_64  OK  ERROR  skipped 
nebbiolo1 Linux (Ubuntu 20.04.1 LTS) / x86_64  OK  OK [ OK ]
tokay1 Windows Server 2012 R2 Standard / x64  OK  OK  OK  OK UNNEEDED, same version exists in internal repository
merida1 macOS 10.14.6 Mojave / x86_64  OK  OK  OK  OK UNNEEDED, same version exists in internal repository

Summary

Package: BDMMAcorrect
Version: 1.8.0
Command: /home/biocbuild/bbs-3.12-bioc/R/bin/R CMD check --install=check:BDMMAcorrect.install-out.txt --library=/home/biocbuild/bbs-3.12-bioc/R/library --no-vignettes --timings BDMMAcorrect_1.8.0.tar.gz
StartedAt: 2020-10-28 19:55:38 -0400 (Wed, 28 Oct 2020)
EndedAt: 2020-10-28 19:58:09 -0400 (Wed, 28 Oct 2020)
EllapsedTime: 150.7 seconds
RetCode: 0
Status:  OK 
CheckDir: BDMMAcorrect.Rcheck
Warnings: 0

Command output

##############################################################################
##############################################################################
###
### Running command:
###
###   /home/biocbuild/bbs-3.12-bioc/R/bin/R CMD check --install=check:BDMMAcorrect.install-out.txt --library=/home/biocbuild/bbs-3.12-bioc/R/library --no-vignettes --timings BDMMAcorrect_1.8.0.tar.gz
###
##############################################################################
##############################################################################


* using log directory ‘/home/biocbuild/bbs-3.12-bioc/meat/BDMMAcorrect.Rcheck’
* using R version 4.0.3 (2020-10-10)
* using platform: x86_64-pc-linux-gnu (64-bit)
* using session charset: UTF-8
* using option ‘--no-vignettes’
* checking for file ‘BDMMAcorrect/DESCRIPTION’ ... OK
* checking extension type ... Package
* this is package ‘BDMMAcorrect’ version ‘1.8.0’
* package encoding: UTF-8
* checking package namespace information ... NOTE
  Namespace with empty importFrom: ‘RcppEigen’
* checking package dependencies ... OK
* checking if this is a source package ... OK
* checking if there is a namespace ... OK
* checking for hidden files and directories ... OK
* checking for portable file names ... OK
* checking for sufficient/correct file permissions ... OK
* checking whether package ‘BDMMAcorrect’ can be installed ... OK
* checking installed package size ... OK
* checking package directory ... OK
* checking ‘build’ directory ... OK
* checking DESCRIPTION meta-information ... OK
* checking top-level files ... OK
* checking for left-over files ... OK
* checking index information ... OK
* checking package subdirectories ... OK
* checking R files for non-ASCII characters ... OK
* checking R files for syntax errors ... OK
* checking whether the package can be loaded ... OK
* checking whether the package can be loaded with stated dependencies ... OK
* checking whether the package can be unloaded cleanly ... OK
* checking whether the namespace can be loaded with stated dependencies ... OK
* checking whether the namespace can be unloaded cleanly ... OK
* checking dependencies in R code ... OK
* checking S3 generic/method consistency ... OK
* checking replacement functions ... OK
* checking foreign function calls ... OK
* checking R code for possible problems ... OK
* checking Rd files ... OK
* checking Rd metadata ... OK
* checking Rd cross-references ... OK
* checking for missing documentation entries ... OK
* checking for code/documentation mismatches ... OK
* checking Rd \usage sections ... OK
* checking Rd contents ... OK
* checking for unstated dependencies in examples ... OK
* checking contents of ‘data’ directory ... OK
* checking data for non-ASCII characters ... OK
* checking data for ASCII and uncompressed saves ... OK
* checking line endings in C/C++/Fortran sources/headers ... OK
* checking line endings in Makefiles ... OK
* checking compilation flags in Makevars ... OK
* checking for GNU extensions in Makefiles ... OK
* checking for portable use of $(BLAS_LIBS) and $(LAPACK_LIBS) ... OK
* checking use of PKG_*FLAGS in Makefiles ... OK
* checking compiled code ... NOTE
Note: information on .o files is not available
* checking files in ‘vignettes’ ... OK
* checking examples ... OK
* checking for unstated dependencies in ‘tests’ ... OK
* checking tests ...
  Running ‘Test.R’
 OK
* checking for unstated dependencies in vignettes ... OK
* checking package vignettes in ‘inst/doc’ ... OK
* checking running R code from vignettes ... SKIPPED
* checking re-building of vignette outputs ... SKIPPED
* checking PDF version of manual ... OK
* DONE

Status: 2 NOTEs
See
  ‘/home/biocbuild/bbs-3.12-bioc/meat/BDMMAcorrect.Rcheck/00check.log’
for details.



Installation output

BDMMAcorrect.Rcheck/00install.out

##############################################################################
##############################################################################
###
### Running command:
###
###   /home/biocbuild/bbs-3.12-bioc/R/bin/R CMD INSTALL BDMMAcorrect
###
##############################################################################
##############################################################################


* installing to library ‘/home/biocbuild/bbs-3.12-bioc/R/library’
* installing *source* package ‘BDMMAcorrect’ ...
** using staged installation
** libs
g++ -std=gnu++11 -I"/home/biocbuild/bbs-3.12-bioc/R/include" -DNDEBUG  -I'/home/biocbuild/bbs-3.12-bioc/R/library/Rcpp/include' -I'/home/biocbuild/bbs-3.12-bioc/R/library/RcppArmadillo/include' -I'/home/biocbuild/bbs-3.12-bioc/R/library/RcppEigen/include' -I/usr/local/include  -DARMA_DONT_USE_OPENMP -fpic  -g -O2  -Wall -c MCMC_algorithm.cpp -o MCMC_algorithm.o
In file included from /home/biocbuild/bbs-3.12-bioc/R/library/RcppEigen/include/Eigen/Core:392,
                 from /home/biocbuild/bbs-3.12-bioc/R/library/RcppEigen/include/Eigen/Dense:1,
                 from /home/biocbuild/bbs-3.12-bioc/R/library/RcppEigen/include/RcppEigenForward.h:30,
                 from /home/biocbuild/bbs-3.12-bioc/R/library/RcppEigen/include/RcppEigen.h:25,
                 from MCMC_algorithm.cpp:3:
/home/biocbuild/bbs-3.12-bioc/R/library/RcppEigen/include/Eigen/src/Core/arch/SSE/PacketMath.h:60:39: warning: ignoring attributes on template argument ‘__m128’ {aka ‘__vector(4) float’} [-Wignored-attributes]
   60 | template<> struct is_arithmetic<__m128>  { enum { value = true }; };
      |                                       ^
/home/biocbuild/bbs-3.12-bioc/R/library/RcppEigen/include/Eigen/src/Core/arch/SSE/PacketMath.h:61:40: warning: ignoring attributes on template argument ‘__m128i’ {aka ‘__vector(2) long long int’} [-Wignored-attributes]
   61 | template<> struct is_arithmetic<__m128i> { enum { value = true }; };
      |                                        ^
/home/biocbuild/bbs-3.12-bioc/R/library/RcppEigen/include/Eigen/src/Core/arch/SSE/PacketMath.h:62:40: warning: ignoring attributes on template argument ‘__m128d’ {aka ‘__vector(2) double’} [-Wignored-attributes]
   62 | template<> struct is_arithmetic<__m128d> { enum { value = true }; };
      |                                        ^
/home/biocbuild/bbs-3.12-bioc/R/library/RcppEigen/include/Eigen/src/Core/arch/SSE/PacketMath.h:161:43: warning: ignoring attributes on template argument ‘Eigen::internal::Packet4f’ {aka ‘__vector(4) float’} [-Wignored-attributes]
  161 | template<> struct unpacket_traits<Packet4f> { typedef float  type; enum {size=4, alignment=Aligned16}; typedef Packet4f half; };
      |                                           ^
/home/biocbuild/bbs-3.12-bioc/R/library/RcppEigen/include/Eigen/src/Core/arch/SSE/PacketMath.h:162:43: warning: ignoring attributes on template argument ‘Eigen::internal::Packet2d’ {aka ‘__vector(2) double’} [-Wignored-attributes]
  162 | template<> struct unpacket_traits<Packet2d> { typedef double type; enum {size=2, alignment=Aligned16}; typedef Packet2d half; };
      |                                           ^
/home/biocbuild/bbs-3.12-bioc/R/library/RcppEigen/include/Eigen/src/Core/arch/SSE/PacketMath.h:163:43: warning: ignoring attributes on template argument ‘Eigen::internal::Packet4i’ {aka ‘__vector(2) long long int’} [-Wignored-attributes]
  163 | template<> struct unpacket_traits<Packet4i> { typedef int    type; enum {size=4, alignment=Aligned16}; typedef Packet4i half; };
      |                                           ^
/home/biocbuild/bbs-3.12-bioc/R/library/RcppEigen/include/Eigen/src/Core/arch/SSE/PacketMath.h:718:35: warning: ignoring attributes on template argument ‘Eigen::internal::Packet4f’ {aka ‘__vector(4) float’} [-Wignored-attributes]
  718 | struct palign_impl<Offset,Packet4f>
      |                                   ^
/home/biocbuild/bbs-3.12-bioc/R/library/RcppEigen/include/Eigen/src/Core/arch/SSE/PacketMath.h:741:35: warning: ignoring attributes on template argument ‘Eigen::internal::Packet4i’ {aka ‘__vector(2) long long int’} [-Wignored-attributes]
  741 | struct palign_impl<Offset,Packet4i>
      |                                   ^
/home/biocbuild/bbs-3.12-bioc/R/library/RcppEigen/include/Eigen/src/Core/arch/SSE/PacketMath.h:764:35: warning: ignoring attributes on template argument ‘Eigen::internal::Packet2d’ {aka ‘__vector(2) double’} [-Wignored-attributes]
  764 | struct palign_impl<Offset,Packet2d>
      |                                   ^
/home/biocbuild/bbs-3.12-bioc/R/library/RcppEigen/include/Eigen/src/Core/arch/SSE/PacketMath.h:778:34: warning: ignoring attributes on template argument ‘Eigen::internal::Packet4f’ {aka ‘__vector(4) float’} [-Wignored-attributes]
  778 | ptranspose(PacketBlock<Packet4f,4>& kernel) {
      |                                  ^
/home/biocbuild/bbs-3.12-bioc/R/library/RcppEigen/include/Eigen/src/Core/arch/SSE/PacketMath.h:783:34: warning: ignoring attributes on template argument ‘Eigen::internal::Packet2d’ {aka ‘__vector(2) double’} [-Wignored-attributes]
  783 | ptranspose(PacketBlock<Packet2d,2>& kernel) {
      |                                  ^
/home/biocbuild/bbs-3.12-bioc/R/library/RcppEigen/include/Eigen/src/Core/arch/SSE/PacketMath.h:790:34: warning: ignoring attributes on template argument ‘Eigen::internal::Packet4i’ {aka ‘__vector(2) long long int’} [-Wignored-attributes]
  790 | ptranspose(PacketBlock<Packet4i,4>& kernel) {
      |                                  ^
In file included from /home/biocbuild/bbs-3.12-bioc/R/library/RcppEigen/include/Eigen/Core:374,
                 from /home/biocbuild/bbs-3.12-bioc/R/library/RcppEigen/include/Eigen/Dense:1,
                 from /home/biocbuild/bbs-3.12-bioc/R/library/RcppEigen/include/RcppEigenForward.h:30,
                 from /home/biocbuild/bbs-3.12-bioc/R/library/RcppEigen/include/RcppEigen.h:25,
                 from MCMC_algorithm.cpp:3:
/home/biocbuild/bbs-3.12-bioc/R/library/RcppEigen/include/Eigen/src/Core/arch/Default/ConjHelper.h:15:70: warning: ignoring attributes on template argument ‘Eigen::internal::Packet4f’ {aka ‘__vector(4) float’} [-Wignored-attributes]
   15 |   template<> struct conj_helper<PACKET_REAL, PACKET_CPLX, false,false> {                                          \
      |                                                                      ^
/home/biocbuild/bbs-3.12-bioc/R/library/RcppEigen/include/Eigen/src/Core/arch/SSE/Complex.h:232:1: note: in expansion of macro ‘EIGEN_MAKE_CONJ_HELPER_CPLX_REAL’
  232 | EIGEN_MAKE_CONJ_HELPER_CPLX_REAL(Packet2cf,Packet4f)
      | ^~~~~~~~~~~~~~~~~~~~~~~~~~~~~~~~
/home/biocbuild/bbs-3.12-bioc/R/library/RcppEigen/include/Eigen/src/Core/arch/Default/ConjHelper.h:22:70: warning: ignoring attributes on template argument ‘Eigen::internal::Packet4f’ {aka ‘__vector(4) float’} [-Wignored-attributes]
   22 |   template<> struct conj_helper<PACKET_CPLX, PACKET_REAL, false,false> {                                          \
      |                                                                      ^
/home/biocbuild/bbs-3.12-bioc/R/library/RcppEigen/include/Eigen/src/Core/arch/SSE/Complex.h:232:1: note: in expansion of macro ‘EIGEN_MAKE_CONJ_HELPER_CPLX_REAL’
  232 | EIGEN_MAKE_CONJ_HELPER_CPLX_REAL(Packet2cf,Packet4f)
      | ^~~~~~~~~~~~~~~~~~~~~~~~~~~~~~~~
/home/biocbuild/bbs-3.12-bioc/R/library/RcppEigen/include/Eigen/src/Core/arch/Default/ConjHelper.h:15:70: warning: ignoring attributes on template argument ‘Eigen::internal::Packet2d’ {aka ‘__vector(2) double’} [-Wignored-attributes]
   15 |   template<> struct conj_helper<PACKET_REAL, PACKET_CPLX, false,false> {                                          \
      |                                                                      ^
/home/biocbuild/bbs-3.12-bioc/R/library/RcppEigen/include/Eigen/src/Core/arch/SSE/Complex.h:417:1: note: in expansion of macro ‘EIGEN_MAKE_CONJ_HELPER_CPLX_REAL’
  417 | EIGEN_MAKE_CONJ_HELPER_CPLX_REAL(Packet1cd,Packet2d)
      | ^~~~~~~~~~~~~~~~~~~~~~~~~~~~~~~~
/home/biocbuild/bbs-3.12-bioc/R/library/RcppEigen/include/Eigen/src/Core/arch/Default/ConjHelper.h:22:70: warning: ignoring attributes on template argument ‘Eigen::internal::Packet2d’ {aka ‘__vector(2) double’} [-Wignored-attributes]
   22 |   template<> struct conj_helper<PACKET_CPLX, PACKET_REAL, false,false> {                                          \
      |                                                                      ^
/home/biocbuild/bbs-3.12-bioc/R/library/RcppEigen/include/Eigen/src/Core/arch/SSE/Complex.h:417:1: note: in expansion of macro ‘EIGEN_MAKE_CONJ_HELPER_CPLX_REAL’
  417 | EIGEN_MAKE_CONJ_HELPER_CPLX_REAL(Packet1cd,Packet2d)
      | ^~~~~~~~~~~~~~~~~~~~~~~~~~~~~~~~
In file included from /home/biocbuild/bbs-3.12-bioc/R/library/RcppEigen/include/Eigen/Core:367,
                 from /home/biocbuild/bbs-3.12-bioc/R/library/RcppEigen/include/Eigen/Dense:1,
                 from /home/biocbuild/bbs-3.12-bioc/R/library/RcppEigen/include/RcppEigenForward.h:30,
                 from /home/biocbuild/bbs-3.12-bioc/R/library/RcppEigen/include/RcppEigen.h:25,
                 from MCMC_algorithm.cpp:3:
/home/biocbuild/bbs-3.12-bioc/R/library/RcppEigen/include/Eigen/src/Core/util/XprHelper.h: In instantiation of ‘struct Eigen::internal::find_best_packet<float, 4>’:
/home/biocbuild/bbs-3.12-bioc/R/library/RcppEigen/include/Eigen/src/Core/Matrix.h:22:57:   required from ‘struct Eigen::internal::traits<Eigen::Matrix<float, 4, 1> >’
/home/biocbuild/bbs-3.12-bioc/R/library/RcppEigen/include/Eigen/src/Geometry/Quaternion.h:224:7:   required from ‘struct Eigen::internal::traits<Eigen::Quaternion<float> >’
/home/biocbuild/bbs-3.12-bioc/R/library/RcppEigen/include/Eigen/src/Geometry/arch/Geometry_SSE.h:24:46:   required from here
/home/biocbuild/bbs-3.12-bioc/R/library/RcppEigen/include/Eigen/src/Core/util/XprHelper.h:170:44: warning: ignoring attributes on template argument ‘Eigen::internal::packet_traits<float>::type’ {aka ‘__vector(4) float’} [-Wignored-attributes]
  170 |          bool Stop = Size==Dynamic || (Size%unpacket_traits<PacketType>::size)==0 || is_same<PacketType,typename unpacket_traits<PacketType>::half>::value>
      |                                       ~~~~~^~~~~~~~~~~~~~~~~~~~~~~~~~~~~~~~~~~
/home/biocbuild/bbs-3.12-bioc/R/library/RcppEigen/include/Eigen/src/Core/util/XprHelper.h:170:83: warning: ignoring attributes on template argument ‘Eigen::internal::packet_traits<float>::type’ {aka ‘__vector(4) float’} [-Wignored-attributes]
  170 |          bool Stop = Size==Dynamic || (Size%unpacket_traits<PacketType>::size)==0 || is_same<PacketType,typename unpacket_traits<PacketType>::half>::value>
      |                      ~~~~~~~~~~~~~~~~~~~~~~~~~~~~~~~~~~~~~~~~~~~~~~~~~~~~~~~~~~~~~^~~~~~~~~~~~~~~~~~~~~~~~~~~~~~~~~~~~~~~~~~~~~~~~~~~~~~~~~~~~~~~~~~~~~~~~
/home/biocbuild/bbs-3.12-bioc/R/library/RcppEigen/include/Eigen/src/Core/util/XprHelper.h:170:83: warning: ignoring attributes on template argument ‘Eigen::internal::packet_traits<float>::type’ {aka ‘__vector(4) float’} [-Wignored-attributes]
/home/biocbuild/bbs-3.12-bioc/R/library/RcppEigen/include/Eigen/src/Core/util/XprHelper.h:170:83: warning: ignoring attributes on template argument ‘Eigen::internal::unpacket_traits<__vector(4) float>::half’ {aka ‘__vector(4) float’} [-Wignored-attributes]
/home/biocbuild/bbs-3.12-bioc/R/library/RcppEigen/include/Eigen/src/Core/util/XprHelper.h:188:88: warning: ignoring attributes on template argument ‘Eigen::internal::packet_traits<float>::type’ {aka ‘__vector(4) float’} [-Wignored-attributes]
  188 |   typedef typename find_best_packet_helper<Size,typename packet_traits<T>::type>::type type;
      |                                                                                        ^~~~
In file included from /home/biocbuild/bbs-3.12-bioc/R/library/RcppEigen/include/Eigen/Core:434,
                 from /home/biocbuild/bbs-3.12-bioc/R/library/RcppEigen/include/Eigen/Dense:1,
                 from /home/biocbuild/bbs-3.12-bioc/R/library/RcppEigen/include/RcppEigenForward.h:30,
                 from /home/biocbuild/bbs-3.12-bioc/R/library/RcppEigen/include/RcppEigen.h:25,
                 from MCMC_algorithm.cpp:3:
/home/biocbuild/bbs-3.12-bioc/R/library/RcppEigen/include/Eigen/src/Core/DenseCoeffsBase.h: In instantiation of ‘class Eigen::DenseCoeffsBase<Eigen::Matrix<float, 4, 1>, 0>’:
/home/biocbuild/bbs-3.12-bioc/R/library/RcppEigen/include/Eigen/src/Core/DenseCoeffsBase.h:300:7:   required from ‘class Eigen::DenseCoeffsBase<Eigen::Matrix<float, 4, 1>, 1>’
/home/biocbuild/bbs-3.12-bioc/R/library/RcppEigen/include/Eigen/src/Core/DenseCoeffsBase.h:551:7:   required from ‘class Eigen::DenseCoeffsBase<Eigen::Matrix<float, 4, 1>, 3>’
/home/biocbuild/bbs-3.12-bioc/R/library/RcppEigen/include/Eigen/src/Core/DenseBase.h:41:34:   required from ‘class Eigen::DenseBase<Eigen::Matrix<float, 4, 1> >’
/home/biocbuild/bbs-3.12-bioc/R/library/RcppEigen/include/Eigen/src/Core/MatrixBase.h:48:34:   required from ‘class Eigen::MatrixBase<Eigen::Matrix<float, 4, 1> >’
/home/biocbuild/bbs-3.12-bioc/R/library/RcppEigen/include/Eigen/src/Core/PlainObjectBase.h:98:7:   required from ‘class Eigen::PlainObjectBase<Eigen::Matrix<float, 4, 1> >’
/home/biocbuild/bbs-3.12-bioc/R/library/RcppEigen/include/Eigen/src/Core/Matrix.h:178:7:   required from ‘class Eigen::Matrix<float, 4, 1>’
/home/biocbuild/bbs-3.12-bioc/R/library/RcppEigen/include/Eigen/src/Geometry/Quaternion.h:46:50:   required from ‘class Eigen::QuaternionBase<Eigen::Quaternion<float> >’
/home/biocbuild/bbs-3.12-bioc/R/library/RcppEigen/include/Eigen/src/Geometry/Quaternion.h:232:7:   required from ‘class Eigen::Quaternion<float>’
/home/biocbuild/bbs-3.12-bioc/R/library/RcppEigen/include/Eigen/src/Geometry/arch/Geometry_SSE.h:27:3:   required from here
/home/biocbuild/bbs-3.12-bioc/R/library/RcppEigen/include/Eigen/src/Core/DenseCoeffsBase.h:55:30: warning: ignoring attributes on template argument ‘Eigen::internal::packet_traits<float>::type’ {aka ‘__vector(4) float’} [-Wignored-attributes]
   55 |                      >::type PacketReturnType;
      |                              ^~~~~~~~~~~~~~~~
In file included from /home/biocbuild/bbs-3.12-bioc/R/library/RcppEigen/include/Eigen/Core:367,
                 from /home/biocbuild/bbs-3.12-bioc/R/library/RcppEigen/include/Eigen/Dense:1,
                 from /home/biocbuild/bbs-3.12-bioc/R/library/RcppEigen/include/RcppEigenForward.h:30,
                 from /home/biocbuild/bbs-3.12-bioc/R/library/RcppEigen/include/RcppEigen.h:25,
                 from MCMC_algorithm.cpp:3:
/home/biocbuild/bbs-3.12-bioc/R/library/RcppEigen/include/Eigen/src/Core/util/XprHelper.h: In instantiation of ‘struct Eigen::internal::find_best_packet<double, 4>’:
/home/biocbuild/bbs-3.12-bioc/R/library/RcppEigen/include/Eigen/src/Core/Matrix.h:22:57:   required from ‘struct Eigen::internal::traits<Eigen::Matrix<double, 4, 1> >’
/home/biocbuild/bbs-3.12-bioc/R/library/RcppEigen/include/Eigen/src/Geometry/Quaternion.h:224:7:   required from ‘struct Eigen::internal::traits<Eigen::Quaternion<double> >’
/home/biocbuild/bbs-3.12-bioc/R/library/RcppEigen/include/Eigen/src/Geometry/arch/Geometry_SSE.h:88:47:   required from here
/home/biocbuild/bbs-3.12-bioc/R/library/RcppEigen/include/Eigen/src/Core/util/XprHelper.h:170:44: warning: ignoring attributes on template argument ‘Eigen::internal::packet_traits<double>::type’ {aka ‘__vector(2) double’} [-Wignored-attributes]
  170 |          bool Stop = Size==Dynamic || (Size%unpacket_traits<PacketType>::size)==0 || is_same<PacketType,typename unpacket_traits<PacketType>::half>::value>
      |                                       ~~~~~^~~~~~~~~~~~~~~~~~~~~~~~~~~~~~~~~~~
/home/biocbuild/bbs-3.12-bioc/R/library/RcppEigen/include/Eigen/src/Core/util/XprHelper.h:170:83: warning: ignoring attributes on template argument ‘Eigen::internal::packet_traits<double>::type’ {aka ‘__vector(2) double’} [-Wignored-attributes]
  170 |          bool Stop = Size==Dynamic || (Size%unpacket_traits<PacketType>::size)==0 || is_same<PacketType,typename unpacket_traits<PacketType>::half>::value>
      |                      ~~~~~~~~~~~~~~~~~~~~~~~~~~~~~~~~~~~~~~~~~~~~~~~~~~~~~~~~~~~~~^~~~~~~~~~~~~~~~~~~~~~~~~~~~~~~~~~~~~~~~~~~~~~~~~~~~~~~~~~~~~~~~~~~~~~~~
/home/biocbuild/bbs-3.12-bioc/R/library/RcppEigen/include/Eigen/src/Core/util/XprHelper.h:170:83: warning: ignoring attributes on template argument ‘Eigen::internal::packet_traits<double>::type’ {aka ‘__vector(2) double’} [-Wignored-attributes]
/home/biocbuild/bbs-3.12-bioc/R/library/RcppEigen/include/Eigen/src/Core/util/XprHelper.h:170:83: warning: ignoring attributes on template argument ‘Eigen::internal::unpacket_traits<__vector(2) double>::half’ {aka ‘__vector(2) double’} [-Wignored-attributes]
/home/biocbuild/bbs-3.12-bioc/R/library/RcppEigen/include/Eigen/src/Core/util/XprHelper.h:188:88: warning: ignoring attributes on template argument ‘Eigen::internal::packet_traits<double>::type’ {aka ‘__vector(2) double’} [-Wignored-attributes]
  188 |   typedef typename find_best_packet_helper<Size,typename packet_traits<T>::type>::type type;
      |                                                                                        ^~~~
In file included from /home/biocbuild/bbs-3.12-bioc/R/library/RcppEigen/include/Eigen/Core:434,
                 from /home/biocbuild/bbs-3.12-bioc/R/library/RcppEigen/include/Eigen/Dense:1,
                 from /home/biocbuild/bbs-3.12-bioc/R/library/RcppEigen/include/RcppEigenForward.h:30,
                 from /home/biocbuild/bbs-3.12-bioc/R/library/RcppEigen/include/RcppEigen.h:25,
                 from MCMC_algorithm.cpp:3:
/home/biocbuild/bbs-3.12-bioc/R/library/RcppEigen/include/Eigen/src/Core/DenseCoeffsBase.h: In instantiation of ‘class Eigen::DenseCoeffsBase<Eigen::Matrix<double, 4, 1>, 0>’:
/home/biocbuild/bbs-3.12-bioc/R/library/RcppEigen/include/Eigen/src/Core/DenseCoeffsBase.h:300:7:   required from ‘class Eigen::DenseCoeffsBase<Eigen::Matrix<double, 4, 1>, 1>’
/home/biocbuild/bbs-3.12-bioc/R/library/RcppEigen/include/Eigen/src/Core/DenseCoeffsBase.h:551:7:   required from ‘class Eigen::DenseCoeffsBase<Eigen::Matrix<double, 4, 1>, 3>’
/home/biocbuild/bbs-3.12-bioc/R/library/RcppEigen/include/Eigen/src/Core/DenseBase.h:41:34:   required from ‘class Eigen::DenseBase<Eigen::Matrix<double, 4, 1> >’
/home/biocbuild/bbs-3.12-bioc/R/library/RcppEigen/include/Eigen/src/Core/MatrixBase.h:48:34:   required from ‘class Eigen::MatrixBase<Eigen::Matrix<double, 4, 1> >’
/home/biocbuild/bbs-3.12-bioc/R/library/RcppEigen/include/Eigen/src/Core/PlainObjectBase.h:98:7:   required from ‘class Eigen::PlainObjectBase<Eigen::Matrix<double, 4, 1> >’
/home/biocbuild/bbs-3.12-bioc/R/library/RcppEigen/include/Eigen/src/Core/Matrix.h:178:7:   required from ‘class Eigen::Matrix<double, 4, 1>’
/home/biocbuild/bbs-3.12-bioc/R/library/RcppEigen/include/Eigen/src/Geometry/Quaternion.h:46:50:   required from ‘class Eigen::QuaternionBase<Eigen::Quaternion<double> >’
/home/biocbuild/bbs-3.12-bioc/R/library/RcppEigen/include/Eigen/src/Geometry/Quaternion.h:232:7:   required from ‘class Eigen::Quaternion<double>’
/home/biocbuild/bbs-3.12-bioc/R/library/RcppEigen/include/Eigen/src/Geometry/arch/Geometry_SSE.h:92:3:   required from here
/home/biocbuild/bbs-3.12-bioc/R/library/RcppEigen/include/Eigen/src/Core/DenseCoeffsBase.h:55:30: warning: ignoring attributes on template argument ‘Eigen::internal::packet_traits<double>::type’ {aka ‘__vector(2) double’} [-Wignored-attributes]
   55 |                      >::type PacketReturnType;
      |                              ^~~~~~~~~~~~~~~~
In file included from /home/biocbuild/bbs-3.12-bioc/R/library/RcppEigen/include/Eigen/SparseCore:37,
                 from /home/biocbuild/bbs-3.12-bioc/R/library/RcppEigen/include/Eigen/Sparse:26,
                 from /home/biocbuild/bbs-3.12-bioc/R/library/RcppEigen/include/RcppEigenForward.h:31,
                 from /home/biocbuild/bbs-3.12-bioc/R/library/RcppEigen/include/RcppEigen.h:25,
                 from MCMC_algorithm.cpp:3:
/home/biocbuild/bbs-3.12-bioc/R/library/RcppEigen/include/Eigen/src/SparseCore/SparseMatrixBase.h: In instantiation of ‘class Eigen::SparseMatrixBase<Eigen::SparseMatrix<double, 0, int> >’:
/home/biocbuild/bbs-3.12-bioc/R/library/RcppEigen/include/Eigen/src/SparseCore/SparseCompressedBase.h:36:7:   required from ‘class Eigen::SparseCompressedBase<Eigen::SparseMatrix<double, 0, int> >’
/home/biocbuild/bbs-3.12-bioc/R/library/RcppEigen/include/Eigen/src/SparseCore/SparseMatrix.h:96:7:   required from ‘class Eigen::SparseMatrix<double, 0, int>’
/home/biocbuild/bbs-3.12-bioc/R/library/RcppEigen/include/unsupported/Eigen/src/IterativeSolvers/ConstrainedConjGrad.h:61:25:   required from here
/home/biocbuild/bbs-3.12-bioc/R/library/RcppEigen/include/Eigen/src/SparseCore/SparseMatrixBase.h:47:30: warning: ignoring attributes on template argument ‘Eigen::internal::packet_traits<double>::type’ {aka ‘__vector(2) double’} [-Wignored-attributes]
   47 |                      >::type PacketReturnType;
      |                              ^~~~~~~~~~~~~~~~
In file included from /home/biocbuild/bbs-3.12-bioc/R/library/RcppEigen/include/Eigen/Core:367,
                 from /home/biocbuild/bbs-3.12-bioc/R/library/RcppEigen/include/Eigen/Dense:1,
                 from /home/biocbuild/bbs-3.12-bioc/R/library/RcppEigen/include/RcppEigenForward.h:30,
                 from /home/biocbuild/bbs-3.12-bioc/R/library/RcppEigen/include/RcppEigen.h:25,
                 from MCMC_algorithm.cpp:3:
/home/biocbuild/bbs-3.12-bioc/R/library/RcppEigen/include/Eigen/src/Core/util/XprHelper.h: In instantiation of ‘struct Eigen::internal::find_best_packet<int, -1>’:
/home/biocbuild/bbs-3.12-bioc/R/library/RcppEigen/include/Eigen/src/Core/Matrix.h:22:57:   required from ‘struct Eigen::internal::traits<Eigen::Matrix<int, -1, 1> >’
/home/biocbuild/bbs-3.12-bioc/R/library/RcppEigen/include/Eigen/src/Core/PlainObjectBase.h:98:7:   required from ‘class Eigen::PlainObjectBase<Eigen::Matrix<int, -1, 1> >’
/home/biocbuild/bbs-3.12-bioc/R/library/RcppEigen/include/Eigen/src/Core/Matrix.h:178:7:   required from ‘class Eigen::Matrix<int, -1, 1>’
/home/biocbuild/bbs-3.12-bioc/R/library/RcppEigen/include/unsupported/Eigen/src/KroneckerProduct/KroneckerTensorProduct.h:168:29:   required from here
/home/biocbuild/bbs-3.12-bioc/R/library/RcppEigen/include/Eigen/src/Core/util/XprHelper.h:170:44: warning: ignoring attributes on template argument ‘Eigen::internal::packet_traits<int>::type’ {aka ‘__vector(2) long long int’} [-Wignored-attributes]
  170 |          bool Stop = Size==Dynamic || (Size%unpacket_traits<PacketType>::size)==0 || is_same<PacketType,typename unpacket_traits<PacketType>::half>::value>
      |                                       ~~~~~^~~~~~~~~~~~~~~~~~~~~~~~~~~~~~~~~~~
/home/biocbuild/bbs-3.12-bioc/R/library/RcppEigen/include/Eigen/src/Core/util/XprHelper.h:170:83: warning: ignoring attributes on template argument ‘Eigen::internal::packet_traits<int>::type’ {aka ‘__vector(2) long long int’} [-Wignored-attributes]
  170 |          bool Stop = Size==Dynamic || (Size%unpacket_traits<PacketType>::size)==0 || is_same<PacketType,typename unpacket_traits<PacketType>::half>::value>
      |                      ~~~~~~~~~~~~~~~~~~~~~~~~~~~~~~~~~~~~~~~~~~~~~~~~~~~~~~~~~~~~~^~~~~~~~~~~~~~~~~~~~~~~~~~~~~~~~~~~~~~~~~~~~~~~~~~~~~~~~~~~~~~~~~~~~~~~~
/home/biocbuild/bbs-3.12-bioc/R/library/RcppEigen/include/Eigen/src/Core/util/XprHelper.h:170:83: warning: ignoring attributes on template argument ‘Eigen::internal::packet_traits<int>::type’ {aka ‘__vector(2) long long int’} [-Wignored-attributes]
/home/biocbuild/bbs-3.12-bioc/R/library/RcppEigen/include/Eigen/src/Core/util/XprHelper.h:170:83: warning: ignoring attributes on template argument ‘Eigen::internal::unpacket_traits<__vector(2) long long int>::half’ {aka ‘__vector(2) long long int’} [-Wignored-attributes]
/home/biocbuild/bbs-3.12-bioc/R/library/RcppEigen/include/Eigen/src/Core/util/XprHelper.h:188:88: warning: ignoring attributes on template argument ‘Eigen::internal::packet_traits<int>::type’ {aka ‘__vector(2) long long int’} [-Wignored-attributes]
  188 |   typedef typename find_best_packet_helper<Size,typename packet_traits<T>::type>::type type;
      |                                                                                        ^~~~
In file included from /home/biocbuild/bbs-3.12-bioc/R/library/RcppEigen/include/Eigen/Core:434,
                 from /home/biocbuild/bbs-3.12-bioc/R/library/RcppEigen/include/Eigen/Dense:1,
                 from /home/biocbuild/bbs-3.12-bioc/R/library/RcppEigen/include/RcppEigenForward.h:30,
                 from /home/biocbuild/bbs-3.12-bioc/R/library/RcppEigen/include/RcppEigen.h:25,
                 from MCMC_algorithm.cpp:3:
/home/biocbuild/bbs-3.12-bioc/R/library/RcppEigen/include/Eigen/src/Core/DenseCoeffsBase.h: In instantiation of ‘class Eigen::DenseCoeffsBase<Eigen::Matrix<int, -1, 1>, 0>’:
/home/biocbuild/bbs-3.12-bioc/R/library/RcppEigen/include/Eigen/src/Core/DenseCoeffsBase.h:300:7:   required from ‘class Eigen::DenseCoeffsBase<Eigen::Matrix<int, -1, 1>, 1>’
/home/biocbuild/bbs-3.12-bioc/R/library/RcppEigen/include/Eigen/src/Core/DenseCoeffsBase.h:551:7:   required from ‘class Eigen::DenseCoeffsBase<Eigen::Matrix<int, -1, 1>, 3>’
/home/biocbuild/bbs-3.12-bioc/R/library/RcppEigen/include/Eigen/src/Core/DenseBase.h:41:34:   required from ‘class Eigen::DenseBase<Eigen::Matrix<int, -1, 1> >’
/home/biocbuild/bbs-3.12-bioc/R/library/RcppEigen/include/Eigen/src/Core/MatrixBase.h:48:34:   required from ‘class Eigen::MatrixBase<Eigen::Matrix<int, -1, 1> >’
/home/biocbuild/bbs-3.12-bioc/R/library/RcppEigen/include/Eigen/src/Core/PlainObjectBase.h:98:7:   required from ‘class Eigen::PlainObjectBase<Eigen::Matrix<int, -1, 1> >’
/home/biocbuild/bbs-3.12-bioc/R/library/RcppEigen/include/Eigen/src/Core/Matrix.h:178:7:   required from ‘class Eigen::Matrix<int, -1, 1>’
/home/biocbuild/bbs-3.12-bioc/R/library/RcppEigen/include/unsupported/Eigen/src/KroneckerProduct/KroneckerTensorProduct.h:168:29:   required from here
/home/biocbuild/bbs-3.12-bioc/R/library/RcppEigen/include/Eigen/src/Core/DenseCoeffsBase.h:55:30: warning: ignoring attributes on template argument ‘Eigen::internal::packet_traits<int>::type’ {aka ‘__vector(2) long long int’} [-Wignored-attributes]
   55 |                      >::type PacketReturnType;
      |                              ^~~~~~~~~~~~~~~~
/home/biocbuild/bbs-3.12-bioc/R/library/RcppEigen/include/Eigen/src/Core/DenseCoeffsBase.h: In instantiation of ‘class Eigen::DenseCoeffsBase<Eigen::Transpose<Eigen::Matrix<int, -1, 1> >, 0>’:
/home/biocbuild/bbs-3.12-bioc/R/library/RcppEigen/include/Eigen/src/Core/DenseCoeffsBase.h:300:7:   required from ‘class Eigen::DenseCoeffsBase<Eigen::Transpose<Eigen::Matrix<int, -1, 1> >, 1>’
/home/biocbuild/bbs-3.12-bioc/R/library/RcppEigen/include/Eigen/src/Core/DenseCoeffsBase.h:551:7:   required from ‘class Eigen::DenseCoeffsBase<Eigen::Transpose<Eigen::Matrix<int, -1, 1> >, 3>’
/home/biocbuild/bbs-3.12-bioc/R/library/RcppEigen/include/Eigen/src/Core/DenseBase.h:41:34:   required from ‘class Eigen::DenseBase<Eigen::Transpose<Eigen::Matrix<int, -1, 1> > >’
/home/biocbuild/bbs-3.12-bioc/R/library/RcppEigen/include/Eigen/src/Core/MatrixBase.h:48:34:   required from ‘class Eigen::MatrixBase<Eigen::Transpose<Eigen::Matrix<int, -1, 1> > >’
/home/biocbuild/bbs-3.12-bioc/R/library/RcppEigen/include/Eigen/src/Core/Transpose.h:115:37:   required from ‘class Eigen::TransposeImpl<Eigen::Matrix<int, -1, 1>, Eigen::Dense>’
/home/biocbuild/bbs-3.12-bioc/R/library/RcppEigen/include/Eigen/src/Core/Transpose.h:52:37:   required from ‘class Eigen::Transpose<Eigen::Matrix<int, -1, 1> >’
/home/biocbuild/bbs-3.12-bioc/R/library/RcppEigen/include/unsupported/Eigen/src/KroneckerProduct/KroneckerTensorProduct.h:178:72:   required from here
/home/biocbuild/bbs-3.12-bioc/R/library/RcppEigen/include/Eigen/src/Core/DenseCoeffsBase.h:55:30: warning: ignoring attributes on template argument ‘Eigen::internal::packet_traits<int>::type’ {aka ‘__vector(2) long long int’} [-Wignored-attributes]
/home/biocbuild/bbs-3.12-bioc/R/library/RcppEigen/include/Eigen/src/Core/DenseCoeffsBase.h: In instantiation of ‘class Eigen::DenseCoeffsBase<Eigen::Matrix<int, -1, -1>, 0>’:
/home/biocbuild/bbs-3.12-bioc/R/library/RcppEigen/include/Eigen/src/Core/DenseCoeffsBase.h:300:7:   required from ‘class Eigen::DenseCoeffsBase<Eigen::Matrix<int, -1, -1>, 1>’
/home/biocbuild/bbs-3.12-bioc/R/library/RcppEigen/include/Eigen/src/Core/DenseCoeffsBase.h:551:7:   required from ‘class Eigen::DenseCoeffsBase<Eigen::Matrix<int, -1, -1>, 3>’
/home/biocbuild/bbs-3.12-bioc/R/library/RcppEigen/include/Eigen/src/Core/DenseBase.h:41:34:   required from ‘class Eigen::DenseBase<Eigen::Matrix<int, -1, -1> >’
/home/biocbuild/bbs-3.12-bioc/R/library/RcppEigen/include/Eigen/src/Core/MatrixBase.h:48:34:   required from ‘class Eigen::MatrixBase<Eigen::Matrix<int, -1, -1> >’
/home/biocbuild/bbs-3.12-bioc/R/library/RcppEigen/include/Eigen/src/Core/PlainObjectBase.h:98:7:   required from ‘class Eigen::PlainObjectBase<Eigen::Matrix<int, -1, -1> >’
/home/biocbuild/bbs-3.12-bioc/R/library/RcppEigen/include/Eigen/src/Core/Matrix.h:178:7:   required from ‘class Eigen::Matrix<int, -1, -1>’
/home/biocbuild/bbs-3.12-bioc/R/library/RcppEigen/include/unsupported/Eigen/src/KroneckerProduct/KroneckerTensorProduct.h:179:36:   required from here
/home/biocbuild/bbs-3.12-bioc/R/library/RcppEigen/include/Eigen/src/Core/DenseCoeffsBase.h:55:30: warning: ignoring attributes on template argument ‘Eigen::internal::packet_traits<int>::type’ {aka ‘__vector(2) long long int’} [-Wignored-attributes]
g++ -std=gnu++11 -I"/home/biocbuild/bbs-3.12-bioc/R/include" -DNDEBUG  -I'/home/biocbuild/bbs-3.12-bioc/R/library/Rcpp/include' -I'/home/biocbuild/bbs-3.12-bioc/R/library/RcppArmadillo/include' -I'/home/biocbuild/bbs-3.12-bioc/R/library/RcppEigen/include' -I/usr/local/include  -DARMA_DONT_USE_OPENMP -fpic  -g -O2  -Wall -c RcppExports.cpp -o RcppExports.o
In file included from /home/biocbuild/bbs-3.12-bioc/R/library/RcppEigen/include/Eigen/Core:392,
                 from /home/biocbuild/bbs-3.12-bioc/R/library/RcppEigen/include/Eigen/Dense:1,
                 from /home/biocbuild/bbs-3.12-bioc/R/library/RcppEigen/include/RcppEigenForward.h:30,
                 from /home/biocbuild/bbs-3.12-bioc/R/library/RcppEigen/include/RcppEigen.h:25,
                 from RcppExports.cpp:5:
/home/biocbuild/bbs-3.12-bioc/R/library/RcppEigen/include/Eigen/src/Core/arch/SSE/PacketMath.h:60:39: warning: ignoring attributes on template argument ‘__m128’ {aka ‘__vector(4) float’} [-Wignored-attributes]
   60 | template<> struct is_arithmetic<__m128>  { enum { value = true }; };
      |                                       ^
/home/biocbuild/bbs-3.12-bioc/R/library/RcppEigen/include/Eigen/src/Core/arch/SSE/PacketMath.h:61:40: warning: ignoring attributes on template argument ‘__m128i’ {aka ‘__vector(2) long long int’} [-Wignored-attributes]
   61 | template<> struct is_arithmetic<__m128i> { enum { value = true }; };
      |                                        ^
/home/biocbuild/bbs-3.12-bioc/R/library/RcppEigen/include/Eigen/src/Core/arch/SSE/PacketMath.h:62:40: warning: ignoring attributes on template argument ‘__m128d’ {aka ‘__vector(2) double’} [-Wignored-attributes]
   62 | template<> struct is_arithmetic<__m128d> { enum { value = true }; };
      |                                        ^
/home/biocbuild/bbs-3.12-bioc/R/library/RcppEigen/include/Eigen/src/Core/arch/SSE/PacketMath.h:161:43: warning: ignoring attributes on template argument ‘Eigen::internal::Packet4f’ {aka ‘__vector(4) float’} [-Wignored-attributes]
  161 | template<> struct unpacket_traits<Packet4f> { typedef float  type; enum {size=4, alignment=Aligned16}; typedef Packet4f half; };
      |                                           ^
/home/biocbuild/bbs-3.12-bioc/R/library/RcppEigen/include/Eigen/src/Core/arch/SSE/PacketMath.h:162:43: warning: ignoring attributes on template argument ‘Eigen::internal::Packet2d’ {aka ‘__vector(2) double’} [-Wignored-attributes]
  162 | template<> struct unpacket_traits<Packet2d> { typedef double type; enum {size=2, alignment=Aligned16}; typedef Packet2d half; };
      |                                           ^
/home/biocbuild/bbs-3.12-bioc/R/library/RcppEigen/include/Eigen/src/Core/arch/SSE/PacketMath.h:163:43: warning: ignoring attributes on template argument ‘Eigen::internal::Packet4i’ {aka ‘__vector(2) long long int’} [-Wignored-attributes]
  163 | template<> struct unpacket_traits<Packet4i> { typedef int    type; enum {size=4, alignment=Aligned16}; typedef Packet4i half; };
      |                                           ^
/home/biocbuild/bbs-3.12-bioc/R/library/RcppEigen/include/Eigen/src/Core/arch/SSE/PacketMath.h:718:35: warning: ignoring attributes on template argument ‘Eigen::internal::Packet4f’ {aka ‘__vector(4) float’} [-Wignored-attributes]
  718 | struct palign_impl<Offset,Packet4f>
      |                                   ^
/home/biocbuild/bbs-3.12-bioc/R/library/RcppEigen/include/Eigen/src/Core/arch/SSE/PacketMath.h:741:35: warning: ignoring attributes on template argument ‘Eigen::internal::Packet4i’ {aka ‘__vector(2) long long int’} [-Wignored-attributes]
  741 | struct palign_impl<Offset,Packet4i>
      |                                   ^
/home/biocbuild/bbs-3.12-bioc/R/library/RcppEigen/include/Eigen/src/Core/arch/SSE/PacketMath.h:764:35: warning: ignoring attributes on template argument ‘Eigen::internal::Packet2d’ {aka ‘__vector(2) double’} [-Wignored-attributes]
  764 | struct palign_impl<Offset,Packet2d>
      |                                   ^
/home/biocbuild/bbs-3.12-bioc/R/library/RcppEigen/include/Eigen/src/Core/arch/SSE/PacketMath.h:778:34: warning: ignoring attributes on template argument ‘Eigen::internal::Packet4f’ {aka ‘__vector(4) float’} [-Wignored-attributes]
  778 | ptranspose(PacketBlock<Packet4f,4>& kernel) {
      |                                  ^
/home/biocbuild/bbs-3.12-bioc/R/library/RcppEigen/include/Eigen/src/Core/arch/SSE/PacketMath.h:783:34: warning: ignoring attributes on template argument ‘Eigen::internal::Packet2d’ {aka ‘__vector(2) double’} [-Wignored-attributes]
  783 | ptranspose(PacketBlock<Packet2d,2>& kernel) {
      |                                  ^
/home/biocbuild/bbs-3.12-bioc/R/library/RcppEigen/include/Eigen/src/Core/arch/SSE/PacketMath.h:790:34: warning: ignoring attributes on template argument ‘Eigen::internal::Packet4i’ {aka ‘__vector(2) long long int’} [-Wignored-attributes]
  790 | ptranspose(PacketBlock<Packet4i,4>& kernel) {
      |                                  ^
In file included from /home/biocbuild/bbs-3.12-bioc/R/library/RcppEigen/include/Eigen/Core:374,
                 from /home/biocbuild/bbs-3.12-bioc/R/library/RcppEigen/include/Eigen/Dense:1,
                 from /home/biocbuild/bbs-3.12-bioc/R/library/RcppEigen/include/RcppEigenForward.h:30,
                 from /home/biocbuild/bbs-3.12-bioc/R/library/RcppEigen/include/RcppEigen.h:25,
                 from RcppExports.cpp:5:
/home/biocbuild/bbs-3.12-bioc/R/library/RcppEigen/include/Eigen/src/Core/arch/Default/ConjHelper.h:15:70: warning: ignoring attributes on template argument ‘Eigen::internal::Packet4f’ {aka ‘__vector(4) float’} [-Wignored-attributes]
   15 |   template<> struct conj_helper<PACKET_REAL, PACKET_CPLX, false,false> {                                          \
      |                                                                      ^
/home/biocbuild/bbs-3.12-bioc/R/library/RcppEigen/include/Eigen/src/Core/arch/SSE/Complex.h:232:1: note: in expansion of macro ‘EIGEN_MAKE_CONJ_HELPER_CPLX_REAL’
  232 | EIGEN_MAKE_CONJ_HELPER_CPLX_REAL(Packet2cf,Packet4f)
      | ^~~~~~~~~~~~~~~~~~~~~~~~~~~~~~~~
/home/biocbuild/bbs-3.12-bioc/R/library/RcppEigen/include/Eigen/src/Core/arch/Default/ConjHelper.h:22:70: warning: ignoring attributes on template argument ‘Eigen::internal::Packet4f’ {aka ‘__vector(4) float’} [-Wignored-attributes]
   22 |   template<> struct conj_helper<PACKET_CPLX, PACKET_REAL, false,false> {                                          \
      |                                                                      ^
/home/biocbuild/bbs-3.12-bioc/R/library/RcppEigen/include/Eigen/src/Core/arch/SSE/Complex.h:232:1: note: in expansion of macro ‘EIGEN_MAKE_CONJ_HELPER_CPLX_REAL’
  232 | EIGEN_MAKE_CONJ_HELPER_CPLX_REAL(Packet2cf,Packet4f)
      | ^~~~~~~~~~~~~~~~~~~~~~~~~~~~~~~~
/home/biocbuild/bbs-3.12-bioc/R/library/RcppEigen/include/Eigen/src/Core/arch/Default/ConjHelper.h:15:70: warning: ignoring attributes on template argument ‘Eigen::internal::Packet2d’ {aka ‘__vector(2) double’} [-Wignored-attributes]
   15 |   template<> struct conj_helper<PACKET_REAL, PACKET_CPLX, false,false> {                                          \
      |                                                                      ^
/home/biocbuild/bbs-3.12-bioc/R/library/RcppEigen/include/Eigen/src/Core/arch/SSE/Complex.h:417:1: note: in expansion of macro ‘EIGEN_MAKE_CONJ_HELPER_CPLX_REAL’
  417 | EIGEN_MAKE_CONJ_HELPER_CPLX_REAL(Packet1cd,Packet2d)
      | ^~~~~~~~~~~~~~~~~~~~~~~~~~~~~~~~
/home/biocbuild/bbs-3.12-bioc/R/library/RcppEigen/include/Eigen/src/Core/arch/Default/ConjHelper.h:22:70: warning: ignoring attributes on template argument ‘Eigen::internal::Packet2d’ {aka ‘__vector(2) double’} [-Wignored-attributes]
   22 |   template<> struct conj_helper<PACKET_CPLX, PACKET_REAL, false,false> {                                          \
      |                                                                      ^
/home/biocbuild/bbs-3.12-bioc/R/library/RcppEigen/include/Eigen/src/Core/arch/SSE/Complex.h:417:1: note: in expansion of macro ‘EIGEN_MAKE_CONJ_HELPER_CPLX_REAL’
  417 | EIGEN_MAKE_CONJ_HELPER_CPLX_REAL(Packet1cd,Packet2d)
      | ^~~~~~~~~~~~~~~~~~~~~~~~~~~~~~~~
In file included from /home/biocbuild/bbs-3.12-bioc/R/library/RcppEigen/include/Eigen/Core:367,
                 from /home/biocbuild/bbs-3.12-bioc/R/library/RcppEigen/include/Eigen/Dense:1,
                 from /home/biocbuild/bbs-3.12-bioc/R/library/RcppEigen/include/RcppEigenForward.h:30,
                 from /home/biocbuild/bbs-3.12-bioc/R/library/RcppEigen/include/RcppEigen.h:25,
                 from RcppExports.cpp:5:
/home/biocbuild/bbs-3.12-bioc/R/library/RcppEigen/include/Eigen/src/Core/util/XprHelper.h: In instantiation of ‘struct Eigen::internal::find_best_packet<float, 4>’:
/home/biocbuild/bbs-3.12-bioc/R/library/RcppEigen/include/Eigen/src/Core/Matrix.h:22:57:   required from ‘struct Eigen::internal::traits<Eigen::Matrix<float, 4, 1> >’
/home/biocbuild/bbs-3.12-bioc/R/library/RcppEigen/include/Eigen/src/Geometry/Quaternion.h:224:7:   required from ‘struct Eigen::internal::traits<Eigen::Quaternion<float> >’
/home/biocbuild/bbs-3.12-bioc/R/library/RcppEigen/include/Eigen/src/Geometry/arch/Geometry_SSE.h:24:46:   required from here
/home/biocbuild/bbs-3.12-bioc/R/library/RcppEigen/include/Eigen/src/Core/util/XprHelper.h:170:44: warning: ignoring attributes on template argument ‘Eigen::internal::packet_traits<float>::type’ {aka ‘__vector(4) float’} [-Wignored-attributes]
  170 |          bool Stop = Size==Dynamic || (Size%unpacket_traits<PacketType>::size)==0 || is_same<PacketType,typename unpacket_traits<PacketType>::half>::value>
      |                                       ~~~~~^~~~~~~~~~~~~~~~~~~~~~~~~~~~~~~~~~~
/home/biocbuild/bbs-3.12-bioc/R/library/RcppEigen/include/Eigen/src/Core/util/XprHelper.h:170:83: warning: ignoring attributes on template argument ‘Eigen::internal::packet_traits<float>::type’ {aka ‘__vector(4) float’} [-Wignored-attributes]
  170 |          bool Stop = Size==Dynamic || (Size%unpacket_traits<PacketType>::size)==0 || is_same<PacketType,typename unpacket_traits<PacketType>::half>::value>
      |                      ~~~~~~~~~~~~~~~~~~~~~~~~~~~~~~~~~~~~~~~~~~~~~~~~~~~~~~~~~~~~~^~~~~~~~~~~~~~~~~~~~~~~~~~~~~~~~~~~~~~~~~~~~~~~~~~~~~~~~~~~~~~~~~~~~~~~~
/home/biocbuild/bbs-3.12-bioc/R/library/RcppEigen/include/Eigen/src/Core/util/XprHelper.h:170:83: warning: ignoring attributes on template argument ‘Eigen::internal::packet_traits<float>::type’ {aka ‘__vector(4) float’} [-Wignored-attributes]
/home/biocbuild/bbs-3.12-bioc/R/library/RcppEigen/include/Eigen/src/Core/util/XprHelper.h:170:83: warning: ignoring attributes on template argument ‘Eigen::internal::unpacket_traits<__vector(4) float>::half’ {aka ‘__vector(4) float’} [-Wignored-attributes]
/home/biocbuild/bbs-3.12-bioc/R/library/RcppEigen/include/Eigen/src/Core/util/XprHelper.h:188:88: warning: ignoring attributes on template argument ‘Eigen::internal::packet_traits<float>::type’ {aka ‘__vector(4) float’} [-Wignored-attributes]
  188 |   typedef typename find_best_packet_helper<Size,typename packet_traits<T>::type>::type type;
      |                                                                                        ^~~~
In file included from /home/biocbuild/bbs-3.12-bioc/R/library/RcppEigen/include/Eigen/Core:434,
                 from /home/biocbuild/bbs-3.12-bioc/R/library/RcppEigen/include/Eigen/Dense:1,
                 from /home/biocbuild/bbs-3.12-bioc/R/library/RcppEigen/include/RcppEigenForward.h:30,
                 from /home/biocbuild/bbs-3.12-bioc/R/library/RcppEigen/include/RcppEigen.h:25,
                 from RcppExports.cpp:5:
/home/biocbuild/bbs-3.12-bioc/R/library/RcppEigen/include/Eigen/src/Core/DenseCoeffsBase.h: In instantiation of ‘class Eigen::DenseCoeffsBase<Eigen::Matrix<float, 4, 1>, 0>’:
/home/biocbuild/bbs-3.12-bioc/R/library/RcppEigen/include/Eigen/src/Core/DenseCoeffsBase.h:300:7:   required from ‘class Eigen::DenseCoeffsBase<Eigen::Matrix<float, 4, 1>, 1>’
/home/biocbuild/bbs-3.12-bioc/R/library/RcppEigen/include/Eigen/src/Core/DenseCoeffsBase.h:551:7:   required from ‘class Eigen::DenseCoeffsBase<Eigen::Matrix<float, 4, 1>, 3>’
/home/biocbuild/bbs-3.12-bioc/R/library/RcppEigen/include/Eigen/src/Core/DenseBase.h:41:34:   required from ‘class Eigen::DenseBase<Eigen::Matrix<float, 4, 1> >’
/home/biocbuild/bbs-3.12-bioc/R/library/RcppEigen/include/Eigen/src/Core/MatrixBase.h:48:34:   required from ‘class Eigen::MatrixBase<Eigen::Matrix<float, 4, 1> >’
/home/biocbuild/bbs-3.12-bioc/R/library/RcppEigen/include/Eigen/src/Core/PlainObjectBase.h:98:7:   required from ‘class Eigen::PlainObjectBase<Eigen::Matrix<float, 4, 1> >’
/home/biocbuild/bbs-3.12-bioc/R/library/RcppEigen/include/Eigen/src/Core/Matrix.h:178:7:   required from ‘class Eigen::Matrix<float, 4, 1>’
/home/biocbuild/bbs-3.12-bioc/R/library/RcppEigen/include/Eigen/src/Geometry/Quaternion.h:46:50:   required from ‘class Eigen::QuaternionBase<Eigen::Quaternion<float> >’
/home/biocbuild/bbs-3.12-bioc/R/library/RcppEigen/include/Eigen/src/Geometry/Quaternion.h:232:7:   required from ‘class Eigen::Quaternion<float>’
/home/biocbuild/bbs-3.12-bioc/R/library/RcppEigen/include/Eigen/src/Geometry/arch/Geometry_SSE.h:27:3:   required from here
/home/biocbuild/bbs-3.12-bioc/R/library/RcppEigen/include/Eigen/src/Core/DenseCoeffsBase.h:55:30: warning: ignoring attributes on template argument ‘Eigen::internal::packet_traits<float>::type’ {aka ‘__vector(4) float’} [-Wignored-attributes]
   55 |                      >::type PacketReturnType;
      |                              ^~~~~~~~~~~~~~~~
In file included from /home/biocbuild/bbs-3.12-bioc/R/library/RcppEigen/include/Eigen/Core:367,
                 from /home/biocbuild/bbs-3.12-bioc/R/library/RcppEigen/include/Eigen/Dense:1,
                 from /home/biocbuild/bbs-3.12-bioc/R/library/RcppEigen/include/RcppEigenForward.h:30,
                 from /home/biocbuild/bbs-3.12-bioc/R/library/RcppEigen/include/RcppEigen.h:25,
                 from RcppExports.cpp:5:
/home/biocbuild/bbs-3.12-bioc/R/library/RcppEigen/include/Eigen/src/Core/util/XprHelper.h: In instantiation of ‘struct Eigen::internal::find_best_packet<double, 4>’:
/home/biocbuild/bbs-3.12-bioc/R/library/RcppEigen/include/Eigen/src/Core/Matrix.h:22:57:   required from ‘struct Eigen::internal::traits<Eigen::Matrix<double, 4, 1> >’
/home/biocbuild/bbs-3.12-bioc/R/library/RcppEigen/include/Eigen/src/Geometry/Quaternion.h:224:7:   required from ‘struct Eigen::internal::traits<Eigen::Quaternion<double> >’
/home/biocbuild/bbs-3.12-bioc/R/library/RcppEigen/include/Eigen/src/Geometry/arch/Geometry_SSE.h:88:47:   required from here
/home/biocbuild/bbs-3.12-bioc/R/library/RcppEigen/include/Eigen/src/Core/util/XprHelper.h:170:44: warning: ignoring attributes on template argument ‘Eigen::internal::packet_traits<double>::type’ {aka ‘__vector(2) double’} [-Wignored-attributes]
  170 |          bool Stop = Size==Dynamic || (Size%unpacket_traits<PacketType>::size)==0 || is_same<PacketType,typename unpacket_traits<PacketType>::half>::value>
      |                                       ~~~~~^~~~~~~~~~~~~~~~~~~~~~~~~~~~~~~~~~~
/home/biocbuild/bbs-3.12-bioc/R/library/RcppEigen/include/Eigen/src/Core/util/XprHelper.h:170:83: warning: ignoring attributes on template argument ‘Eigen::internal::packet_traits<double>::type’ {aka ‘__vector(2) double’} [-Wignored-attributes]
  170 |          bool Stop = Size==Dynamic || (Size%unpacket_traits<PacketType>::size)==0 || is_same<PacketType,typename unpacket_traits<PacketType>::half>::value>
      |                      ~~~~~~~~~~~~~~~~~~~~~~~~~~~~~~~~~~~~~~~~~~~~~~~~~~~~~~~~~~~~~^~~~~~~~~~~~~~~~~~~~~~~~~~~~~~~~~~~~~~~~~~~~~~~~~~~~~~~~~~~~~~~~~~~~~~~~
/home/biocbuild/bbs-3.12-bioc/R/library/RcppEigen/include/Eigen/src/Core/util/XprHelper.h:170:83: warning: ignoring attributes on template argument ‘Eigen::internal::packet_traits<double>::type’ {aka ‘__vector(2) double’} [-Wignored-attributes]
/home/biocbuild/bbs-3.12-bioc/R/library/RcppEigen/include/Eigen/src/Core/util/XprHelper.h:170:83: warning: ignoring attributes on template argument ‘Eigen::internal::unpacket_traits<__vector(2) double>::half’ {aka ‘__vector(2) double’} [-Wignored-attributes]
/home/biocbuild/bbs-3.12-bioc/R/library/RcppEigen/include/Eigen/src/Core/util/XprHelper.h:188:88: warning: ignoring attributes on template argument ‘Eigen::internal::packet_traits<double>::type’ {aka ‘__vector(2) double’} [-Wignored-attributes]
  188 |   typedef typename find_best_packet_helper<Size,typename packet_traits<T>::type>::type type;
      |                                                                                        ^~~~
In file included from /home/biocbuild/bbs-3.12-bioc/R/library/RcppEigen/include/Eigen/Core:434,
                 from /home/biocbuild/bbs-3.12-bioc/R/library/RcppEigen/include/Eigen/Dense:1,
                 from /home/biocbuild/bbs-3.12-bioc/R/library/RcppEigen/include/RcppEigenForward.h:30,
                 from /home/biocbuild/bbs-3.12-bioc/R/library/RcppEigen/include/RcppEigen.h:25,
                 from RcppExports.cpp:5:
/home/biocbuild/bbs-3.12-bioc/R/library/RcppEigen/include/Eigen/src/Core/DenseCoeffsBase.h: In instantiation of ‘class Eigen::DenseCoeffsBase<Eigen::Matrix<double, 4, 1>, 0>’:
/home/biocbuild/bbs-3.12-bioc/R/library/RcppEigen/include/Eigen/src/Core/DenseCoeffsBase.h:300:7:   required from ‘class Eigen::DenseCoeffsBase<Eigen::Matrix<double, 4, 1>, 1>’
/home/biocbuild/bbs-3.12-bioc/R/library/RcppEigen/include/Eigen/src/Core/DenseCoeffsBase.h:551:7:   required from ‘class Eigen::DenseCoeffsBase<Eigen::Matrix<double, 4, 1>, 3>’
/home/biocbuild/bbs-3.12-bioc/R/library/RcppEigen/include/Eigen/src/Core/DenseBase.h:41:34:   required from ‘class Eigen::DenseBase<Eigen::Matrix<double, 4, 1> >’
/home/biocbuild/bbs-3.12-bioc/R/library/RcppEigen/include/Eigen/src/Core/MatrixBase.h:48:34:   required from ‘class Eigen::MatrixBase<Eigen::Matrix<double, 4, 1> >’
/home/biocbuild/bbs-3.12-bioc/R/library/RcppEigen/include/Eigen/src/Core/PlainObjectBase.h:98:7:   required from ‘class Eigen::PlainObjectBase<Eigen::Matrix<double, 4, 1> >’
/home/biocbuild/bbs-3.12-bioc/R/library/RcppEigen/include/Eigen/src/Core/Matrix.h:178:7:   required from ‘class Eigen::Matrix<double, 4, 1>’
/home/biocbuild/bbs-3.12-bioc/R/library/RcppEigen/include/Eigen/src/Geometry/Quaternion.h:46:50:   required from ‘class Eigen::QuaternionBase<Eigen::Quaternion<double> >’
/home/biocbuild/bbs-3.12-bioc/R/library/RcppEigen/include/Eigen/src/Geometry/Quaternion.h:232:7:   required from ‘class Eigen::Quaternion<double>’
/home/biocbuild/bbs-3.12-bioc/R/library/RcppEigen/include/Eigen/src/Geometry/arch/Geometry_SSE.h:92:3:   required from here
/home/biocbuild/bbs-3.12-bioc/R/library/RcppEigen/include/Eigen/src/Core/DenseCoeffsBase.h:55:30: warning: ignoring attributes on template argument ‘Eigen::internal::packet_traits<double>::type’ {aka ‘__vector(2) double’} [-Wignored-attributes]
   55 |                      >::type PacketReturnType;
      |                              ^~~~~~~~~~~~~~~~
In file included from /home/biocbuild/bbs-3.12-bioc/R/library/RcppEigen/include/Eigen/SparseCore:37,
                 from /home/biocbuild/bbs-3.12-bioc/R/library/RcppEigen/include/Eigen/Sparse:26,
                 from /home/biocbuild/bbs-3.12-bioc/R/library/RcppEigen/include/RcppEigenForward.h:31,
                 from /home/biocbuild/bbs-3.12-bioc/R/library/RcppEigen/include/RcppEigen.h:25,
                 from RcppExports.cpp:5:
/home/biocbuild/bbs-3.12-bioc/R/library/RcppEigen/include/Eigen/src/SparseCore/SparseMatrixBase.h: In instantiation of ‘class Eigen::SparseMatrixBase<Eigen::SparseMatrix<double, 0, int> >’:
/home/biocbuild/bbs-3.12-bioc/R/library/RcppEigen/include/Eigen/src/SparseCore/SparseCompressedBase.h:36:7:   required from ‘class Eigen::SparseCompressedBase<Eigen::SparseMatrix<double, 0, int> >’
/home/biocbuild/bbs-3.12-bioc/R/library/RcppEigen/include/Eigen/src/SparseCore/SparseMatrix.h:96:7:   required from ‘class Eigen::SparseMatrix<double, 0, int>’
/home/biocbuild/bbs-3.12-bioc/R/library/RcppEigen/include/unsupported/Eigen/src/IterativeSolvers/ConstrainedConjGrad.h:61:25:   required from here
/home/biocbuild/bbs-3.12-bioc/R/library/RcppEigen/include/Eigen/src/SparseCore/SparseMatrixBase.h:47:30: warning: ignoring attributes on template argument ‘Eigen::internal::packet_traits<double>::type’ {aka ‘__vector(2) double’} [-Wignored-attributes]
   47 |                      >::type PacketReturnType;
      |                              ^~~~~~~~~~~~~~~~
In file included from /home/biocbuild/bbs-3.12-bioc/R/library/RcppEigen/include/Eigen/Core:367,
                 from /home/biocbuild/bbs-3.12-bioc/R/library/RcppEigen/include/Eigen/Dense:1,
                 from /home/biocbuild/bbs-3.12-bioc/R/library/RcppEigen/include/RcppEigenForward.h:30,
                 from /home/biocbuild/bbs-3.12-bioc/R/library/RcppEigen/include/RcppEigen.h:25,
                 from RcppExports.cpp:5:
/home/biocbuild/bbs-3.12-bioc/R/library/RcppEigen/include/Eigen/src/Core/util/XprHelper.h: In instantiation of ‘struct Eigen::internal::find_best_packet<int, -1>’:
/home/biocbuild/bbs-3.12-bioc/R/library/RcppEigen/include/Eigen/src/Core/Matrix.h:22:57:   required from ‘struct Eigen::internal::traits<Eigen::Matrix<int, -1, 1> >’
/home/biocbuild/bbs-3.12-bioc/R/library/RcppEigen/include/Eigen/src/Core/PlainObjectBase.h:98:7:   required from ‘class Eigen::PlainObjectBase<Eigen::Matrix<int, -1, 1> >’
/home/biocbuild/bbs-3.12-bioc/R/library/RcppEigen/include/Eigen/src/Core/Matrix.h:178:7:   required from ‘class Eigen::Matrix<int, -1, 1>’
/home/biocbuild/bbs-3.12-bioc/R/library/RcppEigen/include/unsupported/Eigen/src/KroneckerProduct/KroneckerTensorProduct.h:168:29:   required from here
/home/biocbuild/bbs-3.12-bioc/R/library/RcppEigen/include/Eigen/src/Core/util/XprHelper.h:170:44: warning: ignoring attributes on template argument ‘Eigen::internal::packet_traits<int>::type’ {aka ‘__vector(2) long long int’} [-Wignored-attributes]
  170 |          bool Stop = Size==Dynamic || (Size%unpacket_traits<PacketType>::size)==0 || is_same<PacketType,typename unpacket_traits<PacketType>::half>::value>
      |                                       ~~~~~^~~~~~~~~~~~~~~~~~~~~~~~~~~~~~~~~~~
/home/biocbuild/bbs-3.12-bioc/R/library/RcppEigen/include/Eigen/src/Core/util/XprHelper.h:170:83: warning: ignoring attributes on template argument ‘Eigen::internal::packet_traits<int>::type’ {aka ‘__vector(2) long long int’} [-Wignored-attributes]
  170 |          bool Stop = Size==Dynamic || (Size%unpacket_traits<PacketType>::size)==0 || is_same<PacketType,typename unpacket_traits<PacketType>::half>::value>
      |                      ~~~~~~~~~~~~~~~~~~~~~~~~~~~~~~~~~~~~~~~~~~~~~~~~~~~~~~~~~~~~~^~~~~~~~~~~~~~~~~~~~~~~~~~~~~~~~~~~~~~~~~~~~~~~~~~~~~~~~~~~~~~~~~~~~~~~~
/home/biocbuild/bbs-3.12-bioc/R/library/RcppEigen/include/Eigen/src/Core/util/XprHelper.h:170:83: warning: ignoring attributes on template argument ‘Eigen::internal::packet_traits<int>::type’ {aka ‘__vector(2) long long int’} [-Wignored-attributes]
/home/biocbuild/bbs-3.12-bioc/R/library/RcppEigen/include/Eigen/src/Core/util/XprHelper.h:170:83: warning: ignoring attributes on template argument ‘Eigen::internal::unpacket_traits<__vector(2) long long int>::half’ {aka ‘__vector(2) long long int’} [-Wignored-attributes]
/home/biocbuild/bbs-3.12-bioc/R/library/RcppEigen/include/Eigen/src/Core/util/XprHelper.h:188:88: warning: ignoring attributes on template argument ‘Eigen::internal::packet_traits<int>::type’ {aka ‘__vector(2) long long int’} [-Wignored-attributes]
  188 |   typedef typename find_best_packet_helper<Size,typename packet_traits<T>::type>::type type;
      |                                                                                        ^~~~
In file included from /home/biocbuild/bbs-3.12-bioc/R/library/RcppEigen/include/Eigen/Core:434,
                 from /home/biocbuild/bbs-3.12-bioc/R/library/RcppEigen/include/Eigen/Dense:1,
                 from /home/biocbuild/bbs-3.12-bioc/R/library/RcppEigen/include/RcppEigenForward.h:30,
                 from /home/biocbuild/bbs-3.12-bioc/R/library/RcppEigen/include/RcppEigen.h:25,
                 from RcppExports.cpp:5:
/home/biocbuild/bbs-3.12-bioc/R/library/RcppEigen/include/Eigen/src/Core/DenseCoeffsBase.h: In instantiation of ‘class Eigen::DenseCoeffsBase<Eigen::Matrix<int, -1, 1>, 0>’:
/home/biocbuild/bbs-3.12-bioc/R/library/RcppEigen/include/Eigen/src/Core/DenseCoeffsBase.h:300:7:   required from ‘class Eigen::DenseCoeffsBase<Eigen::Matrix<int, -1, 1>, 1>’
/home/biocbuild/bbs-3.12-bioc/R/library/RcppEigen/include/Eigen/src/Core/DenseCoeffsBase.h:551:7:   required from ‘class Eigen::DenseCoeffsBase<Eigen::Matrix<int, -1, 1>, 3>’
/home/biocbuild/bbs-3.12-bioc/R/library/RcppEigen/include/Eigen/src/Core/DenseBase.h:41:34:   required from ‘class Eigen::DenseBase<Eigen::Matrix<int, -1, 1> >’
/home/biocbuild/bbs-3.12-bioc/R/library/RcppEigen/include/Eigen/src/Core/MatrixBase.h:48:34:   required from ‘class Eigen::MatrixBase<Eigen::Matrix<int, -1, 1> >’
/home/biocbuild/bbs-3.12-bioc/R/library/RcppEigen/include/Eigen/src/Core/PlainObjectBase.h:98:7:   required from ‘class Eigen::PlainObjectBase<Eigen::Matrix<int, -1, 1> >’
/home/biocbuild/bbs-3.12-bioc/R/library/RcppEigen/include/Eigen/src/Core/Matrix.h:178:7:   required from ‘class Eigen::Matrix<int, -1, 1>’
/home/biocbuild/bbs-3.12-bioc/R/library/RcppEigen/include/unsupported/Eigen/src/KroneckerProduct/KroneckerTensorProduct.h:168:29:   required from here
/home/biocbuild/bbs-3.12-bioc/R/library/RcppEigen/include/Eigen/src/Core/DenseCoeffsBase.h:55:30: warning: ignoring attributes on template argument ‘Eigen::internal::packet_traits<int>::type’ {aka ‘__vector(2) long long int’} [-Wignored-attributes]
   55 |                      >::type PacketReturnType;
      |                              ^~~~~~~~~~~~~~~~
/home/biocbuild/bbs-3.12-bioc/R/library/RcppEigen/include/Eigen/src/Core/DenseCoeffsBase.h: In instantiation of ‘class Eigen::DenseCoeffsBase<Eigen::Transpose<Eigen::Matrix<int, -1, 1> >, 0>’:
/home/biocbuild/bbs-3.12-bioc/R/library/RcppEigen/include/Eigen/src/Core/DenseCoeffsBase.h:300:7:   required from ‘class Eigen::DenseCoeffsBase<Eigen::Transpose<Eigen::Matrix<int, -1, 1> >, 1>’
/home/biocbuild/bbs-3.12-bioc/R/library/RcppEigen/include/Eigen/src/Core/DenseCoeffsBase.h:551:7:   required from ‘class Eigen::DenseCoeffsBase<Eigen::Transpose<Eigen::Matrix<int, -1, 1> >, 3>’
/home/biocbuild/bbs-3.12-bioc/R/library/RcppEigen/include/Eigen/src/Core/DenseBase.h:41:34:   required from ‘class Eigen::DenseBase<Eigen::Transpose<Eigen::Matrix<int, -1, 1> > >’
/home/biocbuild/bbs-3.12-bioc/R/library/RcppEigen/include/Eigen/src/Core/MatrixBase.h:48:34:   required from ‘class Eigen::MatrixBase<Eigen::Transpose<Eigen::Matrix<int, -1, 1> > >’
/home/biocbuild/bbs-3.12-bioc/R/library/RcppEigen/include/Eigen/src/Core/Transpose.h:115:37:   required from ‘class Eigen::TransposeImpl<Eigen::Matrix<int, -1, 1>, Eigen::Dense>’
/home/biocbuild/bbs-3.12-bioc/R/library/RcppEigen/include/Eigen/src/Core/Transpose.h:52:37:   required from ‘class Eigen::Transpose<Eigen::Matrix<int, -1, 1> >’
/home/biocbuild/bbs-3.12-bioc/R/library/RcppEigen/include/unsupported/Eigen/src/KroneckerProduct/KroneckerTensorProduct.h:178:72:   required from here
/home/biocbuild/bbs-3.12-bioc/R/library/RcppEigen/include/Eigen/src/Core/DenseCoeffsBase.h:55:30: warning: ignoring attributes on template argument ‘Eigen::internal::packet_traits<int>::type’ {aka ‘__vector(2) long long int’} [-Wignored-attributes]
/home/biocbuild/bbs-3.12-bioc/R/library/RcppEigen/include/Eigen/src/Core/DenseCoeffsBase.h: In instantiation of ‘class Eigen::DenseCoeffsBase<Eigen::Matrix<int, -1, -1>, 0>’:
/home/biocbuild/bbs-3.12-bioc/R/library/RcppEigen/include/Eigen/src/Core/DenseCoeffsBase.h:300:7:   required from ‘class Eigen::DenseCoeffsBase<Eigen::Matrix<int, -1, -1>, 1>’
/home/biocbuild/bbs-3.12-bioc/R/library/RcppEigen/include/Eigen/src/Core/DenseCoeffsBase.h:551:7:   required from ‘class Eigen::DenseCoeffsBase<Eigen::Matrix<int, -1, -1>, 3>’
/home/biocbuild/bbs-3.12-bioc/R/library/RcppEigen/include/Eigen/src/Core/DenseBase.h:41:34:   required from ‘class Eigen::DenseBase<Eigen::Matrix<int, -1, -1> >’
/home/biocbuild/bbs-3.12-bioc/R/library/RcppEigen/include/Eigen/src/Core/MatrixBase.h:48:34:   required from ‘class Eigen::MatrixBase<Eigen::Matrix<int, -1, -1> >’
/home/biocbuild/bbs-3.12-bioc/R/library/RcppEigen/include/Eigen/src/Core/PlainObjectBase.h:98:7:   required from ‘class Eigen::PlainObjectBase<Eigen::Matrix<int, -1, -1> >’
/home/biocbuild/bbs-3.12-bioc/R/library/RcppEigen/include/Eigen/src/Core/Matrix.h:178:7:   required from ‘class Eigen::Matrix<int, -1, -1>’
/home/biocbuild/bbs-3.12-bioc/R/library/RcppEigen/include/unsupported/Eigen/src/KroneckerProduct/KroneckerTensorProduct.h:179:36:   required from here
/home/biocbuild/bbs-3.12-bioc/R/library/RcppEigen/include/Eigen/src/Core/DenseCoeffsBase.h:55:30: warning: ignoring attributes on template argument ‘Eigen::internal::packet_traits<int>::type’ {aka ‘__vector(2) long long int’} [-Wignored-attributes]
g++ -std=gnu++11 -shared -L/home/biocbuild/bbs-3.12-bioc/R/lib -L/usr/local/lib -o BDMMAcorrect.so MCMC_algorithm.o RcppExports.o -L/home/biocbuild/bbs-3.12-bioc/R/lib -lRlapack -L/home/biocbuild/bbs-3.12-bioc/R/lib -lRblas -lgfortran -lm -lquadmath -g -O2 -msse2 -mfpmath=sse -L/home/biocbuild/bbs-3.12-bioc/R/lib -lR
installing to /home/biocbuild/bbs-3.12-bioc/R/library/00LOCK-BDMMAcorrect/00new/BDMMAcorrect/libs
** R
** data
*** moving datasets to lazyload DB
** inst
** byte-compile and prepare package for lazy loading
** help
*** installing help indices
** building package indices
** installing vignettes
** testing if installed package can be loaded from temporary location
** checking absolute paths in shared objects and dynamic libraries
** testing if installed package can be loaded from final location
** testing if installed package keeps a record of temporary installation path
* DONE (BDMMAcorrect)

Tests output

BDMMAcorrect.Rcheck/tests/Test.Rout


R version 4.0.3 (2020-10-10) -- "Bunny-Wunnies Freak Out"
Copyright (C) 2020 The R Foundation for Statistical Computing
Platform: x86_64-pc-linux-gnu (64-bit)

R is free software and comes with ABSOLUTELY NO WARRANTY.
You are welcome to redistribute it under certain conditions.
Type 'license()' or 'licence()' for distribution details.

R is a collaborative project with many contributors.
Type 'contributors()' for more information and
'citation()' on how to cite R or R packages in publications.

Type 'demo()' for some demos, 'help()' for on-line help, or
'help.start()' for an HTML browser interface to help.
Type 'q()' to quit R.

> BiocGenerics:::testPackage("BDMMAcorrect")
This is vegan 2.5-6

Attaching package: 'ellipse'

The following object is masked from 'package:graphics':

    pairs


Attaching package: 'MatrixGenerics'

The following objects are masked from 'package:matrixStats':

    colAlls, colAnyNAs, colAnys, colAvgsPerRowSet, colCollapse,
    colCounts, colCummaxs, colCummins, colCumprods, colCumsums,
    colDiffs, colIQRDiffs, colIQRs, colLogSumExps, colMadDiffs,
    colMads, colMaxs, colMeans2, colMedians, colMins, colOrderStats,
    colProds, colQuantiles, colRanges, colRanks, colSdDiffs, colSds,
    colSums2, colTabulates, colVarDiffs, colVars, colWeightedMads,
    colWeightedMeans, colWeightedMedians, colWeightedSds,
    colWeightedVars, rowAlls, rowAnyNAs, rowAnys, rowAvgsPerColSet,
    rowCollapse, rowCounts, rowCummaxs, rowCummins, rowCumprods,
    rowCumsums, rowDiffs, rowIQRDiffs, rowIQRs, rowLogSumExps,
    rowMadDiffs, rowMads, rowMaxs, rowMeans2, rowMedians, rowMins,
    rowOrderStats, rowProds, rowQuantiles, rowRanges, rowRanks,
    rowSdDiffs, rowSds, rowSums2, rowTabulates, rowVarDiffs, rowVars,
    rowWeightedMads, rowWeightedMeans, rowWeightedMedians,
    rowWeightedSds, rowWeightedVars


Attaching package: 'BiocGenerics'

The following objects are masked from 'package:parallel':

    clusterApply, clusterApplyLB, clusterCall, clusterEvalQ,
    clusterExport, clusterMap, parApply, parCapply, parLapply,
    parLapplyLB, parRapply, parSapply, parSapplyLB

The following objects are masked from 'package:stats':

    IQR, mad, sd, var, xtabs

The following objects are masked from 'package:base':

    Filter, Find, Map, Position, Reduce, anyDuplicated, append,
    as.data.frame, basename, cbind, colnames, dirname, do.call,
    duplicated, eval, evalq, get, grep, grepl, intersect, is.unsorted,
    lapply, mapply, match, mget, order, paste, pmax, pmax.int, pmin,
    pmin.int, rank, rbind, rownames, sapply, setdiff, sort, table,
    tapply, union, unique, unsplit, which.max, which.min


Attaching package: 'S4Vectors'

The following object is masked from 'package:base':

    expand.grid

Welcome to Bioconductor

    Vignettes contain introductory material; view with
    'browseVignettes()'. To cite Bioconductor, see
    'citation("Biobase")', and for packages 'citation("pkgname")'.


Attaching package: 'Biobase'

The following object is masked from 'package:MatrixGenerics':

    rowMedians

The following objects are masked from 'package:matrixStats':

    anyMissing, rowMedians

#################### Start MCMC ####################

Iteration = 50
Iteration = 100
Iteration = 150
Iteration = 200


RUNIT TEST PROTOCOL -- Wed Oct 28 19:58:06 2020 
*********************************************** 
Number of test functions: 1 
Number of errors: 0 
Number of failures: 0 

 
1 Test Suite : 
BDMMAcorrect RUnit Tests - 1 test function, 0 errors, 0 failures
Number of test functions: 1 
Number of errors: 0 
Number of failures: 0 
> 
> proc.time()
   user  system elapsed 
  6.977   0.424   7.388 

Example timings

BDMMAcorrect.Rcheck/BDMMAcorrect-Ex.timings

nameusersystemelapsed
BDMMA0.0030.0000.004
VBatch0.8660.0160.882
fdr_cut0.0020.0000.003
trace_plot0.0010.0000.002