Back to Multiple platform build/check report for BioC 3.12
A[B]CDEFGHIJKLMNOPQRSTUVWXYZ

BUILD BIN report for BADER on tokay1

This page was generated on 2020-09-28 11:16:49 -0400 (Mon, 28 Sep 2020).

TO THE DEVELOPERS/MAINTAINERS OF THE BADER PACKAGE: Please make sure to use the following settings in order to reproduce any error or warning you see on this page.
Package 103/1923HostnameOS / ArchINSTALLBUILDCHECKBUILD BIN
BADER 1.27.0
Andreas Neudecker
Snapshot Date: 2020-09-27 14:41:58 -0400 (Sun, 27 Sep 2020)
URL: https://git.bioconductor.org/packages/BADER
Branch: master
Last Commit: 46df1d0
Last Changed Date: 2020-04-27 14:36:18 -0400 (Mon, 27 Apr 2020)
malbec1 Linux (Ubuntu 18.04.4 LTS) / x86_64  OK  OK  OK UNNEEDED, same version exists in internal repository
nebbiolo1 Linux (Ubuntu 20.04.1 LTS) / x86_64  OK  OK  OK 
tokay1 Windows Server 2012 R2 Standard / x64  OK  OK  OK [ OK ]UNNEEDED, same version exists in internal repository
riesling1 Windows Server 2019 Standard / x64  OK  OK  OK  OK 
merida1 macOS 10.14.6 Mojave / x86_64  OK  OK  OK  OK UNNEEDED, same version exists in internal repository

Summary

Package: BADER
Version: 1.27.0
Command: rm -rf BADER.buildbin-libdir && mkdir BADER.buildbin-libdir && C:\Users\biocbuild\bbs-3.12-bioc\R\bin\R.exe CMD INSTALL --merge-multiarch --build --library=BADER.buildbin-libdir BADER_1.27.0.tar.gz
StartedAt: 2020-09-28 08:12:47 -0400 (Mon, 28 Sep 2020)
EndedAt: 2020-09-28 08:13:32 -0400 (Mon, 28 Sep 2020)
EllapsedTime: 45.3 seconds
RetCode: 0
Status:  OK  
PackageFile: BADER_1.27.0.zip
PackageFileSize: 343.8 KiB

Command output

##############################################################################
##############################################################################
###
### Running command:
###
###   rm -rf BADER.buildbin-libdir && mkdir BADER.buildbin-libdir && C:\Users\biocbuild\bbs-3.12-bioc\R\bin\R.exe CMD INSTALL --merge-multiarch --build --library=BADER.buildbin-libdir BADER_1.27.0.tar.gz
###
##############################################################################
##############################################################################



install for i386

* installing *source* package 'BADER' ...
** using staged installation
** libs
"C:/rtools40/mingw32/bin/"g++ -std=gnu++11  -I"C:/Users/BIOCBU~1/BBS-3~1.12-/R/include" -DNDEBUG     -I"C:/extsoft/include"     -O2 -Wall  -mfpmath=sse -msse2 -mstackrealign -c meth.cpp -o meth.o
C:/rtools40/mingw32/bin/g++ -std=gnu++11 -shared -s -static-libgcc -o BADER.dll tmp.def meth.o -LC:/extsoft/lib/i386 -LC:/extsoft/lib -LC:/Users/BIOCBU~1/BBS-3~1.12-/R/bin/i386 -lR
installing to C:/Users/biocbuild/bbs-3.12-bioc/meat/BADER.buildbin-libdir/00LOCK-BADER/00new/BADER/libs/i386
** R
** inst
** byte-compile and prepare package for lazy loading
** help
*** installing help indices
  converting help for package 'BADER'
    finding HTML links ... done
    BADER                                   html  
** building package indices
** installing vignettes
** testing if installed package can be loaded from temporary location
** testing if installed package can be loaded from final location
** testing if installed package keeps a record of temporary installation path

install for x64

* installing *source* package 'BADER' ...
** libs
"C:/rtools40/mingw64/bin/"g++ -std=gnu++11  -I"C:/Users/BIOCBU~1/BBS-3~1.12-/R/include" -DNDEBUG     -I"C:/extsoft/include"     -O2 -Wall  -mfpmath=sse -msse2 -mstackrealign -c meth.cpp -o meth.o
C:/rtools40/mingw64/bin/g++ -std=gnu++11 -shared -s -static-libgcc -o BADER.dll tmp.def meth.o -LC:/extsoft/lib/x64 -LC:/extsoft/lib -LC:/Users/BIOCBU~1/BBS-3~1.12-/R/bin/x64 -lR
installing to C:/Users/biocbuild/bbs-3.12-bioc/meat/BADER.buildbin-libdir/BADER/libs/x64
** testing if installed package can be loaded
* MD5 sums
packaged installation of 'BADER' as BADER_1.27.0.zip
* DONE (BADER)