Back to Multiple platform build/check report for BioC 3.12
[A]BCDEFGHIJKLMNOPQRSTUVWXYZ

INSTALL report for ArrayTools on riesling1

This page was generated on 2020-10-28 13:27:44 -0400 (Wed, 28 Oct 2020).

TO THE DEVELOPERS/MAINTAINERS OF THE ArrayTools PACKAGE: Please make sure to use the following settings in order to reproduce any error or warning you see on this page.
Package 86/1974HostnameOS / ArchINSTALLBUILDCHECKBUILD BIN
ArrayTools 1.50.0
Arthur Li
Snapshot Date: 2020-10-27 13:12:07 -0400 (Tue, 27 Oct 2020)
URL: https://git.bioconductor.org/packages/ArrayTools
Branch: RELEASE_3_12
Last Commit: 01c515f
Last Changed Date: 2020-10-27 10:34:24 -0400 (Tue, 27 Oct 2020)
malbec1 Linux (Ubuntu 18.04.4 LTS) / x86_64  OK  OK  OK YES, new version is higher than in internal repository
nebbiolo1 Linux (Ubuntu 20.04.1 LTS) / x86_64  OK  OK  OK 
tokay1 Windows Server 2012 R2 Standard / x64  OK  OK  OK  OK YES, new version is higher than in internal repository
riesling1 Windows Server 2019 Standard / x64 [ OK ] OK  OK  OK 
merida1 macOS 10.14.6 Mojave / x86_64  OK  OK  OK  OK YES, new version is higher than in internal repository

Summary

Package: ArrayTools
Version: 1.50.0
Command: C:\cygwin\bin\curl.exe -O http://172.29.0.3/BBS/3.12/bioc/src/contrib/ArrayTools_1.50.0.tar.gz && rm -rf ArrayTools.buildbin-libdir && mkdir ArrayTools.buildbin-libdir && D:\biocbuild\bbs-3.12-bioc\R\bin\R.exe CMD INSTALL --merge-multiarch --build --library=ArrayTools.buildbin-libdir ArrayTools_1.50.0.tar.gz && D:\biocbuild\bbs-3.12-bioc\R\bin\R.exe CMD INSTALL ArrayTools_1.50.0.zip && rm ArrayTools_1.50.0.tar.gz ArrayTools_1.50.0.zip
StartedAt: 2020-10-27 16:50:24 -0400 (Tue, 27 Oct 2020)
EndedAt: 2020-10-27 16:51:45 -0400 (Tue, 27 Oct 2020)
EllapsedTime: 80.7 seconds
RetCode: 0
Status:  OK  

Command output

##############################################################################
##############################################################################
###
### Running command:
###
###   C:\cygwin\bin\curl.exe -O http://172.29.0.3/BBS/3.12/bioc/src/contrib/ArrayTools_1.50.0.tar.gz && rm -rf ArrayTools.buildbin-libdir && mkdir ArrayTools.buildbin-libdir && D:\biocbuild\bbs-3.12-bioc\R\bin\R.exe CMD INSTALL --merge-multiarch --build --library=ArrayTools.buildbin-libdir ArrayTools_1.50.0.tar.gz && D:\biocbuild\bbs-3.12-bioc\R\bin\R.exe CMD INSTALL ArrayTools_1.50.0.zip && rm ArrayTools_1.50.0.tar.gz ArrayTools_1.50.0.zip
###
##############################################################################
##############################################################################


  % Total    % Received % Xferd  Average Speed   Time    Time     Time  Current
                                 Dload  Upload   Total   Spent    Left  Speed

  0     0    0     0    0     0      0      0 --:--:-- --:--:-- --:--:--     0
100  172k  100  172k    0     0   724k      0 --:--:-- --:--:-- --:--:--  724k

install for i386

* installing *source* package 'ArrayTools' ...
** using staged installation
** R
** data
** byte-compile and prepare package for lazy loading
** help
*** installing help indices
  converting help for package 'ArrayTools'
    finding HTML links ... done
    Output2HTML                             html  
    QC                                      html  
    Sort                                    html  
    adjustment                              html  
    contrastMatrix-class                    html  
    createExpressionSet                     html  
    createGSEAFiles                         html  
    createIndex                             html  
    createIngenuityFile                     html  
    designMatrix-class                      html  
    eSetExample                             html  
    exprsExample                            html  
    geneFilter                              html  
    getAdjP                                 html  
    getAnnotation                           html  
    getCompare1                             html  
    getCompare2                             html  
    getContrast                             html  
    getCovariates                           html  
    getDesign                               html  
    getF                                    html  
    getFC                                   html  
    getFCCutoff                             html  
    getFilterMethod                         html  
    getID                                   html  
    getIndex                                html  
    getIntIndex                             html  
    getInteraction                          html  
    getLength                               html  
    getLevel                                html  
    getNormalizationMethod                  html  
    getP                                    html  
    getPCutoff                              html  
    getTarget                               html  
    hugene10stCONTROL                       html  
    interactionResult-class                 html  
    mogene10stCONTROL                       html  
    output.cls                              html  
    output.gct                              html  
    output.ing                              html  
    pDataExample                            html  
    postInteraction                         html  
    preProcess3prime                        html  
    preProcessGeneST                        html  
    qa3prime                                html  
    qaGeneST                                html  
    regress                                 html  
    regressResult-class                     html  
    regressionMethod                        html  
    selectSigGene                           html  
    selectSigGeneInt                        html  
** building package indices
** installing vignettes
** testing if installed package can be loaded from temporary location
** testing if installed package can be loaded from final location
** testing if installed package keeps a record of temporary installation path

install for x64

* installing *source* package 'ArrayTools' ...
** testing if installed package can be loaded
* MD5 sums
packaged installation of 'ArrayTools' as ArrayTools_1.50.0.zip
* DONE (ArrayTools)
* installing to library 'D:/biocbuild/bbs-3.12-bioc/R/library'
package 'ArrayTools' successfully unpacked and MD5 sums checked