Back to Multiple platform build/check report for BioC 3.12
[A]BCDEFGHIJKLMNOPQRSTUVWXYZ

BUILD report for AnnotationHub on tokay1

This page was generated on 2020-09-28 11:16:40 -0400 (Mon, 28 Sep 2020).

TO THE DEVELOPERS/MAINTAINERS OF THE AnnotationHub PACKAGE: Please make sure to use the following settings in order to reproduce any error or warning you see on this page.
Package 63/1923HostnameOS / ArchINSTALLBUILDCHECKBUILD BIN
AnnotationHub 2.21.5
Bioconductor Package Maintainer
Snapshot Date: 2020-09-27 14:41:58 -0400 (Sun, 27 Sep 2020)
URL: https://git.bioconductor.org/packages/AnnotationHub
Branch: master
Last Commit: 3c9b7ba
Last Changed Date: 2020-08-26 08:04:50 -0400 (Wed, 26 Aug 2020)
malbec1 Linux (Ubuntu 18.04.4 LTS) / x86_64  OK  OK  WARNINGS UNNEEDED, same version exists in internal repository
nebbiolo1 Linux (Ubuntu 20.04.1 LTS) / x86_64  OK  OK  WARNINGS 
tokay1 Windows Server 2012 R2 Standard / x64  OK [ OK ] WARNINGS  OK UNNEEDED, same version exists in internal repository
riesling1 Windows Server 2019 Standard / x64  OK  OK  WARNINGS  OK 
merida1 macOS 10.14.6 Mojave / x86_64  OK  OK  WARNINGS  OK UNNEEDED, same version exists in internal repository

Summary

Package: AnnotationHub
Version: 2.21.5
Command: chmod a+r AnnotationHub -R && C:\Users\biocbuild\bbs-3.12-bioc\R\bin\R.exe CMD build --keep-empty-dirs --no-resave-data AnnotationHub
StartedAt: 2020-09-27 20:06:43 -0400 (Sun, 27 Sep 2020)
EndedAt: 2020-09-27 20:10:18 -0400 (Sun, 27 Sep 2020)
EllapsedTime: 214.8 seconds
RetCode: 0
Status:  OK  
PackageFile: AnnotationHub_2.21.5.tar.gz
PackageFileSize: 1.247 MiB

Command output

##############################################################################
##############################################################################
###
### Running command:
###
###   chmod a+r AnnotationHub -R && C:\Users\biocbuild\bbs-3.12-bioc\R\bin\R.exe CMD build --keep-empty-dirs --no-resave-data AnnotationHub
###
##############################################################################
##############################################################################


* checking for file 'AnnotationHub/DESCRIPTION' ... OK
* preparing 'AnnotationHub':
* checking DESCRIPTION meta-information ... OK
* installing the package to build vignettes
* creating vignettes ... OK
* checking for LF line-endings in source and make files and shell scripts
* checking for empty or unneeded directories
* building 'AnnotationHub_2.21.5.tar.gz'