Back to Multiple platform build/check report for BioC 3.12
[A]BCDEFGHIJKLMNOPQRSTUVWXYZ

BUILD BIN report for Anaquin on tokay1

This page was generated on 2020-11-24 11:57:27 -0500 (Tue, 24 Nov 2020).

TO THE DEVELOPERS/MAINTAINERS OF THE Anaquin PACKAGE: Please make sure to use the following settings in order to reproduce any error or warning you see on this page.
Package 54/1974HostnameOS / ArchINSTALLBUILDCHECKBUILD BIN
Anaquin 2.14.0
Ted Wong
Snapshot Date: 2020-11-23 14:42:42 -0500 (Mon, 23 Nov 2020)
URL: https://git.bioconductor.org/packages/Anaquin
Branch: RELEASE_3_12
Last Commit: d0a34c9
Last Changed Date: 2020-10-27 11:17:12 -0500 (Tue, 27 Oct 2020)
malbec1 Linux (Ubuntu 18.04.4 LTS) / x86_64  OK  OK  OK UNNEEDED, same version exists in internal repository
nebbiolo1 Linux (Ubuntu 20.04.1 LTS) / x86_64  OK  OK  OK 
tokay1 Windows Server 2012 R2 Standard / x64  OK  OK  OK [ OK ]UNNEEDED, same version exists in internal repository
merida1 macOS 10.14.6 Mojave / x86_64  OK  OK  OK  OK UNNEEDED, same version exists in internal repository

Summary

Package: Anaquin
Version: 2.14.0
Command: rm -rf Anaquin.buildbin-libdir && mkdir Anaquin.buildbin-libdir && C:\Users\biocbuild\bbs-3.12-bioc\R\bin\R.exe CMD INSTALL --merge-multiarch --build --library=Anaquin.buildbin-libdir Anaquin_2.14.0.tar.gz
StartedAt: 2020-11-24 08:49:41 -0500 (Tue, 24 Nov 2020)
EndedAt: 2020-11-24 08:50:04 -0500 (Tue, 24 Nov 2020)
EllapsedTime: 22.9 seconds
RetCode: 0
Status:  OK  
PackageFile: Anaquin_2.14.0.zip
PackageFileSize: 461.8 KiB

Command output

##############################################################################
##############################################################################
###
### Running command:
###
###   rm -rf Anaquin.buildbin-libdir && mkdir Anaquin.buildbin-libdir && C:\Users\biocbuild\bbs-3.12-bioc\R\bin\R.exe CMD INSTALL --merge-multiarch --build --library=Anaquin.buildbin-libdir Anaquin_2.14.0.tar.gz
###
##############################################################################
##############################################################################



install for i386

* installing *source* package 'Anaquin' ...
** using staged installation
** R
** data
*** moving datasets to lazyload DB
** inst
** byte-compile and prepare package for lazy loading
** help
*** installing help indices
  converting help for package 'Anaquin'
    finding HTML links ... done
    RnaQuinGeneMixture                      html  
    RnaQuinIsoformMixture                   html  
    UserGuideData_5.4.5.1                   html  
    UserGuideData_5.4.6.3                   html  
    UserGuideData_5.6.3                     html  
    plotConjoint                            html  
    plotLOD                                 html  
    plotLinear                              html  
    plotLogistic                            html  
    plotROC                                 html  
** building package indices
** installing vignettes
** testing if installed package can be loaded from temporary location
** testing if installed package can be loaded from final location
** testing if installed package keeps a record of temporary installation path

install for x64

* installing *source* package 'Anaquin' ...
** testing if installed package can be loaded
* MD5 sums
packaged installation of 'Anaquin' as Anaquin_2.14.0.zip
* DONE (Anaquin)