Back to Multiple platform build/check report for BioC 3.12
[A]BCDEFGHIJKLMNOPQRSTUVWXYZ

INSTALL report for Anaquin on riesling1

This page was generated on 2020-10-28 13:27:37 -0400 (Wed, 28 Oct 2020).

TO THE DEVELOPERS/MAINTAINERS OF THE Anaquin PACKAGE: Please make sure to use the following settings in order to reproduce any error or warning you see on this page.
Package 54/1974HostnameOS / ArchINSTALLBUILDCHECKBUILD BIN
Anaquin 2.14.0
Ted Wong
Snapshot Date: 2020-10-27 13:12:07 -0400 (Tue, 27 Oct 2020)
URL: https://git.bioconductor.org/packages/Anaquin
Branch: RELEASE_3_12
Last Commit: d0a34c9
Last Changed Date: 2020-10-27 11:17:12 -0400 (Tue, 27 Oct 2020)
malbec1 Linux (Ubuntu 18.04.4 LTS) / x86_64  OK  OK  OK YES, new version is higher than in internal repository
nebbiolo1 Linux (Ubuntu 20.04.1 LTS) / x86_64  OK  OK  OK 
tokay1 Windows Server 2012 R2 Standard / x64  OK  OK  OK  OK YES, new version is higher than in internal repository
riesling1 Windows Server 2019 Standard / x64 [ OK ] OK  OK  OK 
merida1 macOS 10.14.6 Mojave / x86_64  OK  OK  OK  OK YES, new version is higher than in internal repository

Summary

Package: Anaquin
Version: 2.14.0
Command: C:\cygwin\bin\curl.exe -O http://172.29.0.3/BBS/3.12/bioc/src/contrib/Anaquin_2.14.0.tar.gz && rm -rf Anaquin.buildbin-libdir && mkdir Anaquin.buildbin-libdir && D:\biocbuild\bbs-3.12-bioc\R\bin\R.exe CMD INSTALL --merge-multiarch --build --library=Anaquin.buildbin-libdir Anaquin_2.14.0.tar.gz && D:\biocbuild\bbs-3.12-bioc\R\bin\R.exe CMD INSTALL Anaquin_2.14.0.zip && rm Anaquin_2.14.0.tar.gz Anaquin_2.14.0.zip
StartedAt: 2020-10-27 17:24:04 -0400 (Tue, 27 Oct 2020)
EndedAt: 2020-10-27 17:25:18 -0400 (Tue, 27 Oct 2020)
EllapsedTime: 74.5 seconds
RetCode: 0
Status:  OK  

Command output

##############################################################################
##############################################################################
###
### Running command:
###
###   C:\cygwin\bin\curl.exe -O http://172.29.0.3/BBS/3.12/bioc/src/contrib/Anaquin_2.14.0.tar.gz && rm -rf Anaquin.buildbin-libdir && mkdir Anaquin.buildbin-libdir && D:\biocbuild\bbs-3.12-bioc\R\bin\R.exe CMD INSTALL --merge-multiarch --build --library=Anaquin.buildbin-libdir Anaquin_2.14.0.tar.gz && D:\biocbuild\bbs-3.12-bioc\R\bin\R.exe CMD INSTALL Anaquin_2.14.0.zip && rm Anaquin_2.14.0.tar.gz Anaquin_2.14.0.zip
###
##############################################################################
##############################################################################


  % Total    % Received % Xferd  Average Speed   Time    Time     Time  Current
                                 Dload  Upload   Total   Spent    Left  Speed

  0     0    0     0    0     0      0      0 --:--:-- --:--:-- --:--:--     0
100 89824  100 89824    0     0  1154k      0 --:--:-- --:--:-- --:--:-- 1154k

install for i386

* installing *source* package 'Anaquin' ...
** using staged installation
** R
** data
*** moving datasets to lazyload DB
** inst
** byte-compile and prepare package for lazy loading
** help
*** installing help indices
  converting help for package 'Anaquin'
    finding HTML links ... done
    RnaQuinGeneMixture                      html  
    RnaQuinIsoformMixture                   html  
    UserGuideData_5.4.5.1                   html  
    UserGuideData_5.4.6.3                   html  
    UserGuideData_5.6.3                     html  
    plotConjoint                            html  
    plotLOD                                 html  
    plotLinear                              html  
    plotLogistic                            html  
    plotROC                                 html  
** building package indices
** installing vignettes
** testing if installed package can be loaded from temporary location
** testing if installed package can be loaded from final location
** testing if installed package keeps a record of temporary installation path

install for x64

* installing *source* package 'Anaquin' ...
** testing if installed package can be loaded
* MD5 sums
packaged installation of 'Anaquin' as Anaquin_2.14.0.zip
* DONE (Anaquin)
* installing to library 'D:/biocbuild/bbs-3.12-bioc/R/library'
package 'Anaquin' successfully unpacked and MD5 sums checked