Back to Multiple platform build/check report for BioC 3.12
[A]BCDEFGHIJKLMNOPQRSTUVWXYZ

INSTALL report for AlphaBeta on nebbiolo1

This page was generated on 2020-09-27 10:15:39 -0400 (Sun, 27 Sep 2020).

TO THE DEVELOPERS/MAINTAINERS OF THE AlphaBeta PACKAGE: Please make sure to use the following settings in order to reproduce any error or warning you see on this page.
Package 43/1923HostnameOS / ArchINSTALLBUILDCHECKBUILD BIN
AlphaBeta 1.3.3
Yadollah Shahryary Dizaji
Snapshot Date: 2020-09-26 14:42:06 -0400 (Sat, 26 Sep 2020)
URL: https://git.bioconductor.org/packages/AlphaBeta
Branch: master
Last Commit: 3497a14
Last Changed Date: 2020-06-06 09:46:58 -0400 (Sat, 06 Jun 2020)
malbec1 Linux (Ubuntu 18.04.4 LTS) / x86_64  OK  OK  OK UNNEEDED, same version exists in internal repository
nebbiolo1 Linux (Ubuntu 20.04.1 LTS) / x86_64 [ OK ] OK  OK 
tokay1 Windows Server 2012 R2 Standard / x64  OK  OK  OK  OK UNNEEDED, same version exists in internal repository
riesling1 Windows Server 2019 Standard / x64  OK  OK  OK  OK 
merida1 macOS 10.14.6 Mojave / x86_64  OK  OK  OK  OK UNNEEDED, same version exists in internal repository

Summary

Package: AlphaBeta
Version: 1.3.3
Command: /home/biocbuild/bbs-3.12-bioc/R/bin/R CMD INSTALL AlphaBeta
StartedAt: 2020-09-26 17:13:05 -0400 (Sat, 26 Sep 2020)
EndedAt: 2020-09-26 17:14:10 -0400 (Sat, 26 Sep 2020)
EllapsedTime: 64.8 seconds
RetCode: 0
Status:  OK 

Command output

##############################################################################
##############################################################################
###
### Running command:
###
###   /home/biocbuild/bbs-3.12-bioc/R/bin/R CMD INSTALL AlphaBeta
###
##############################################################################
##############################################################################


* installing to library ‘/home/biocbuild/bbs-3.12-bioc/R/library’
* installing *source* package ‘AlphaBeta’ ...
** using staged installation
** R
** inst
** byte-compile and prepare package for lazy loading
** help
*** installing help indices
** building package indices
** installing vignettes
** testing if installed package can be loaded from temporary location
** testing if installed package can be loaded from final location
** testing if installed package keeps a record of temporary installation path
* DONE (AlphaBeta)