Back to Multiple platform build/check report for BioC 3.12
[A]BCDEFGHIJKLMNOPQRSTUVWXYZ

BUILD BIN report for AgiMicroRna on merida1

This page was generated on 2021-01-25 11:55:03 -0500 (Mon, 25 Jan 2021).

TO THE DEVELOPERS/MAINTAINERS OF THE AgiMicroRna PACKAGE: Please make sure to use the following settings in order to reproduce any error or warning you see on this page.
Package 40/1974HostnameOS / ArchINSTALLBUILDCHECKBUILD BIN
AgiMicroRna 2.40.0
Pedro Lopez-Romero
Snapshot Date: 2021-01-24 14:40:16 -0500 (Sun, 24 Jan 2021)
URL: https://git.bioconductor.org/packages/AgiMicroRna
Branch: RELEASE_3_12
Last Commit: cfa4acb
Last Changed Date: 2020-10-27 10:36:25 -0500 (Tue, 27 Oct 2020)
malbec1 Linux (Ubuntu 18.04.5 LTS) / x86_64  OK  OK  OK UNNEEDED, same version exists in internal repository
nebbiolo1 Linux (Ubuntu 20.04.1 LTS) / x86_64  OK  OK  OK 
tokay1 Windows Server 2012 R2 Standard / x64  OK  OK  OK  OK UNNEEDED, same version exists in internal repository
merida1 macOS 10.14.6 Mojave / x86_64  OK  OK  OK [ ERROR ]

Summary

Package: AgiMicroRna
Version: 2.40.0
Command: rm -rf AgiMicroRna.buildbin-libdir && mkdir AgiMicroRna.buildbin-libdir && /Users/biocbuild/BBS/utils/build-universal.sh AgiMicroRna_2.40.0.tar.gz /Library/Frameworks/R.framework/Versions/Current/Resources/bin/R AgiMicroRna.buildbin-libdir
StartedAt: 2021-01-25 06:55:13 -0500 (Mon, 25 Jan 2021)
EndedAt: 2021-01-25 06:56:17 -0500 (Mon, 25 Jan 2021)
EllapsedTime: 64.1 seconds
RetCode: 1
Status:  ERROR 
PackageFile: None
PackageFileSize: NA

Command output

##############################################################################
##############################################################################
###
### Running command:
###
###   rm -rf AgiMicroRna.buildbin-libdir && mkdir AgiMicroRna.buildbin-libdir && /Users/biocbuild/BBS/utils/build-universal.sh AgiMicroRna_2.40.0.tar.gz /Library/Frameworks/R.framework/Versions/Current/Resources/bin/R AgiMicroRna.buildbin-libdir
###
##############################################################################
##############################################################################


>>>>>>> 
>>>>>>> INSTALLATION WITH 'R CMD INSTALL --preclean --no-multiarch --library=AgiMicroRna.buildbin-libdir AgiMicroRna_2.40.0.tar.gz'
>>>>>>> 

* installing *source* package ‘AgiMicroRna’ ...
** using staged installation
** R
** data
** inst
** byte-compile and prepare package for lazy loading
Error: package or namespace load failed for ‘affycoretools’:
 .onLoad failed in loadNamespace() for 'biomaRt', details:
  call: httr::set_config(new_config, override = FALSE)
  error: object 'new_config' not found
Error: package ‘affycoretools’ could not be loaded
Execution halted
ERROR: lazy loading failed for package ‘AgiMicroRna’
* removing ‘/Users/biocbuild/bbs-3.12-bioc/meat/AgiMicroRna.buildbin-libdir/AgiMicroRna’