Back to Multiple platform build/check report for BioC 3.12
[A]BCDEFGHIJKLMNOPQRSTUVWXYZ

BUILD report for AffyRNADegradation on nebbiolo1

This page was generated on 2020-11-23 12:15:31 -0500 (Mon, 23 Nov 2020).

TO THE DEVELOPERS/MAINTAINERS OF THE AffyRNADegradation PACKAGE: Please make sure to use the following settings in order to reproduce any error or warning you see on this page.
Package 36/1974HostnameOS / ArchINSTALLBUILDCHECKBUILD BIN
AffyRNADegradation 1.36.0
Mario Fasold
Snapshot Date: 2020-11-22 14:42:09 -0500 (Sun, 22 Nov 2020)
URL: https://git.bioconductor.org/packages/AffyRNADegradation
Branch: RELEASE_3_12
Last Commit: 89662b9
Last Changed Date: 2020-10-27 10:44:13 -0500 (Tue, 27 Oct 2020)
malbec1 Linux (Ubuntu 18.04.4 LTS) / x86_64  OK  OK  OK UNNEEDED, same version exists in internal repository
nebbiolo1 Linux (Ubuntu 20.04.1 LTS) / x86_64  OK [ OK ] OK 
tokay1 Windows Server 2012 R2 Standard / x64  OK  OK  OK  OK UNNEEDED, same version exists in internal repository
merida1 macOS 10.14.6 Mojave / x86_64  OK  OK  OK  OK UNNEEDED, same version exists in internal repository

Summary

Package: AffyRNADegradation
Version: 1.36.0
Command: /home/biocbuild/bbs-3.12-bioc/R/bin/R CMD build --keep-empty-dirs --no-resave-data AffyRNADegradation
StartedAt: 2020-11-22 17:29:31 -0500 (Sun, 22 Nov 2020)
EndedAt: 2020-11-22 17:30:54 -0500 (Sun, 22 Nov 2020)
EllapsedTime: 83.3 seconds
RetCode: 0
Status:  OK 
PackageFile: AffyRNADegradation_1.36.0.tar.gz
PackageFileSize: 308.4 KiB

Command output

##############################################################################
##############################################################################
###
### Running command:
###
###   /home/biocbuild/bbs-3.12-bioc/R/bin/R CMD build --keep-empty-dirs --no-resave-data AffyRNADegradation
###
##############################################################################
##############################################################################


* checking for file ‘AffyRNADegradation/DESCRIPTION’ ... OK
* preparing ‘AffyRNADegradation’:
* checking DESCRIPTION meta-information ... OK
* installing the package to build vignettes
* creating vignettes ... OK
* checking for LF line-endings in source and make files and shell scripts
* checking for empty or unneeded directories
* building ‘AffyRNADegradation_1.36.0.tar.gz’