Back to Multiple platform build/check report for BioC 3.12
[A]BCDEFGHIJKLMNOPQRSTUVWXYZ

BUILD BIN report for AffyRNADegradation on merida1

This page was generated on 2020-09-27 10:22:38 -0400 (Sun, 27 Sep 2020).

TO THE DEVELOPERS/MAINTAINERS OF THE AffyRNADegradation PACKAGE: Please make sure to use the following settings in order to reproduce any error or warning you see on this page.
Package 35/1923HostnameOS / ArchINSTALLBUILDCHECKBUILD BIN
AffyRNADegradation 1.35.0
Mario Fasold
Snapshot Date: 2020-09-26 14:42:06 -0400 (Sat, 26 Sep 2020)
URL: https://git.bioconductor.org/packages/AffyRNADegradation
Branch: master
Last Commit: a30a663
Last Changed Date: 2020-04-27 14:28:04 -0400 (Mon, 27 Apr 2020)
malbec1 Linux (Ubuntu 18.04.4 LTS) / x86_64  OK  OK  OK UNNEEDED, same version exists in internal repository
nebbiolo1 Linux (Ubuntu 20.04.1 LTS) / x86_64  OK  OK  OK 
tokay1 Windows Server 2012 R2 Standard / x64  OK  OK  OK  OK UNNEEDED, same version exists in internal repository
riesling1 Windows Server 2019 Standard / x64  OK  OK  OK  OK 
merida1 macOS 10.14.6 Mojave / x86_64  OK  OK  OK [ OK ]UNNEEDED, same version exists in internal repository

Summary

Package: AffyRNADegradation
Version: 1.35.0
Command: rm -rf AffyRNADegradation.buildbin-libdir && mkdir AffyRNADegradation.buildbin-libdir && /Users/biocbuild/BBS/utils/build-universal.sh AffyRNADegradation_1.35.0.tar.gz /Library/Frameworks/R.framework/Versions/Current/Resources/bin/R AffyRNADegradation.buildbin-libdir
StartedAt: 2020-09-27 08:14:36 -0400 (Sun, 27 Sep 2020)
EndedAt: 2020-09-27 08:15:28 -0400 (Sun, 27 Sep 2020)
EllapsedTime: 52.3 seconds
RetCode: 0
Status:  OK 
PackageFile: AffyRNADegradation_1.35.0.tgz
PackageFileSize: 343.6 KiB

Command output

##############################################################################
##############################################################################
###
### Running command:
###
###   rm -rf AffyRNADegradation.buildbin-libdir && mkdir AffyRNADegradation.buildbin-libdir && /Users/biocbuild/BBS/utils/build-universal.sh AffyRNADegradation_1.35.0.tar.gz /Library/Frameworks/R.framework/Versions/Current/Resources/bin/R AffyRNADegradation.buildbin-libdir
###
##############################################################################
##############################################################################


>>>>>>> 
>>>>>>> INSTALLATION WITH 'R CMD INSTALL --preclean --no-multiarch --library=AffyRNADegradation.buildbin-libdir AffyRNADegradation_1.35.0.tar.gz'
>>>>>>> 

* installing *source* package ‘AffyRNADegradation’ ...
** using staged installation
** R
** inst
** byte-compile and prepare package for lazy loading
** help
*** installing help indices
** building package indices
** installing vignettes
** testing if installed package can be loaded from temporary location
** testing if installed package can be loaded from final location
** testing if installed package keeps a record of temporary installation path
* DONE (AffyRNADegradation)