Back to Multiple platform build/check report for BioC 3.12
[A]BCDEFGHIJKLMNOPQRSTUVWXYZ

BUILD report for AffyCompatible on tokay1

This page was generated on 2020-09-27 10:16:16 -0400 (Sun, 27 Sep 2020).

TO THE DEVELOPERS/MAINTAINERS OF THE AffyCompatible PACKAGE: Please make sure to use the following settings in order to reproduce any error or warning you see on this page.
Package 25/1923HostnameOS / ArchINSTALLBUILDCHECKBUILD BIN
AffyCompatible 1.49.0
Martin Morgan
Snapshot Date: 2020-09-26 14:42:06 -0400 (Sat, 26 Sep 2020)
URL: https://git.bioconductor.org/packages/AffyCompatible
Branch: master
Last Commit: cae1554
Last Changed Date: 2020-04-27 14:17:06 -0400 (Mon, 27 Apr 2020)
malbec1 Linux (Ubuntu 18.04.4 LTS) / x86_64  OK  OK  OK UNNEEDED, same version exists in internal repository
nebbiolo1 Linux (Ubuntu 20.04.1 LTS) / x86_64  OK  OK  OK 
tokay1 Windows Server 2012 R2 Standard / x64  OK [ OK ] OK  OK UNNEEDED, same version exists in internal repository
riesling1 Windows Server 2019 Standard / x64  OK  OK  OK  OK 
merida1 macOS 10.14.6 Mojave / x86_64  OK  OK  OK  OK UNNEEDED, same version exists in internal repository

Summary

Package: AffyCompatible
Version: 1.49.0
Command: chmod a+r AffyCompatible -R && C:\Users\biocbuild\bbs-3.12-bioc\R\bin\R.exe CMD build --keep-empty-dirs --no-resave-data AffyCompatible
StartedAt: 2020-09-26 19:33:26 -0400 (Sat, 26 Sep 2020)
EndedAt: 2020-09-26 19:34:49 -0400 (Sat, 26 Sep 2020)
EllapsedTime: 83.7 seconds
RetCode: 0
Status:  OK  
PackageFile: AffyCompatible_1.49.0.tar.gz
PackageFileSize: 321.1 KiB

Command output

##############################################################################
##############################################################################
###
### Running command:
###
###   chmod a+r AffyCompatible -R && C:\Users\biocbuild\bbs-3.12-bioc\R\bin\R.exe CMD build --keep-empty-dirs --no-resave-data AffyCompatible
###
##############################################################################
##############################################################################


* checking for file 'AffyCompatible/DESCRIPTION' ... OK
* preparing 'AffyCompatible':
* checking DESCRIPTION meta-information ... OK
* installing the package to build vignettes
* creating vignettes ... OK
* checking for LF line-endings in source and make files and shell scripts
* checking for empty or unneeded directories
* looking to see if a 'data/datalist' file should be added
* building 'AffyCompatible_1.49.0.tar.gz'