Back to Multiple platform build/check report for BioC 3.12
[A]BCDEFGHIJKLMNOPQRSTUVWXYZ

INSTALL report for AffyCompatible on merida1

This page was generated on 2020-11-27 11:59:16 -0500 (Fri, 27 Nov 2020).

TO THE DEVELOPERS/MAINTAINERS OF THE AffyCompatible PACKAGE: Please make sure to use the following settings in order to reproduce any error or warning you see on this page.
Package 26/1974HostnameOS / ArchINSTALLBUILDCHECKBUILD BIN
AffyCompatible 1.50.0
Martin Morgan
Snapshot Date: 2020-11-26 14:42:42 -0500 (Thu, 26 Nov 2020)
URL: https://git.bioconductor.org/packages/AffyCompatible
Branch: RELEASE_3_12
Last Commit: 3b12d12
Last Changed Date: 2020-10-27 10:33:21 -0500 (Tue, 27 Oct 2020)
malbec1 Linux (Ubuntu 18.04.4 LTS) / x86_64  OK  OK  OK UNNEEDED, same version exists in internal repository
nebbiolo1 Linux (Ubuntu 20.04.1 LTS) / x86_64  OK  OK  OK 
tokay1 Windows Server 2012 R2 Standard / x64  OK  OK  OK  OK UNNEEDED, same version exists in internal repository
merida1 macOS 10.14.6 Mojave / x86_64 [ OK ] OK  OK  OK UNNEEDED, same version exists in internal repository

Summary

Package: AffyCompatible
Version: 1.50.0
Command: /Library/Frameworks/R.framework/Versions/Current/Resources/bin/R CMD INSTALL AffyCompatible
StartedAt: 2020-11-26 16:25:21 -0500 (Thu, 26 Nov 2020)
EndedAt: 2020-11-26 16:26:39 -0500 (Thu, 26 Nov 2020)
EllapsedTime: 77.9 seconds
RetCode: 0
Status:  OK 

Command output

##############################################################################
##############################################################################
###
### Running command:
###
###   /Library/Frameworks/R.framework/Versions/Current/Resources/bin/R CMD INSTALL AffyCompatible
###
##############################################################################
##############################################################################


* installing to library ‘/Library/Frameworks/R.framework/Versions/4.0/Resources/library’
* installing *source* package ‘AffyCompatible’ ...
** using staged installation
** R
** inst
** byte-compile and prepare package for lazy loading
** help
*** installing help indices
** building package indices
** installing vignettes
** testing if installed package can be loaded from temporary location
** testing if installed package can be loaded from final location
** testing if installed package keeps a record of temporary installation path
* DONE (AffyCompatible)