Back to Multiple platform build/check report for BioC 3.12
[A]BCDEFGHIJKLMNOPQRSTUVWXYZ

BUILD report for ATACseqQC on malbec1

This page was generated on 2020-11-27 11:52:23 -0500 (Fri, 27 Nov 2020).

TO THE DEVELOPERS/MAINTAINERS OF THE ATACseqQC PACKAGE: Please make sure to use the following settings in order to reproduce any error or warning you see on this page.
Package 99/1974HostnameOS / ArchINSTALLBUILDCHECKBUILD BIN
ATACseqQC 1.14.4
Jianhong Ou
Snapshot Date: 2020-11-26 14:42:42 -0500 (Thu, 26 Nov 2020)
URL: https://git.bioconductor.org/packages/ATACseqQC
Branch: RELEASE_3_12
Last Commit: 0728a45
Last Changed Date: 2020-11-05 09:56:56 -0500 (Thu, 05 Nov 2020)
malbec1 Linux (Ubuntu 18.04.4 LTS) / x86_64  OK [ OK ] OK UNNEEDED, same version exists in internal repository
nebbiolo1 Linux (Ubuntu 20.04.1 LTS) / x86_64  OK  OK  OK 
tokay1 Windows Server 2012 R2 Standard / x64  OK  OK  OK  OK UNNEEDED, same version exists in internal repository
merida1 macOS 10.14.6 Mojave / x86_64  OK  OK  OK  OK UNNEEDED, same version exists in internal repository

Summary

Package: ATACseqQC
Version: 1.14.4
Command: /home/biocbuild/bbs-3.12-bioc/R/bin/R CMD build --keep-empty-dirs --no-resave-data ATACseqQC
StartedAt: 2020-11-26 17:44:46 -0500 (Thu, 26 Nov 2020)
EndedAt: 2020-11-26 17:49:24 -0500 (Thu, 26 Nov 2020)
EllapsedTime: 278.8 seconds
RetCode: 0
Status:  OK 
PackageFile: ATACseqQC_1.14.4.tar.gz
PackageFileSize: 13.07 MiB

Command output

##############################################################################
##############################################################################
###
### Running command:
###
###   /home/biocbuild/bbs-3.12-bioc/R/bin/R CMD build --keep-empty-dirs --no-resave-data ATACseqQC
###
##############################################################################
##############################################################################


* checking for file ‘ATACseqQC/DESCRIPTION’ ... OK
* preparing ‘ATACseqQC’:
* checking DESCRIPTION meta-information ... OK
* installing the package to build vignettes
* creating vignettes ... OK
* checking for LF line-endings in source and make files and shell scripts
* checking for empty or unneeded directories
* building ‘ATACseqQC_1.14.4.tar.gz’