Back to Multiple platform build/check report for BioC 3.12
[A]BCDEFGHIJKLMNOPQRSTUVWXYZ

INSTALL report for ASpediaFI on tokay1

This page was generated on 2020-11-26 12:19:13 -0500 (Thu, 26 Nov 2020).

TO THE DEVELOPERS/MAINTAINERS OF THE ASpediaFI PACKAGE: Please make sure to use the following settings in order to reproduce any error or warning you see on this page.
Package 94/1974HostnameOS / ArchINSTALLBUILDCHECKBUILD BIN
ASpediaFI 1.4.0
Doyeong Yu
Snapshot Date: 2020-11-25 14:42:33 -0500 (Wed, 25 Nov 2020)
URL: https://git.bioconductor.org/packages/ASpediaFI
Branch: RELEASE_3_12
Last Commit: d59c4a0
Last Changed Date: 2020-10-27 11:50:40 -0500 (Tue, 27 Oct 2020)
malbec1 Linux (Ubuntu 18.04.4 LTS) / x86_64  OK  OK  OK UNNEEDED, same version exists in internal repository
nebbiolo1 Linux (Ubuntu 20.04.1 LTS) / x86_64  OK  OK  OK 
tokay1 Windows Server 2012 R2 Standard / x64 [ OK ] OK  OK  OK UNNEEDED, same version exists in internal repository
merida1 macOS 10.14.6 Mojave / x86_64  OK  OK  OK  OK UNNEEDED, same version exists in internal repository

Summary

Package: ASpediaFI
Version: 1.4.0
Command: C:\cygwin\bin\curl.exe -O https://malbec1.bioconductor.org/BBS/3.12/bioc/src/contrib/ASpediaFI_1.4.0.tar.gz && rm -rf ASpediaFI.buildbin-libdir && mkdir ASpediaFI.buildbin-libdir && C:\Users\biocbuild\bbs-3.12-bioc\R\bin\R.exe CMD INSTALL --merge-multiarch --build --library=ASpediaFI.buildbin-libdir ASpediaFI_1.4.0.tar.gz && C:\Users\biocbuild\bbs-3.12-bioc\R\bin\R.exe CMD INSTALL ASpediaFI_1.4.0.zip && rm ASpediaFI_1.4.0.tar.gz ASpediaFI_1.4.0.zip
StartedAt: 2020-11-25 19:01:32 -0500 (Wed, 25 Nov 2020)
EndedAt: 2020-11-25 19:04:04 -0500 (Wed, 25 Nov 2020)
EllapsedTime: 152.4 seconds
RetCode: 0
Status:  OK  

Command output

##############################################################################
##############################################################################
###
### Running command:
###
###   C:\cygwin\bin\curl.exe -O https://malbec1.bioconductor.org/BBS/3.12/bioc/src/contrib/ASpediaFI_1.4.0.tar.gz && rm -rf ASpediaFI.buildbin-libdir && mkdir ASpediaFI.buildbin-libdir && C:\Users\biocbuild\bbs-3.12-bioc\R\bin\R.exe CMD INSTALL --merge-multiarch --build --library=ASpediaFI.buildbin-libdir ASpediaFI_1.4.0.tar.gz && C:\Users\biocbuild\bbs-3.12-bioc\R\bin\R.exe CMD INSTALL ASpediaFI_1.4.0.zip && rm ASpediaFI_1.4.0.tar.gz ASpediaFI_1.4.0.zip
###
##############################################################################
##############################################################################


  % Total    % Received % Xferd  Average Speed   Time    Time     Time  Current
                                 Dload  Upload   Total   Spent    Left  Speed

  0     0    0     0    0     0      0      0 --:--:-- --:--:-- --:--:--     0
100 2089k  100 2089k    0     0  32.2M      0 --:--:-- --:--:-- --:--:-- 34.0M

install for i386

* installing *source* package 'ASpediaFI' ...
** using staged installation
** R
** data
** inst
** byte-compile and prepare package for lazy loading
Creating a new generic function for 'as.table' in package 'ASpediaFI'
** help
*** installing help indices
  converting help for package 'ASpediaFI'
    finding HTML links ... done
    ASpediaFI-accessor                      html  
    ASpediaFI-class                         html  
    GSE114922.fpkm                          html  
    GSE114922.psi                           html  
    analyzeFI                               html  
    annotateASevents                        html  
    exportNetwork                           html  
    quantifyPSI                             html  
    visualize                               html  
** building package indices
** installing vignettes
** testing if installed package can be loaded from temporary location
** testing if installed package can be loaded from final location
** testing if installed package keeps a record of temporary installation path

install for x64

* installing *source* package 'ASpediaFI' ...
** testing if installed package can be loaded
* MD5 sums
packaged installation of 'ASpediaFI' as ASpediaFI_1.4.0.zip
* DONE (ASpediaFI)
* installing to library 'C:/Users/biocbuild/bbs-3.12-bioc/R/library'
package 'ASpediaFI' successfully unpacked and MD5 sums checked