Back to Multiple platform build/check report for BioC 3.12
[A]BCDEFGHIJKLMNOPQRSTUVWXYZ

INSTALL report for ASpediaFI on merida1

This page was generated on 2020-11-27 11:59:20 -0500 (Fri, 27 Nov 2020).

TO THE DEVELOPERS/MAINTAINERS OF THE ASpediaFI PACKAGE: Please make sure to use the following settings in order to reproduce any error or warning you see on this page.
Package 94/1974HostnameOS / ArchINSTALLBUILDCHECKBUILD BIN
ASpediaFI 1.4.0
Doyeong Yu
Snapshot Date: 2020-11-26 14:42:42 -0500 (Thu, 26 Nov 2020)
URL: https://git.bioconductor.org/packages/ASpediaFI
Branch: RELEASE_3_12
Last Commit: d59c4a0
Last Changed Date: 2020-10-27 11:50:40 -0500 (Tue, 27 Oct 2020)
malbec1 Linux (Ubuntu 18.04.4 LTS) / x86_64  OK  OK  OK UNNEEDED, same version exists in internal repository
nebbiolo1 Linux (Ubuntu 20.04.1 LTS) / x86_64  OK  OK  OK 
tokay1 Windows Server 2012 R2 Standard / x64  OK  OK  OK  OK UNNEEDED, same version exists in internal repository
merida1 macOS 10.14.6 Mojave / x86_64 [ OK ] OK  OK  OK UNNEEDED, same version exists in internal repository

Summary

Package: ASpediaFI
Version: 1.4.0
Command: /Library/Frameworks/R.framework/Versions/Current/Resources/bin/R CMD INSTALL ASpediaFI
StartedAt: 2020-11-26 17:41:05 -0500 (Thu, 26 Nov 2020)
EndedAt: 2020-11-26 17:42:19 -0500 (Thu, 26 Nov 2020)
EllapsedTime: 74.1 seconds
RetCode: 0
Status:  OK 

Command output

##############################################################################
##############################################################################
###
### Running command:
###
###   /Library/Frameworks/R.framework/Versions/Current/Resources/bin/R CMD INSTALL ASpediaFI
###
##############################################################################
##############################################################################


* installing to library ‘/Library/Frameworks/R.framework/Versions/4.0/Resources/library’
* installing *source* package ‘ASpediaFI’ ...
** using staged installation
** R
** data
** inst
** byte-compile and prepare package for lazy loading
Creating a new generic function for 'as.table' in package 'ASpediaFI'
** help
*** installing help indices
** building package indices
** installing vignettes
** testing if installed package can be loaded from temporary location
** testing if installed package can be loaded from final location
** testing if installed package keeps a record of temporary installation path
* DONE (ASpediaFI)