Back to Multiple platform build/check report for BioC 3.12
[A]BCDEFGHIJKLMNOPQRSTUVWXYZ

INSTALL report for ASICS on riesling1

This page was generated on 2020-10-28 13:27:45 -0400 (Wed, 28 Oct 2020).

TO THE DEVELOPERS/MAINTAINERS OF THE ASICS PACKAGE: Please make sure to use the following settings in order to reproduce any error or warning you see on this page.
Package 93/1974HostnameOS / ArchINSTALLBUILDCHECKBUILD BIN
ASICS 2.6.0
Gaƫlle Lefort
Snapshot Date: 2020-10-27 13:12:07 -0400 (Tue, 27 Oct 2020)
URL: https://git.bioconductor.org/packages/ASICS
Branch: RELEASE_3_12
Last Commit: 99609e3
Last Changed Date: 2020-10-27 11:33:55 -0400 (Tue, 27 Oct 2020)
malbec1 Linux (Ubuntu 18.04.4 LTS) / x86_64  OK  OK  OK YES, new version is higher than in internal repository
nebbiolo1 Linux (Ubuntu 20.04.1 LTS) / x86_64  OK  OK  OK 
tokay1 Windows Server 2012 R2 Standard / x64  OK  OK  OK  OK YES, new version is higher than in internal repository
riesling1 Windows Server 2019 Standard / x64 [ OK ] OK  OK  OK 
merida1 macOS 10.14.6 Mojave / x86_64  OK  OK  OK  OK YES, new version is higher than in internal repository

Summary

Package: ASICS
Version: 2.6.0
Command: C:\cygwin\bin\curl.exe -O http://172.29.0.3/BBS/3.12/bioc/src/contrib/ASICS_2.6.0.tar.gz && rm -rf ASICS.buildbin-libdir && mkdir ASICS.buildbin-libdir && D:\biocbuild\bbs-3.12-bioc\R\bin\R.exe CMD INSTALL --merge-multiarch --build --library=ASICS.buildbin-libdir ASICS_2.6.0.tar.gz && D:\biocbuild\bbs-3.12-bioc\R\bin\R.exe CMD INSTALL ASICS_2.6.0.zip && rm ASICS_2.6.0.tar.gz ASICS_2.6.0.zip
StartedAt: 2020-10-27 17:26:36 -0400 (Tue, 27 Oct 2020)
EndedAt: 2020-10-27 17:27:32 -0400 (Tue, 27 Oct 2020)
EllapsedTime: 55.5 seconds
RetCode: 0
Status:  OK  

Command output

##############################################################################
##############################################################################
###
### Running command:
###
###   C:\cygwin\bin\curl.exe -O http://172.29.0.3/BBS/3.12/bioc/src/contrib/ASICS_2.6.0.tar.gz && rm -rf ASICS.buildbin-libdir && mkdir ASICS.buildbin-libdir && D:\biocbuild\bbs-3.12-bioc\R\bin\R.exe CMD INSTALL --merge-multiarch --build --library=ASICS.buildbin-libdir ASICS_2.6.0.tar.gz && D:\biocbuild\bbs-3.12-bioc\R\bin\R.exe CMD INSTALL ASICS_2.6.0.zip && rm ASICS_2.6.0.tar.gz ASICS_2.6.0.zip
###
##############################################################################
##############################################################################


  % Total    % Received % Xferd  Average Speed   Time    Time     Time  Current
                                 Dload  Upload   Total   Spent    Left  Speed

  0     0    0     0    0     0      0      0 --:--:-- --:--:-- --:--:--     0
 69 3616k   69 2496k    0     0  4457k      0 --:--:-- --:--:-- --:--:-- 4457k
100 3616k  100 3616k    0     0  5659k      0 --:--:-- --:--:-- --:--:-- 5659k

install for i386

* installing *source* package 'ASICS' ...
** using staged installation
** R
** data
*** moving datasets to lazyload DB
** inst
** byte-compile and prepare package for lazy loading
** help
*** installing help indices
  converting help for package 'ASICS'
    finding HTML links ... done
    ASICS                                   html  
    ASICSResults-class                      html  
    ASICSUsersGuide                         html  
    AnalysisResults-class                   html  
    finding level-2 HTML links ... done

    PureLibrary-class                       html  
    Spectra-class                           html  
    accessors-methods                       html  
    alignSpectra                            html  
    binning                                 html  
    combineAndSubset-methods                html  
    createPureLibrary                       html  
    createSpectra                           html  
    formatForAnalysis                       html  
    importSpectra                           html  
    importSpectraBruker                     html  
    kruskalWallis                           html  
    normaliseSpectra                        html  
    oplsda                                  html  
    pca                                     html  
    plotAlignment                           html  
    pure_library                            html  
    simulate_spectra                        html  
    summary-methods                         html  
    visualisation-methods-analyses          html  
    visualisation-methods-spectra           html  
** building package indices
** installing vignettes
   'ASICS.Rmd' using 'UTF-8' 
   'ASICSUsersGuide.Rmd' using 'UTF-8' 
** testing if installed package can be loaded from temporary location
** testing if installed package can be loaded from final location
** testing if installed package keeps a record of temporary installation path

install for x64

* installing *source* package 'ASICS' ...
** testing if installed package can be loaded
* MD5 sums
packaged installation of 'ASICS' as ASICS_2.6.0.zip
* DONE (ASICS)
* installing to library 'D:/biocbuild/bbs-3.12-bioc/R/library'
package 'ASICS' successfully unpacked and MD5 sums checked