Back to Multiple platform build/check report for BioC 3.12
[A]BCDEFGHIJKLMNOPQRSTUVWXYZ

BUILD report for ASGSCA on merida1

This page was generated on 2020-12-01 12:00:58 -0500 (Tue, 01 Dec 2020).

TO THE DEVELOPERS/MAINTAINERS OF THE ASGSCA PACKAGE: Please make sure to use the following settings in order to reproduce any error or warning you see on this page.
Package 92/1974HostnameOS / ArchINSTALLBUILDCHECKBUILD BIN
ASGSCA 1.24.0
Hela Romdhani
Snapshot Date: 2020-11-30 14:42:56 -0500 (Mon, 30 Nov 2020)
URL: https://git.bioconductor.org/packages/ASGSCA
Branch: RELEASE_3_12
Last Commit: 7f9f2f0
Last Changed Date: 2020-10-27 10:59:45 -0500 (Tue, 27 Oct 2020)
malbec1 Linux (Ubuntu 18.04.4 LTS) / x86_64  OK  OK  OK UNNEEDED, same version exists in internal repository
nebbiolo1 Linux (Ubuntu 20.04.1 LTS) / x86_64  OK  OK  OK 
tokay1 Windows Server 2012 R2 Standard / x64  OK  OK  OK  OK UNNEEDED, same version exists in internal repository
merida1 macOS 10.14.6 Mojave / x86_64  OK [ OK ] OK  OK UNNEEDED, same version exists in internal repository

Summary

Package: ASGSCA
Version: 1.24.0
Command: /Library/Frameworks/R.framework/Versions/Current/Resources/bin/R CMD build --keep-empty-dirs --no-resave-data ASGSCA
StartedAt: 2020-11-30 18:07:06 -0500 (Mon, 30 Nov 2020)
EndedAt: 2020-11-30 18:10:54 -0500 (Mon, 30 Nov 2020)
EllapsedTime: 227.6 seconds
RetCode: 0
Status:  OK 
PackageFile: ASGSCA_1.24.0.tar.gz
PackageFileSize: 1.208 MiB

Command output

##############################################################################
##############################################################################
###
### Running command:
###
###   /Library/Frameworks/R.framework/Versions/Current/Resources/bin/R CMD build --keep-empty-dirs --no-resave-data ASGSCA
###
##############################################################################
##############################################################################


* checking for file ‘ASGSCA/DESCRIPTION’ ... OK
* preparing ‘ASGSCA’:
* checking DESCRIPTION meta-information ... OK
* installing the package to build vignettes
* creating vignettes ... OK
* checking for LF line-endings in source and make files and shell scripts
* checking for empty or unneeded directories
* looking to see if a ‘data/datalist’ file should be added
* building ‘ASGSCA_1.24.0.tar.gz’