Back to Multiple platform build/check report for BioC 3.12
[A]BCDEFGHIJKLMNOPQRSTUVWXYZ

BUILD BIN report for ANF on merida1

This page was generated on 2021-01-17 11:55:03 -0500 (Sun, 17 Jan 2021).

TO THE DEVELOPERS/MAINTAINERS OF THE ANF PACKAGE: Please make sure to use the following settings in order to reproduce any error or warning you see on this page.
Package 57/1974HostnameOS / ArchINSTALLBUILDCHECKBUILD BIN
ANF 1.12.0
Tianle Ma
Snapshot Date: 2021-01-16 14:41:12 -0500 (Sat, 16 Jan 2021)
URL: https://git.bioconductor.org/packages/ANF
Branch: RELEASE_3_12
Last Commit: 39a01f6
Last Changed Date: 2020-10-27 11:28:30 -0500 (Tue, 27 Oct 2020)
malbec1 Linux (Ubuntu 18.04.5 LTS) / x86_64  OK  OK  OK UNNEEDED, same version exists in internal repository
nebbiolo1 Linux (Ubuntu 20.04.1 LTS) / x86_64  OK  OK  OK 
tokay1 Windows Server 2012 R2 Standard / x64  OK  OK  OK  OK UNNEEDED, same version exists in internal repository
merida1 macOS 10.14.6 Mojave / x86_64  OK  OK  OK [ OK ]UNNEEDED, same version exists in internal repository

Summary

Package: ANF
Version: 1.12.0
Command: rm -rf ANF.buildbin-libdir && mkdir ANF.buildbin-libdir && /Users/biocbuild/BBS/utils/build-universal.sh ANF_1.12.0.tar.gz /Library/Frameworks/R.framework/Versions/Current/Resources/bin/R ANF.buildbin-libdir
StartedAt: 2021-01-17 07:36:31 -0500 (Sun, 17 Jan 2021)
EndedAt: 2021-01-17 07:37:37 -0500 (Sun, 17 Jan 2021)
EllapsedTime: 65.9 seconds
RetCode: 0
Status:  OK 
PackageFile: ANF_1.12.0.tgz
PackageFileSize: 253.4 KiB

Command output

##############################################################################
##############################################################################
###
### Running command:
###
###   rm -rf ANF.buildbin-libdir && mkdir ANF.buildbin-libdir && /Users/biocbuild/BBS/utils/build-universal.sh ANF_1.12.0.tar.gz /Library/Frameworks/R.framework/Versions/Current/Resources/bin/R ANF.buildbin-libdir
###
##############################################################################
##############################################################################


>>>>>>> 
>>>>>>> INSTALLATION WITH 'R CMD INSTALL --preclean --no-multiarch --library=ANF.buildbin-libdir ANF_1.12.0.tar.gz'
>>>>>>> 

* installing *source* package ‘ANF’ ...
** using staged installation
** R
** inst
** byte-compile and prepare package for lazy loading
** help
*** installing help indices
** building package indices
** installing vignettes
** testing if installed package can be loaded from temporary location
** testing if installed package can be loaded from final location
** testing if installed package keeps a record of temporary installation path
* DONE (ANF)