Back to Multiple platform build/check report for BioC 3.12
[A]BCDEFGHIJKLMNOPQRSTUVWXYZ

BUILD BIN report for ANCOMBC on tokay1

This page was generated on 2020-12-01 11:57:52 -0500 (Tue, 01 Dec 2020).

TO THE DEVELOPERS/MAINTAINERS OF THE ANCOMBC PACKAGE: Please make sure to use the following settings in order to reproduce any error or warning you see on this page.
Package 55/1974HostnameOS / ArchINSTALLBUILDCHECKBUILD BIN
ANCOMBC 1.0.1
Huang Lin
Snapshot Date: 2020-11-30 14:42:56 -0500 (Mon, 30 Nov 2020)
URL: https://git.bioconductor.org/packages/ANCOMBC
Branch: RELEASE_3_12
Last Commit: aa55bbc
Last Changed Date: 2020-11-20 10:41:08 -0500 (Fri, 20 Nov 2020)
malbec1 Linux (Ubuntu 18.04.4 LTS) / x86_64  OK  OK  OK UNNEEDED, same version exists in internal repository
nebbiolo1 Linux (Ubuntu 20.04.1 LTS) / x86_64  OK  OK  OK 
tokay1 Windows Server 2012 R2 Standard / x64  OK  OK  OK [ OK ]UNNEEDED, same version exists in internal repository
merida1 macOS 10.14.6 Mojave / x86_64  OK  OK  OK  OK UNNEEDED, same version exists in internal repository

Summary

Package: ANCOMBC
Version: 1.0.1
Command: rm -rf ANCOMBC.buildbin-libdir && mkdir ANCOMBC.buildbin-libdir && C:\Users\biocbuild\bbs-3.12-bioc\R\bin\R.exe CMD INSTALL --merge-multiarch --build --library=ANCOMBC.buildbin-libdir ANCOMBC_1.0.1.tar.gz
StartedAt: 2020-12-01 08:46:37 -0500 (Tue, 01 Dec 2020)
EndedAt: 2020-12-01 08:47:03 -0500 (Tue, 01 Dec 2020)
EllapsedTime: 26.6 seconds
RetCode: 0
Status:  OK  
PackageFile: ANCOMBC_1.0.1.zip
PackageFileSize: 403.2 KiB

Command output

##############################################################################
##############################################################################
###
### Running command:
###
###   rm -rf ANCOMBC.buildbin-libdir && mkdir ANCOMBC.buildbin-libdir && C:\Users\biocbuild\bbs-3.12-bioc\R\bin\R.exe CMD INSTALL --merge-multiarch --build --library=ANCOMBC.buildbin-libdir ANCOMBC_1.0.1.tar.gz
###
##############################################################################
##############################################################################



install for i386

* installing *source* package 'ANCOMBC' ...
** using staged installation
** R
** inst
** byte-compile and prepare package for lazy loading
** help
*** installing help indices
  converting help for package 'ANCOMBC'
    finding HTML links ... done
    ancombc                                 html  
** building package indices
** installing vignettes
** testing if installed package can be loaded from temporary location
** testing if installed package can be loaded from final location
** testing if installed package keeps a record of temporary installation path

install for x64

* installing *source* package 'ANCOMBC' ...
** testing if installed package can be loaded
* MD5 sums
packaged installation of 'ANCOMBC' as ANCOMBC_1.0.1.zip
* DONE (ANCOMBC)