Back to Multiple platform build/check report for BioC 3.12
[A]BCDEFGHIJKLMNOPQRSTUVWXYZ

BUILD report for AMARETTO on merida1

This page was generated on 2020-11-26 12:23:23 -0500 (Thu, 26 Nov 2020).

TO THE DEVELOPERS/MAINTAINERS OF THE AMARETTO PACKAGE: Please make sure to use the following settings in order to reproduce any error or warning you see on this page.
Package 51/1974HostnameOS / ArchINSTALLBUILDCHECKBUILD BIN
AMARETTO 1.6.0
Olivier Gevaert
Snapshot Date: 2020-11-25 14:42:33 -0500 (Wed, 25 Nov 2020)
URL: https://git.bioconductor.org/packages/AMARETTO
Branch: RELEASE_3_12
Last Commit: 0deca3f
Last Changed Date: 2020-10-27 11:43:56 -0500 (Tue, 27 Oct 2020)
malbec1 Linux (Ubuntu 18.04.4 LTS) / x86_64  OK  OK  OK UNNEEDED, same version exists in internal repository
nebbiolo1 Linux (Ubuntu 20.04.1 LTS) / x86_64  OK  OK  OK 
tokay1 Windows Server 2012 R2 Standard / x64  OK  OK  OK  OK UNNEEDED, same version exists in internal repository
merida1 macOS 10.14.6 Mojave / x86_64  OK [ OK ] OK  OK UNNEEDED, same version exists in internal repository

Summary

Package: AMARETTO
Version: 1.6.0
Command: /Library/Frameworks/R.framework/Versions/Current/Resources/bin/R CMD build --keep-empty-dirs --no-resave-data AMARETTO
StartedAt: 2020-11-25 18:10:06 -0500 (Wed, 25 Nov 2020)
EndedAt: 2020-11-25 18:11:13 -0500 (Wed, 25 Nov 2020)
EllapsedTime: 66.9 seconds
RetCode: 0
Status:  OK 
PackageFile: AMARETTO_1.6.0.tar.gz
PackageFileSize: 3.121 MiB

Command output

##############################################################################
##############################################################################
###
### Running command:
###
###   /Library/Frameworks/R.framework/Versions/Current/Resources/bin/R CMD build --keep-empty-dirs --no-resave-data AMARETTO
###
##############################################################################
##############################################################################


* checking for file ‘AMARETTO/DESCRIPTION’ ... OK
* preparing ‘AMARETTO’:
* checking DESCRIPTION meta-information ... OK
* installing the package to build vignettes
* creating vignettes ... OK
* checking for LF line-endings in source and make files and shell scripts
* checking for empty or unneeded directories
* building ‘AMARETTO_1.6.0.tar.gz’