Back to Multiple platform build/check report for BioC 3.12
[A]BCDEFGHIJKLMNOPQRSTUVWXYZ

INSTALL report for ALPS on riesling1

This page was generated on 2020-10-28 13:27:35 -0400 (Wed, 28 Oct 2020).

TO THE DEVELOPERS/MAINTAINERS OF THE ALPS PACKAGE: Please make sure to use the following settings in order to reproduce any error or warning you see on this page.
Package 47/1974HostnameOS / ArchINSTALLBUILDCHECKBUILD BIN
ALPS 1.4.0
Venu Thatikonda
Snapshot Date: 2020-10-27 13:12:07 -0400 (Tue, 27 Oct 2020)
URL: https://git.bioconductor.org/packages/ALPS
Branch: RELEASE_3_12
Last Commit: efa0189
Last Changed Date: 2020-10-27 11:50:35 -0400 (Tue, 27 Oct 2020)
malbec1 Linux (Ubuntu 18.04.4 LTS) / x86_64  OK  OK  OK YES, new version is higher than in internal repository
nebbiolo1 Linux (Ubuntu 20.04.1 LTS) / x86_64  OK  OK  OK 
tokay1 Windows Server 2012 R2 Standard / x64  OK  OK  OK  OK YES, new version is higher than in internal repository
riesling1 Windows Server 2019 Standard / x64 [ OK ] OK  OK  OK 
merida1 macOS 10.14.6 Mojave / x86_64  OK  OK  OK  OK YES, new version is higher than in internal repository

Summary

Package: ALPS
Version: 1.4.0
Command: D:\biocbuild\bbs-3.12-bioc\R\bin\R.exe --arch x64 CMD INSTALL --no-multiarch ALPS
StartedAt: 2020-10-27 17:41:01 -0400 (Tue, 27 Oct 2020)
EndedAt: 2020-10-27 17:41:59 -0400 (Tue, 27 Oct 2020)
EllapsedTime: 58.5 seconds
RetCode: 0
Status:  OK  

Command output

##############################################################################
##############################################################################
###
### Running command:
###
###   D:\biocbuild\bbs-3.12-bioc\R\bin\R.exe --arch x64 CMD INSTALL --no-multiarch ALPS
###
##############################################################################
##############################################################################


* installing to library 'D:/biocbuild/bbs-3.12-bioc/R/library'
* installing *source* package 'ALPS' ...
** using staged installation
** R
** inst
** byte-compile and prepare package for lazy loading
** help
*** installing help indices
  converting help for package 'ALPS'
    finding HTML links ... done
    ALPS-package                            html  
    get_genomic_annotations                 html  
    get_variable_regions                    html  
    merge_GR                                html  
    multiBigwig_summary                     html  
    pipe                                    html  
    plot_browser_tracks                     html  
    plot_correlation                        html  
    plot_enrichments                        html  
    plot_genomic_annotations                html  
    plot_motif_logo                         html  
    process_homer                           html  
    process_jaspar                          html  
    process_meme                            html  
    process_pfm                             html  
    process_transfac                        html  
** building package indices
** installing vignettes
** testing if installed package can be loaded from temporary location
** testing if installed package can be loaded from final location
** testing if installed package keeps a record of temporary installation path
* DONE (ALPS)
Making 'packages.html' ... done