Back to Multiple platform build/check report for BioC 3.12
[A]BCDEFGHIJKLMNOPQRSTUVWXYZ

BUILD BIN report for AIMS on riesling1

This page was generated on 2020-10-28 13:27:34 -0400 (Wed, 28 Oct 2020).

TO THE DEVELOPERS/MAINTAINERS OF THE AIMS PACKAGE: Please make sure to use the following settings in order to reproduce any error or warning you see on this page.
Package 41/1974HostnameOS / ArchINSTALLBUILDCHECKBUILD BIN
AIMS 1.22.0
Eric R Paquet
Snapshot Date: 2020-10-27 13:12:07 -0400 (Tue, 27 Oct 2020)
URL: https://git.bioconductor.org/packages/AIMS
Branch: RELEASE_3_12
Last Commit: 34a3897
Last Changed Date: 2020-10-27 11:01:12 -0400 (Tue, 27 Oct 2020)
malbec1 Linux (Ubuntu 18.04.4 LTS) / x86_64  OK  OK  OK YES, new version is higher than in internal repository
nebbiolo1 Linux (Ubuntu 20.04.1 LTS) / x86_64  OK  OK  OK 
tokay1 Windows Server 2012 R2 Standard / x64  OK  OK  OK  OK YES, new version is higher than in internal repository
riesling1 Windows Server 2019 Standard / x64  OK  OK  OK [ OK ]
merida1 macOS 10.14.6 Mojave / x86_64  OK  OK  OK  OK YES, new version is higher than in internal repository

Summary

Package: AIMS
Version: 1.22.0
Command: rm -rf AIMS.buildbin-libdir && mkdir AIMS.buildbin-libdir && D:\biocbuild\bbs-3.12-bioc\R\bin\R.exe CMD INSTALL --merge-multiarch --build --library=AIMS.buildbin-libdir AIMS_1.22.0.tar.gz
StartedAt: 2020-10-27 23:11:23 -0400 (Tue, 27 Oct 2020)
EndedAt: 2020-10-27 23:12:00 -0400 (Tue, 27 Oct 2020)
EllapsedTime: 37.1 seconds
RetCode: 0
Status:  OK  
PackageFile: AIMS_1.22.0.zip
PackageFileSize: 568.7 KiB

Command output

##############################################################################
##############################################################################
###
### Running command:
###
###   rm -rf AIMS.buildbin-libdir && mkdir AIMS.buildbin-libdir && D:\biocbuild\bbs-3.12-bioc\R\bin\R.exe CMD INSTALL --merge-multiarch --build --library=AIMS.buildbin-libdir AIMS_1.22.0.tar.gz
###
##############################################################################
##############################################################################



install for i386

* installing *source* package 'AIMS' ...
** using staged installation
** R
** data
*** moving datasets to lazyload DB
** inst
** byte-compile and prepare package for lazy loading
** help
*** installing help indices
  converting help for package 'AIMS'
    finding HTML links ... done
    AIMSmodel                               html  
    applyAIMS                               html  
    mcgillExample                           html  
** building package indices
** installing vignettes
** testing if installed package can be loaded from temporary location
** testing if installed package can be loaded from final location
** testing if installed package keeps a record of temporary installation path

install for x64

* installing *source* package 'AIMS' ...
** testing if installed package can be loaded
* MD5 sums
packaged installation of 'AIMS' as AIMS_1.22.0.zip
* DONE (AIMS)