Back to Multiple platform build/check report for BioC 3.12
[A]BCDEFGHIJKLMNOPQRSTUVWXYZ

BUILD report for ADAMgui on nebbiolo1

This page was generated on 2021-01-17 11:50:46 -0500 (Sun, 17 Jan 2021).

TO THE DEVELOPERS/MAINTAINERS OF THE ADAMgui PACKAGE: Please make sure to use the following settings in order to reproduce any error or warning you see on this page.
Package 17/1974HostnameOS / ArchINSTALLBUILDCHECKBUILD BIN
ADAMgui 1.6.0
Jose Luiz Rybarczyk Filho
Snapshot Date: 2021-01-16 14:41:12 -0500 (Sat, 16 Jan 2021)
URL: https://git.bioconductor.org/packages/ADAMgui
Branch: RELEASE_3_12
Last Commit: 75782fe
Last Changed Date: 2020-10-27 11:45:19 -0500 (Tue, 27 Oct 2020)
malbec1 Linux (Ubuntu 18.04.5 LTS) / x86_64  OK  OK  OK UNNEEDED, same version exists in internal repository
nebbiolo1 Linux (Ubuntu 20.04.1 LTS) / x86_64  OK [ OK ] OK 
tokay1 Windows Server 2012 R2 Standard / x64  OK  OK  OK  OK UNNEEDED, same version exists in internal repository
merida1 macOS 10.14.6 Mojave / x86_64  OK  OK  OK  OK UNNEEDED, same version exists in internal repository

Summary

Package: ADAMgui
Version: 1.6.0
Command: /home/biocbuild/bbs-3.12-bioc/R/bin/R CMD build --keep-empty-dirs --no-resave-data ADAMgui
StartedAt: 2021-01-16 17:35:22 -0500 (Sat, 16 Jan 2021)
EndedAt: 2021-01-16 17:36:25 -0500 (Sat, 16 Jan 2021)
EllapsedTime: 63.1 seconds
RetCode: 0
Status:  OK 
PackageFile: ADAMgui_1.6.0.tar.gz
PackageFileSize: 1.953 MiB

Command output

##############################################################################
##############################################################################
###
### Running command:
###
###   /home/biocbuild/bbs-3.12-bioc/R/bin/R CMD build --keep-empty-dirs --no-resave-data ADAMgui
###
##############################################################################
##############################################################################


* checking for file ‘ADAMgui/DESCRIPTION’ ... OK
* preparing ‘ADAMgui’:
* checking DESCRIPTION meta-information ... OK
* installing the package to build vignettes
* creating vignettes ... OK
* checking for LF line-endings in source and make files and shell scripts
* checking for empty or unneeded directories
* looking to see if a ‘data/datalist’ file should be added
* building ‘ADAMgui_1.6.0.tar.gz’