Back to Multiple platform build/check report for BioC 3.12 |
|
This page was generated on 2021-05-06 12:29:53 -0400 (Thu, 06 May 2021).
To the developers/maintainers of the ANCOMBC package: Please make sure to use the following settings in order to reproduce any error or warning you see on this page. |
Package 55/1974 | Hostname | OS / Arch | INSTALL | BUILD | CHECK | BUILD BIN | ||||||||
ANCOMBC 1.0.5 (landing page) Huang Lin
| malbec1 | Linux (Ubuntu 18.04.5 LTS) / x86_64 | OK | OK | OK | |||||||||
tokay1 | Windows Server 2012 R2 Standard / x64 | OK | OK | OK | OK | |||||||||
merida1 | macOS 10.14.6 Mojave / x86_64 | OK | OK | OK | OK | |||||||||
Package: ANCOMBC |
Version: 1.0.5 |
Command: C:\cygwin\bin\curl.exe -O http://172.29.0.3/BBS/3.12/bioc/src/contrib/ANCOMBC_1.0.5.tar.gz && rm -rf ANCOMBC.buildbin-libdir && mkdir ANCOMBC.buildbin-libdir && C:\Users\biocbuild\bbs-3.12-bioc\R\bin\R.exe CMD INSTALL --merge-multiarch --build --library=ANCOMBC.buildbin-libdir ANCOMBC_1.0.5.tar.gz && C:\Users\biocbuild\bbs-3.12-bioc\R\bin\R.exe CMD INSTALL ANCOMBC_1.0.5.zip && rm ANCOMBC_1.0.5.tar.gz ANCOMBC_1.0.5.zip |
StartedAt: 2021-05-05 18:34:21 -0400 (Wed, 05 May 2021) |
EndedAt: 2021-05-05 18:34:58 -0400 (Wed, 05 May 2021) |
EllapsedTime: 36.7 seconds |
RetCode: 0 |
Status: OK |
############################################################################## ############################################################################## ### ### Running command: ### ### C:\cygwin\bin\curl.exe -O http://172.29.0.3/BBS/3.12/bioc/src/contrib/ANCOMBC_1.0.5.tar.gz && rm -rf ANCOMBC.buildbin-libdir && mkdir ANCOMBC.buildbin-libdir && C:\Users\biocbuild\bbs-3.12-bioc\R\bin\R.exe CMD INSTALL --merge-multiarch --build --library=ANCOMBC.buildbin-libdir ANCOMBC_1.0.5.tar.gz && C:\Users\biocbuild\bbs-3.12-bioc\R\bin\R.exe CMD INSTALL ANCOMBC_1.0.5.zip && rm ANCOMBC_1.0.5.tar.gz ANCOMBC_1.0.5.zip ### ############################################################################## ############################################################################## % Total % Received % Xferd Average Speed Time Time Time Current Dload Upload Total Spent Left Speed 0 0 0 0 0 0 0 0 --:--:-- --:--:-- --:--:-- 0 100 17662 100 17662 0 0 494k 0 --:--:-- --:--:-- --:--:-- 507k install for i386 * installing *source* package 'ANCOMBC' ... ** using staged installation ** R ** inst ** byte-compile and prepare package for lazy loading ** help Loading required namespace: ANCOMBC *** installing help indices converting help for package 'ANCOMBC' finding HTML links ... done ancombc html ** building package indices ** installing vignettes ** testing if installed package can be loaded from temporary location ** testing if installed package can be loaded from final location ** testing if installed package keeps a record of temporary installation path install for x64 * installing *source* package 'ANCOMBC' ... ** testing if installed package can be loaded * MD5 sums packaged installation of 'ANCOMBC' as ANCOMBC_1.0.5.zip * DONE (ANCOMBC) * installing to library 'C:/Users/biocbuild/bbs-3.12-bioc/R/library' package 'ANCOMBC' successfully unpacked and MD5 sums checked