Multiple platform build/check report for BioC 3.11

This page was generated on 2019-11-19 12:58:06 -0500 (Tue, 19 Nov 2019).

git log

Snapshot Date: 2019-11-18 16:46:08 -0500 (Mon, 18 Nov 2019)

HostnameOSArch (*)Platform label (**)R versionInstalled pkgs
malbec2Linux (Ubuntu 18.04.3 LTS)x86_64x86_64-linux-gnuR Under development (unstable) (2019-10-24 r77329) -- "Unsuffered Consequences" 3720
tokay2Windows Server 2012 R2 Standardx64mingw32 / x86_64-w64-mingw32R Under development (unstable) (2019-11-04 r77367) -- "Unsuffered Consequences" 3468
celaya2OS X 10.11.6 El Capitanx86_64x86_64-apple-darwin15.6.0R Under development (unstable) (2019-11-03 r77362) -- "Unsuffered Consequences" 3432
Click on any hostname to see more info about the system (e.g. compilers)      (*) as reported by 'uname -p', except on Windows and Mac OS X      (**) as reported by 'gcc -v'

Package status is indicated by one of the following glyphs
 TIMEOUT  INSTALL, BUILD, CHECK or BUILD BIN of package took more than 40 minutes Use the check boxes to show only packages with the selected status types.
 ERROR  Bad DESCRIPTION file or INSTALL, BUILD or BUILD BIN of package failed, or CHECK produced errors
 WARNINGS  CHECK of package produced warnings
 OK  INSTALL, BUILD, CHECK or BUILD BIN of package was OK
 skipped  CHECK or BUILD BIN of package was skipped because the BUILD step failed
 NA  BUILD, CHECK or BUILD BIN result is not available because of an anomaly in the Build System
Click on any glyph in the report below to access the detailed results.
Package propagation status is indicated by one of the following LEDs
YES YES: Package was propagated because it didn't previously exist or version was bumped
NO NO: Package was not propagated because of a problem (impossible dependencies, or version lower than what is already propagated)
UNNEEDED UNNEEDED: Package was not propagated because it is already in the repository with this version. A version bump is required in order to propagate it

A crossed-out package name indicates the package is deprecated


SUMMARYOS / ArchINSTALLBUILDCHECKBUILD BIN
malbec2 Linux (Ubuntu 18.04.3 LTS) / x86_64 
0221783
1871717
0292521436
tokay2 Windows Server 2012 R2 Standard / x64 
0511724
161671592
4463341208
041588
celaya2 OS X 10.11.6 El Capitan / x86_64 
0791720
21541643
1512511340
021641
A
ABCDEFGHIJKLMNOPQRSTUVWXYZ
Package 1/1805HostnameOS / ArchINSTALLBUILDCHECKBUILD BIN
a4 1.35.0
Tobias Verbeke
Last Commit: fe980d9
Last Changed Date: 2019-10-29 13:35:31 -0500
malbec2 Linux (Ubuntu 18.04.3 LTS) / x86_64  OK  OK  WARNINGS UNNEEDED, same version exists in internal repository
tokay2 Windows Server 2012 R2 Standard / x64  OK  OK  WARNINGS  OK UNNEEDED, same version exists in internal repository
celaya2 OS X 10.11.6 El Capitan / x86_64  OK  OK  WARNINGS  OK UNNEEDED, same version exists in internal repository
Package 2/1805HostnameOS / ArchINSTALLBUILDCHECKBUILD BIN
a4Base 1.35.0
Tobias Verbeke
Last Commit: bdeb4c7
Last Changed Date: 2019-10-29 13:35:28 -0500
malbec2 Linux (Ubuntu 18.04.3 LTS) / x86_64  OK  OK  WARNINGS UNNEEDED, same version exists in internal repository
tokay2 Windows Server 2012 R2 Standard / x64  OK  OK  ERROR  OK 
celaya2 OS X 10.11.6 El Capitan / x86_64  OK  OK  WARNINGS  OK UNNEEDED, same version exists in internal repository
Package 3/1805HostnameOS / ArchINSTALLBUILDCHECKBUILD BIN
a4Classif 1.35.0
Tobias Verbeke
Last Commit: 65e253a
Last Changed Date: 2019-10-29 13:35:29 -0500
malbec2 Linux (Ubuntu 18.04.3 LTS) / x86_64  OK  OK  OK UNNEEDED, same version exists in internal repository
tokay2 Windows Server 2012 R2 Standard / x64  OK  OK  OK  OK UNNEEDED, same version exists in internal repository
celaya2 OS X 10.11.6 El Capitan / x86_64  OK  OK  OK  OK UNNEEDED, same version exists in internal repository
Package 4/1805HostnameOS / ArchINSTALLBUILDCHECKBUILD BIN
a4Core 1.35.0
Tobias Verbeke
Last Commit: 4ad07ec
Last Changed Date: 2019-10-29 13:35:30 -0500
malbec2 Linux (Ubuntu 18.04.3 LTS) / x86_64  OK  OK  OK UNNEEDED, same version exists in internal repository
tokay2 Windows Server 2012 R2 Standard / x64  OK  OK  OK  OK UNNEEDED, same version exists in internal repository
celaya2 OS X 10.11.6 El Capitan / x86_64  OK  OK  OK  OK UNNEEDED, same version exists in internal repository
Package 5/1805HostnameOS / ArchINSTALLBUILDCHECKBUILD BIN
a4Preproc 1.35.0
Tobias Verbeke
Last Commit: ebb6363
Last Changed Date: 2019-10-29 13:35:29 -0500
malbec2 Linux (Ubuntu 18.04.3 LTS) / x86_64  OK  OK  OK UNNEEDED, same version exists in internal repository
tokay2 Windows Server 2012 R2 Standard / x64  OK  OK  OK  OK UNNEEDED, same version exists in internal repository
celaya2 OS X 10.11.6 El Capitan / x86_64  OK  OK  OK  OK UNNEEDED, same version exists in internal repository
Package 6/1805HostnameOS / ArchINSTALLBUILDCHECKBUILD BIN
a4Reporting 1.35.0
Tobias Verbeke , Willem Ligtenberg
Last Commit: 4c6c1d4
Last Changed Date: 2019-10-29 13:35:30 -0500
malbec2 Linux (Ubuntu 18.04.3 LTS) / x86_64  OK  OK  WARNINGS UNNEEDED, same version exists in internal repository
tokay2 Windows Server 2012 R2 Standard / x64  OK  OK  WARNINGS  OK UNNEEDED, same version exists in internal repository
celaya2 OS X 10.11.6 El Capitan / x86_64  OK  OK  WARNINGS  OK UNNEEDED, same version exists in internal repository
Package 7/1805HostnameOS / ArchINSTALLBUILDCHECKBUILD BIN
ABAEnrichment 1.17.0
Steffi Grote
Last Commit: 5510f35
Last Changed Date: 2019-10-29 13:39:46 -0500
malbec2 Linux (Ubuntu 18.04.3 LTS) / x86_64  OK  OK  OK UNNEEDED, same version exists in internal repository
tokay2 Windows Server 2012 R2 Standard / x64  OK  OK  OK  OK UNNEEDED, same version exists in internal repository
celaya2 OS X 10.11.6 El Capitan / x86_64  OK  OK  OK  OK UNNEEDED, same version exists in internal repository
Package 8/1805HostnameOS / ArchINSTALLBUILDCHECKBUILD BIN
ABarray 1.55.0
Yongming Andrew Sun
Last Commit: f1cbb49
Last Changed Date: 2019-10-29 13:34:43 -0500
malbec2 Linux (Ubuntu 18.04.3 LTS) / x86_64  OK  OK  OK UNNEEDED, same version exists in internal repository
tokay2 Windows Server 2012 R2 Standard / x64  OK  OK  OK  OK UNNEEDED, same version exists in internal repository
celaya2 OS X 10.11.6 El Capitan / x86_64  OK  OK  OK  OK UNNEEDED, same version exists in internal repository
Package 9/1805HostnameOS / ArchINSTALLBUILDCHECKBUILD BIN
abseqR 1.5.0
JiaHong Fong
Last Commit: a00770a
Last Changed Date: 2019-10-29 13:43:21 -0500
malbec2 Linux (Ubuntu 18.04.3 LTS) / x86_64  OK  OK  OK UNNEEDED, same version exists in internal repository
tokay2 Windows Server 2012 R2 Standard / x64  OK  ERROR  skipped  skipped 
celaya2 OS X 10.11.6 El Capitan / x86_64  OK  OK  OK  OK UNNEEDED, same version exists in internal repository
Package 10/1805HostnameOS / ArchINSTALLBUILDCHECKBUILD BIN
ABSSeq 1.41.0
Wentao Yang
Last Commit: c32f4db
Last Changed Date: 2019-10-29 13:37:20 -0500
malbec2 Linux (Ubuntu 18.04.3 LTS) / x86_64  OK  OK  OK UNNEEDED, same version exists in internal repository
tokay2 Windows Server 2012 R2 Standard / x64  OK  OK  OK  OK UNNEEDED, same version exists in internal repository
celaya2 OS X 10.11.6 El Capitan / x86_64  OK  OK  OK  OK UNNEEDED, same version exists in internal repository
Package 11/1805HostnameOS / ArchINSTALLBUILDCHECKBUILD BIN
acde 1.17.0
Juan Pablo Acosta
Last Commit: 058a96e
Last Changed Date: 2019-10-29 13:39:28 -0500
malbec2 Linux (Ubuntu 18.04.3 LTS) / x86_64  OK  OK  OK UNNEEDED, same version exists in internal repository
tokay2 Windows Server 2012 R2 Standard / x64  OK  OK  OK  OK UNNEEDED, same version exists in internal repository
celaya2 OS X 10.11.6 El Capitan / x86_64  OK  OK  OK  OK UNNEEDED, same version exists in internal repository
Package 12/1805HostnameOS / ArchINSTALLBUILDCHECKBUILD BIN
ACE 1.5.0
Jos B Poell
Last Commit: 7c75968
Last Changed Date: 2019-10-29 13:43:16 -0500
malbec2 Linux (Ubuntu 18.04.3 LTS) / x86_64  OK  OK  OK UNNEEDED, same version exists in internal repository
tokay2 Windows Server 2012 R2 Standard / x64  OK  OK  OK  OK UNNEEDED, same version exists in internal repository
celaya2 OS X 10.11.6 El Capitan / x86_64  OK  OK  OK  OK UNNEEDED, same version exists in internal repository
Package 13/1805HostnameOS / ArchINSTALLBUILDCHECKBUILD BIN
aCGH 1.65.0
Peter Dimitrov
Last Commit: edff319
Last Changed Date: 2019-10-29 13:34:35 -0500
malbec2 Linux (Ubuntu 18.04.3 LTS) / x86_64  OK  ERROR  skipped 
tokay2 Windows Server 2012 R2 Standard / x64  OK  ERROR  skipped  skipped 
celaya2 OS X 10.11.6 El Capitan / x86_64  OK  ERROR  skipped  skipped 
Package 14/1805HostnameOS / ArchINSTALLBUILDCHECKBUILD BIN
ACME 2.43.0
Sean Davis
Last Commit: 32eaf49
Last Changed Date: 2019-10-29 13:34:46 -0500
malbec2 Linux (Ubuntu 18.04.3 LTS) / x86_64  OK  OK  WARNINGS UNNEEDED, same version exists in internal repository
tokay2 Windows Server 2012 R2 Standard / x64  OK  OK  WARNINGS  OK UNNEEDED, same version exists in internal repository
celaya2 OS X 10.11.6 El Capitan / x86_64  OK  OK  OK  OK UNNEEDED, same version exists in internal repository
Package 15/1805HostnameOS / ArchINSTALLBUILDCHECKBUILD BIN
ADaCGH2 2.27.0
Ramon Diaz-Uriarte
Last Commit: a25d4f4
Last Changed Date: 2019-10-29 13:35:20 -0500
malbec2 Linux (Ubuntu 18.04.3 LTS) / x86_64  OK  OK  OK UNNEEDED, same version exists in internal repository
tokay2 Windows Server 2012 R2 Standard / x64  OK  OK  OK  OK UNNEEDED, same version exists in internal repository
celaya2 OS X 10.11.6 El Capitan / x86_64  ERROR  ERROR  skipped  skipped 
Package 16/1805HostnameOS / ArchINSTALLBUILDCHECKBUILD BIN
ADAM 1.3.0
Jose Luiz Rybarczyk Filho
Last Commit: 8fbec27
Last Changed Date: 2019-10-29 13:43:23 -0500
malbec2 Linux (Ubuntu 18.04.3 LTS) / x86_64  OK  OK  OK UNNEEDED, same version exists in internal repository
tokay2 Windows Server 2012 R2 Standard / x64  OK  OK  OK  OK UNNEEDED, same version exists in internal repository
celaya2 OS X 10.11.6 El Capitan / x86_64  OK  OK  OK  OK UNNEEDED, same version exists in internal repository
Package 17/1805HostnameOS / ArchINSTALLBUILDCHECKBUILD BIN
ADAMgui 1.3.0
Jose Luiz Rybarczyk Filho
Last Commit: b995f25
Last Changed Date: 2019-10-29 13:43:34 -0500
malbec2 Linux (Ubuntu 18.04.3 LTS) / x86_64  OK  OK  OK UNNEEDED, same version exists in internal repository
tokay2 Windows Server 2012 R2 Standard / x64  OK  OK  OK  OK UNNEEDED, same version exists in internal repository
celaya2 OS X 10.11.6 El Capitan / x86_64  OK  OK  OK  OK UNNEEDED, same version exists in internal repository
Package 18/1805HostnameOS / ArchINSTALLBUILDCHECKBUILD BIN
adaptest 1.7.0
Weixin Cai
Last Commit: 7560a9f
Last Changed Date: 2019-10-29 13:42:54 -0500
malbec2 Linux (Ubuntu 18.04.3 LTS) / x86_64  OK  OK  ERROR 
tokay2 Windows Server 2012 R2 Standard / x64  OK  OK  ERROR  OK 
celaya2 OS X 10.11.6 El Capitan / x86_64  OK  OK  ERROR  OK 
Package 19/1805HostnameOS / ArchINSTALLBUILDCHECKBUILD BIN
adductomicsR 1.3.0
Josie Hayes
Last Commit: 51b14ac
Last Changed Date: 2019-10-29 13:43:27 -0500
malbec2 Linux (Ubuntu 18.04.3 LTS) / x86_64  OK  OK  OK UNNEEDED, same version exists in internal repository
tokay2 Windows Server 2012 R2 Standard / x64  OK  OK  OK  OK UNNEEDED, same version exists in internal repository
celaya2 OS X 10.11.6 El Capitan / x86_64  OK  OK  OK  OK UNNEEDED, same version exists in internal repository
Package 20/1805HostnameOS / ArchINSTALLBUILDCHECKBUILD BIN
adSplit 1.57.0
Claudio Lottaz
Last Commit: 02e2361
Last Changed Date: 2019-10-29 13:34:41 -0500
malbec2 Linux (Ubuntu 18.04.3 LTS) / x86_64  OK  OK  WARNINGS UNNEEDED, same version exists in internal repository
tokay2 Windows Server 2012 R2 Standard / x64  OK  TIMEOUT  skipped  skipped 
celaya2 OS X 10.11.6 El Capitan / x86_64  OK  OK  WARNINGS  OK UNNEEDED, same version exists in internal repository
Package 21/1805HostnameOS / ArchINSTALLBUILDCHECKBUILD BIN
AffiXcan 1.5.0
Alessandro Lussana
Last Commit: 3c7dba5
Last Changed Date: 2019-10-29 13:43:20 -0500
malbec2 Linux (Ubuntu 18.04.3 LTS) / x86_64  OK  OK  OK UNNEEDED, same version exists in internal repository
tokay2 Windows Server 2012 R2 Standard / x64  OK  OK  OK  OK UNNEEDED, same version exists in internal repository
celaya2 OS X 10.11.6 El Capitan / x86_64  OK  OK  OK  OK UNNEEDED, same version exists in internal repository
Package 22/1805HostnameOS / ArchINSTALLBUILDCHECKBUILD BIN
affxparser 1.59.0
Kasper Daniel Hansen
Last Commit: 96db6df
Last Changed Date: 2019-10-29 13:34:39 -0500
malbec2 Linux (Ubuntu 18.04.3 LTS) / x86_64  OK  OK  WARNINGS UNNEEDED, same version exists in internal repository
tokay2 Windows Server 2012 R2 Standard / x64  OK  OK  WARNINGS  OK UNNEEDED, same version exists in internal repository
celaya2 OS X 10.11.6 El Capitan / x86_64  OK  OK  WARNINGS  OK UNNEEDED, same version exists in internal repository
Package 23/1805HostnameOS / ArchINSTALLBUILDCHECKBUILD BIN
affy 1.65.1
Rafael A. Irizarry
Last Commit: e384fca
Last Changed Date: 2019-11-05 18:10:29 -0500
malbec2 Linux (Ubuntu 18.04.3 LTS) / x86_64  OK  OK  WARNINGS UNNEEDED, same version exists in internal repository
tokay2 Windows Server 2012 R2 Standard / x64  OK  OK  WARNINGS  OK UNNEEDED, same version exists in internal repository
celaya2 OS X 10.11.6 El Capitan / x86_64  OK  OK  WARNINGS  OK UNNEEDED, same version exists in internal repository
Package 24/1805HostnameOS / ArchINSTALLBUILDCHECKBUILD BIN
affycomp 1.63.0
Rafael A. Irizarry
Last Commit: 40c85dd
Last Changed Date: 2019-10-29 13:34:31 -0500
malbec2 Linux (Ubuntu 18.04.3 LTS) / x86_64  OK  OK  OK UNNEEDED, same version exists in internal repository
tokay2 Windows Server 2012 R2 Standard / x64  OK  OK  WARNINGS  OK UNNEEDED, same version exists in internal repository
celaya2 OS X 10.11.6 El Capitan / x86_64  OK  OK  OK  OK UNNEEDED, same version exists in internal repository
Package 25/1805HostnameOS / ArchINSTALLBUILDCHECKBUILD BIN
AffyCompatible 1.47.0
Martin Morgan
Last Commit: f9dd1bc
Last Changed Date: 2019-10-29 13:34:49 -0500
malbec2 Linux (Ubuntu 18.04.3 LTS) / x86_64  OK  OK  OK UNNEEDED, same version exists in internal repository
tokay2 Windows Server 2012 R2 Standard / x64  OK  ERROR  skipped  skipped 
celaya2 OS X 10.11.6 El Capitan / x86_64  OK  OK  OK  OK UNNEEDED, same version exists in internal repository
Package 26/1805HostnameOS / ArchINSTALLBUILDCHECKBUILD BIN
affyContam 1.45.0
V. Carey
Last Commit: 3f4b8ee
Last Changed Date: 2019-10-29 13:34:52 -0500
malbec2 Linux (Ubuntu 18.04.3 LTS) / x86_64  OK  OK  OK UNNEEDED, same version exists in internal repository
tokay2 Windows Server 2012 R2 Standard / x64  OK  OK  OK  OK UNNEEDED, same version exists in internal repository
celaya2 OS X 10.11.6 El Capitan / x86_64  OK  OK  OK  OK UNNEEDED, same version exists in internal repository
Package 27/1805HostnameOS / ArchINSTALLBUILDCHECKBUILD BIN
affycoretools 1.59.1
James W. MacDonald
Last Commit: 2e62f94
Last Changed Date: 2019-11-07 13:34:34 -0500
malbec2 Linux (Ubuntu 18.04.3 LTS) / x86_64  OK  OK  OK UNNEEDED, same version exists in internal repository
tokay2 Windows Server 2012 R2 Standard / x64  OK  OK  WARNINGS  OK UNNEEDED, same version exists in internal repository
celaya2 OS X 10.11.6 El Capitan / x86_64  OK  OK  OK  OK UNNEEDED, same version exists in internal repository
Package 28/1805HostnameOS / ArchINSTALLBUILDCHECKBUILD BIN
AffyExpress 1.53.0
Xuejun Arthur Li
Last Commit: bbc2a3f
Last Changed Date: 2019-10-29 13:34:46 -0500
malbec2 Linux (Ubuntu 18.04.3 LTS) / x86_64  OK  OK  OK UNNEEDED, same version exists in internal repository
tokay2 Windows Server 2012 R2 Standard / x64  OK  OK  OK  OK UNNEEDED, same version exists in internal repository
celaya2 OS X 10.11.6 El Capitan / x86_64  OK  OK  OK  OK UNNEEDED, same version exists in internal repository
Package 29/1805HostnameOS / ArchINSTALLBUILDCHECKBUILD BIN
affyILM 1.39.0
Myriam Kroll and Fabrice Berger
Last Commit: 9784489
Last Changed Date: 2019-10-29 13:35:17 -0500
malbec2 Linux (Ubuntu 18.04.3 LTS) / x86_64  OK  OK  OK UNNEEDED, same version exists in internal repository
tokay2 Windows Server 2012 R2 Standard / x64  OK  OK  OK  OK UNNEEDED, same version exists in internal repository
celaya2 OS X 10.11.6 El Capitan / x86_64  OK  OK  OK  OK UNNEEDED, same version exists in internal repository
Package 30/1805HostnameOS / ArchINSTALLBUILDCHECKBUILD BIN
affyio 1.57.0
Ben Bolstad
Last Commit: 2c4359d
Last Changed Date: 2019-10-29 13:34:30 -0500
malbec2 Linux (Ubuntu 18.04.3 LTS) / x86_64  OK  OK  OK UNNEEDED, same version exists in internal repository
tokay2 Windows Server 2012 R2 Standard / x64  OK  OK  OK  OK UNNEEDED, same version exists in internal repository
celaya2 OS X 10.11.6 El Capitan / x86_64  OK  OK  OK  OK UNNEEDED, same version exists in internal repository
Package 31/1805HostnameOS / ArchINSTALLBUILDCHECKBUILD BIN
affylmGUI 1.61.0
Gordon Smyth
Last Commit: 7e0392d
Last Changed Date: 2019-10-29 13:34:35 -0500
malbec2 Linux (Ubuntu 18.04.3 LTS) / x86_64  OK  OK  OK UNNEEDED, same version exists in internal repository
tokay2 Windows Server 2012 R2 Standard / x64  OK  OK  OK  OK UNNEEDED, same version exists in internal repository
celaya2 OS X 10.11.6 El Capitan / x86_64  OK  OK  OK  OK UNNEEDED, same version exists in internal repository
Package 32/1805HostnameOS / ArchINSTALLBUILDCHECKBUILD BIN
affyPara 1.47.0
Markus Schmidberger
Last Commit: d4fbb61
Last Changed Date: 2019-10-29 13:34:49 -0500
malbec2 Linux (Ubuntu 18.04.3 LTS) / x86_64  OK  OK  OK UNNEEDED, same version exists in internal repository
tokay2 Windows Server 2012 R2 Standard / x64  OK  OK  OK  OK UNNEEDED, same version exists in internal repository
celaya2 OS X 10.11.6 El Capitan / x86_64  OK  OK  OK  OK UNNEEDED, same version exists in internal repository
Package 33/1805HostnameOS / ArchINSTALLBUILDCHECKBUILD BIN
affypdnn 1.61.0
Laurent Gautier
Last Commit: 725e669
Last Changed Date: 2019-10-29 13:34:33 -0500
malbec2 Linux (Ubuntu 18.04.3 LTS) / x86_64  OK  OK  ERROR 
tokay2 Windows Server 2012 R2 Standard / x64  OK  OK  ERROR  OK 
celaya2 OS X 10.11.6 El Capitan / x86_64  OK  OK  ERROR  OK 
Package 34/1805HostnameOS / ArchINSTALLBUILDCHECKBUILD BIN
affyPLM 1.63.0
Ben Bolstad
Last Commit: fd3585e
Last Changed Date: 2019-10-29 13:34:32 -0500
malbec2 Linux (Ubuntu 18.04.3 LTS) / x86_64  OK  OK  OK UNNEEDED, same version exists in internal repository
tokay2 Windows Server 2012 R2 Standard / x64  OK  OK  OK  OK UNNEEDED, same version exists in internal repository
celaya2 OS X 10.11.6 El Capitan / x86_64  OK  OK  OK  OK UNNEEDED, same version exists in internal repository
Package 35/1805HostnameOS / ArchINSTALLBUILDCHECKBUILD BIN
affyQCReport 1.65.0
Craig Parman
Last Commit: efe3e73
Last Changed Date: 2019-10-29 13:34:39 -0500
malbec2 Linux (Ubuntu 18.04.3 LTS) / x86_64  OK  OK  OK UNNEEDED, same version exists in internal repository
tokay2 Windows Server 2012 R2 Standard / x64  OK  OK  OK  OK UNNEEDED, same version exists in internal repository
celaya2 OS X 10.11.6 El Capitan / x86_64  OK  OK  OK  OK UNNEEDED, same version exists in internal repository
Package 36/1805HostnameOS / ArchINSTALLBUILDCHECKBUILD BIN
AffyRNADegradation 1.33.0
Mario Fasold
Last Commit: 601156f
Last Changed Date: 2019-10-29 13:36:03 -0500
malbec2 Linux (Ubuntu 18.04.3 LTS) / x86_64  OK  OK  OK UNNEEDED, same version exists in internal repository
tokay2 Windows Server 2012 R2 Standard / x64  OK  OK  OK  OK UNNEEDED, same version exists in internal repository
celaya2 OS X 10.11.6 El Capitan / x86_64  OK  OK  OK  OK UNNEEDED, same version exists in internal repository
Package 37/1805HostnameOS / ArchINSTALLBUILDCHECKBUILD BIN
AGDEX 1.35.0
Cuilan lani Gao
Last Commit: ec845d7
Last Changed Date: 2019-10-29 13:35:54 -0500
malbec2 Linux (Ubuntu 18.04.3 LTS) / x86_64  OK  OK  OK UNNEEDED, same version exists in internal repository
tokay2 Windows Server 2012 R2 Standard / x64  OK  OK  WARNINGS  OK UNNEEDED, same version exists in internal repository
celaya2 OS X 10.11.6 El Capitan / x86_64  OK  OK  OK  OK UNNEEDED, same version exists in internal repository
Package 38/1805HostnameOS / ArchINSTALLBUILDCHECKBUILD BIN
agilp 3.19.0
Benny Chain
Last Commit: 57567df
Last Changed Date: 2019-10-29 13:36:23 -0500
malbec2 Linux (Ubuntu 18.04.3 LTS) / x86_64  OK  OK  OK UNNEEDED, same version exists in internal repository
tokay2 Windows Server 2012 R2 Standard / x64  OK  OK  OK  OK UNNEEDED, same version exists in internal repository
celaya2 OS X 10.11.6 El Capitan / x86_64  OK  OK  OK  OK UNNEEDED, same version exists in internal repository
Package 39/1805HostnameOS / ArchINSTALLBUILDCHECKBUILD BIN
AgiMicroRna 2.37.0
Pedro Lopez-Romero
Last Commit: d4c75ee
Last Changed Date: 2019-10-29 13:35:06 -0500
malbec2 Linux (Ubuntu 18.04.3 LTS) / x86_64  OK  OK  OK UNNEEDED, same version exists in internal repository
tokay2 Windows Server 2012 R2 Standard / x64  OK  OK  OK  OK UNNEEDED, same version exists in internal repository
celaya2 OS X 10.11.6 El Capitan / x86_64  OK  OK  OK  OK UNNEEDED, same version exists in internal repository
Package 40/1805HostnameOS / ArchINSTALLBUILDCHECKBUILD BIN
AIMS 1.19.0
Eric R Paquet
Last Commit: 70c15c4
Last Changed Date: 2019-10-29 13:38:39 -0500
malbec2 Linux (Ubuntu 18.04.3 LTS) / x86_64  OK  OK  OK UNNEEDED, same version exists in internal repository
tokay2 Windows Server 2012 R2 Standard / x64  OK  OK  OK  OK UNNEEDED, same version exists in internal repository
celaya2 OS X 10.11.6 El Capitan / x86_64  OK  OK  OK  OK UNNEEDED, same version exists in internal repository
Package 41/1805HostnameOS / ArchINSTALLBUILDCHECKBUILD BIN
ALDEx2 1.19.1
Greg Gloor
Last Commit: 8657ab1
Last Changed Date: 2019-11-17 15:42:04 -0500
malbec2 Linux (Ubuntu 18.04.3 LTS) / x86_64  OK  OK  OK UNNEEDED, same version exists in internal repository
tokay2 Windows Server 2012 R2 Standard / x64  OK  OK  OK  OK UNNEEDED, same version exists in internal repository
celaya2 OS X 10.11.6 El Capitan / x86_64  OK  OK  OK  OK UNNEEDED, same version exists in internal repository
Package 42/1805HostnameOS / ArchINSTALLBUILDCHECKBUILD BIN
alevinQC 1.3.0
Charlotte Soneson
Last Commit: 53a56cb
Last Changed Date: 2019-10-29 13:43:30 -0500
malbec2 Linux (Ubuntu 18.04.3 LTS) / x86_64  OK  OK  OK UNNEEDED, same version exists in internal repository
tokay2 Windows Server 2012 R2 Standard / x64  OK  OK  OK  OK UNNEEDED, same version exists in internal repository
celaya2 OS X 10.11.6 El Capitan / x86_64  OK  OK  OK  OK UNNEEDED, same version exists in internal repository
Package 43/1805HostnameOS / ArchINSTALLBUILDCHECKBUILD BIN
AllelicImbalance 1.25.0
Jesper R Gadin
Last Commit: 9468c29
Last Changed Date: 2019-10-29 13:37:05 -0500
malbec2 Linux (Ubuntu 18.04.3 LTS) / x86_64  OK  OK  OK UNNEEDED, same version exists in internal repository
tokay2 Windows Server 2012 R2 Standard / x64  OK  ERROR  skipped  skipped 
celaya2 OS X 10.11.6 El Capitan / x86_64  OK  OK  OK  OK UNNEEDED, same version exists in internal repository
Package 44/1805HostnameOS / ArchINSTALLBUILDCHECKBUILD BIN
AlphaBeta 1.1.0
Yadollah Shahryary Dizaji
Last Commit: 18da94c
Last Changed Date: 2019-10-29 13:43:38 -0500
malbec2 Linux (Ubuntu 18.04.3 LTS) / x86_64  OK  OK  OK UNNEEDED, same version exists in internal repository
tokay2 Windows Server 2012 R2 Standard / x64  OK  OK  OK  OK UNNEEDED, same version exists in internal repository
celaya2 OS X 10.11.6 El Capitan / x86_64  OK  OK  OK  OK UNNEEDED, same version exists in internal repository
Package 45/1805HostnameOS / ArchINSTALLBUILDCHECKBUILD BIN
alpine 1.13.0
Michael Love
Last Commit: b96b97e
Last Changed Date: 2019-10-29 13:42:04 -0500
malbec2 Linux (Ubuntu 18.04.3 LTS) / x86_64  OK  OK  OK UNNEEDED, same version exists in internal repository
tokay2 Windows Server 2012 R2 Standard / x64  OK  OK  OK  OK UNNEEDED, same version exists in internal repository
celaya2 OS X 10.11.6 El Capitan / x86_64  OK  OK  OK  OK UNNEEDED, same version exists in internal repository
Package 46/1805HostnameOS / ArchINSTALLBUILDCHECKBUILD BIN
ALPS 1.1.0
Venu Thatikonda
Last Commit: 197e20b
Last Changed Date: 2019-10-29 13:43:45 -0500
malbec2 Linux (Ubuntu 18.04.3 LTS) / x86_64  OK  OK  OK UNNEEDED, same version exists in internal repository
tokay2 Windows Server 2012 R2 Standard / x64  OK  OK  OK  OK UNNEEDED, same version exists in internal repository
celaya2 OS X 10.11.6 El Capitan / x86_64  OK  OK  OK  OK UNNEEDED, same version exists in internal repository
Package 47/1805HostnameOS / ArchINSTALLBUILDCHECKBUILD BIN
alsace 1.23.0
Ron Wehrens
Last Commit: 93b7d14
Last Changed Date: 2019-10-29 13:37:18 -0500
malbec2 Linux (Ubuntu 18.04.3 LTS) / x86_64  OK  OK  OK UNNEEDED, same version exists in internal repository
tokay2 Windows Server 2012 R2 Standard / x64  OK  OK  OK  OK UNNEEDED, same version exists in internal repository
celaya2 OS X 10.11.6 El Capitan / x86_64  OK  OK  OK  OK UNNEEDED, same version exists in internal repository
Package 48/1805HostnameOS / ArchINSTALLBUILDCHECKBUILD BIN
altcdfenvs 2.49.0
Laurent Gautier
Last Commit: 70d7986
Last Changed Date: 2019-10-29 13:34:34 -0500
malbec2 Linux (Ubuntu 18.04.3 LTS) / x86_64  OK  OK  OK UNNEEDED, same version exists in internal repository
tokay2 Windows Server 2012 R2 Standard / x64  OK  OK  OK  OK UNNEEDED, same version exists in internal repository
celaya2 OS X 10.11.6 El Capitan / x86_64  OK  OK  OK  OK UNNEEDED, same version exists in internal repository
Package 49/1805HostnameOS / ArchINSTALLBUILDCHECKBUILD BIN
AMARETTO 1.3.0
Olivier Gevaert
Last Commit: 7dcd6ab
Last Changed Date: 2019-10-29 13:43:31 -0500
malbec2 Linux (Ubuntu 18.04.3 LTS) / x86_64  OK  ERROR  skipped 
tokay2 Windows Server 2012 R2 Standard / x64  OK  ERROR  skipped  skipped 
celaya2 OS X 10.11.6 El Capitan / x86_64  OK  ERROR  skipped  skipped 
Package 50/1805HostnameOS / ArchINSTALLBUILDCHECKBUILD BIN
AMOUNTAIN 1.13.0
Dong Li
Last Commit: 99e4655
Last Changed Date: 2019-10-29 13:41:49 -0500
malbec2 Linux (Ubuntu 18.04.3 LTS) / x86_64  OK  OK  OK UNNEEDED, same version exists in internal repository
tokay2 Windows Server 2012 R2 Standard / x64  OK  OK  OK  OK UNNEEDED, same version exists in internal repository
celaya2 OS X 10.11.6 El Capitan / x86_64  OK  OK  OK  OK UNNEEDED, same version exists in internal repository
Package 51/1805HostnameOS / ArchINSTALLBUILDCHECKBUILD BIN
amplican 1.9.0
Eivind Valen
Last Commit: a4c4eda
Last Changed Date: 2019-10-29 13:42:26 -0500
malbec2 Linux (Ubuntu 18.04.3 LTS) / x86_64  OK  OK  OK UNNEEDED, same version exists in internal repository
tokay2 Windows Server 2012 R2 Standard / x64  OK  OK  OK  OK UNNEEDED, same version exists in internal repository
celaya2 OS X 10.11.6 El Capitan / x86_64  OK  OK  OK  OK UNNEEDED, same version exists in internal repository
Package 52/1805HostnameOS / ArchINSTALLBUILDCHECKBUILD BIN
AnalysisPageServer 1.21.0
Brad Friedman
Last Commit: 131be4b
Last Changed Date: 2019-10-29 13:38:43 -0500
malbec2 Linux (Ubuntu 18.04.3 LTS) / x86_64  OK  OK  OK UNNEEDED, same version exists in internal repository
tokay2 Windows Server 2012 R2 Standard / x64  OK  OK  WARNINGS  OK UNNEEDED, same version exists in internal repository
celaya2 OS X 10.11.6 El Capitan / x86_64  OK  OK  OK  OK UNNEEDED, same version exists in internal repository
Package 53/1805HostnameOS / ArchINSTALLBUILDCHECKBUILD BIN
anamiR 1.15.0
Ti-Tai Wang
Last Commit: c99e4ca
Last Changed Date: 2019-10-29 13:42:09 -0500
malbec2 Linux (Ubuntu 18.04.3 LTS) / x86_64  OK  ERROR  skipped 
tokay2 Windows Server 2012 R2 Standard / x64  OK  ERROR  skipped  skipped 
celaya2 OS X 10.11.6 El Capitan / x86_64  ERROR  ERROR  skipped  skipped 
Package 54/1805HostnameOS / ArchINSTALLBUILDCHECKBUILD BIN
Anaquin 2.11.0
Ted Wong
Last Commit: d92f423
Last Changed Date: 2019-10-29 13:42:05 -0500
malbec2 Linux (Ubuntu 18.04.3 LTS) / x86_64  OK  OK  OK UNNEEDED, same version exists in internal repository
tokay2 Windows Server 2012 R2 Standard / x64  OK  OK  OK  OK UNNEEDED, same version exists in internal repository
celaya2 OS X 10.11.6 El Capitan / x86_64  OK  OK  OK  OK UNNEEDED, same version exists in internal repository
Package 55/1805HostnameOS / ArchINSTALLBUILDCHECKBUILD BIN
AneuFinder 1.15.0
Aaron Taudt
Last Commit: f69b1b9
Last Changed Date: 2019-10-29 13:40:43 -0500
malbec2 Linux (Ubuntu 18.04.3 LTS) / x86_64  OK  OK  OK UNNEEDED, same version exists in internal repository
tokay2 Windows Server 2012 R2 Standard / x64  OK  OK  OK  OK UNNEEDED, same version exists in internal repository
celaya2 OS X 10.11.6 El Capitan / x86_64  OK  OK  OK  OK UNNEEDED, same version exists in internal repository
Package 56/1805HostnameOS / ArchINSTALLBUILDCHECKBUILD BIN
ANF 1.9.0
Tianle Ma
Last Commit: 840bb36
Last Changed Date: 2019-10-29 13:42:30 -0500
malbec2 Linux (Ubuntu 18.04.3 LTS) / x86_64  OK  OK  OK UNNEEDED, same version exists in internal repository
tokay2 Windows Server 2012 R2 Standard / x64  OK  OK  OK  OK UNNEEDED, same version exists in internal repository
celaya2 OS X 10.11.6 El Capitan / x86_64  OK  OK  OK  OK UNNEEDED, same version exists in internal repository
Package 57/1805HostnameOS / ArchINSTALLBUILDCHECKBUILD BIN
animalcules 1.3.0
Yue Zhao
Last Commit: 4ba91df
Last Changed Date: 2019-10-29 13:43:35 -0500
malbec2 Linux (Ubuntu 18.04.3 LTS) / x86_64  OK  OK  OK UNNEEDED, same version exists in internal repository
tokay2 Windows Server 2012 R2 Standard / x64  OK  OK  OK  OK UNNEEDED, same version exists in internal repository
celaya2 OS X 10.11.6 El Capitan / x86_64  OK  ERROR  skipped  skipped 
Package 58/1805HostnameOS / ArchINSTALLBUILDCHECKBUILD BIN
annaffy 1.59.0
Colin A. Smith
Last Commit: 3ce0020
Last Changed Date: 2019-10-29 13:34:32 -0500
malbec2 Linux (Ubuntu 18.04.3 LTS) / x86_64  OK  OK  WARNINGS UNNEEDED, same version exists in internal repository
tokay2 Windows Server 2012 R2 Standard / x64  OK  OK  WARNINGS  OK UNNEEDED, same version exists in internal repository
celaya2 OS X 10.11.6 El Capitan / x86_64  OK  OK  WARNINGS  OK UNNEEDED, same version exists in internal repository
Package 59/1805HostnameOS / ArchINSTALLBUILDCHECKBUILD BIN
annmap 1.29.0
Chris Wirth
Last Commit: c24dc84
Last Changed Date: 2019-10-29 13:36:13 -0500
malbec2 Linux (Ubuntu 18.04.3 LTS) / x86_64  OK  OK  WARNINGS UNNEEDED, same version exists in internal repository
tokay2 Windows Server 2012 R2 Standard / x64 ...NOT SUPPORTED...
celaya2 OS X 10.11.6 El Capitan / x86_64  ERROR  ERROR  skipped  skipped 
Package 60/1805HostnameOS / ArchINSTALLBUILDCHECKBUILD BIN
annotate 1.65.0
Bioconductor Package Maintainer
Last Commit: a089c9f
Last Changed Date: 2019-10-29 13:34:29 -0500
malbec2 Linux (Ubuntu 18.04.3 LTS) / x86_64  OK  OK  OK UNNEEDED, same version exists in internal repository
tokay2 Windows Server 2012 R2 Standard / x64  OK  OK  OK  OK UNNEEDED, same version exists in internal repository
celaya2 OS X 10.11.6 El Capitan / x86_64  OK  OK  OK  OK UNNEEDED, same version exists in internal repository
Package 61/1805HostnameOS / ArchINSTALLBUILDCHECKBUILD BIN
AnnotationDbi 1.49.0
Bioconductor Package Maintainer
Last Commit: d4429fd
Last Changed Date: 2019-10-29 13:34:44 -0500
malbec2 Linux (Ubuntu 18.04.3 LTS) / x86_64  OK  OK  OK UNNEEDED, same version exists in internal repository
tokay2 Windows Server 2012 R2 Standard / x64  OK  OK  OK  OK UNNEEDED, same version exists in internal repository
celaya2 OS X 10.11.6 El Capitan / x86_64  OK  OK  OK  OK UNNEEDED, same version exists in internal repository
Package 62/1805HostnameOS / ArchINSTALLBUILDCHECKBUILD BIN
AnnotationFilter 1.11.0
Bioconductor Package Maintainer
Last Commit: 5c2ac36
Last Changed Date: 2019-10-29 13:42:18 -0500
malbec2 Linux (Ubuntu 18.04.3 LTS) / x86_64  OK  OK  OK UNNEEDED, same version exists in internal repository
tokay2 Windows Server 2012 R2 Standard / x64  OK  OK  OK  OK UNNEEDED, same version exists in internal repository
celaya2 OS X 10.11.6 El Capitan / x86_64  OK  OK  OK  OK UNNEEDED, same version exists in internal repository
Package 63/1805HostnameOS / ArchINSTALLBUILDCHECKBUILD BIN
AnnotationForge 1.29.1
Bioconductor Package Maintainer
Last Commit: 1bd3283
Last Changed Date: 2019-11-01 09:30:05 -0500
malbec2 Linux (Ubuntu 18.04.3 LTS) / x86_64  OK  OK  OK UNNEEDED, same version exists in internal repository
tokay2 Windows Server 2012 R2 Standard / x64  OK  OK  OK  OK UNNEEDED, same version exists in internal repository
celaya2 OS X 10.11.6 El Capitan / x86_64  OK  OK  OK  OK UNNEEDED, same version exists in internal repository
Package 64/1805HostnameOS / ArchINSTALLBUILDCHECKBUILD BIN
AnnotationFuncs 1.37.0
Stefan McKinnon Edwards
Last Commit: e13be91
Last Changed Date: 2019-10-29 13:35:24 -0500
malbec2 Linux (Ubuntu 18.04.3 LTS) / x86_64  OK  OK  OK UNNEEDED, same version exists in internal repository
tokay2 Windows Server 2012 R2 Standard / x64  OK  OK  OK  OK UNNEEDED, same version exists in internal repository
celaya2 OS X 10.11.6 El Capitan / x86_64  OK  OK  OK  OK UNNEEDED, same version exists in internal repository
Package 65/1805HostnameOS / ArchINSTALLBUILDCHECKBUILD BIN
AnnotationHub 2.19.1
Bioconductor Package Maintainer
Last Commit: 8c7f9ac
Last Changed Date: 2019-11-01 11:26:32 -0500
malbec2 Linux (Ubuntu 18.04.3 LTS) / x86_64  OK  OK  WARNINGS UNNEEDED, same version exists in internal repository
tokay2 Windows Server 2012 R2 Standard / x64  OK  OK  WARNINGS  OK UNNEEDED, same version exists in internal repository
celaya2 OS X 10.11.6 El Capitan / x86_64  OK  OK  WARNINGS  OK UNNEEDED, same version exists in internal repository
Package 66/1805HostnameOS / ArchINSTALLBUILDCHECKBUILD BIN
AnnotationHubData 1.17.0
Bioconductor Package Maintainer
Last Commit: e8c219c
Last Changed Date: 2019-10-29 13:39:50 -0500
malbec2 Linux (Ubuntu 18.04.3 LTS) / x86_64  OK  OK  WARNINGS UNNEEDED, same version exists in internal repository
tokay2 Windows Server 2012 R2 Standard / x64  OK  OK  WARNINGS  OK UNNEEDED, same version exists in internal repository
celaya2 OS X 10.11.6 El Capitan / x86_64  OK  OK  WARNINGS  OK UNNEEDED, same version exists in internal repository
Package 67/1805HostnameOS / ArchINSTALLBUILDCHECKBUILD BIN
annotationTools 1.61.0
Alexandre Kuhn
Last Commit: 0c3a0e5
Last Changed Date: 2019-10-29 13:34:45 -0500
malbec2 Linux (Ubuntu 18.04.3 LTS) / x86_64  OK  OK  OK UNNEEDED, same version exists in internal repository
tokay2 Windows Server 2012 R2 Standard / x64  OK  OK  OK  OK UNNEEDED, same version exists in internal repository
celaya2 OS X 10.11.6 El Capitan / x86_64  OK  OK  OK  OK UNNEEDED, same version exists in internal repository
Package 68/1805HostnameOS / ArchINSTALLBUILDCHECKBUILD BIN
annotatr 1.13.1
Raymond G. Cavalcante
Last Commit: 611fc8d
Last Changed Date: 2019-11-12 09:57:11 -0500
malbec2 Linux (Ubuntu 18.04.3 LTS) / x86_64  OK  OK  OK UNNEEDED, same version exists in internal repository
tokay2 Windows Server 2012 R2 Standard / x64  OK  OK  OK  OK UNNEEDED, same version exists in internal repository
celaya2 OS X 10.11.6 El Capitan / x86_64  OK  OK  OK  OK UNNEEDED, same version exists in internal repository
Package 69/1805HostnameOS / ArchINSTALLBUILDCHECKBUILD BIN
anota 1.35.0
Ola Larsson
Last Commit: db818e6
Last Changed Date: 2019-10-29 13:35:31 -0500
malbec2 Linux (Ubuntu 18.04.3 LTS) / x86_64  OK  OK  OK UNNEEDED, same version exists in internal repository
tokay2 Windows Server 2012 R2 Standard / x64  OK  OK  OK  OK UNNEEDED, same version exists in internal repository
celaya2 OS X 10.11.6 El Capitan / x86_64  OK  OK  OK  OK UNNEEDED, same version exists in internal repository
Package 70/1805HostnameOS / ArchINSTALLBUILDCHECKBUILD BIN
anota2seq 1.9.0
Christian Oertlin , Julie Lorent
Last Commit: c242668
Last Changed Date: 2019-10-29 13:42:30 -0500
malbec2 Linux (Ubuntu 18.04.3 LTS) / x86_64  OK  OK  OK UNNEEDED, same version exists in internal repository
tokay2 Windows Server 2012 R2 Standard / x64  OK  OK  OK  OK UNNEEDED, same version exists in internal repository
celaya2 OS X 10.11.6 El Capitan / x86_64  OK  OK  OK  OK UNNEEDED, same version exists in internal repository
Package 71/1805HostnameOS / ArchINSTALLBUILDCHECKBUILD BIN
antiProfiles 1.27.0
Hector Corrada Bravo
Last Commit: 922e347
Last Changed Date: 2019-10-29 13:36:49 -0500
malbec2 Linux (Ubuntu 18.04.3 LTS) / x86_64  OK  OK  OK UNNEEDED, same version exists in internal repository
tokay2 Windows Server 2012 R2 Standard / x64  OK  OK  OK  OK UNNEEDED, same version exists in internal repository
celaya2 OS X 10.11.6 El Capitan / x86_64  OK  OK  OK  OK UNNEEDED, same version exists in internal repository
Package 72/1805HostnameOS / ArchINSTALLBUILDCHECKBUILD BIN
APAlyzer 1.1.0
Ruijia Wang
Last Commit: a430e09
Last Changed Date: 2019-10-29 13:43:38 -0500
malbec2 Linux (Ubuntu 18.04.3 LTS) / x86_64  OK  OK  OK UNNEEDED, same version exists in internal repository
tokay2 Windows Server 2012 R2 Standard / x64  OK  OK  OK  OK UNNEEDED, same version exists in internal repository
celaya2 OS X 10.11.6 El Capitan / x86_64  OK  OK  OK  OK UNNEEDED, same version exists in internal repository
Package 73/1805HostnameOS / ArchINSTALLBUILDCHECKBUILD BIN
apComplex 2.53.0
Denise Scholtens
Last Commit: 752fb2c
Last Changed Date: 2019-10-29 13:34:37 -0500
malbec2 Linux (Ubuntu 18.04.3 LTS) / x86_64  OK  OK  OK UNNEEDED, same version exists in internal repository
tokay2 Windows Server 2012 R2 Standard / x64  OK  OK  OK  OK UNNEEDED, same version exists in internal repository
celaya2 OS X 10.11.6 El Capitan / x86_64  OK  OK  OK  OK UNNEEDED, same version exists in internal repository
Package 74/1805HostnameOS / ArchINSTALLBUILDCHECKBUILD BIN
apeglm 1.9.0
Anqi Zhu
Last Commit: aa9e2e0
Last Changed Date: 2019-10-29 13:42:25 -0500
malbec2 Linux (Ubuntu 18.04.3 LTS) / x86_64  OK  OK  OK UNNEEDED, same version exists in internal repository
tokay2 Windows Server 2012 R2 Standard / x64  OK  OK  OK  OK UNNEEDED, same version exists in internal repository
celaya2 OS X 10.11.6 El Capitan / x86_64  OK  OK  OK  OK UNNEEDED, same version exists in internal repository
Package 75/1805HostnameOS / ArchINSTALLBUILDCHECKBUILD BIN
appreci8R 1.5.0
Sarah Sandmann
Last Commit: 2b3666e
Last Changed Date: 2019-10-29 13:43:16 -0500
malbec2 Linux (Ubuntu 18.04.3 LTS) / x86_64  OK  OK  OK UNNEEDED, same version exists in internal repository
tokay2 Windows Server 2012 R2 Standard / x64  OK  OK  OK  OK UNNEEDED, same version exists in internal repository
celaya2 OS X 10.11.6 El Capitan / x86_64  OK  OK  OK  OK UNNEEDED, same version exists in internal repository
Package 76/1805HostnameOS / ArchINSTALLBUILDCHECKBUILD BIN
aroma.light 3.17.0
Henrik Bengtsson
Last Commit: 37ff0d3
Last Changed Date: 2019-10-29 13:34:43 -0500
malbec2 Linux (Ubuntu 18.04.3 LTS) / x86_64  OK  OK  OK UNNEEDED, same version exists in internal repository
tokay2 Windows Server 2012 R2 Standard / x64  OK  OK  OK  OK UNNEEDED, same version exists in internal repository
celaya2 OS X 10.11.6 El Capitan / x86_64  OK  OK  OK  OK UNNEEDED, same version exists in internal repository
Package 77/1805HostnameOS / ArchINSTALLBUILDCHECKBUILD BIN
ArrayExpress 1.47.0
Suhaib Mohammed
Last Commit: 6e4ef41
Last Changed Date: 2019-10-29 13:34:51 -0500
malbec2 Linux (Ubuntu 18.04.3 LTS) / x86_64  OK  OK  OK UNNEEDED, same version exists in internal repository
tokay2 Windows Server 2012 R2 Standard / x64  OK  OK  OK  OK UNNEEDED, same version exists in internal repository
celaya2 OS X 10.11.6 El Capitan / x86_64  OK  OK  OK  OK UNNEEDED, same version exists in internal repository
Package 78/1805HostnameOS / ArchINSTALLBUILDCHECKBUILD BIN
ArrayExpressHTS 1.37.0
Angela Goncalves , Andrew Tikhonov
Last Commit: d45c165
Last Changed Date: 2019-10-29 13:35:32 -0500
malbec2 Linux (Ubuntu 18.04.3 LTS) / x86_64  OK  OK  WARNINGS UNNEEDED, same version exists in internal repository
tokay2 Windows Server 2012 R2 Standard / x64 ...NOT SUPPORTED...
celaya2 OS X 10.11.6 El Capitan / x86_64  ERROR  ERROR  skipped  skipped 
Package 79/1805HostnameOS / ArchINSTALLBUILDCHECKBUILD BIN
arrayMvout 1.45.0
V. Carey
Last Commit: 69c0388
Last Changed Date: 2019-10-29 13:34:52 -0500
malbec2 Linux (Ubuntu 18.04.3 LTS) / x86_64  OK  OK  OK UNNEEDED, same version exists in internal repository
tokay2 Windows Server 2012 R2 Standard / x64  OK  OK  OK  OK UNNEEDED, same version exists in internal repository
celaya2 OS X 10.11.6 El Capitan / x86_64  OK  OK  OK  OK UNNEEDED, same version exists in internal repository
Package 80/1805HostnameOS / ArchINSTALLBUILDCHECKBUILD BIN
arrayQuality 1.65.0
Agnes Paquet
Last Commit: d766ed7
Last Changed Date: 2019-10-29 13:34:34 -0500
malbec2 Linux (Ubuntu 18.04.3 LTS) / x86_64  OK  OK  WARNINGS UNNEEDED, same version exists in internal repository
tokay2 Windows Server 2012 R2 Standard / x64  OK  OK  WARNINGS  OK UNNEEDED, same version exists in internal repository
celaya2 OS X 10.11.6 El Capitan / x86_64  OK  OK  WARNINGS  OK UNNEEDED, same version exists in internal repository
Package 81/1805HostnameOS / ArchINSTALLBUILDCHECKBUILD BIN
arrayQualityMetrics 3.43.0
Mike Smith
Last Commit: bc65f71
Last Changed Date: 2019-10-29 13:34:46 -0500
malbec2 Linux (Ubuntu 18.04.3 LTS) / x86_64  OK  OK  OK UNNEEDED, same version exists in internal repository
tokay2 Windows Server 2012 R2 Standard / x64  OK  OK  OK  OK UNNEEDED, same version exists in internal repository
celaya2 OS X 10.11.6 El Capitan / x86_64  ERROR  ERROR  skipped  skipped 
Package 82/1805HostnameOS / ArchINSTALLBUILDCHECKBUILD BIN
ArrayTools 1.47.0
Arthur Li
Last Commit: eaed765
Last Changed Date: 2019-10-29 13:34:51 -0500
malbec2 Linux (Ubuntu 18.04.3 LTS) / x86_64  OK  OK  OK UNNEEDED, same version exists in internal repository
tokay2 Windows Server 2012 R2 Standard / x64  OK  OK  OK  OK UNNEEDED, same version exists in internal repository
celaya2 OS X 10.11.6 El Capitan / x86_64  OK  OK  OK  OK UNNEEDED, same version exists in internal repository
Package 83/1805HostnameOS / ArchINSTALLBUILDCHECKBUILD BIN
ArrayTV 1.25.0
Eitan Halper-Stromberg
Last Commit: 3a2ed57
Last Changed Date: 2019-10-29 13:37:01 -0500
malbec2 Linux (Ubuntu 18.04.3 LTS) / x86_64  OK  OK  ERROR 
tokay2 Windows Server 2012 R2 Standard / x64  OK  OK  ERROR  OK 
celaya2 OS X 10.11.6 El Capitan / x86_64  OK  OK  ERROR  OK 
Package 84/1805HostnameOS / ArchINSTALLBUILDCHECKBUILD BIN
ARRmNormalization 1.27.0
Jean-Philippe Fortin
Last Commit: 615bd8d
Last Changed Date: 2019-10-29 13:36:40 -0500
malbec2 Linux (Ubuntu 18.04.3 LTS) / x86_64  OK  OK  OK UNNEEDED, same version exists in internal repository
tokay2 Windows Server 2012 R2 Standard / x64  OK  OK  OK  OK UNNEEDED, same version exists in internal repository
celaya2 OS X 10.11.6 El Capitan / x86_64  OK  OK  OK  OK UNNEEDED, same version exists in internal repository
Package 85/1805HostnameOS / ArchINSTALLBUILDCHECKBUILD BIN
artMS 1.5.0
David Jimenez-Morales
Last Commit: 42d40dc
Last Changed Date: 2019-10-29 13:43:21 -0500
malbec2 Linux (Ubuntu 18.04.3 LTS) / x86_64  OK  OK  OK UNNEEDED, same version exists in internal repository
tokay2 Windows Server 2012 R2 Standard / x64  OK  OK  OK  OK UNNEEDED, same version exists in internal repository
celaya2 OS X 10.11.6 El Capitan / x86_64  OK  OK  OK  OK UNNEEDED, same version exists in internal repository
Package 86/1805HostnameOS / ArchINSTALLBUILDCHECKBUILD BIN
ASAFE 1.13.0
Qian Zhang
Last Commit: 742227c
Last Changed Date: 2019-10-29 13:41:53 -0500
malbec2 Linux (Ubuntu 18.04.3 LTS) / x86_64  OK  OK  OK UNNEEDED, same version exists in internal repository
tokay2 Windows Server 2012 R2 Standard / x64  OK  OK  OK  OK UNNEEDED, same version exists in internal repository
celaya2 OS X 10.11.6 El Capitan / x86_64  OK  OK  OK  OK UNNEEDED, same version exists in internal repository
Package 87/1805HostnameOS / ArchINSTALLBUILDCHECKBUILD BIN
ASEB 1.31.0
Likun Wang
Last Commit: cc043c1
Last Changed Date: 2019-10-29 13:36:03 -0500
malbec2 Linux (Ubuntu 18.04.3 LTS) / x86_64  OK  OK  OK UNNEEDED, same version exists in internal repository
tokay2 Windows Server 2012 R2 Standard / x64  OK  OK  OK  OK UNNEEDED, same version exists in internal repository
celaya2 OS X 10.11.6 El Capitan / x86_64  OK  OK  OK  OK UNNEEDED, same version exists in internal repository
Package 88/1805HostnameOS / ArchINSTALLBUILDCHECKBUILD BIN
ASGSCA 1.21.0
Hela Romdhani
Last Commit: 98cd1ff
Last Changed Date: 2019-10-29 13:38:18 -0500
malbec2 Linux (Ubuntu 18.04.3 LTS) / x86_64  OK  OK  OK UNNEEDED, same version exists in internal repository
tokay2 Windows Server 2012 R2 Standard / x64  OK  OK  OK  OK UNNEEDED, same version exists in internal repository
celaya2 OS X 10.11.6 El Capitan / x86_64  OK  OK  OK  OK UNNEEDED, same version exists in internal repository
Package 89/1805HostnameOS / ArchINSTALLBUILDCHECKBUILD BIN
ASICS 2.3.0
Gaëlle Lefort
Last Commit: e067e00
Last Changed Date: 2019-10-29 13:43:00 -0500
malbec2 Linux (Ubuntu 18.04.3 LTS) / x86_64  OK  OK  OK UNNEEDED, same version exists in internal repository
tokay2 Windows Server 2012 R2 Standard / x64  OK  OK  OK  OK UNNEEDED, same version exists in internal repository
celaya2 OS X 10.11.6 El Capitan / x86_64  OK  OK  WARNINGS  OK UNNEEDED, same version exists in internal repository
Package 90/1805HostnameOS / ArchINSTALLBUILDCHECKBUILD BIN
ASpediaFI 1.1.0
Doyeong Yu
Last Commit: ba67596
Last Changed Date: 2019-10-29 13:43:46 -0500
malbec2 Linux (Ubuntu 18.04.3 LTS) / x86_64  OK  OK  OK UNNEEDED, same version exists in internal repository
tokay2 Windows Server 2012 R2 Standard / x64  OK  OK  OK  OK UNNEEDED, same version exists in internal repository
celaya2 OS X 10.11.6 El Capitan / x86_64  OK  OK  OK  OK UNNEEDED, same version exists in internal repository
Package 91/1805HostnameOS / ArchINSTALLBUILDCHECKBUILD BIN
ASpli 1.13.0
Estefania Mancini
Last Commit: ec17f91
Last Changed Date: 2019-10-29 13:42:01 -0500
malbec2 Linux (Ubuntu 18.04.3 LTS) / x86_64  OK  OK  OK UNNEEDED, same version exists in internal repository
tokay2 Windows Server 2012 R2 Standard / x64  OK  OK  OK  OK UNNEEDED, same version exists in internal repository
celaya2 OS X 10.11.6 El Capitan / x86_64  OK  OK  OK  OK UNNEEDED, same version exists in internal repository
Package 92/1805HostnameOS / ArchINSTALLBUILDCHECKBUILD BIN
AssessORF 1.5.0
Deepank Korandla
Last Commit: f425701
Last Changed Date: 2019-10-29 13:43:21 -0500
malbec2 Linux (Ubuntu 18.04.3 LTS) / x86_64  OK  OK  OK UNNEEDED, same version exists in internal repository
tokay2 Windows Server 2012 R2 Standard / x64  OK  ERROR  skipped  skipped 
celaya2 OS X 10.11.6 El Capitan / x86_64  OK  OK  OK  OK UNNEEDED, same version exists in internal repository
Package 93/1805HostnameOS / ArchINSTALLBUILDCHECKBUILD BIN
ASSET 2.5.0
Samsiddhi Bhattacharjee
Last Commit: b6740ab
Last Changed Date: 2019-10-29 13:36:55 -0500
malbec2 Linux (Ubuntu 18.04.3 LTS) / x86_64  OK  OK  WARNINGS UNNEEDED, same version exists in internal repository
tokay2 Windows Server 2012 R2 Standard / x64  OK  OK  WARNINGS  OK UNNEEDED, same version exists in internal repository
celaya2 OS X 10.11.6 El Capitan / x86_64  OK  OK  WARNINGS  OK UNNEEDED, same version exists in internal repository
Package 94/1805HostnameOS / ArchINSTALLBUILDCHECKBUILD BIN
ASSIGN 1.23.0
Ying Shen , W. Evan Johnson
Last Commit: 34fd6fd
Last Changed Date: 2019-10-29 13:37:20 -0500
malbec2 Linux (Ubuntu 18.04.3 LTS) / x86_64  OK  OK  OK UNNEEDED, same version exists in internal repository
tokay2 Windows Server 2012 R2 Standard / x64  OK  OK  OK  OK UNNEEDED, same version exists in internal repository
celaya2 OS X 10.11.6 El Capitan / x86_64  OK  OK  OK  OK UNNEEDED, same version exists in internal repository
Package 95/1805HostnameOS / ArchINSTALLBUILDCHECKBUILD BIN
ATACseqQC 1.11.1
Jianhong Ou
Last Commit: a9c6339
Last Changed Date: 2019-11-11 08:55:20 -0500
malbec2 Linux (Ubuntu 18.04.3 LTS) / x86_64  OK  OK  OK UNNEEDED, same version exists in internal repository
tokay2 Windows Server 2012 R2 Standard / x64  OK  OK  OK  OK UNNEEDED, same version exists in internal repository
celaya2 OS X 10.11.6 El Capitan / x86_64  OK  OK  OK  OK UNNEEDED, same version exists in internal repository
Package 96/1805HostnameOS / ArchINSTALLBUILDCHECKBUILD BIN
atSNP 1.3.0
Sunyoung Shin
Last Commit: 9dc873a
Last Changed Date: 2019-10-29 13:43:29 -0500
malbec2 Linux (Ubuntu 18.04.3 LTS) / x86_64  OK  OK  OK UNNEEDED, same version exists in internal repository
tokay2 Windows Server 2012 R2 Standard / x64  OK  OK  OK  OK UNNEEDED, same version exists in internal repository
celaya2 OS X 10.11.6 El Capitan / x86_64  OK  OK  OK  OK UNNEEDED, same version exists in internal repository
Package 97/1805HostnameOS / ArchINSTALLBUILDCHECKBUILD BIN
attract 1.39.0
Samuel Zimmerman
Last Commit: 69da30e
Last Changed Date: 2019-10-29 13:35:17 -0500
malbec2 Linux (Ubuntu 18.04.3 LTS) / x86_64  OK  OK  OK UNNEEDED, same version exists in internal repository
tokay2 Windows Server 2012 R2 Standard / x64  OK  OK  OK  OK UNNEEDED, same version exists in internal repository
celaya2 OS X 10.11.6 El Capitan / x86_64  OK  OK  OK  OK UNNEEDED, same version exists in internal repository
Package 98/1805HostnameOS / ArchINSTALLBUILDCHECKBUILD BIN
AUCell 1.9.0
Sara Aibar
Last Commit: 3da3e3e
Last Changed Date: 2019-10-29 13:42:27 -0500
malbec2 Linux (Ubuntu 18.04.3 LTS) / x86_64  OK  OK  WARNINGS UNNEEDED, same version exists in internal repository
tokay2 Windows Server 2012 R2 Standard / x64  OK  OK  WARNINGS  OK UNNEEDED, same version exists in internal repository
celaya2 OS X 10.11.6 El Capitan / x86_64  OK  OK  WARNINGS  OK UNNEEDED, same version exists in internal repository
Package 99/1805HostnameOS / ArchINSTALLBUILDCHECKBUILD BIN
Autotuner 1.1.0
Craig McLean
Last Commit: 85881a7
Last Changed Date: 2019-10-29 13:43:37 -0500
malbec2 Linux (Ubuntu 18.04.3 LTS) / x86_64  OK  OK  OK UNNEEDED, same version exists in internal repository
tokay2 Windows Server 2012 R2 Standard / x64  OK  OK  OK  OK UNNEEDED, same version exists in internal repository
celaya2 OS X 10.11.6 El Capitan / x86_64  OK  OK  OK  OK UNNEEDED, same version exists in internal repository
Package 100/1805HostnameOS / ArchINSTALLBUILDCHECKBUILD BIN
AWFisher 1.1.0
Zhiguang Huo
Last Commit: 3c50216
Last Changed Date: 2019-10-29 13:43:36 -0500
malbec2 Linux (Ubuntu 18.04.3 LTS) / x86_64  OK  OK  OK UNNEEDED, same version exists in internal repository
tokay2 Windows Server 2012 R2 Standard / x64  OK  OK  OK  OK UNNEEDED, same version exists in internal repository
celaya2 OS X 10.11.6 El Capitan / x86_64  OK  OK  OK  OK UNNEEDED, same version exists in internal repository
B
ABCDEFGHIJKLMNOPQRSTUVWXYZ
Package 101/1805HostnameOS / ArchINSTALLBUILDCHECKBUILD BIN
BaalChIP 1.13.0
Ines de Santiago
Last Commit: 382eaf5
Last Changed Date: 2019-10-29 13:42:06 -0500
malbec2 Linux (Ubuntu 18.04.3 LTS) / x86_64  OK  OK  WARNINGS UNNEEDED, same version exists in internal repository
tokay2 Windows Server 2012 R2 Standard / x64  OK  OK  WARNINGS  OK UNNEEDED, same version exists in internal repository
celaya2 OS X 10.11.6 El Capitan / x86_64  OK  OK  WARNINGS  OK UNNEEDED, same version exists in internal repository
Package 102/1805HostnameOS / ArchINSTALLBUILDCHECKBUILD BIN
BAC 1.47.0
Raphael Gottardo
Last Commit: add14e6
Last Changed Date: 2019-10-29 13:34:48 -0500
malbec2 Linux (Ubuntu 18.04.3 LTS) / x86_64  OK  OK  OK UNNEEDED, same version exists in internal repository
tokay2 Windows Server 2012 R2 Standard / x64  OK  OK  OK  OK UNNEEDED, same version exists in internal repository
celaya2 OS X 10.11.6 El Capitan / x86_64  OK  OK  OK  OK UNNEEDED, same version exists in internal repository
Package 103/1805HostnameOS / ArchINSTALLBUILDCHECKBUILD BIN
bacon 1.15.0
Maarten van Iterson
Last Commit: a60f044
Last Changed Date: 2019-10-29 13:40:37 -0500
malbec2 Linux (Ubuntu 18.04.3 LTS) / x86_64  OK  OK  OK UNNEEDED, same version exists in internal repository
tokay2 Windows Server 2012 R2 Standard / x64  OK  OK  OK  OK UNNEEDED, same version exists in internal repository
celaya2 OS X 10.11.6 El Capitan / x86_64  OK  OK  OK  OK UNNEEDED, same version exists in internal repository
Package 104/1805HostnameOS / ArchINSTALLBUILDCHECKBUILD BIN
BADER 1.25.0
Andreas Neudecker
Last Commit: 65df235
Last Changed Date: 2019-10-29 13:36:59 -0500
malbec2 Linux (Ubuntu 18.04.3 LTS) / x86_64  OK  OK  OK UNNEEDED, same version exists in internal repository
tokay2 Windows Server 2012 R2 Standard / x64  OK  OK  OK  OK UNNEEDED, same version exists in internal repository
celaya2 OS X 10.11.6 El Capitan / x86_64  OK  OK  OK  OK UNNEEDED, same version exists in internal repository
Package 105/1805HostnameOS / ArchINSTALLBUILDCHECKBUILD BIN
BadRegionFinder 1.15.0
Sarah Sandmann
Last Commit: a811b41
Last Changed Date: 2019-10-29 13:40:53 -0500
malbec2 Linux (Ubuntu 18.04.3 LTS) / x86_64  OK  OK  OK UNNEEDED, same version exists in internal repository
tokay2 Windows Server 2012 R2 Standard / x64  OK  OK  OK  OK UNNEEDED, same version exists in internal repository
celaya2 OS X 10.11.6 El Capitan / x86_64  OK  OK  OK  OK UNNEEDED, same version exists in internal repository
Package 106/1805HostnameOS / ArchINSTALLBUILDCHECKBUILD BIN
BAGS 2.27.0
Alejandro Quiroz-Zarate
Last Commit: 844c8a2
Last Changed Date: 2019-10-29 13:36:04 -0500
malbec2 Linux (Ubuntu 18.04.3 LTS) / x86_64  OK  OK  OK UNNEEDED, same version exists in internal repository
tokay2 Windows Server 2012 R2 Standard / x64  OK  OK  OK  OK UNNEEDED, same version exists in internal repository
celaya2 OS X 10.11.6 El Capitan / x86_64  OK  OK  OK  OK UNNEEDED, same version exists in internal repository
Package 107/1805HostnameOS / ArchINSTALLBUILDCHECKBUILD BIN
ballgown 2.19.0
Jack Fu
Last Commit: c2fd3ce
Last Changed Date: 2019-10-29 13:37:46 -0500
malbec2 Linux (Ubuntu 18.04.3 LTS) / x86_64  OK  OK  OK UNNEEDED, same version exists in internal repository
tokay2 Windows Server 2012 R2 Standard / x64  OK  OK  OK  OK UNNEEDED, same version exists in internal repository
celaya2 OS X 10.11.6 El Capitan / x86_64  OK  OK  OK  OK UNNEEDED, same version exists in internal repository
Package 108/1805HostnameOS / ArchINSTALLBUILDCHECKBUILD BIN
bamsignals 1.19.0
Johannes Helmuth
Last Commit: ae7c669
Last Changed Date: 2019-10-29 13:39:08 -0500
malbec2 Linux (Ubuntu 18.04.3 LTS) / x86_64  OK  OK  OK UNNEEDED, same version exists in internal repository
tokay2 Windows Server 2012 R2 Standard / x64  OK  OK  OK  OK UNNEEDED, same version exists in internal repository
celaya2 OS X 10.11.6 El Capitan / x86_64  OK  OK  OK  OK UNNEEDED, same version exists in internal repository
Package 109/1805HostnameOS / ArchINSTALLBUILDCHECKBUILD BIN
BANDITS 1.3.0
Simone Tiberi
Last Commit: 7c94638
Last Changed Date: 2019-10-29 13:43:34 -0500
malbec2 Linux (Ubuntu 18.04.3 LTS) / x86_64  OK  OK  OK UNNEEDED, same version exists in internal repository
tokay2 Windows Server 2012 R2 Standard / x64  OK  OK  OK  OK UNNEEDED, same version exists in internal repository
celaya2 OS X 10.11.6 El Capitan / x86_64  OK  OK  OK  OK UNNEEDED, same version exists in internal repository
Package 110/1805HostnameOS / ArchINSTALLBUILDCHECKBUILD BIN
banocc 1.11.0
George Weingart
Last Commit: 274b43b
Last Changed Date: 2019-10-29 13:42:18 -0500
malbec2 Linux (Ubuntu 18.04.3 LTS) / x86_64  OK  OK  OK UNNEEDED, same version exists in internal repository
tokay2 Windows Server 2012 R2 Standard / x64  OK  ERROR  skipped  skipped 
celaya2 OS X 10.11.6 El Capitan / x86_64  OK  OK  OK  OK UNNEEDED, same version exists in internal repository
Package 111/1805HostnameOS / ArchINSTALLBUILDCHECKBUILD BIN
basecallQC 1.11.0
Thomas Carroll
Last Commit: 96b6882
Last Changed Date: 2019-10-29 13:42:18 -0500
malbec2 Linux (Ubuntu 18.04.3 LTS) / x86_64  OK  OK  OK UNNEEDED, same version exists in internal repository
tokay2 Windows Server 2012 R2 Standard / x64  OK  OK  OK  OK UNNEEDED, same version exists in internal repository
celaya2 OS X 10.11.6 El Capitan / x86_64  OK  OK  OK  OK UNNEEDED, same version exists in internal repository
Package 112/1805HostnameOS / ArchINSTALLBUILDCHECKBUILD BIN
BaseSpaceR 1.31.0
Jared O'Connell
Last Commit: 480fdf2
Last Changed Date: 2019-10-29 13:36:45 -0500
malbec2 Linux (Ubuntu 18.04.3 LTS) / x86_64  OK  OK  OK UNNEEDED, same version exists in internal repository
tokay2 Windows Server 2012 R2 Standard / x64  OK  OK  OK  OK UNNEEDED, same version exists in internal repository
celaya2 OS X 10.11.6 El Capitan / x86_64  OK  OK  OK  OK UNNEEDED, same version exists in internal repository
Package 113/1805HostnameOS / ArchINSTALLBUILDCHECKBUILD BIN
Basic4Cseq 1.23.0
Carolin Walter
Last Commit: 37f87be
Last Changed Date: 2019-10-29 13:37:18 -0500
malbec2 Linux (Ubuntu 18.04.3 LTS) / x86_64  OK  OK  OK UNNEEDED, same version exists in internal repository
tokay2 Windows Server 2012 R2 Standard / x64  OK  OK  OK  OK UNNEEDED, same version exists in internal repository
celaya2 OS X 10.11.6 El Capitan / x86_64  OK  OK  OK  OK UNNEEDED, same version exists in internal repository
Package 114/1805HostnameOS / ArchINSTALLBUILDCHECKBUILD BIN
BASiCS 1.9.0
Catalina Vallejos
Last Commit: a5e5640
Last Changed Date: 2019-10-29 13:42:28 -0500
malbec2 Linux (Ubuntu 18.04.3 LTS) / x86_64  OK  ERROR  skipped 
tokay2 Windows Server 2012 R2 Standard / x64  OK  ERROR  skipped  skipped 
celaya2 OS X 10.11.6 El Capitan / x86_64  OK  ERROR  skipped  skipped 
Package 115/1805HostnameOS / ArchINSTALLBUILDCHECKBUILD BIN
BasicSTARRseq 1.15.0
Annika Buerger
Last Commit: 2213652
Last Changed Date: 2019-10-29 13:40:24 -0500
malbec2 Linux (Ubuntu 18.04.3 LTS) / x86_64  OK  OK  OK UNNEEDED, same version exists in internal repository
tokay2 Windows Server 2012 R2 Standard / x64  OK  OK  OK  OK UNNEEDED, same version exists in internal repository
celaya2 OS X 10.11.6 El Capitan / x86_64  OK  OK  OK  OK UNNEEDED, same version exists in internal repository
Package 116/1805HostnameOS / ArchINSTALLBUILDCHECKBUILD BIN
batchelor 1.3.5
Aaron Lun
Last Commit: 8b21ea0
Last Changed Date: 2019-11-18 14:33:31 -0500
malbec2 Linux (Ubuntu 18.04.3 LTS) / x86_64  OK  OK  OK YES, new version is higher than in internal repository
tokay2 Windows Server 2012 R2 Standard / x64  OK  OK  OK  OK YES, new version is higher than in internal repository
celaya2 OS X 10.11.6 El Capitan / x86_64  OK  OK  OK  OK YES, new version is higher than in internal repository
Package 117/1805HostnameOS / ArchINSTALLBUILDCHECKBUILD BIN
BatchQC 1.15.0
Solaiappan Manimaran
Last Commit: 04555ae
Last Changed Date: 2019-10-29 13:40:58 -0500
malbec2 Linux (Ubuntu 18.04.3 LTS) / x86_64  OK  OK  OK UNNEEDED, same version exists in internal repository
tokay2 Windows Server 2012 R2 Standard / x64  OK  OK  OK  OK UNNEEDED, same version exists in internal repository
celaya2 OS X 10.11.6 El Capitan / x86_64  OK  OK  OK  OK UNNEEDED, same version exists in internal repository
Package 118/1805HostnameOS / ArchINSTALLBUILDCHECKBUILD BIN
BayesKnockdown 1.13.0
William Chad Young
Last Commit: 4c0f1f9
Last Changed Date: 2019-10-29 13:42:02 -0500
malbec2 Linux (Ubuntu 18.04.3 LTS) / x86_64  OK  OK  OK UNNEEDED, same version exists in internal repository
tokay2 Windows Server 2012 R2 Standard / x64  OK  OK  OK  OK UNNEEDED, same version exists in internal repository
celaya2 OS X 10.11.6 El Capitan / x86_64  OK  OK  OK  OK UNNEEDED, same version exists in internal repository
Package 119/1805HostnameOS / ArchINSTALLBUILDCHECKBUILD BIN
BayesPeak 1.39.0
Jonathan Cairns
Last Commit: b88bcd2
Last Changed Date: 2019-10-29 13:35:16 -0500
malbec2 Linux (Ubuntu 18.04.3 LTS) / x86_64  OK  ERROR  skipped 
tokay2 Windows Server 2012 R2 Standard / x64  OK  ERROR  skipped  skipped 
celaya2 OS X 10.11.6 El Capitan / x86_64  OK  ERROR  skipped  skipped 
Package 120/1805HostnameOS / ArchINSTALLBUILDCHECKBUILD BIN
bayNorm 1.5.1
Wenhao Tang
Last Commit: 113c3ee
Last Changed Date: 2019-11-04 07:26:06 -0500
malbec2 Linux (Ubuntu 18.04.3 LTS) / x86_64  OK  OK  OK UNNEEDED, same version exists in internal repository
tokay2 Windows Server 2012 R2 Standard / x64  OK  OK  OK  OK UNNEEDED, same version exists in internal repository
celaya2 OS X 10.11.6 El Capitan / x86_64  OK  OK  OK  OK UNNEEDED, same version exists in internal repository
Package 121/1805HostnameOS / ArchINSTALLBUILDCHECKBUILD BIN
baySeq 2.21.0
Thomas J. Hardcastle
Last Commit: 708c02c
Last Changed Date: 2019-10-29 13:35:09 -0500
malbec2 Linux (Ubuntu 18.04.3 LTS) / x86_64  OK  OK  OK UNNEEDED, same version exists in internal repository
tokay2 Windows Server 2012 R2 Standard / x64  OK  OK  OK  OK UNNEEDED, same version exists in internal repository
celaya2 OS X 10.11.6 El Capitan / x86_64  OK  OK  OK  OK UNNEEDED, same version exists in internal repository
Package 122/1805HostnameOS / ArchINSTALLBUILDCHECKBUILD BIN
BBCAnalyzer 1.17.0
Sarah Sandmann
Last Commit: 66e232a
Last Changed Date: 2019-10-29 13:39:47 -0500
malbec2 Linux (Ubuntu 18.04.3 LTS) / x86_64  OK  OK  OK UNNEEDED, same version exists in internal repository
tokay2 Windows Server 2012 R2 Standard / x64  OK  OK  WARNINGS  OK UNNEEDED, same version exists in internal repository
celaya2 OS X 10.11.6 El Capitan / x86_64  OK  OK  OK  OK UNNEEDED, same version exists in internal repository
Package 123/1805HostnameOS / ArchINSTALLBUILDCHECKBUILD BIN
BCRANK 1.49.0
Adam Ameur
Last Commit: e130978
Last Changed Date: 2019-10-29 13:34:48 -0500
malbec2 Linux (Ubuntu 18.04.3 LTS) / x86_64  OK  OK  OK UNNEEDED, same version exists in internal repository
tokay2 Windows Server 2012 R2 Standard / x64  OK  OK  OK  OK UNNEEDED, same version exists in internal repository
celaya2 OS X 10.11.6 El Capitan / x86_64  OK  OK  OK  OK UNNEEDED, same version exists in internal repository
Package 124/1805HostnameOS / ArchINSTALLBUILDCHECKBUILD BIN
bcSeq 1.9.0
Jiaxing Lin
Last Commit: d89d30f
Last Changed Date: 2019-10-29 13:42:35 -0500
malbec2 Linux (Ubuntu 18.04.3 LTS) / x86_64  OK  OK  OK UNNEEDED, same version exists in internal repository
tokay2 Windows Server 2012 R2 Standard / x64  OK  OK  OK  OK UNNEEDED, same version exists in internal repository
celaya2 OS X 10.11.6 El Capitan / x86_64  OK  OK  OK  OK UNNEEDED, same version exists in internal repository
Package 125/1805HostnameOS / ArchINSTALLBUILDCHECKBUILD BIN
BDMMAcorrect 1.5.0
ZHENWEI DAI
Last Commit: 843532c
Last Changed Date: 2019-10-29 13:43:22 -0500
malbec2 Linux (Ubuntu 18.04.3 LTS) / x86_64  OK  OK  OK UNNEEDED, same version exists in internal repository
tokay2 Windows Server 2012 R2 Standard / x64  OK  OK  OK  OK UNNEEDED, same version exists in internal repository
celaya2 OS X 10.11.6 El Capitan / x86_64  OK  OK  OK  OK UNNEEDED, same version exists in internal repository
Package 126/1805HostnameOS / ArchINSTALLBUILDCHECKBUILD BIN
beachmat 2.3.1
Aaron Lun
Last Commit: bae95b3
Last Changed Date: 2019-11-14 20:02:24 -0500
malbec2 Linux (Ubuntu 18.04.3 LTS) / x86_64  OK  OK  OK UNNEEDED, same version exists in internal repository
tokay2 Windows Server 2012 R2 Standard / x64  OK  OK  OK  OK UNNEEDED, same version exists in internal repository
celaya2 OS X 10.11.6 El Capitan / x86_64  OK  OK  OK  OK UNNEEDED, same version exists in internal repository
Package 127/1805HostnameOS / ArchINSTALLBUILDCHECKBUILD BIN
beadarray 2.37.0
Mark Dunning
Last Commit: 1ec2778
Last Changed Date: 2019-10-29 13:34:41 -0500
malbec2 Linux (Ubuntu 18.04.3 LTS) / x86_64  OK  OK  OK UNNEEDED, same version exists in internal repository
tokay2 Windows Server 2012 R2 Standard / x64  OK  OK  OK  OK UNNEEDED, same version exists in internal repository
celaya2 OS X 10.11.6 El Capitan / x86_64  OK  OK  OK  OK UNNEEDED, same version exists in internal repository
Package 128/1805HostnameOS / ArchINSTALLBUILDCHECKBUILD BIN
beadarraySNP 1.53.0
Jan Oosting
Last Commit: d954161
Last Changed Date: 2019-10-29 13:34:44 -0500
malbec2 Linux (Ubuntu 18.04.3 LTS) / x86_64  OK  OK  OK UNNEEDED, same version exists in internal repository
tokay2 Windows Server 2012 R2 Standard / x64  OK  OK  OK  OK UNNEEDED, same version exists in internal repository
celaya2 OS X 10.11.6 El Capitan / x86_64  OK  OK  ERROR  OK 
Package 129/1805HostnameOS / ArchINSTALLBUILDCHECKBUILD BIN
BeadDataPackR 1.39.0
Mike Smith
Last Commit: edbf0cf
Last Changed Date: 2019-10-29 13:35:15 -0500
malbec2 Linux (Ubuntu 18.04.3 LTS) / x86_64  OK  OK  OK UNNEEDED, same version exists in internal repository
tokay2 Windows Server 2012 R2 Standard / x64  OK  OK  OK  OK UNNEEDED, same version exists in internal repository
celaya2 OS X 10.11.6 El Capitan / x86_64  OK  OK  OK  OK UNNEEDED, same version exists in internal repository
Package 130/1805HostnameOS / ArchINSTALLBUILDCHECKBUILD BIN
BEARscc 1.7.0
Benjamin Schuster-Boeckler
Last Commit: 4e552c9
Last Changed Date: 2019-10-29 13:42:40 -0500
malbec2 Linux (Ubuntu 18.04.3 LTS) / x86_64  OK  OK  WARNINGS UNNEEDED, same version exists in internal repository
tokay2 Windows Server 2012 R2 Standard / x64  OK  ERROR  skipped  skipped 
celaya2 OS X 10.11.6 El Capitan / x86_64  OK  OK  WARNINGS  OK UNNEEDED, same version exists in internal repository
Package 131/1805HostnameOS / ArchINSTALLBUILDCHECKBUILD BIN
BEAT 1.25.0
Kemal Akman
Last Commit: 8e7c85d
Last Changed Date: 2019-10-29 13:37:16 -0500
malbec2 Linux (Ubuntu 18.04.3 LTS) / x86_64  OK  OK  OK UNNEEDED, same version exists in internal repository
tokay2 Windows Server 2012 R2 Standard / x64  OK  OK  OK  OK UNNEEDED, same version exists in internal repository
celaya2 OS X 10.11.6 El Capitan / x86_64  OK  OK  OK  OK UNNEEDED, same version exists in internal repository
Package 132/1805HostnameOS / ArchINSTALLBUILDCHECKBUILD BIN
BEclear 2.3.0
David Rasp
Last Commit: 7447bfa
Last Changed Date: 2019-10-29 13:39:26 -0500
malbec2 Linux (Ubuntu 18.04.3 LTS) / x86_64  OK  OK  OK UNNEEDED, same version exists in internal repository
tokay2 Windows Server 2012 R2 Standard / x64  OK  OK  OK  OK UNNEEDED, same version exists in internal repository
celaya2 OS X 10.11.6 El Capitan / x86_64  OK  OK  OK  OK UNNEEDED, same version exists in internal repository
Package 133/1805HostnameOS / ArchINSTALLBUILDCHECKBUILD BIN
bgafun 1.49.0
Iain Wallace
Last Commit: 6226b01
Last Changed Date: 2019-10-29 13:34:47 -0500
malbec2 Linux (Ubuntu 18.04.3 LTS) / x86_64  OK  ERROR  skipped 
tokay2 Windows Server 2012 R2 Standard / x64  OK  ERROR  skipped  skipped 
celaya2 OS X 10.11.6 El Capitan / x86_64  OK  ERROR  skipped  skipped 
Package 134/1805HostnameOS / ArchINSTALLBUILDCHECKBUILD BIN
BgeeDB 2.13.0
Julien Wollbrett , Julien Roux , Andrea Komljenovic , Frederic Bastian
Last Commit: b3486f3
Last Changed Date: 2019-10-29 13:40:59 -0500
malbec2 Linux (Ubuntu 18.04.3 LTS) / x86_64  OK  OK  OK UNNEEDED, same version exists in internal repository
tokay2 Windows Server 2012 R2 Standard / x64  OK  OK  ERROR  OK 
celaya2 OS X 10.11.6 El Capitan / x86_64  OK  OK  OK  OK UNNEEDED, same version exists in internal repository
Package 135/1805HostnameOS / ArchINSTALLBUILDCHECKBUILD BIN
BGmix 1.47.0
Alex Lewin
Last Commit: f3567e1
Last Changed Date: 2019-10-29 13:34:47 -0500
malbec2 Linux (Ubuntu 18.04.3 LTS) / x86_64  OK  OK  WARNINGS UNNEEDED, same version exists in internal repository
tokay2 Windows Server 2012 R2 Standard / x64 ...NOT SUPPORTED...
celaya2 OS X 10.11.6 El Capitan / x86_64  OK  OK  OK  OK UNNEEDED, same version exists in internal repository
Package 136/1805HostnameOS / ArchINSTALLBUILDCHECKBUILD BIN
bgx 1.53.0
Ernest Turro
Last Commit: cb7d957
Last Changed Date: 2019-10-29 13:34:46 -0500
malbec2 Linux (Ubuntu 18.04.3 LTS) / x86_64  OK  OK  OK UNNEEDED, same version exists in internal repository
tokay2 Windows Server 2012 R2 Standard / x64  OK  OK  OK  OK UNNEEDED, same version exists in internal repository
celaya2 OS X 10.11.6 El Capitan / x86_64  OK  OK  WARNINGS  OK UNNEEDED, same version exists in internal repository
Package 137/1805HostnameOS / ArchINSTALLBUILDCHECKBUILD BIN
BHC 1.39.0
Rich Savage
Last Commit: ce9ef54
Last Changed Date: 2019-10-29 13:35:17 -0500
malbec2 Linux (Ubuntu 18.04.3 LTS) / x86_64  OK  OK  OK UNNEEDED, same version exists in internal repository
tokay2 Windows Server 2012 R2 Standard / x64  OK  OK  OK  OK UNNEEDED, same version exists in internal repository
celaya2 OS X 10.11.6 El Capitan / x86_64  OK  OK  OK  OK UNNEEDED, same version exists in internal repository
Package 138/1805HostnameOS / ArchINSTALLBUILDCHECKBUILD BIN
BicARE 1.45.0
Pierre Gestraud
Last Commit: 74116ea
Last Changed Date: 2019-10-29 13:34:52 -0500
malbec2 Linux (Ubuntu 18.04.3 LTS) / x86_64  OK  OK  OK UNNEEDED, same version exists in internal repository
tokay2 Windows Server 2012 R2 Standard / x64  OK  OK  OK  OK UNNEEDED, same version exists in internal repository
celaya2 OS X 10.11.6 El Capitan / x86_64  OK  OK  OK  OK UNNEEDED, same version exists in internal repository
Package 139/1805HostnameOS / ArchINSTALLBUILDCHECKBUILD BIN
BiFET 1.7.0
Ahrim Youn
Last Commit: 4159cdd
Last Changed Date: 2019-10-29 13:42:38 -0500
malbec2 Linux (Ubuntu 18.04.3 LTS) / x86_64  OK  OK  OK UNNEEDED, same version exists in internal repository
tokay2 Windows Server 2012 R2 Standard / x64  OK  OK  OK  OK UNNEEDED, same version exists in internal repository
celaya2 OS X 10.11.6 El Capitan / x86_64  OK  OK  OK  OK UNNEEDED, same version exists in internal repository
Package 140/1805HostnameOS / ArchINSTALLBUILDCHECKBUILD BIN
BiGGR 1.23.0
Anand K. Gavai
Last Commit: 46e2590
Last Changed Date: 2019-10-29 13:36:57 -0500
malbec2 Linux (Ubuntu 18.04.3 LTS) / x86_64  OK  OK  WARNINGS UNNEEDED, same version exists in internal repository
tokay2 Windows Server 2012 R2 Standard / x64  OK  OK  WARNINGS  OK UNNEEDED, same version exists in internal repository
celaya2 OS X 10.11.6 El Capitan / x86_64  OK  OK  WARNINGS  OK UNNEEDED, same version exists in internal repository
Package 141/1805HostnameOS / ArchINSTALLBUILDCHECKBUILD BIN
bigmelon 1.13.0
Tyler J. Gorrie-Stone
Last Commit: d28af5e
Last Changed Date: 2019-10-29 13:42:07 -0500
malbec2 Linux (Ubuntu 18.04.3 LTS) / x86_64  OK  OK  ERROR 
tokay2 Windows Server 2012 R2 Standard / x64  OK  OK  ERROR  OK 
celaya2 OS X 10.11.6 El Capitan / x86_64  OK  OK  ERROR  OK 
Package 142/1805HostnameOS / ArchINSTALLBUILDCHECKBUILD BIN
bigmemoryExtras 1.35.0
Peter M. Haverty
Last Commit: ee97ae0
Last Changed Date: 2019-10-29 13:36:23 -0500
malbec2 Linux (Ubuntu 18.04.3 LTS) / x86_64  OK  OK  WARNINGS UNNEEDED, same version exists in internal repository
tokay2 Windows Server 2012 R2 Standard / x64 ...NOT SUPPORTED...
celaya2 OS X 10.11.6 El Capitan / x86_64  OK  OK  WARNINGS  OK UNNEEDED, same version exists in internal repository
Package 143/1805HostnameOS / ArchINSTALLBUILDCHECKBUILD BIN
bigPint 1.3.0
Lindsay Rutter
Last Commit: 0064218
Last Changed Date: 2019-10-29 13:43:26 -0500
malbec2 Linux (Ubuntu 18.04.3 LTS) / x86_64  OK  ERROR  skipped 
tokay2 Windows Server 2012 R2 Standard / x64  OK  ERROR  skipped  skipped 
celaya2 OS X 10.11.6 El Capitan / x86_64  OK  ERROR  skipped  skipped 
Package 144/1805HostnameOS / ArchINSTALLBUILDCHECKBUILD BIN
bioassayR 1.25.0
Tyler Backman
Last Commit: 77ae19f
Last Changed Date: 2019-10-29 13:37:05 -0500
malbec2 Linux (Ubuntu 18.04.3 LTS) / x86_64  OK  OK  OK UNNEEDED, same version exists in internal repository
tokay2 Windows Server 2012 R2 Standard / x64  OK  OK  OK  OK UNNEEDED, same version exists in internal repository
celaya2 OS X 10.11.6 El Capitan / x86_64  ERROR  ERROR  skipped  skipped 
Package 145/1805HostnameOS / ArchINSTALLBUILDCHECKBUILD BIN
Biobase 2.47.0
Bioconductor Package Maintainer
Last Commit: 9616e7a
Last Changed Date: 2019-10-29 13:34:29 -0500
malbec2 Linux (Ubuntu 18.04.3 LTS) / x86_64  OK  OK  WARNINGS UNNEEDED, same version exists in internal repository
tokay2 Windows Server 2012 R2 Standard / x64  OK  OK  WARNINGS  OK UNNEEDED, same version exists in internal repository
celaya2 OS X 10.11.6 El Capitan / x86_64  OK  OK  WARNINGS  OK UNNEEDED, same version exists in internal repository
Package 146/1805HostnameOS / ArchINSTALLBUILDCHECKBUILD BIN
biobroom 1.19.0
John D. Storey and Andrew J. Bass
Last Commit: 997c88b
Last Changed Date: 2019-10-29 13:40:09 -0500
malbec2 Linux (Ubuntu 18.04.3 LTS) / x86_64  OK  OK  OK UNNEEDED, same version exists in internal repository
tokay2 Windows Server 2012 R2 Standard / x64  OK  OK  WARNINGS  OK UNNEEDED, same version exists in internal repository
celaya2 OS X 10.11.6 El Capitan / x86_64  OK  OK  OK  OK UNNEEDED, same version exists in internal repository
Package 147/1805HostnameOS / ArchINSTALLBUILDCHECKBUILD BIN
bioCancer 1.15.0
Karim Mezhoud
Last Commit: 323593b
Last Changed Date: 2019-10-29 13:41:29 -0500
malbec2 Linux (Ubuntu 18.04.3 LTS) / x86_64  OK  OK  OK UNNEEDED, same version exists in internal repository
tokay2 Windows Server 2012 R2 Standard / x64  OK  OK  OK  OK UNNEEDED, same version exists in internal repository
celaya2 OS X 10.11.6 El Capitan / x86_64  OK  OK  OK  OK UNNEEDED, same version exists in internal repository
Package 148/1805HostnameOS / ArchINSTALLBUILDCHECKBUILD BIN
BiocCaseStudies 1.49.0
Bioconductor Package Maintainer
Last Commit: a1c3eac
Last Changed Date: 2019-10-29 13:34:47 -0500
malbec2 Linux (Ubuntu 18.04.3 LTS) / x86_64  OK  OK  OK UNNEEDED, same version exists in internal repository
tokay2 Windows Server 2012 R2 Standard / x64  OK  OK  OK  OK UNNEEDED, same version exists in internal repository
celaya2 OS X 10.11.6 El Capitan / x86_64  OK  OK  OK  OK UNNEEDED, same version exists in internal repository
Package 149/1805HostnameOS / ArchINSTALLBUILDCHECKBUILD BIN
BiocCheck 1.23.0
Bioconductor Package Maintainer
Last Commit: 1892a3f
Last Changed Date: 2019-10-29 13:37:23 -0500
malbec2 Linux (Ubuntu 18.04.3 LTS) / x86_64  OK  OK  OK UNNEEDED, same version exists in internal repository
tokay2 Windows Server 2012 R2 Standard / x64  OK  OK  OK  OK UNNEEDED, same version exists in internal repository
celaya2 OS X 10.11.6 El Capitan / x86_64  OK  OK  OK  OK UNNEEDED, same version exists in internal repository
Package 150/1805HostnameOS / ArchINSTALLBUILDCHECKBUILD BIN
BiocFileCache 1.11.2
Lori Shepherd
Last Commit: 22840ed
Last Changed Date: 2019-11-08 14:33:31 -0500
malbec2 Linux (Ubuntu 18.04.3 LTS) / x86_64  OK  OK  OK UNNEEDED, same version exists in internal repository
tokay2 Windows Server 2012 R2 Standard / x64  OK  OK  WARNINGS  OK UNNEEDED, same version exists in internal repository
celaya2 OS X 10.11.6 El Capitan / x86_64  OK  OK  OK  OK UNNEEDED, same version exists in internal repository
Package 151/1805HostnameOS / ArchINSTALLBUILDCHECKBUILD BIN
BiocGenerics 0.33.0
Bioconductor Package Maintainer
Last Commit: cfeec60
Last Changed Date: 2019-10-29 13:36:03 -0500
malbec2 Linux (Ubuntu 18.04.3 LTS) / x86_64  OK  OK  WARNINGS UNNEEDED, same version exists in internal repository
tokay2 Windows Server 2012 R2 Standard / x64  OK  OK  WARNINGS  OK UNNEEDED, same version exists in internal repository
celaya2 OS X 10.11.6 El Capitan / x86_64  OK  OK  WARNINGS  OK UNNEEDED, same version exists in internal repository
Package 152/1805HostnameOS / ArchINSTALLBUILDCHECKBUILD BIN
biocGraph 1.49.0
Florian Hahne
Last Commit: d4a7ca9
Last Changed Date: 2019-10-29 13:34:46 -0500
malbec2 Linux (Ubuntu 18.04.3 LTS) / x86_64  OK  OK  OK UNNEEDED, same version exists in internal repository
tokay2 Windows Server 2012 R2 Standard / x64  OK  OK  OK  OK UNNEEDED, same version exists in internal repository
celaya2 OS X 10.11.6 El Capitan / x86_64  OK  OK  OK  OK UNNEEDED, same version exists in internal repository
Package 153/1805HostnameOS / ArchINSTALLBUILDCHECKBUILD BIN
BiocNeighbors 1.5.1
Aaron Lun
Last Commit: 47b839f
Last Changed Date: 2019-10-31 02:28:37 -0500
malbec2 Linux (Ubuntu 18.04.3 LTS) / x86_64  OK  OK  WARNINGS UNNEEDED, same version exists in internal repository
tokay2 Windows Server 2012 R2 Standard / x64  OK  OK  WARNINGS  OK UNNEEDED, same version exists in internal repository
celaya2 OS X 10.11.6 El Capitan / x86_64  OK  OK  WARNINGS  OK UNNEEDED, same version exists in internal repository
Package 154/1805HostnameOS / ArchINSTALLBUILDCHECKBUILD BIN
BiocOncoTK 1.7.0
VJ Carey
Last Commit: 6ce4bd7
Last Changed Date: 2019-10-29 13:43:08 -0500
malbec2 Linux (Ubuntu 18.04.3 LTS) / x86_64  OK  OK  OK UNNEEDED, same version exists in internal repository
tokay2 Windows Server 2012 R2 Standard / x64  OK  ERROR  skipped  skipped 
celaya2 OS X 10.11.6 El Capitan / x86_64  OK  OK  OK  OK UNNEEDED, same version exists in internal repository
Package 155/1805HostnameOS / ArchINSTALLBUILDCHECKBUILD BIN
BioCor 1.11.0
Lluís Revilla Sancho
Last Commit: aef4396
Last Changed Date: 2019-10-29 13:42:17 -0500
malbec2 Linux (Ubuntu 18.04.3 LTS) / x86_64  OK  OK  OK UNNEEDED, same version exists in internal repository
tokay2 Windows Server 2012 R2 Standard / x64  OK  OK  OK  OK UNNEEDED, same version exists in internal repository
celaya2 OS X 10.11.6 El Capitan / x86_64  OK  OK  OK  OK UNNEEDED, same version exists in internal repository
Package 156/1805HostnameOS / ArchINSTALLBUILDCHECKBUILD BIN
BiocParallel 1.21.0
Bioconductor Package Maintainer
Last Commit: b916b46
Last Changed Date: 2019-10-29 13:36:26 -0500
malbec2 Linux (Ubuntu 18.04.3 LTS) / x86_64  OK  OK  OK UNNEEDED, same version exists in internal repository
tokay2 Windows Server 2012 R2 Standard / x64  OK  OK  OK  OK UNNEEDED, same version exists in internal repository
celaya2 OS X 10.11.6 El Capitan / x86_64  OK  OK  OK  OK UNNEEDED, same version exists in internal repository
Package 157/1805HostnameOS / ArchINSTALLBUILDCHECKBUILD BIN
BiocPkgTools 1.5.0
Sean Davis
Last Commit: d401f77
Last Changed Date: 2019-10-29 13:43:19 -0500
malbec2 Linux (Ubuntu 18.04.3 LTS) / x86_64  OK  OK  OK UNNEEDED, same version exists in internal repository
tokay2 Windows Server 2012 R2 Standard / x64  OK  OK  OK  OK UNNEEDED, same version exists in internal repository
celaya2 OS X 10.11.6 El Capitan / x86_64  OK  OK  ERROR  OK 
Package 158/1805HostnameOS / ArchINSTALLBUILDCHECKBUILD BIN
BiocSet 1.1.1
Kayla Morrell
Last Commit: 2dd163f
Last Changed Date: 2019-11-06 14:04:48 -0500
malbec2 Linux (Ubuntu 18.04.3 LTS) / x86_64  OK  OK  OK UNNEEDED, same version exists in internal repository
tokay2 Windows Server 2012 R2 Standard / x64  OK  OK  OK  OK UNNEEDED, same version exists in internal repository
celaya2 OS X 10.11.6 El Capitan / x86_64  OK  OK  OK  OK UNNEEDED, same version exists in internal repository
Package 159/1805HostnameOS / ArchINSTALLBUILDCHECKBUILD BIN
BiocSingular 1.3.0
Aaron Lun
Last Commit: 524f0c6
Last Changed Date: 2019-10-29 13:43:29 -0500
malbec2 Linux (Ubuntu 18.04.3 LTS) / x86_64  OK  OK  OK UNNEEDED, same version exists in internal repository
tokay2 Windows Server 2012 R2 Standard / x64  OK  OK  OK  OK UNNEEDED, same version exists in internal repository
celaya2 OS X 10.11.6 El Capitan / x86_64  OK  OK  OK  OK UNNEEDED, same version exists in internal repository
Package 160/1805HostnameOS / ArchINSTALLBUILDCHECKBUILD BIN
BiocSklearn 1.9.0
VJ Carey
Last Commit: de1e368
Last Changed Date: 2019-10-29 13:42:22 -0500
malbec2 Linux (Ubuntu 18.04.3 LTS) / x86_64  OK  OK  OK UNNEEDED, same version exists in internal repository
tokay2 Windows Server 2012 R2 Standard / x64  OK  OK  ERROR  OK 
celaya2 OS X 10.11.6 El Capitan / x86_64  OK  OK  OK  OK UNNEEDED, same version exists in internal repository
Package 161/1805HostnameOS / ArchINSTALLBUILDCHECKBUILD BIN
BiocStyle 2.15.0
Bioconductor Package Maintainer
Last Commit: 49c107d
Last Changed Date: 2019-10-29 13:36:52 -0500
malbec2 Linux (Ubuntu 18.04.3 LTS) / x86_64  OK  OK  OK UNNEEDED, same version exists in internal repository
tokay2 Windows Server 2012 R2 Standard / x64  OK  OK  OK  OK UNNEEDED, same version exists in internal repository
celaya2 OS X 10.11.6 El Capitan / x86_64  OK  OK  OK  OK UNNEEDED, same version exists in internal repository
Package 162/1805HostnameOS / ArchINSTALLBUILDCHECKBUILD BIN
BiocVersion 3.11.1
Bioconductor Package Maintainer
Last Commit: 75a6f4a
Last Changed Date: 2019-11-13 14:06:29 -0500
malbec2 Linux (Ubuntu 18.04.3 LTS) / x86_64  OK  OK  OK UNNEEDED, same version exists in internal repository
tokay2 Windows Server 2012 R2 Standard / x64  OK  OK  OK  OK UNNEEDED, same version exists in internal repository
celaya2 OS X 10.11.6 El Capitan / x86_64  OK  OK  OK  OK UNNEEDED, same version exists in internal repository
Package 163/1805HostnameOS / ArchINSTALLBUILDCHECKBUILD BIN
biocViews 1.55.3
Bioconductor Package Maintainer
Last Commit: 20624d4
Last Changed Date: 2019-11-09 21:57:44 -0500
malbec2 Linux (Ubuntu 18.04.3 LTS) / x86_64  OK  OK  OK UNNEEDED, same version exists in internal repository
tokay2 Windows Server 2012 R2 Standard / x64  OK  OK  OK  OK UNNEEDED, same version exists in internal repository
celaya2 OS X 10.11.6 El Capitan / x86_64  OK  OK  OK  OK UNNEEDED, same version exists in internal repository
Package 164/1805HostnameOS / ArchINSTALLBUILDCHECKBUILD BIN
BiocWorkflowTools 1.13.0
Mike Smith
Last Commit: 5d24db6
Last Changed Date: 2019-10-29 13:42:06 -0500
malbec2 Linux (Ubuntu 18.04.3 LTS) / x86_64  OK  OK  OK UNNEEDED, same version exists in internal repository
tokay2 Windows Server 2012 R2 Standard / x64  OK  OK  OK  OK UNNEEDED, same version exists in internal repository
celaya2 OS X 10.11.6 El Capitan / x86_64  OK  OK  OK  OK UNNEEDED, same version exists in internal repository
Package 165/1805HostnameOS / ArchINSTALLBUILDCHECKBUILD BIN
bioDist 1.59.0
Bioconductor Package Maintainer
Last Commit: 6940f72
Last Changed Date: 2019-10-29 13:34:37 -0500
malbec2 Linux (Ubuntu 18.04.3 LTS) / x86_64  OK  OK  OK UNNEEDED, same version exists in internal repository
tokay2 Windows Server 2012 R2 Standard / x64  OK  OK  OK  OK UNNEEDED, same version exists in internal repository
celaya2 OS X 10.11.6 El Capitan / x86_64  OK  OK  OK  OK UNNEEDED, same version exists in internal repository
Package 166/1805HostnameOS / ArchINSTALLBUILDCHECKBUILD BIN
biomaRt 2.43.0
Mike Smith
Last Commit: 971ce6a
Last Changed Date: 2019-10-29 13:34:38 -0500
malbec2 Linux (Ubuntu 18.04.3 LTS) / x86_64  OK  OK  OK UNNEEDED, same version exists in internal repository
tokay2 Windows Server 2012 R2 Standard / x64  OK  OK  ERROR  OK 
celaya2 OS X 10.11.6 El Capitan / x86_64  OK  OK  OK  OK UNNEEDED, same version exists in internal repository
Package 167/1805HostnameOS / ArchINSTALLBUILDCHECKBUILD BIN
biomformat 1.15.0
Paul J. McMurdie
Last Commit: 2df10b2
Last Changed Date: 2019-10-29 13:40:14 -0500
malbec2 Linux (Ubuntu 18.04.3 LTS) / x86_64  OK  OK  OK UNNEEDED, same version exists in internal repository
tokay2 Windows Server 2012 R2 Standard / x64  OK  OK  WARNINGS  OK UNNEEDED, same version exists in internal repository
celaya2 OS X 10.11.6 El Capitan / x86_64  OK  OK  OK  OK UNNEEDED, same version exists in internal repository
Package 168/1805HostnameOS / ArchINSTALLBUILDCHECKBUILD BIN
BioMM 1.3.0
Junfang Chen
Last Commit: 6c4f1c7
Last Changed Date: 2019-10-29 13:43:29 -0500
malbec2 Linux (Ubuntu 18.04.3 LTS) / x86_64  OK  OK  OK UNNEEDED, same version exists in internal repository
tokay2 Windows Server 2012 R2 Standard / x64  OK  OK  OK  OK UNNEEDED, same version exists in internal repository
celaya2 OS X 10.11.6 El Capitan / x86_64  OK  OK  OK  OK UNNEEDED, same version exists in internal repository
Package 169/1805HostnameOS / ArchINSTALLBUILDCHECKBUILD BIN
BioMVCClass 1.55.0
Elizabeth Whalen
Last Commit: 8ea690a
Last Changed Date: 2019-10-29 13:34:43 -0500
malbec2 Linux (Ubuntu 18.04.3 LTS) / x86_64  OK  OK  OK UNNEEDED, same version exists in internal repository
tokay2 Windows Server 2012 R2 Standard / x64  OK  OK  OK  OK UNNEEDED, same version exists in internal repository
celaya2 OS X 10.11.6 El Capitan / x86_64  OK  OK  OK  OK UNNEEDED, same version exists in internal repository
Package 170/1805HostnameOS / ArchINSTALLBUILDCHECKBUILD BIN
biomvRCNS 1.27.0
Yang Du
Last Commit: 953c518
Last Changed Date: 2019-10-29 13:36:36 -0500
malbec2 Linux (Ubuntu 18.04.3 LTS) / x86_64  OK  OK  OK UNNEEDED, same version exists in internal repository
tokay2 Windows Server 2012 R2 Standard / x64  OK  OK  OK  OK UNNEEDED, same version exists in internal repository
celaya2 OS X 10.11.6 El Capitan / x86_64  OK  OK  OK  OK UNNEEDED, same version exists in internal repository
Package 171/1805HostnameOS / ArchINSTALLBUILDCHECKBUILD BIN
BioNet 1.47.0
Marcus Dittrich
Last Commit: 6275a14
Last Changed Date: 2019-10-29 13:35:18 -0500
malbec2 Linux (Ubuntu 18.04.3 LTS) / x86_64  OK  OK  OK UNNEEDED, same version exists in internal repository
tokay2 Windows Server 2012 R2 Standard / x64  OK  OK  OK  OK UNNEEDED, same version exists in internal repository
celaya2 OS X 10.11.6 El Capitan / x86_64  OK  OK  OK  OK UNNEEDED, same version exists in internal repository
Package 172/1805HostnameOS / ArchINSTALLBUILDCHECKBUILD BIN
BioNetStat 1.7.0
Vinicius Jardim
Last Commit: f35d4f7
Last Changed Date: 2019-10-29 13:43:06 -0500
malbec2 Linux (Ubuntu 18.04.3 LTS) / x86_64  OK  OK  OK UNNEEDED, same version exists in internal repository
tokay2 Windows Server 2012 R2 Standard / x64  OK  OK  OK  OK UNNEEDED, same version exists in internal repository
celaya2 OS X 10.11.6 El Capitan / x86_64  OK  OK  OK  OK UNNEEDED, same version exists in internal repository
Package 173/1805HostnameOS / ArchINSTALLBUILDCHECKBUILD BIN
BioQC 1.15.2
Jitao David Zhang
Last Commit: cdc6a9b
Last Changed Date: 2019-11-18 05:36:39 -0500
malbec2 Linux (Ubuntu 18.04.3 LTS) / x86_64  OK  OK  OK YES, new version is higher than in internal repository
tokay2 Windows Server 2012 R2 Standard / x64  OK  OK  OK  OK YES, new version is higher than in internal repository
celaya2 OS X 10.11.6 El Capitan / x86_64  OK  OK  OK  OK YES, new version is higher than in internal repository
Package 174/1805HostnameOS / ArchINSTALLBUILDCHECKBUILD BIN
BioSeqClass 1.45.0
Li Hong
Last Commit: 046e03d
Last Changed Date: 2019-10-29 13:35:11 -0500
malbec2 Linux (Ubuntu 18.04.3 LTS) / x86_64  OK  OK  OK UNNEEDED, same version exists in internal repository
tokay2 Windows Server 2012 R2 Standard / x64  OK  OK  OK  OK UNNEEDED, same version exists in internal repository
celaya2 OS X 10.11.6 El Capitan / x86_64  OK  OK  OK  OK UNNEEDED, same version exists in internal repository
Package 175/1805HostnameOS / ArchINSTALLBUILDCHECKBUILD BIN
biosigner 1.15.0
Philippe Rinaudo , Etienne Thevenot
Last Commit: 8a5e404
Last Changed Date: 2019-10-29 13:40:35 -0500
malbec2 Linux (Ubuntu 18.04.3 LTS) / x86_64  OK  OK  OK UNNEEDED, same version exists in internal repository
tokay2 Windows Server 2012 R2 Standard / x64  OK  OK  OK  OK UNNEEDED, same version exists in internal repository
celaya2 OS X 10.11.6 El Capitan / x86_64  OK  OK  OK  OK UNNEEDED, same version exists in internal repository
Package 176/1805HostnameOS / ArchINSTALLBUILDCHECKBUILD BIN
Biostrings 2.55.0
H. Pagès
Last Commit: 47c1e1f
Last Changed Date: 2019-10-29 13:34:34 -0500
malbec2 Linux (Ubuntu 18.04.3 LTS) / x86_64  OK  OK  WARNINGS UNNEEDED, same version exists in internal repository
tokay2 Windows Server 2012 R2 Standard / x64  OK  OK  WARNINGS  OK UNNEEDED, same version exists in internal repository
celaya2 OS X 10.11.6 El Capitan / x86_64  OK  OK  WARNINGS  OK UNNEEDED, same version exists in internal repository
Package 177/1805HostnameOS / ArchINSTALLBUILDCHECKBUILD BIN
biosvd 2.23.0
Anneleen Daemen , Matthew Brauer
Last Commit: f985f3d
Last Changed Date: 2019-10-29 13:37:16 -0500
malbec2 Linux (Ubuntu 18.04.3 LTS) / x86_64  OK  OK  OK UNNEEDED, same version exists in internal repository
tokay2 Windows Server 2012 R2 Standard / x64  OK  OK  OK  OK UNNEEDED, same version exists in internal repository
celaya2 OS X 10.11.6 El Capitan / x86_64  OK  OK  OK  OK UNNEEDED, same version exists in internal repository
Package 178/1805HostnameOS / ArchINSTALLBUILDCHECKBUILD BIN
BioTIP 1.1.0
Zhezhen Wang , X Holly Yang < xyang2@uchicago> and Yuxi (Jennifer) Sun
Last Commit: f2dec76
Last Changed Date: 2019-10-29 13:43:43 -0500
malbec2 Linux (Ubuntu 18.04.3 LTS) / x86_64  OK  OK  OK UNNEEDED, same version exists in internal repository
tokay2 Windows Server 2012 R2 Standard / x64  OK  OK  OK  OK UNNEEDED, same version exists in internal repository
celaya2 OS X 10.11.6 El Capitan / x86_64  OK  OK  OK  OK UNNEEDED, same version exists in internal repository
Package 179/1805HostnameOS / ArchINSTALLBUILDCHECKBUILD BIN
biotmle 1.11.0
Nima Hejazi
Last Commit: 366ba48
Last Changed Date: 2019-11-03 19:27:10 -0500
malbec2 Linux (Ubuntu 18.04.3 LTS) / x86_64  OK  OK  OK UNNEEDED, same version exists in internal repository
tokay2 Windows Server 2012 R2 Standard / x64  OK  OK  WARNINGS  OK UNNEEDED, same version exists in internal repository
celaya2 OS X 10.11.6 El Capitan / x86_64  OK  OK  OK  OK UNNEEDED, same version exists in internal repository
Package 180/1805HostnameOS / ArchINSTALLBUILDCHECKBUILD BIN
biovizBase 1.35.0
Michael Lawrence
Last Commit: 1500bc2
Last Changed Date: 2019-10-29 13:35:55 -0500
malbec2 Linux (Ubuntu 18.04.3 LTS) / x86_64  OK  OK  WARNINGS UNNEEDED, same version exists in internal repository
tokay2 Windows Server 2012 R2 Standard / x64  OK  OK  WARNINGS  OK UNNEEDED, same version exists in internal repository
celaya2 OS X 10.11.6 El Capitan / x86_64  OK  OK  WARNINGS  OK UNNEEDED, same version exists in internal repository
Package 181/1805HostnameOS / ArchINSTALLBUILDCHECKBUILD BIN
BiRewire 3.19.0
Andrea Gobbi
Last Commit: 136e845
Last Changed Date: 2019-10-29 13:37:02 -0500
malbec2 Linux (Ubuntu 18.04.3 LTS) / x86_64  OK  OK  WARNINGS UNNEEDED, same version exists in internal repository
tokay2 Windows Server 2012 R2 Standard / x64  OK  OK  WARNINGS  OK UNNEEDED, same version exists in internal repository
celaya2 OS X 10.11.6 El Capitan / x86_64  OK  OK  OK  OK UNNEEDED, same version exists in internal repository
Package 182/1805HostnameOS / ArchINSTALLBUILDCHECKBUILD BIN
birta 1.31.0
Benedikt Zacher
Last Commit: 7e6241b
Last Changed Date: 2019-10-29 13:36:07 -0500
malbec2 Linux (Ubuntu 18.04.3 LTS) / x86_64  OK  OK  OK UNNEEDED, same version exists in internal repository
tokay2 Windows Server 2012 R2 Standard / x64  OK  OK  WARNINGS  OK UNNEEDED, same version exists in internal repository
celaya2 OS X 10.11.6 El Capitan / x86_64  OK  OK  OK  OK UNNEEDED, same version exists in internal repository
Package 183/1805HostnameOS / ArchINSTALLBUILDCHECKBUILD BIN
biscuiteer 1.1.0
"Tim Triche, Jr."
Last Commit: b20a8fa
Last Changed Date: 2019-10-29 13:43:46 -0500
malbec2 Linux (Ubuntu 18.04.3 LTS) / x86_64  OK  OK  OK UNNEEDED, same version exists in internal repository
tokay2 Windows Server 2012 R2 Standard / x64  OK  OK  OK  OK UNNEEDED, same version exists in internal repository
celaya2 OS X 10.11.6 El Capitan / x86_64  OK  OK  OK  OK UNNEEDED, same version exists in internal repository
Package 184/1805HostnameOS / ArchINSTALLBUILDCHECKBUILD BIN
BiSeq 1.27.0
Katja Hebestreit
Last Commit: 9995427
Last Changed Date: 2019-10-29 13:36:50 -0500
malbec2 Linux (Ubuntu 18.04.3 LTS) / x86_64  ERROR  ERROR  skipped 
tokay2 Windows Server 2012 R2 Standard / x64  ERROR  ERROR  skipped  skipped 
celaya2 OS X 10.11.6 El Capitan / x86_64  ERROR  ERROR  skipped  skipped 
Package 185/1805HostnameOS / ArchINSTALLBUILDCHECKBUILD BIN
BitSeq 1.31.0
Antti Honkela , Panagiotis Papastamoulis
Last Commit: b3ffcee
Last Changed Date: 2019-10-29 13:36:08 -0500
malbec2 Linux (Ubuntu 18.04.3 LTS) / x86_64  OK  OK  WARNINGS UNNEEDED, same version exists in internal repository
tokay2 Windows Server 2012 R2 Standard / x64  ERROR  ERROR  skipped  skipped 
celaya2 OS X 10.11.6 El Capitan / x86_64  OK  OK  WARNINGS  OK UNNEEDED, same version exists in internal repository
Package 186/1805HostnameOS / ArchINSTALLBUILDCHECKBUILD BIN
blacksheepr 1.1.0
RugglesLab
Last Commit: 0be284a
Last Changed Date: 2019-10-29 13:43:45 -0500
malbec2 Linux (Ubuntu 18.04.3 LTS) / x86_64  OK  OK  OK UNNEEDED, same version exists in internal repository
tokay2 Windows Server 2012 R2 Standard / x64  OK  OK  OK  OK UNNEEDED, same version exists in internal repository
celaya2 OS X 10.11.6 El Capitan / x86_64  OK  OK  OK  OK UNNEEDED, same version exists in internal repository
Package 187/1805HostnameOS / ArchINSTALLBUILDCHECKBUILD BIN
blima 1.21.0
Vojtěch Kulvait
Last Commit: 6e131e7
Last Changed Date: 2019-10-29 13:37:32 -0500
malbec2 Linux (Ubuntu 18.04.3 LTS) / x86_64  OK  OK  WARNINGS UNNEEDED, same version exists in internal repository
tokay2 Windows Server 2012 R2 Standard / x64  OK  OK  WARNINGS  OK UNNEEDED, same version exists in internal repository
celaya2 OS X 10.11.6 El Capitan / x86_64  OK  OK  WARNINGS  OK UNNEEDED, same version exists in internal repository
Package 188/1805HostnameOS / ArchINSTALLBUILDCHECKBUILD BIN
BLMA 1.11.0
Tin Nguyen
Last Commit: 67f8fd7
Last Changed Date: 2019-10-29 13:42:19 -0500
malbec2 Linux (Ubuntu 18.04.3 LTS) / x86_64  OK  OK  OK UNNEEDED, same version exists in internal repository
tokay2 Windows Server 2012 R2 Standard / x64  OK  OK  OK  OK UNNEEDED, same version exists in internal repository
celaya2 OS X 10.11.6 El Capitan / x86_64  OK  OK  OK  OK UNNEEDED, same version exists in internal repository
Package 189/1805HostnameOS / ArchINSTALLBUILDCHECKBUILD BIN
bnbc 1.9.0
Kipper Fletez-Brant
Last Commit: 98c9426
Last Changed Date: 2019-10-29 13:42:31 -0500
malbec2 Linux (Ubuntu 18.04.3 LTS) / x86_64  OK  OK  OK UNNEEDED, same version exists in internal repository
tokay2 Windows Server 2012 R2 Standard / x64  OK  OK  OK  OK UNNEEDED, same version exists in internal repository
celaya2 OS X 10.11.6 El Capitan / x86_64  OK  OK  OK  OK UNNEEDED, same version exists in internal repository
Package 190/1805HostnameOS / ArchINSTALLBUILDCHECKBUILD BIN
BPRMeth 1.13.0
Chantriolnt-Andreas Kapourani
Last Commit: 8bba7c1
Last Changed Date: 2019-10-29 13:42:10 -0500
malbec2 Linux (Ubuntu 18.04.3 LTS) / x86_64  OK  OK  OK UNNEEDED, same version exists in internal repository
tokay2 Windows Server 2012 R2 Standard / x64  OK  OK  OK  OK UNNEEDED, same version exists in internal repository
celaya2 OS X 10.11.6 El Capitan / x86_64  OK  OK  OK  OK UNNEEDED, same version exists in internal repository
Package 191/1805HostnameOS / ArchINSTALLBUILDCHECKBUILD BIN
BRAIN 1.33.0
Piotr Dittwald
Last Commit: a942bdd
Last Changed Date: 2019-10-29 13:36:06 -0500
malbec2 Linux (Ubuntu 18.04.3 LTS) / x86_64  OK  OK  WARNINGS UNNEEDED, same version exists in internal repository
tokay2 Windows Server 2012 R2 Standard / x64  OK  OK  WARNINGS  OK UNNEEDED, same version exists in internal repository
celaya2 OS X 10.11.6 El Capitan / x86_64  OK  OK  WARNINGS  OK UNNEEDED, same version exists in internal repository
Package 192/1805HostnameOS / ArchINSTALLBUILDCHECKBUILD BIN
brainflowprobes 1.1.0
Amanda Price
Last Commit: f75cedd
Last Changed Date: 2019-10-29 13:43:48 -0500
malbec2 Linux (Ubuntu 18.04.3 LTS) / x86_64  OK  OK  OK UNNEEDED, same version exists in internal repository
tokay2 Windows Server 2012 R2 Standard / x64  OK  OK  OK  OK UNNEEDED, same version exists in internal repository
celaya2 OS X 10.11.6 El Capitan / x86_64  OK  OK  OK  OK UNNEEDED, same version exists in internal repository
Package 193/1805HostnameOS / ArchINSTALLBUILDCHECKBUILD BIN
BrainStars 1.31.0
Itoshi NIKAIDO
Last Commit: 05757b9
Last Changed Date: 2019-10-29 13:36:07 -0500
malbec2 Linux (Ubuntu 18.04.3 LTS) / x86_64  OK  OK  OK UNNEEDED, same version exists in internal repository
tokay2 Windows Server 2012 R2 Standard / x64  OK  OK  OK  OK UNNEEDED, same version exists in internal repository
celaya2 OS X 10.11.6 El Capitan / x86_64  OK  OK  OK  OK UNNEEDED, same version exists in internal repository
Package 194/1805HostnameOS / ArchINSTALLBUILDCHECKBUILD BIN
branchpointer 1.13.0
Beth Signal
Last Commit: cc80c69
Last Changed Date: 2019-10-29 13:42:17 -0500
malbec2 Linux (Ubuntu 18.04.3 LTS) / x86_64  OK  OK  OK UNNEEDED, same version exists in internal repository
tokay2 Windows Server 2012 R2 Standard / x64  OK  OK  OK  OK UNNEEDED, same version exists in internal repository
celaya2 OS X 10.11.6 El Capitan / x86_64  OK  OK  OK  OK UNNEEDED, same version exists in internal repository
Package 195/1805HostnameOS / ArchINSTALLBUILDCHECKBUILD BIN
breakpointR 1.5.0
David Porubsky
Last Commit: eb4c3eb
Last Changed Date: 2019-10-29 13:43:19 -0500
malbec2 Linux (Ubuntu 18.04.3 LTS) / x86_64  OK  OK  OK UNNEEDED, same version exists in internal repository
tokay2 Windows Server 2012 R2 Standard / x64  OK  OK  OK  OK UNNEEDED, same version exists in internal repository
celaya2 OS X 10.11.6 El Capitan / x86_64  OK  OK  OK  OK UNNEEDED, same version exists in internal repository
Package 196/1805HostnameOS / ArchINSTALLBUILDCHECKBUILD BIN
brendaDb 1.1.0
Yi Zhou
Last Commit: b04dfc2
Last Changed Date: 2019-10-29 13:43:38 -0500
malbec2 Linux (Ubuntu 18.04.3 LTS) / x86_64  OK  OK  OK UNNEEDED, same version exists in internal repository
tokay2 Windows Server 2012 R2 Standard / x64  OK  OK  OK  OK UNNEEDED, same version exists in internal repository
celaya2 OS X 10.11.6 El Capitan / x86_64  OK  OK  OK  OK UNNEEDED, same version exists in internal repository
Package 197/1805HostnameOS / ArchINSTALLBUILDCHECKBUILD BIN
bridge 1.51.0
Raphael Gottardo
Last Commit: 045ee6a
Last Changed Date: 2019-10-29 13:34:39 -0500
malbec2 Linux (Ubuntu 18.04.3 LTS) / x86_64  OK  OK  WARNINGS UNNEEDED, same version exists in internal repository
tokay2 Windows Server 2012 R2 Standard / x64  OK  OK  WARNINGS  OK UNNEEDED, same version exists in internal repository
celaya2 OS X 10.11.6 El Capitan / x86_64  OK  OK  OK  OK UNNEEDED, same version exists in internal repository
Package 198/1805HostnameOS / ArchINSTALLBUILDCHECKBUILD BIN
BridgeDbR 1.21.0
Egon Willighagen
Last Commit: 48b98f0
Last Changed Date: 2019-10-29 13:38:34 -0500
malbec2 Linux (Ubuntu 18.04.3 LTS) / x86_64  OK  OK  OK UNNEEDED, same version exists in internal repository
tokay2 Windows Server 2012 R2 Standard / x64  OK  OK  OK  OK UNNEEDED, same version exists in internal repository
celaya2 OS X 10.11.6 El Capitan / x86_64  ERROR  ERROR  skipped  skipped 
Package 199/1805HostnameOS / ArchINSTALLBUILDCHECKBUILD BIN
BrowserViz 2.9.0
Paul Shannon
Last Commit: ce2b2fa
Last Changed Date: 2019-10-29 13:39:03 -0500
malbec2 Linux (Ubuntu 18.04.3 LTS) / x86_64  OK  OK  OK UNNEEDED, same version exists in internal repository
tokay2 Windows Server 2012 R2 Standard / x64  OK  OK  OK  OK UNNEEDED, same version exists in internal repository
celaya2 OS X 10.11.6 El Capitan / x86_64  OK  OK  OK  OK UNNEEDED, same version exists in internal repository
Package 200/1805HostnameOS / ArchINSTALLBUILDCHECKBUILD BIN
BSgenome 1.55.1
H. Pagès
Last Commit: 9726318
Last Changed Date: 2019-11-10 09:25:08 -0500
malbec2 Linux (Ubuntu 18.04.3 LTS) / x86_64  OK  OK  WARNINGS UNNEEDED, same version exists in internal repository
tokay2 Windows Server 2012 R2 Standard / x64  OK  OK  WARNINGS  OK UNNEEDED, same version exists in internal repository
celaya2 OS X 10.11.6 El Capitan / x86_64  OK  OK  WARNINGS  OK UNNEEDED, same version exists in internal repository
Package 201/1805HostnameOS / ArchINSTALLBUILDCHECKBUILD BIN
bsseq 1.23.0
Kasper Daniel Hansen
Last Commit: b2e70be
Last Changed Date: 2019-10-29 13:36:17 -0500
malbec2 Linux (Ubuntu 18.04.3 LTS) / x86_64  OK  OK  OK UNNEEDED, same version exists in internal repository
tokay2 Windows Server 2012 R2 Standard / x64  OK  OK  WARNINGS  OK UNNEEDED, same version exists in internal repository
celaya2 OS X 10.11.6 El Capitan / x86_64  OK  OK  OK  OK UNNEEDED, same version exists in internal repository
Package 202/1805HostnameOS / ArchINSTALLBUILDCHECKBUILD BIN
BubbleTree 2.17.0
Todd Creasy , Wei Zhu
Last Commit: d694392
Last Changed Date: 2019-10-29 13:38:59 -0500
malbec2 Linux (Ubuntu 18.04.3 LTS) / x86_64  OK  OK  OK UNNEEDED, same version exists in internal repository
tokay2 Windows Server 2012 R2 Standard / x64  OK  OK  OK  OK UNNEEDED, same version exists in internal repository
celaya2 OS X 10.11.6 El Capitan / x86_64  OK  OK  OK  OK UNNEEDED, same version exists in internal repository
Package 203/1805HostnameOS / ArchINSTALLBUILDCHECKBUILD BIN
BufferedMatrix 1.51.0
Ben Bolstad
Last Commit: d49733d
Last Changed Date: 2019-10-29 13:34:45 -0500
malbec2 Linux (Ubuntu 18.04.3 LTS) / x86_64  OK  OK  OK UNNEEDED, same version exists in internal repository
tokay2 Windows Server 2012 R2 Standard / x64  OK  OK  OK  OK UNNEEDED, same version exists in internal repository
celaya2 OS X 10.11.6 El Capitan / x86_64  OK  OK  OK  OK UNNEEDED, same version exists in internal repository
Package 204/1805HostnameOS / ArchINSTALLBUILDCHECKBUILD BIN
BufferedMatrixMethods 1.51.0
Ben Bolstad
Last Commit: 159df73
Last Changed Date: 2019-10-29 13:34:45 -0500
malbec2 Linux (Ubuntu 18.04.3 LTS) / x86_64  OK  OK  OK UNNEEDED, same version exists in internal repository
tokay2 Windows Server 2012 R2 Standard / x64  OK  OK  OK  OK UNNEEDED, same version exists in internal repository
celaya2 OS X 10.11.6 El Capitan / x86_64  OK  OK  OK  OK UNNEEDED, same version exists in internal repository
Package 205/1805HostnameOS / ArchINSTALLBUILDCHECKBUILD BIN
BUMHMM 1.11.0
Alina Selega
Last Commit: f859019
Last Changed Date: 2019-10-29 13:42:11 -0500
malbec2 Linux (Ubuntu 18.04.3 LTS) / x86_64  OK  OK  OK UNNEEDED, same version exists in internal repository
tokay2 Windows Server 2012 R2 Standard / x64  OK  OK  OK  OK UNNEEDED, same version exists in internal repository
celaya2 OS X 10.11.6 El Capitan / x86_64  OK  OK  OK  OK UNNEEDED, same version exists in internal repository
Package 206/1805HostnameOS / ArchINSTALLBUILDCHECKBUILD BIN
bumphunter 1.29.0
Rafael A. Irizarry
Last Commit: 163fd52
Last Changed Date: 2019-10-29 13:36:27 -0500
malbec2 Linux (Ubuntu 18.04.3 LTS) / x86_64  OK  OK  OK UNNEEDED, same version exists in internal repository
tokay2 Windows Server 2012 R2 Standard / x64  OK  OK  WARNINGS  OK UNNEEDED, same version exists in internal repository
celaya2 OS X 10.11.6 El Capitan / x86_64  OK  OK  OK  OK UNNEEDED, same version exists in internal repository
Package 207/1805HostnameOS / ArchINSTALLBUILDCHECKBUILD BIN
BUS 1.43.0
Yuanhua Liu
Last Commit: 12879d1
Last Changed Date: 2019-10-29 13:35:01 -0500
malbec2 Linux (Ubuntu 18.04.3 LTS) / x86_64  OK  OK  OK UNNEEDED, same version exists in internal repository
tokay2 Windows Server 2012 R2 Standard / x64  OK  OK  OK  OK UNNEEDED, same version exists in internal repository
celaya2 OS X 10.11.6 El Capitan / x86_64  OK  OK  OK  OK UNNEEDED, same version exists in internal repository
Package 208/1805HostnameOS / ArchINSTALLBUILDCHECKBUILD BIN
BUScorrect 1.5.0
Xiangyu Luo
Last Commit: f533a46
Last Changed Date: 2019-10-29 13:43:18 -0500
malbec2 Linux (Ubuntu 18.04.3 LTS) / x86_64  OK  OK  OK UNNEEDED, same version exists in internal repository
tokay2 Windows Server 2012 R2 Standard / x64  OK  OK  OK  OK UNNEEDED, same version exists in internal repository
celaya2 OS X 10.11.6 El Capitan / x86_64  OK  OK  OK  OK UNNEEDED, same version exists in internal repository
Package 209/1805HostnameOS / ArchINSTALLBUILDCHECKBUILD BIN
BUSpaRse 1.1.0
Lambda Moses
Last Commit: ec7070a
Last Changed Date: 2019-10-29 13:43:38 -0500
malbec2 Linux (Ubuntu 18.04.3 LTS) / x86_64  OK  OK  ERROR 
tokay2 Windows Server 2012 R2 Standard / x64  ERROR  ERROR  skipped  skipped 
celaya2 OS X 10.11.6 El Capitan / x86_64  OK  OK  OK  OK UNNEEDED, same version exists in internal repository
C
ABCDEFGHIJKLMNOPQRSTUVWXYZ
Package 210/1805HostnameOS / ArchINSTALLBUILDCHECKBUILD BIN
CAFE 1.23.0
Sander Bollen
Last Commit: e06859d
Last Changed Date: 2019-10-29 13:37:18 -0500
malbec2 Linux (Ubuntu 18.04.3 LTS) / x86_64  OK  OK  WARNINGS UNNEEDED, same version exists in internal repository
tokay2 Windows Server 2012 R2 Standard / x64  OK  OK  WARNINGS  OK UNNEEDED, same version exists in internal repository
celaya2 OS X 10.11.6 El Capitan / x86_64  OK  OK  WARNINGS  OK UNNEEDED, same version exists in internal repository
Package 211/1805HostnameOS / ArchINSTALLBUILDCHECKBUILD BIN
CAGEfightR 1.7.0
Malte Thodberg
Last Commit: 1318c4f
Last Changed Date: 2019-10-29 13:43:09 -0500
malbec2 Linux (Ubuntu 18.04.3 LTS) / x86_64  OK  OK  OK UNNEEDED, same version exists in internal repository
tokay2 Windows Server 2012 R2 Standard / x64  OK  OK  OK  OK UNNEEDED, same version exists in internal repository
celaya2 OS X 10.11.6 El Capitan / x86_64  OK  OK  OK  OK UNNEEDED, same version exists in internal repository
Package 212/1805HostnameOS / ArchINSTALLBUILDCHECKBUILD BIN
CAGEr 1.29.0
Vanja Haberle , Charles Plessy , Damir Baranasic , Sarvesh Nikumbh
Last Commit: 5aac9e3
Last Changed Date: 2019-10-29 13:36:36 -0500
malbec2 Linux (Ubuntu 18.04.3 LTS) / x86_64  OK  OK  OK UNNEEDED, same version exists in internal repository
tokay2 Windows Server 2012 R2 Standard / x64  OK  OK  WARNINGS  OK UNNEEDED, same version exists in internal repository
celaya2 OS X 10.11.6 El Capitan / x86_64  OK  OK  OK  OK UNNEEDED, same version exists in internal repository
Package 213/1805HostnameOS / ArchINSTALLBUILDCHECKBUILD BIN
CALIB 1.53.0
Hui Zhao
Last Commit: 875abc9
Last Changed Date: 2019-10-29 13:34:45 -0500
malbec2 Linux (Ubuntu 18.04.3 LTS) / x86_64  OK  OK  ERROR 
tokay2 Windows Server 2012 R2 Standard / x64  OK  OK  ERROR  OK 
celaya2 OS X 10.11.6 El Capitan / x86_64  OK  OK  ERROR  OK 
Package 214/1805HostnameOS / ArchINSTALLBUILDCHECKBUILD BIN
calm 1.1.0
Kun Liang
Last Commit: 097b0f5
Last Changed Date: 2019-10-29 13:43:39 -0500
malbec2 Linux (Ubuntu 18.04.3 LTS) / x86_64  OK  OK  OK UNNEEDED, same version exists in internal repository
tokay2 Windows Server 2012 R2 Standard / x64  OK  OK  OK  OK UNNEEDED, same version exists in internal repository
celaya2 OS X 10.11.6 El Capitan / x86_64  OK  OK  OK  OK UNNEEDED, same version exists in internal repository
Package 215/1805HostnameOS / ArchINSTALLBUILDCHECKBUILD BIN
CAMERA 1.43.0
Steffen Neumann
Last Commit: 819ce31
Last Changed Date: 2019-10-29 13:34:54 -0500
malbec2 Linux (Ubuntu 18.04.3 LTS) / x86_64  OK  OK  WARNINGS UNNEEDED, same version exists in internal repository
tokay2 Windows Server 2012 R2 Standard / x64  OK  OK  WARNINGS  OK UNNEEDED, same version exists in internal repository
celaya2 OS X 10.11.6 El Capitan / x86_64  OK  OK  WARNINGS  OK UNNEEDED, same version exists in internal repository
Package 216/1805HostnameOS / ArchINSTALLBUILDCHECKBUILD BIN
CAMTHC 1.5.0
Lulu Chen
Last Commit: 4e12684
Last Changed Date: 2019-10-29 13:43:14 -0500
malbec2 Linux (Ubuntu 18.04.3 LTS) / x86_64  OK  OK  WARNINGS UNNEEDED, same version exists in internal repository
tokay2 Windows Server 2012 R2 Standard / x64  OK  OK  WARNINGS  OK UNNEEDED, same version exists in internal repository
celaya2 OS X 10.11.6 El Capitan / x86_64  ERROR  ERROR  skipped  skipped 
Package 217/1805HostnameOS / ArchINSTALLBUILDCHECKBUILD BIN
canceR 1.21.0
Karim Mezhoud
Last Commit: be854ec
Last Changed Date: 2019-10-29 13:39:03 -0500
malbec2 Linux (Ubuntu 18.04.3 LTS) / x86_64  ERROR  OK  ERROR 
tokay2 Windows Server 2012 R2 Standard / x64  ERROR  OK  ERROR  ERROR 
celaya2 OS X 10.11.6 El Capitan / x86_64  ERROR  OK  ERROR  ERROR 
Package 218/1805HostnameOS / ArchINSTALLBUILDCHECKBUILD BIN
cancerclass 1.31.0
Daniel Kosztyla
Last Commit: 5b090b2
Last Changed Date: 2019-10-29 13:36:10 -0500
malbec2 Linux (Ubuntu 18.04.3 LTS) / x86_64  OK  OK  OK UNNEEDED, same version exists in internal repository
tokay2 Windows Server 2012 R2 Standard / x64  OK  OK  OK  OK UNNEEDED, same version exists in internal repository
celaya2 OS X 10.11.6 El Capitan / x86_64  OK  OK  WARNINGS  OK UNNEEDED, same version exists in internal repository
Package 219/1805HostnameOS / ArchINSTALLBUILDCHECKBUILD BIN
CancerInSilico 2.7.0
Thomas D. Sherman
Last Commit: c5b1f65
Last Changed Date: 2019-10-29 13:42:08 -0500
malbec2 Linux (Ubuntu 18.04.3 LTS) / x86_64  OK  OK  OK UNNEEDED, same version exists in internal repository
tokay2 Windows Server 2012 R2 Standard / x64  OK  OK  OK  OK UNNEEDED, same version exists in internal repository
celaya2 OS X 10.11.6 El Capitan / x86_64  OK  OK  OK  OK UNNEEDED, same version exists in internal repository
Package 220/1805HostnameOS / ArchINSTALLBUILDCHECKBUILD BIN
CancerMutationAnalysis 1.29.0
Simina M. Boca
Last Commit: 67aa216
Last Changed Date: 2019-10-29 13:36:08 -0500
malbec2 Linux (Ubuntu 18.04.3 LTS) / x86_64  OK  OK  OK UNNEEDED, same version exists in internal repository
tokay2 Windows Server 2012 R2 Standard / x64  OK  OK  OK  OK UNNEEDED, same version exists in internal repository
celaya2 OS X 10.11.6 El Capitan / x86_64  OK  OK  OK  OK UNNEEDED, same version exists in internal repository
Package 221/1805HostnameOS / ArchINSTALLBUILDCHECKBUILD BIN
CancerSubtypes 1.13.0
Taosheng Xu
Last Commit: 14f0906
Last Changed Date: 2019-10-29 13:42:03 -0500
malbec2 Linux (Ubuntu 18.04.3 LTS) / x86_64  OK  OK  OK UNNEEDED, same version exists in internal repository
tokay2 Windows Server 2012 R2 Standard / x64  OK  OK  OK  OK UNNEEDED, same version exists in internal repository
celaya2 OS X 10.11.6 El Capitan / x86_64  OK  OK  OK  OK UNNEEDED, same version exists in internal repository
Package 222/1805HostnameOS / ArchINSTALLBUILDCHECKBUILD BIN
CAnD 1.19.0
Caitlin McHugh
Last Commit: 4e52e73
Last Changed Date: 2019-10-29 13:39:22 -0500
malbec2 Linux (Ubuntu 18.04.3 LTS) / x86_64  OK  OK  OK UNNEEDED, same version exists in internal repository
tokay2 Windows Server 2012 R2 Standard / x64  OK  OK  OK  OK UNNEEDED, same version exists in internal repository
celaya2 OS X 10.11.6 El Capitan / x86_64  OK  OK  OK  OK UNNEEDED, same version exists in internal repository
Package 223/1805HostnameOS / ArchINSTALLBUILDCHECKBUILD BIN
caOmicsV 1.17.0
Henry Zhang
Last Commit: 3ac2e46
Last Changed Date: 2019-10-29 13:39:29 -0500
malbec2 Linux (Ubuntu 18.04.3 LTS) / x86_64  OK  OK  WARNINGS UNNEEDED, same version exists in internal repository
tokay2 Windows Server 2012 R2 Standard / x64  OK  OK  WARNINGS  OK UNNEEDED, same version exists in internal repository
celaya2 OS X 10.11.6 El Capitan / x86_64  OK  OK  WARNINGS  OK UNNEEDED, same version exists in internal repository
Package 224/1805HostnameOS / ArchINSTALLBUILDCHECKBUILD BIN
Cardinal 2.5.0
Kylie A. Bemis
Last Commit: 842206d
Last Changed Date: 2019-10-29 13:38:55 -0500
malbec2 Linux (Ubuntu 18.04.3 LTS) / x86_64  OK  OK  OK UNNEEDED, same version exists in internal repository
tokay2 Windows Server 2012 R2 Standard / x64  OK  OK  OK  OK UNNEEDED, same version exists in internal repository
celaya2 OS X 10.11.6 El Capitan / x86_64  OK  OK  OK  OK UNNEEDED, same version exists in internal repository
Package 225/1805HostnameOS / ArchINSTALLBUILDCHECKBUILD BIN
casper 2.21.0
David Rossell
Last Commit: 8df4678
Last Changed Date: 2019-10-29 13:36:29 -0500
malbec2 Linux (Ubuntu 18.04.3 LTS) / x86_64  OK  ERROR  skipped 
tokay2 Windows Server 2012 R2 Standard / x64  OK  ERROR  skipped  skipped 
celaya2 OS X 10.11.6 El Capitan / x86_64  OK  ERROR  skipped  skipped 
Package 226/1805HostnameOS / ArchINSTALLBUILDCHECKBUILD BIN
CATALYST 1.11.0
Helena L. Crowell
Last Commit: 8898843
Last Changed Date: 2019-10-29 13:42:18 -0500
malbec2 Linux (Ubuntu 18.04.3 LTS) / x86_64  ERROR  ERROR  skipped 
tokay2 Windows Server 2012 R2 Standard / x64  ERROR  ERROR  skipped  skipped 
celaya2 OS X 10.11.6 El Capitan / x86_64  OK  OK  ERROR  OK 
Package 227/1805HostnameOS / ArchINSTALLBUILDCHECKBUILD BIN
Category 2.53.1
Bioconductor Package Maintainer
Last Commit: 3833865
Last Changed Date: 2019-11-08 12:20:13 -0500
malbec2 Linux (Ubuntu 18.04.3 LTS) / x86_64  OK  OK  OK UNNEEDED, same version exists in internal repository
tokay2 Windows Server 2012 R2 Standard / x64  OK  OK  OK  OK UNNEEDED, same version exists in internal repository
celaya2 OS X 10.11.6 El Capitan / x86_64  OK  OK  OK  OK UNNEEDED, same version exists in internal repository
Package 228/1805HostnameOS / ArchINSTALLBUILDCHECKBUILD BIN
categoryCompare 1.31.0
Robert M. Flight
Last Commit: 6d5b336
Last Changed Date: 2019-10-29 13:36:10 -0500
malbec2 Linux (Ubuntu 18.04.3 LTS) / x86_64  OK  OK  OK UNNEEDED, same version exists in internal repository
tokay2 Windows Server 2012 R2 Standard / x64  OK  OK  OK  OK UNNEEDED, same version exists in internal repository
celaya2 OS X 10.11.6 El Capitan / x86_64  OK  OK  OK  OK UNNEEDED, same version exists in internal repository
Package 229/1805HostnameOS / ArchINSTALLBUILDCHECKBUILD BIN
CausalR 1.19.0
Glyn Bradley , Steven Barrett
Last Commit: d675489
Last Changed Date: 2019-10-29 13:39:28 -0500
malbec2 Linux (Ubuntu 18.04.3 LTS) / x86_64  OK  OK  OK UNNEEDED, same version exists in internal repository
tokay2 Windows Server 2012 R2 Standard / x64  OK  OK  OK  OK UNNEEDED, same version exists in internal repository
celaya2 OS X 10.11.6 El Capitan / x86_64  OK  OK  OK  OK UNNEEDED, same version exists in internal repository
Package 230/1805HostnameOS / ArchINSTALLBUILDCHECKBUILD BIN
cbaf 1.9.0
Arman Shahrisa
Last Commit: 9c4d14f
Last Changed Date: 2019-10-29 13:42:29 -0500
malbec2 Linux (Ubuntu 18.04.3 LTS) / x86_64  OK  OK  OK UNNEEDED, same version exists in internal repository
tokay2 Windows Server 2012 R2 Standard / x64  OK  OK  OK  OK UNNEEDED, same version exists in internal repository
celaya2 OS X 10.11.6 El Capitan / x86_64  ERROR  ERROR  skipped  skipped 
Package 231/1805HostnameOS / ArchINSTALLBUILDCHECKBUILD BIN
ccfindR 1.7.0
Jun Woo
Last Commit: 68db2fb
Last Changed Date: 2019-10-29 13:43:07 -0500
malbec2 Linux (Ubuntu 18.04.3 LTS) / x86_64  OK  OK  OK UNNEEDED, same version exists in internal repository
tokay2 Windows Server 2012 R2 Standard / x64  OK  OK  OK  OK UNNEEDED, same version exists in internal repository
celaya2 OS X 10.11.6 El Capitan / x86_64  OK  OK  OK  OK UNNEEDED, same version exists in internal repository
Package 232/1805HostnameOS / ArchINSTALLBUILDCHECKBUILD BIN
ccmap 1.13.0
Alex Pickering
Last Commit: 5d6b2cf
Last Changed Date: 2019-10-29 13:41:42 -0500
malbec2 Linux (Ubuntu 18.04.3 LTS) / x86_64  OK  OK  OK UNNEEDED, same version exists in internal repository
tokay2 Windows Server 2012 R2 Standard / x64  OK  OK  OK  OK UNNEEDED, same version exists in internal repository
celaya2 OS X 10.11.6 El Capitan / x86_64  OK  OK  OK  OK UNNEEDED, same version exists in internal repository
Package 233/1805HostnameOS / ArchINSTALLBUILDCHECKBUILD BIN
CCPROMISE 1.13.0
Xueyuan Cao
Last Commit: f9ecb5e
Last Changed Date: 2019-10-29 13:42:10 -0500
malbec2 Linux (Ubuntu 18.04.3 LTS) / x86_64  OK  OK  WARNINGS UNNEEDED, same version exists in internal repository
tokay2 Windows Server 2012 R2 Standard / x64  OK  OK  WARNINGS  OK UNNEEDED, same version exists in internal repository
celaya2 OS X 10.11.6 El Capitan / x86_64  OK  OK  WARNINGS  OK UNNEEDED, same version exists in internal repository
Package 234/1805HostnameOS / ArchINSTALLBUILDCHECKBUILD BIN
ccrepe 1.23.0
Emma Schwager ,Craig Bielski, George Weingart
Last Commit: bb1b9d6
Last Changed Date: 2019-10-29 13:37:15 -0500
malbec2 Linux (Ubuntu 18.04.3 LTS) / x86_64  OK  OK  OK UNNEEDED, same version exists in internal repository
tokay2 Windows Server 2012 R2 Standard / x64  OK  OK  OK  OK UNNEEDED, same version exists in internal repository
celaya2 OS X 10.11.6 El Capitan / x86_64  OK  OK  OK  OK UNNEEDED, same version exists in internal repository
Package 235/1805HostnameOS / ArchINSTALLBUILDCHECKBUILD BIN
celaref 1.5.0
Sarah Williams
Last Commit: e5d81d0
Last Changed Date: 2019-10-29 13:43:18 -0500
malbec2 Linux (Ubuntu 18.04.3 LTS) / x86_64  OK  OK  OK UNNEEDED, same version exists in internal repository
tokay2 Windows Server 2012 R2 Standard / x64  OK  OK  OK  OK UNNEEDED, same version exists in internal repository
celaya2 OS X 10.11.6 El Capitan / x86_64  OK  OK  OK  OK UNNEEDED, same version exists in internal repository
Package 236/1805HostnameOS / ArchINSTALLBUILDCHECKBUILD BIN
celda 1.3.0
Joshua Campbell
Last Commit: a4f3d2a
Last Changed Date: 2019-10-29 13:43:35 -0500
malbec2 Linux (Ubuntu 18.04.3 LTS) / x86_64  OK  OK  OK UNNEEDED, same version exists in internal repository
tokay2 Windows Server 2012 R2 Standard / x64  ERROR  ERROR  skipped  skipped 
celaya2 OS X 10.11.6 El Capitan / x86_64  OK  OK  OK  OK UNNEEDED, same version exists in internal repository
Package 237/1805HostnameOS / ArchINSTALLBUILDCHECKBUILD BIN
cellbaseR 1.11.0
Mohammed OE Abdallah
Last Commit: 69e4670
Last Changed Date: 2019-10-29 13:42:19 -0500
malbec2 Linux (Ubuntu 18.04.3 LTS) / x86_64  OK  OK  OK UNNEEDED, same version exists in internal repository
tokay2 Windows Server 2012 R2 Standard / x64  OK  OK  WARNINGS  OK UNNEEDED, same version exists in internal repository
celaya2 OS X 10.11.6 El Capitan / x86_64  OK  OK  OK  OK UNNEEDED, same version exists in internal repository
Package 238/1805HostnameOS / ArchINSTALLBUILDCHECKBUILD BIN
CellBench 1.3.0
Shian Su
Last Commit: 3707fea
Last Changed Date: 2019-10-29 13:43:31 -0500
malbec2 Linux (Ubuntu 18.04.3 LTS) / x86_64  OK  OK  OK UNNEEDED, same version exists in internal repository
tokay2 Windows Server 2012 R2 Standard / x64  OK  ERROR  skipped  skipped 
celaya2 OS X 10.11.6 El Capitan / x86_64  OK  OK  OK  OK UNNEEDED, same version exists in internal repository
Package 239/1805HostnameOS / ArchINSTALLBUILDCHECKBUILD BIN
cellGrowth 1.31.0
Julien Gagneur
Last Commit: e411e37
Last Changed Date: 2019-10-29 13:36:08 -0500
malbec2 Linux (Ubuntu 18.04.3 LTS) / x86_64  OK  ERROR  skipped 
tokay2 Windows Server 2012 R2 Standard / x64  OK  ERROR  skipped  skipped 
celaya2 OS X 10.11.6 El Capitan / x86_64  OK  ERROR  skipped  skipped 
Package 240/1805HostnameOS / ArchINSTALLBUILDCHECKBUILD BIN
cellHTS2 2.51.0
Joseph Barry
Last Commit: b07c55f
Last Changed Date: 2019-10-29 13:34:46 -0500
malbec2 Linux (Ubuntu 18.04.3 LTS) / x86_64  OK  OK  WARNINGS UNNEEDED, same version exists in internal repository
tokay2 Windows Server 2012 R2 Standard / x64  OK  OK  WARNINGS  OK UNNEEDED, same version exists in internal repository
celaya2 OS X 10.11.6 El Capitan / x86_64  OK  OK  WARNINGS  OK UNNEEDED, same version exists in internal repository
Package 241/1805HostnameOS / ArchINSTALLBUILDCHECKBUILD BIN
cellity 1.15.0
Tomislav Ilicic
Last Commit: dff9cf2
Last Changed Date: 2019-10-29 13:40:29 -0500
malbec2 Linux (Ubuntu 18.04.3 LTS) / x86_64  OK  OK  OK UNNEEDED, same version exists in internal repository
tokay2 Windows Server 2012 R2 Standard / x64  OK  OK  OK  OK UNNEEDED, same version exists in internal repository
celaya2 OS X 10.11.6 El Capitan / x86_64  OK  OK  OK  OK UNNEEDED, same version exists in internal repository
Package 242/1805HostnameOS / ArchINSTALLBUILDCHECKBUILD BIN
CellMapper 1.13.0
Brad Nelms
Last Commit: 3afae44
Last Changed Date: 2019-10-29 13:42:03 -0500
malbec2 Linux (Ubuntu 18.04.3 LTS) / x86_64  OK  OK  WARNINGS UNNEEDED, same version exists in internal repository
tokay2 Windows Server 2012 R2 Standard / x64  OK  OK  WARNINGS  OK UNNEEDED, same version exists in internal repository
celaya2 OS X 10.11.6 El Capitan / x86_64  OK  OK  WARNINGS  OK UNNEEDED, same version exists in internal repository
Package 243/1805HostnameOS / ArchINSTALLBUILDCHECKBUILD BIN
CellMixS 1.3.1
Almut Lütge
Last Commit: f1c737a
Last Changed Date: 2019-11-07 11:40:46 -0500
malbec2 Linux (Ubuntu 18.04.3 LTS) / x86_64  OK  OK  OK UNNEEDED, same version exists in internal repository
tokay2 Windows Server 2012 R2 Standard / x64  OK  OK  OK  OK UNNEEDED, same version exists in internal repository
celaya2 OS X 10.11.6 El Capitan / x86_64  OK  OK  OK  OK UNNEEDED, same version exists in internal repository
Package 244/1805HostnameOS / ArchINSTALLBUILDCHECKBUILD BIN
CellNOptR 1.33.0
A.Gabor
Last Commit: b132c03
Last Changed Date: 2019-10-29 13:35:59 -0500
malbec2 Linux (Ubuntu 18.04.3 LTS) / x86_64  OK  OK  WARNINGS UNNEEDED, same version exists in internal repository
tokay2 Windows Server 2012 R2 Standard / x64  OK  OK  WARNINGS  OK UNNEEDED, same version exists in internal repository
celaya2 OS X 10.11.6 El Capitan / x86_64  OK  OK  WARNINGS  OK UNNEEDED, same version exists in internal repository
Package 245/1805HostnameOS / ArchINSTALLBUILDCHECKBUILD BIN
cellscape 1.11.0
Maia Smith
Last Commit: f09a8fa
Last Changed Date: 2019-10-29 13:42:14 -0500
malbec2 Linux (Ubuntu 18.04.3 LTS) / x86_64  OK  OK  WARNINGS UNNEEDED, same version exists in internal repository
tokay2 Windows Server 2012 R2 Standard / x64  OK  OK  WARNINGS  OK UNNEEDED, same version exists in internal repository
celaya2 OS X 10.11.6 El Capitan / x86_64  OK  OK  WARNINGS  OK UNNEEDED, same version exists in internal repository
Package 246/1805HostnameOS / ArchINSTALLBUILDCHECKBUILD BIN
CellScore 1.7.0
Nancy Mah
Last Commit: a2103be
Last Changed Date: 2019-10-29 13:42:41 -0500
malbec2 Linux (Ubuntu 18.04.3 LTS) / x86_64  OK  OK  OK UNNEEDED, same version exists in internal repository
tokay2 Windows Server 2012 R2 Standard / x64  OK  OK  OK  OK UNNEEDED, same version exists in internal repository
celaya2 OS X 10.11.6 El Capitan / x86_64  OK  OK  OK  OK UNNEEDED, same version exists in internal repository
Package 247/1805HostnameOS / ArchINSTALLBUILDCHECKBUILD BIN
CellTrails 1.5.0
Daniel Ellwanger
Last Commit: 92ef7e2
Last Changed Date: 2019-10-29 13:43:15 -0500
malbec2 Linux (Ubuntu 18.04.3 LTS) / x86_64  OK  OK  WARNINGS UNNEEDED, same version exists in internal repository
tokay2 Windows Server 2012 R2 Standard / x64  OK  OK  WARNINGS  OK UNNEEDED, same version exists in internal repository
celaya2 OS X 10.11.6 El Capitan / x86_64  OK  OK  WARNINGS  OK UNNEEDED, same version exists in internal repository
Package 248/1805HostnameOS / ArchINSTALLBUILDCHECKBUILD BIN
cellTree 1.17.0
David duVerle
Last Commit: c19e942
Last Changed Date: 2019-10-29 13:40:19 -0500
malbec2 Linux (Ubuntu 18.04.3 LTS) / x86_64  OK  OK  OK UNNEEDED, same version exists in internal repository
tokay2 Windows Server 2012 R2 Standard / x64  OK  OK  WARNINGS  OK UNNEEDED, same version exists in internal repository
celaya2 OS X 10.11.6 El Capitan / x86_64  OK  OK  OK  OK UNNEEDED, same version exists in internal repository
Package 249/1805HostnameOS / ArchINSTALLBUILDCHECKBUILD BIN
CEMiTool 1.11.0
Helder Nakaya
Last Commit: 2a3f385
Last Changed Date: 2019-10-29 13:42:23 -0500
malbec2 Linux (Ubuntu 18.04.3 LTS) / x86_64  OK  OK  OK UNNEEDED, same version exists in internal repository
tokay2 Windows Server 2012 R2 Standard / x64  OK  OK  OK  OK UNNEEDED, same version exists in internal repository
celaya2 OS X 10.11.6 El Capitan / x86_64  OK  OK  OK  OK UNNEEDED, same version exists in internal repository
Package 250/1805HostnameOS / ArchINSTALLBUILDCHECKBUILD BIN
CexoR 1.25.0
Pedro Madrigal
Last Commit: c7a5bad
Last Changed Date: 2019-10-29 13:37:05 -0500
malbec2 Linux (Ubuntu 18.04.3 LTS) / x86_64  OK  OK  OK UNNEEDED, same version exists in internal repository
tokay2 Windows Server 2012 R2 Standard / x64  OK  OK  OK  OK UNNEEDED, same version exists in internal repository
celaya2 OS X 10.11.6 El Capitan / x86_64  OK  OK  OK  OK UNNEEDED, same version exists in internal repository
Package 251/1805HostnameOS / ArchINSTALLBUILDCHECKBUILD BIN
CFAssay 1.21.1
Herbert Braselmann
Last Commit: 13f9291
Last Changed Date: 2019-11-18 05:25:21 -0500
malbec2 Linux (Ubuntu 18.04.3 LTS) / x86_64  OK  OK  OK YES, package does not exist in internal repository.
tokay2 Windows Server 2012 R2 Standard / x64  OK  OK  OK  OK YES, package does not exist in internal repository.
celaya2 OS X 10.11.6 El Capitan / x86_64  OK  OK  OK  OK YES, package does not exist in internal repository.
Package 252/1805HostnameOS / ArchINSTALLBUILDCHECKBUILD BIN
CGEN 3.23.0
William Wheeler
Last Commit: bad40a5
Last Changed Date: 2019-10-29 13:35:18 -0500
malbec2 Linux (Ubuntu 18.04.3 LTS) / x86_64  OK  OK  OK UNNEEDED, same version exists in internal repository
tokay2 Windows Server 2012 R2 Standard / x64  OK  OK  OK  OK UNNEEDED, same version exists in internal repository
celaya2 OS X 10.11.6 El Capitan / x86_64  OK  OK  OK  OK UNNEEDED, same version exists in internal repository
Package 253/1805HostnameOS / ArchINSTALLBUILDCHECKBUILD BIN
CGHbase 1.47.0
Mark van de Wiel
Last Commit: 1e69898
Last Changed Date: 2019-10-29 13:34:49 -0500
malbec2 Linux (Ubuntu 18.04.3 LTS) / x86_64  OK  OK  OK UNNEEDED, same version exists in internal repository
tokay2 Windows Server 2012 R2 Standard / x64  OK  OK  WARNINGS  OK UNNEEDED, same version exists in internal repository
celaya2 OS X 10.11.6 El Capitan / x86_64  OK  OK  OK  OK UNNEEDED, same version exists in internal repository
Package 254/1805HostnameOS / ArchINSTALLBUILDCHECKBUILD BIN
CGHcall 2.49.0
Mark van de Wiel
Last Commit: d2a8c38
Last Changed Date: 2019-10-29 13:34:46 -0500
malbec2 Linux (Ubuntu 18.04.3 LTS) / x86_64  OK  OK  OK UNNEEDED, same version exists in internal repository
tokay2 Windows Server 2012 R2 Standard / x64  OK  OK  OK  OK UNNEEDED, same version exists in internal repository
celaya2 OS X 10.11.6 El Capitan / x86_64  OK  OK  OK  OK UNNEEDED, same version exists in internal repository
Package 255/1805HostnameOS / ArchINSTALLBUILDCHECKBUILD BIN
cghMCR 1.45.0
J. Zhang
Last Commit: b5c6af8
Last Changed Date: 2019-10-29 13:34:42 -0500
malbec2 Linux (Ubuntu 18.04.3 LTS) / x86_64  OK  OK  WARNINGS UNNEEDED, same version exists in internal repository
tokay2 Windows Server 2012 R2 Standard / x64  OK  OK  WARNINGS  OK UNNEEDED, same version exists in internal repository
celaya2 OS X 10.11.6 El Capitan / x86_64  OK  OK  WARNINGS  OK UNNEEDED, same version exists in internal repository
Package 256/1805HostnameOS / ArchINSTALLBUILDCHECKBUILD BIN
CGHnormaliter 1.41.0
Bart P.P. van Houte
Last Commit: 3c8ea01
Last Changed Date: 2019-10-29 13:35:08 -0500
malbec2 Linux (Ubuntu 18.04.3 LTS) / x86_64  OK  OK  OK UNNEEDED, same version exists in internal repository
tokay2 Windows Server 2012 R2 Standard / x64  OK  OK  OK  OK UNNEEDED, same version exists in internal repository
celaya2 OS X 10.11.6 El Capitan / x86_64  OK  OK  OK  OK UNNEEDED, same version exists in internal repository
Package 257/1805HostnameOS / ArchINSTALLBUILDCHECKBUILD BIN
CGHregions 1.45.0
Sjoerd Vosse
Last Commit: f8770a7
Last Changed Date: 2019-10-29 13:34:49 -0500
malbec2 Linux (Ubuntu 18.04.3 LTS) / x86_64  OK  OK  OK UNNEEDED, same version exists in internal repository
tokay2 Windows Server 2012 R2 Standard / x64  OK  OK  OK  OK UNNEEDED, same version exists in internal repository
celaya2 OS X 10.11.6 El Capitan / x86_64  OK  OK  OK  OK UNNEEDED, same version exists in internal repository
Package 258/1805HostnameOS / ArchINSTALLBUILDCHECKBUILD BIN
ChAMP 2.17.0
Yuan Tian
Last Commit: 62efa52
Last Changed Date: 2019-10-29 13:37:12 -0500
malbec2 Linux (Ubuntu 18.04.3 LTS) / x86_64  OK  OK  WARNINGS UNNEEDED, same version exists in internal repository
tokay2 Windows Server 2012 R2 Standard / x64  OK  OK  WARNINGS  OK UNNEEDED, same version exists in internal repository
celaya2 OS X 10.11.6 El Capitan / x86_64  OK  OK  WARNINGS  OK UNNEEDED, same version exists in internal repository
Package 259/1805HostnameOS / ArchINSTALLBUILDCHECKBUILD BIN
CHARGE 1.7.0
Benjamin Mayne
Last Commit: aca64ab
Last Changed Date: 2019-10-29 13:42:38 -0500
malbec2 Linux (Ubuntu 18.04.3 LTS) / x86_64  OK  OK  OK UNNEEDED, same version exists in internal repository
tokay2 Windows Server 2012 R2 Standard / x64  OK  OK  OK  OK UNNEEDED, same version exists in internal repository
celaya2 OS X 10.11.6 El Capitan / x86_64  OK  OK  OK  OK UNNEEDED, same version exists in internal repository
Package 260/1805HostnameOS / ArchINSTALLBUILDCHECKBUILD BIN
ChemmineOB 1.25.0
Thomas Girke
Last Commit: 350573b
Last Changed Date: 2019-10-29 13:36:56 -0500
malbec2 Linux (Ubuntu 18.04.3 LTS) / x86_64  OK  OK  WARNINGS UNNEEDED, same version exists in internal repository
tokay2 Windows Server 2012 R2 Standard / x64  OK  OK  OK  OK UNNEEDED, same version exists in internal repository
celaya2 OS X 10.11.6 El Capitan / x86_64  OK  OK  ERROR  OK 
Package 261/1805HostnameOS / ArchINSTALLBUILDCHECKBUILD BIN
ChemmineR 3.39.0
Thomas Girke
Last Commit: 2358785
Last Changed Date: 2019-10-29 13:34:51 -0500
malbec2 Linux (Ubuntu 18.04.3 LTS) / x86_64  OK  OK  OK UNNEEDED, same version exists in internal repository
tokay2 Windows Server 2012 R2 Standard / x64  OK  OK  OK  OK UNNEEDED, same version exists in internal repository
celaya2 OS X 10.11.6 El Capitan / x86_64  ERROR  ERROR  skipped  skipped 
Package 262/1805HostnameOS / ArchINSTALLBUILDCHECKBUILD BIN
CHETAH 1.3.0
Jurrian de Kanter
Last Commit: b2aa5c9
Last Changed Date: 2019-10-29 13:43:31 -0500
malbec2 Linux (Ubuntu 18.04.3 LTS) / x86_64  OK  OK  OK UNNEEDED, same version exists in internal repository
tokay2 Windows Server 2012 R2 Standard / x64  OK  OK  OK  OK UNNEEDED, same version exists in internal repository
celaya2 OS X 10.11.6 El Capitan / x86_64  OK  OK  ERROR  OK 
Package 263/1805HostnameOS / ArchINSTALLBUILDCHECKBUILD BIN
ChIC 1.7.0
Carmen Maria Livi
Last Commit: 198406e
Last Changed Date: 2019-10-29 13:43:04 -0500
malbec2 Linux (Ubuntu 18.04.3 LTS) / x86_64  OK  OK  OK UNNEEDED, same version exists in internal repository
tokay2 Windows Server 2012 R2 Standard / x64 ...NOT SUPPORTED...
celaya2 OS X 10.11.6 El Capitan / x86_64  OK  OK  OK  OK UNNEEDED, same version exists in internal repository
Package 264/1805HostnameOS / ArchINSTALLBUILDCHECKBUILD BIN
Chicago 1.15.0
Mikhail Spivakov
Last Commit: fc9a6c0
Last Changed Date: 2019-10-31 09:57:53 -0500
malbec2 Linux (Ubuntu 18.04.3 LTS) / x86_64  OK  OK  OK UNNEEDED, same version exists in internal repository
tokay2 Windows Server 2012 R2 Standard / x64  OK  OK  OK  OK UNNEEDED, same version exists in internal repository
celaya2 OS X 10.11.6 El Capitan / x86_64  OK  OK  OK  OK UNNEEDED, same version exists in internal repository
Package 265/1805HostnameOS / ArchINSTALLBUILDCHECKBUILD BIN
chimera 1.29.0
Raffaele A Calogero
Last Commit: 2c59537
Last Changed Date: 2019-10-29 13:36:37 -0500
malbec2 Linux (Ubuntu 18.04.3 LTS) / x86_64  OK  OK  OK UNNEEDED, same version exists in internal repository
tokay2 Windows Server 2012 R2 Standard / x64  OK  ERROR  skipped  skipped 
celaya2 OS X 10.11.6 El Capitan / x86_64  OK  OK  OK  OK UNNEEDED, same version exists in internal repository
Package 266/1805HostnameOS / ArchINSTALLBUILDCHECKBUILD BIN
chimeraviz 1.13.0
Stian Lågstad
Last Commit: 921fdfb
Last Changed Date: 2019-10-29 13:42:11 -0500
malbec2 Linux (Ubuntu 18.04.3 LTS) / x86_64  OK  OK  OK UNNEEDED, same version exists in internal repository
tokay2 Windows Server 2012 R2 Standard / x64  OK  OK  OK  OK UNNEEDED, same version exists in internal repository
celaya2 OS X 10.11.6 El Capitan / x86_64  OK  OK  OK  OK UNNEEDED, same version exists in internal repository
Package 267/1805HostnameOS / ArchINSTALLBUILDCHECKBUILD BIN
ChIPanalyser 1.9.1
Patrick C.N. Martin
Last Commit: 432ad12
Last Changed Date: 2019-11-12 10:39:50 -0500
malbec2 Linux (Ubuntu 18.04.3 LTS) / x86_64  OK  OK  OK UNNEEDED, same version exists in internal repository
tokay2 Windows Server 2012 R2 Standard / x64  OK  OK  WARNINGS  OK UNNEEDED, same version exists in internal repository
celaya2 OS X 10.11.6 El Capitan / x86_64  OK  OK  OK  OK UNNEEDED, same version exists in internal repository
Package 268/1805HostnameOS / ArchINSTALLBUILDCHECKBUILD BIN
ChIPComp 1.17.0
Li Chen
Last Commit: 22a0bd8
Last Changed Date: 2019-10-29 13:39:47 -0500
malbec2 Linux (Ubuntu 18.04.3 LTS) / x86_64  OK  OK  OK UNNEEDED, same version exists in internal repository
tokay2 Windows Server 2012 R2 Standard / x64  OK  OK  OK  OK UNNEEDED, same version exists in internal repository
celaya2 OS X 10.11.6 El Capitan / x86_64  OK  OK  OK  OK UNNEEDED, same version exists in internal repository
Package 269/1805HostnameOS / ArchINSTALLBUILDCHECKBUILD BIN
chipenrich 2.11.0
Raymond G. Cavalcante
Last Commit: 6514534
Last Changed Date: 2019-10-30 08:09:58 -0500
malbec2 Linux (Ubuntu 18.04.3 LTS) / x86_64  OK  OK  OK UNNEEDED, same version exists in internal repository
tokay2 Windows Server 2012 R2 Standard / x64  OK  OK  OK  OK UNNEEDED, same version exists in internal repository
celaya2 OS X 10.11.6 El Capitan / x86_64  OK  OK  OK  OK UNNEEDED, same version exists in internal repository
Package 270/1805HostnameOS / ArchINSTALLBUILDCHECKBUILD BIN
ChIPexoQual 1.11.0
Rene Welch
Last Commit: 3e5c8cd
Last Changed Date: 2019-10-29 13:42:13 -0500
malbec2 Linux (Ubuntu 18.04.3 LTS) / x86_64  OK  OK  OK UNNEEDED, same version exists in internal repository
tokay2 Windows Server 2012 R2 Standard / x64  OK  OK  OK  OK UNNEEDED, same version exists in internal repository
celaya2 OS X 10.11.6 El Capitan / x86_64  OK  OK  OK  OK UNNEEDED, same version exists in internal repository
Package 271/1805HostnameOS / ArchINSTALLBUILDCHECKBUILD BIN
ChIPpeakAnno 3.21.1
Lihua Julie Zhu
Last Commit: 4382cf1
Last Changed Date: 2019-11-04 09:43:56 -0500
malbec2 Linux (Ubuntu 18.04.3 LTS) / x86_64  OK  OK  OK UNNEEDED, same version exists in internal repository
tokay2 Windows Server 2012 R2 Standard / x64  OK  OK  OK  OK UNNEEDED, same version exists in internal repository
celaya2 OS X 10.11.6 El Capitan / x86_64  OK  OK  OK  OK UNNEEDED, same version exists in internal repository
Package 272/1805HostnameOS / ArchINSTALLBUILDCHECKBUILD BIN
ChIPQC 1.23.0
Tom Carroll , Rory Stark
Last Commit: 3a5768c
Last Changed Date: 2019-10-29 13:37:21 -0500
malbec2 Linux (Ubuntu 18.04.3 LTS) / x86_64  OK  OK  WARNINGS UNNEEDED, same version exists in internal repository
tokay2 Windows Server 2012 R2 Standard / x64  OK  OK  WARNINGS  OK UNNEEDED, same version exists in internal repository
celaya2 OS X 10.11.6 El Capitan / x86_64  OK  OK  WARNINGS  OK UNNEEDED, same version exists in internal repository
Package 273/1805HostnameOS / ArchINSTALLBUILDCHECKBUILD BIN
ChIPseeker 1.23.0
Guangchuang Yu
Last Commit: 7ba2e5b
Last Changed Date: 2019-10-29 13:37:31 -0500
malbec2 Linux (Ubuntu 18.04.3 LTS) / x86_64  OK  OK  OK UNNEEDED, same version exists in internal repository
tokay2 Windows Server 2012 R2 Standard / x64  OK  OK  WARNINGS  OK UNNEEDED, same version exists in internal repository
celaya2 OS X 10.11.6 El Capitan / x86_64  OK  OK  ERROR  OK 
Package 274/1805HostnameOS / ArchINSTALLBUILDCHECKBUILD BIN
chipseq 1.37.0
Bioconductor Package Maintainer
Last Commit: 5774adf
Last Changed Date: 2019-10-29 13:35:00 -0500
malbec2 Linux (Ubuntu 18.04.3 LTS) / x86_64  OK  OK  WARNINGS UNNEEDED, same version exists in internal repository
tokay2 Windows Server 2012 R2 Standard / x64  OK  OK  WARNINGS  OK UNNEEDED, same version exists in internal repository
celaya2 OS X 10.11.6 El Capitan / x86_64  OK  OK  WARNINGS  OK UNNEEDED, same version exists in internal repository
Package 275/1805HostnameOS / ArchINSTALLBUILDCHECKBUILD BIN
ChIPseqR 1.41.0
Peter Humburg
Last Commit: 97e9181
Last Changed Date: 2019-10-29 13:35:09 -0500
malbec2 Linux (Ubuntu 18.04.3 LTS) / x86_64  OK  OK  WARNINGS UNNEEDED, same version exists in internal repository
tokay2 Windows Server 2012 R2 Standard / x64  OK  OK  WARNINGS  OK UNNEEDED, same version exists in internal repository
celaya2 OS X 10.11.6 El Capitan / x86_64  OK  OK  WARNINGS  OK UNNEEDED, same version exists in internal repository
Package 276/1805HostnameOS / ArchINSTALLBUILDCHECKBUILD BIN
ChIPSeqSpike 1.7.0
Nicolas Descostes
Last Commit: 587d13e
Last Changed Date: 2019-10-29 13:42:40 -0500
malbec2 Linux (Ubuntu 18.04.3 LTS) / x86_64  OK  OK  OK UNNEEDED, same version exists in internal repository
tokay2 Windows Server 2012 R2 Standard / x64 <