Multiple platform build/check report for BioC 3.11

This page was generated on 2020-10-17 12:00:03 -0400 (Sat, 17 Oct 2020).

Approx. Package Snapshot Date (git pull): 2020-10-16 14:40:19 -0400 (Fri, 16 Oct 2020)

HostnameOSArch (*)Platform label (**)R versionInstalled pkgs
malbec2Linux (Ubuntu 18.04.4 LTS)x86_64x86_64-linux-gnu4.0.3 (2020-10-10) -- "Bunny-Wunnies Freak Out" 3855
tokay2Windows Server 2012 R2 Standardx64mingw32 / x86_64-w64-mingw324.0.3 (2020-10-10) -- "Bunny-Wunnies Freak Out" 3641
machv2macOS 10.14.6 Mojavex86_64x86_64-apple-darwin18.7.04.0.3 (2020-10-10) -- "Bunny-Wunnies Freak Out" 3668
Click on any hostname to see more info about the system (e.g. compilers)      (*) as reported by 'uname -p', except on Windows and Mac OS X      (**) as reported by 'gcc -v'

Package status is indicated by one of the following glyphs
 TIMEOUT  INSTALL, BUILD, CHECK or BUILD BIN of package took more than 40 minutes Use the check boxes to show only packages with the selected status types.
 ERROR  Bad DESCRIPTION file or INSTALL, BUILD or BUILD BIN of package failed, or CHECK produced errors
 WARNINGS  CHECK of package produced warnings
 OK  INSTALL, BUILD, CHECK or BUILD BIN of package was OK
 skipped  CHECK or BUILD BIN of package was skipped because the BUILD step failed
 NA  BUILD, CHECK or BUILD BIN result is not available because of an anomaly in the Build System
Click on any glyph in the report below to access the detailed results.
Package propagation status is indicated by one of the following LEDs
YES YES: Package was propagated because it didn't previously exist or version was bumped
NO NO: Package was not propagated because of a problem (impossible dependencies, or version lower than what is already propagated)
UNNEEDED UNNEEDED: Package was not propagated because it is already in the repository with this version. A version bump is required in order to propagate it

A crossed-out package name indicates the package is deprecated


SUMMARYOS / ArchINSTALLBUILDCHECKBUILD BIN
malbec2 Linux (Ubuntu 18.04.4 LTS) / x86_64 
0221882
0751829
0612741494
tokay2 Windows Server 2012 R2 Standard / x64 
1221852
3801792
7733951317
031531
machv2 macOS 10.14.6 Mojave / x86_64 
0241870
1841809
1652771466
011808
A
ABCDEFGHIJKLMNOPQRSTUVWXYZ
Package 1/1905HostnameOS / ArchINSTALLBUILDCHECKBUILD BIN
a4 1.36.0
Tobias Verbeke
Last Commit: 58d6820
Last Changed Date: 2020-04-27 14:25:31 -0400
malbec2 Linux (Ubuntu 18.04.4 LTS) / x86_64  OK  OK  WARNINGS UNNEEDED, same version exists in internal repository
tokay2 Windows Server 2012 R2 Standard / x64  OK  OK  WARNINGS  OK UNNEEDED, same version exists in internal repository
machv2 macOS 10.14.6 Mojave / x86_64  OK  OK  WARNINGS  OK UNNEEDED, same version exists in internal repository
Package 2/1905HostnameOS / ArchINSTALLBUILDCHECKBUILD BIN
a4Base 1.36.0
Tobias Verbeke
Last Commit: f61ee95
Last Changed Date: 2020-04-27 14:25:17 -0400
malbec2 Linux (Ubuntu 18.04.4 LTS) / x86_64  OK  OK  WARNINGS UNNEEDED, same version exists in internal repository
tokay2 Windows Server 2012 R2 Standard / x64  OK  OK  ERROR  OK 
machv2 macOS 10.14.6 Mojave / x86_64  OK  OK  WARNINGS  OK UNNEEDED, same version exists in internal repository
Package 3/1905HostnameOS / ArchINSTALLBUILDCHECKBUILD BIN
a4Classif 1.36.0
Tobias Verbeke
Last Commit: 1d41277
Last Changed Date: 2020-04-27 14:25:23 -0400
malbec2 Linux (Ubuntu 18.04.4 LTS) / x86_64  OK  OK  OK UNNEEDED, same version exists in internal repository
tokay2 Windows Server 2012 R2 Standard / x64  OK  OK  OK  OK UNNEEDED, same version exists in internal repository
machv2 macOS 10.14.6 Mojave / x86_64  OK  OK  OK  OK UNNEEDED, same version exists in internal repository
Package 4/1905HostnameOS / ArchINSTALLBUILDCHECKBUILD BIN
a4Core 1.36.0
Tobias Verbeke
Last Commit: 912b011
Last Changed Date: 2020-04-27 14:25:26 -0400
malbec2 Linux (Ubuntu 18.04.4 LTS) / x86_64  OK  OK  OK UNNEEDED, same version exists in internal repository
tokay2 Windows Server 2012 R2 Standard / x64  OK  OK  OK  OK UNNEEDED, same version exists in internal repository
machv2 macOS 10.14.6 Mojave / x86_64  OK  OK  OK  OK UNNEEDED, same version exists in internal repository
Package 5/1905HostnameOS / ArchINSTALLBUILDCHECKBUILD BIN
a4Preproc 1.36.0
Tobias Verbeke
Last Commit: 66b65dc
Last Changed Date: 2020-04-27 14:25:20 -0400
malbec2 Linux (Ubuntu 18.04.4 LTS) / x86_64  OK  OK  OK UNNEEDED, same version exists in internal repository
tokay2 Windows Server 2012 R2 Standard / x64  OK  OK  OK  OK UNNEEDED, same version exists in internal repository
machv2 macOS 10.14.6 Mojave / x86_64  OK  OK  OK  OK UNNEEDED, same version exists in internal repository
Package 6/1905HostnameOS / ArchINSTALLBUILDCHECKBUILD BIN
a4Reporting 1.36.0
Tobias Verbeke
Last Commit: 212e575
Last Changed Date: 2020-04-27 14:25:28 -0400
malbec2 Linux (Ubuntu 18.04.4 LTS) / x86_64  OK  OK  WARNINGS UNNEEDED, same version exists in internal repository
tokay2 Windows Server 2012 R2 Standard / x64  OK  OK  WARNINGS  OK UNNEEDED, same version exists in internal repository
machv2 macOS 10.14.6 Mojave / x86_64  OK  OK  WARNINGS  OK UNNEEDED, same version exists in internal repository
Package 7/1905HostnameOS / ArchINSTALLBUILDCHECKBUILD BIN
ABAEnrichment 1.18.0
Steffi Grote
Last Commit: 2711767
Last Changed Date: 2020-04-27 14:50:36 -0400
malbec2 Linux (Ubuntu 18.04.4 LTS) / x86_64  OK  OK  OK UNNEEDED, same version exists in internal repository
tokay2 Windows Server 2012 R2 Standard / x64  OK  OK  OK  OK UNNEEDED, same version exists in internal repository
machv2 macOS 10.14.6 Mojave / x86_64  OK  OK  OK  OK UNNEEDED, same version exists in internal repository
Package 8/1905HostnameOS / ArchINSTALLBUILDCHECKBUILD BIN
ABarray 1.56.0
Yongming Andrew Sun
Last Commit: 4484f2e
Last Changed Date: 2020-04-27 14:13:31 -0400
malbec2 Linux (Ubuntu 18.04.4 LTS) / x86_64  OK  OK  OK UNNEEDED, same version exists in internal repository
tokay2 Windows Server 2012 R2 Standard / x64  OK  OK  OK  OK UNNEEDED, same version exists in internal repository
machv2 macOS 10.14.6 Mojave / x86_64  OK  OK  OK  OK UNNEEDED, same version exists in internal repository
Package 9/1905HostnameOS / ArchINSTALLBUILDCHECKBUILD BIN
abseqR 1.6.0
JiaHong Fong
Last Commit: 80a5eaa
Last Changed Date: 2020-04-27 15:21:22 -0400
malbec2 Linux (Ubuntu 18.04.4 LTS) / x86_64  OK  OK  OK UNNEEDED, same version exists in internal repository
tokay2 Windows Server 2012 R2 Standard / x64  OK  OK  OK  OK UNNEEDED, same version exists in internal repository
machv2 macOS 10.14.6 Mojave / x86_64  OK  OK  OK  OK UNNEEDED, same version exists in internal repository
Package 10/1905HostnameOS / ArchINSTALLBUILDCHECKBUILD BIN
ABSSeq 1.42.0
Wentao Yang
Last Commit: 64cd3da
Last Changed Date: 2020-04-27 14:39:30 -0400
malbec2 Linux (Ubuntu 18.04.4 LTS) / x86_64  OK  OK  OK UNNEEDED, same version exists in internal repository
tokay2 Windows Server 2012 R2 Standard / x64  OK  OK  OK  OK UNNEEDED, same version exists in internal repository
machv2 macOS 10.14.6 Mojave / x86_64  OK  OK  OK  OK UNNEEDED, same version exists in internal repository
Package 11/1905HostnameOS / ArchINSTALLBUILDCHECKBUILD BIN
acde 1.18.0
Juan Pablo Acosta
Last Commit: 31aed97
Last Changed Date: 2020-04-27 14:49:17 -0400
malbec2 Linux (Ubuntu 18.04.4 LTS) / x86_64  OK  OK  OK UNNEEDED, same version exists in internal repository
tokay2 Windows Server 2012 R2 Standard / x64  OK  OK  OK  OK UNNEEDED, same version exists in internal repository
machv2 macOS 10.14.6 Mojave / x86_64  OK  OK  OK  OK UNNEEDED, same version exists in internal repository
Package 12/1905HostnameOS / ArchINSTALLBUILDCHECKBUILD BIN
ACE 1.6.0
Jos B Poell
Last Commit: 2f6ff56
Last Changed Date: 2020-04-27 15:18:09 -0400
malbec2 Linux (Ubuntu 18.04.4 LTS) / x86_64  OK  OK  OK UNNEEDED, same version exists in internal repository
tokay2 Windows Server 2012 R2 Standard / x64  OK  OK  OK  OK UNNEEDED, same version exists in internal repository
machv2 macOS 10.14.6 Mojave / x86_64  OK  OK  OK  OK UNNEEDED, same version exists in internal repository
Package 13/1905HostnameOS / ArchINSTALLBUILDCHECKBUILD BIN
aCGH 1.66.0
Peter Dimitrov
Last Commit: cb4b300
Last Changed Date: 2020-04-27 14:09:56 -0400
malbec2 Linux (Ubuntu 18.04.4 LTS) / x86_64  OK  OK  OK UNNEEDED, same version exists in internal repository
tokay2 Windows Server 2012 R2 Standard / x64  OK  OK  OK  OK UNNEEDED, same version exists in internal repository
machv2 macOS 10.14.6 Mojave / x86_64  OK  OK  OK  OK UNNEEDED, same version exists in internal repository
Package 14/1905HostnameOS / ArchINSTALLBUILDCHECKBUILD BIN
ACME 2.44.0
Sean Davis
Last Commit: 1bb993f
Last Changed Date: 2020-04-27 14:15:01 -0400
malbec2 Linux (Ubuntu 18.04.4 LTS) / x86_64  OK  OK  WARNINGS UNNEEDED, same version exists in internal repository
tokay2 Windows Server 2012 R2 Standard / x64  OK  OK  WARNINGS  OK UNNEEDED, same version exists in internal repository
machv2 macOS 10.14.6 Mojave / x86_64  OK  OK  OK  OK UNNEEDED, same version exists in internal repository
Package 15/1905HostnameOS / ArchINSTALLBUILDCHECKBUILD BIN
ADaCGH2 2.28.1
Ramon Diaz-Uriarte
Last Commit: 8539fa0
Last Changed Date: 2020-08-21 16:57:27 -0400
malbec2 Linux (Ubuntu 18.04.4 LTS) / x86_64  OK  OK  OK UNNEEDED, same version exists in internal repository
tokay2 Windows Server 2012 R2 Standard / x64  OK  OK  OK  OK UNNEEDED, same version exists in internal repository
machv2 macOS 10.14.6 Mojave / x86_64  OK  OK  OK  OK UNNEEDED, same version exists in internal repository
Package 16/1905HostnameOS / ArchINSTALLBUILDCHECKBUILD BIN
ADAM 1.4.0
Jose Luiz Rybarczyk Filho
Last Commit: e96a9d6
Last Changed Date: 2020-04-27 15:21:48 -0400
malbec2 Linux (Ubuntu 18.04.4 LTS) / x86_64  OK  OK  OK UNNEEDED, same version exists in internal repository
tokay2 Windows Server 2012 R2 Standard / x64  OK  OK  OK  OK UNNEEDED, same version exists in internal repository
machv2 macOS 10.14.6 Mojave / x86_64  OK  OK  OK  OK UNNEEDED, same version exists in internal repository
Package 17/1905HostnameOS / ArchINSTALLBUILDCHECKBUILD BIN
ADAMgui 1.4.0
Jose Luiz Rybarczyk Filho
Last Commit: 8e8e641
Last Changed Date: 2020-04-27 15:26:00 -0400
malbec2 Linux (Ubuntu 18.04.4 LTS) / x86_64  OK  OK  OK UNNEEDED, same version exists in internal repository
tokay2 Windows Server 2012 R2 Standard / x64  OK  OK  OK  OK UNNEEDED, same version exists in internal repository
machv2 macOS 10.14.6 Mojave / x86_64  OK  OK  OK  OK UNNEEDED, same version exists in internal repository
Package 18/1905HostnameOS / ArchINSTALLBUILDCHECKBUILD BIN
adaptest 1.8.0
Weixin Cai
Last Commit: bb5a4e6
Last Changed Date: 2020-04-27 15:15:06 -0400
malbec2 Linux (Ubuntu 18.04.4 LTS) / x86_64  OK  OK  ERROR 
tokay2 Windows Server 2012 R2 Standard / x64  OK  OK  ERROR  OK 
machv2 macOS 10.14.6 Mojave / x86_64  OK  OK  ERROR  OK 
Package 19/1905HostnameOS / ArchINSTALLBUILDCHECKBUILD BIN
adductomicsR 1.4.0
Josie Hayes
Last Commit: 0c2f1dd
Last Changed Date: 2020-04-27 15:22:50 -0400
malbec2 Linux (Ubuntu 18.04.4 LTS) / x86_64  OK  OK  WARNINGS UNNEEDED, same version exists in internal repository
tokay2 Windows Server 2012 R2 Standard / x64  OK  OK  WARNINGS  OK UNNEEDED, same version exists in internal repository
machv2 macOS 10.14.6 Mojave / x86_64  OK  OK  WARNINGS  OK UNNEEDED, same version exists in internal repository
Package 20/1905HostnameOS / ArchINSTALLBUILDCHECKBUILD BIN
adSplit 1.58.0
Claudio Lottaz
Last Commit: 0398559
Last Changed Date: 2020-04-27 14:12:56 -0400
malbec2 Linux (Ubuntu 18.04.4 LTS) / x86_64  OK  OK  WARNINGS UNNEEDED, same version exists in internal repository
tokay2 Windows Server 2012 R2 Standard / x64  OK  OK  WARNINGS  OK UNNEEDED, same version exists in internal repository
machv2 macOS 10.14.6 Mojave / x86_64  OK  OK  WARNINGS  OK UNNEEDED, same version exists in internal repository
Package 21/1905HostnameOS / ArchINSTALLBUILDCHECKBUILD BIN
AffiXcan 1.6.0
Alessandro Lussana
Last Commit: 930d85d
Last Changed Date: 2020-04-27 15:20:00 -0400
malbec2 Linux (Ubuntu 18.04.4 LTS) / x86_64  OK  OK  OK UNNEEDED, same version exists in internal repository
tokay2 Windows Server 2012 R2 Standard / x64  OK  OK  OK  OK UNNEEDED, same version exists in internal repository
machv2 macOS 10.14.6 Mojave / x86_64  OK  OK  OK  OK UNNEEDED, same version exists in internal repository
Package 22/1905HostnameOS / ArchINSTALLBUILDCHECKBUILD BIN
affxparser 1.60.0
Kasper Daniel Hansen
Last Commit: 22b10b1
Last Changed Date: 2020-04-27 14:12:07 -0400
malbec2 Linux (Ubuntu 18.04.4 LTS) / x86_64  OK  OK  WARNINGS UNNEEDED, same version exists in internal repository
tokay2 Windows Server 2012 R2 Standard / x64  OK  OK  WARNINGS  OK UNNEEDED, same version exists in internal repository
machv2 macOS 10.14.6 Mojave / x86_64  OK  OK  WARNINGS  OK UNNEEDED, same version exists in internal repository
Package 23/1905HostnameOS / ArchINSTALLBUILDCHECKBUILD BIN
affy 1.66.0
Rafael A. Irizarry
Last Commit: ae131f8
Last Changed Date: 2020-04-27 14:08:09 -0400
malbec2 Linux (Ubuntu 18.04.4 LTS) / x86_64  OK  OK  WARNINGS UNNEEDED, same version exists in internal repository
tokay2 Windows Server 2012 R2 Standard / x64  OK  OK  WARNINGS  OK UNNEEDED, same version exists in internal repository
machv2 macOS 10.14.6 Mojave / x86_64  OK  OK  WARNINGS  OK UNNEEDED, same version exists in internal repository
Package 24/1905HostnameOS / ArchINSTALLBUILDCHECKBUILD BIN
affycomp 1.64.0
Rafael A. Irizarry
Last Commit: 51bc623
Last Changed Date: 2020-04-27 14:08:24 -0400
malbec2 Linux (Ubuntu 18.04.4 LTS) / x86_64  OK  OK  OK UNNEEDED, same version exists in internal repository
tokay2 Windows Server 2012 R2 Standard / x64  OK  OK  WARNINGS  OK UNNEEDED, same version exists in internal repository
machv2 macOS 10.14.6 Mojave / x86_64  OK  OK  OK  OK UNNEEDED, same version exists in internal repository
Package 25/1905HostnameOS / ArchINSTALLBUILDCHECKBUILD BIN
AffyCompatible 1.48.0
Martin Morgan
Last Commit: 6802bd1
Last Changed Date: 2020-04-27 14:17:06 -0400
malbec2 Linux (Ubuntu 18.04.4 LTS) / x86_64  OK  OK  OK UNNEEDED, same version exists in internal repository
tokay2 Windows Server 2012 R2 Standard / x64  OK  OK  OK  OK UNNEEDED, same version exists in internal repository
machv2 macOS 10.14.6 Mojave / x86_64  OK  OK  OK  OK UNNEEDED, same version exists in internal repository
Package 26/1905HostnameOS / ArchINSTALLBUILDCHECKBUILD BIN
affyContam 1.46.0
V. Carey
Last Commit: 11c4fbd
Last Changed Date: 2020-04-27 14:18:21 -0400
malbec2 Linux (Ubuntu 18.04.4 LTS) / x86_64  OK  OK  OK UNNEEDED, same version exists in internal repository
tokay2 Windows Server 2012 R2 Standard / x64  OK  OK  OK  OK UNNEEDED, same version exists in internal repository
machv2 macOS 10.14.6 Mojave / x86_64  OK  OK  OK  OK UNNEEDED, same version exists in internal repository
Package 27/1905HostnameOS / ArchINSTALLBUILDCHECKBUILD BIN
affycoretools 1.60.1
James W. MacDonald
Last Commit: 27ba39d
Last Changed Date: 2020-05-06 14:13:06 -0400
malbec2 Linux (Ubuntu 18.04.4 LTS) / x86_64  OK  OK  OK UNNEEDED, same version exists in internal repository
tokay2 Windows Server 2012 R2 Standard / x64  OK  OK  WARNINGS  OK UNNEEDED, same version exists in internal repository
machv2 macOS 10.14.6 Mojave / x86_64  OK  OK  OK  OK UNNEEDED, same version exists in internal repository
Package 28/1905HostnameOS / ArchINSTALLBUILDCHECKBUILD BIN
AffyExpress 1.54.0
Xuejun Arthur Li
Last Commit: f2062ff
Last Changed Date: 2020-04-27 14:15:41 -0400
malbec2 Linux (Ubuntu 18.04.4 LTS) / x86_64  OK  OK  OK UNNEEDED, same version exists in internal repository
tokay2 Windows Server 2012 R2 Standard / x64  OK  OK  OK  OK UNNEEDED, same version exists in internal repository
machv2 macOS 10.14.6 Mojave / x86_64  OK  OK  OK  OK UNNEEDED, same version exists in internal repository
Package 29/1905HostnameOS / ArchINSTALLBUILDCHECKBUILD BIN
affyILM 1.40.0
Myriam Kroll and Fabrice Berger
Last Commit: d002e47
Last Changed Date: 2020-04-27 14:22:18 -0400
malbec2 Linux (Ubuntu 18.04.4 LTS) / x86_64  OK  OK  OK UNNEEDED, same version exists in internal repository
tokay2 Windows Server 2012 R2 Standard / x64  OK  OK  OK  OK UNNEEDED, same version exists in internal repository
machv2 macOS 10.14.6 Mojave / x86_64  OK  OK  OK  OK UNNEEDED, same version exists in internal repository
Package 30/1905HostnameOS / ArchINSTALLBUILDCHECKBUILD BIN
affyio 1.58.0
Ben Bolstad
Last Commit: 76fee54
Last Changed Date: 2020-04-27 14:08:04 -0400
malbec2 Linux (Ubuntu 18.04.4 LTS) / x86_64  OK  OK  OK UNNEEDED, same version exists in internal repository
tokay2 Windows Server 2012 R2 Standard / x64  OK  OK  WARNINGS  OK UNNEEDED, same version exists in internal repository
machv2 macOS 10.14.6 Mojave / x86_64  OK  OK  OK  OK UNNEEDED, same version exists in internal repository
Package 31/1905HostnameOS / ArchINSTALLBUILDCHECKBUILD BIN
affylmGUI 1.62.0
Gordon Smyth
Last Commit: 14c01a3
Last Changed Date: 2020-04-27 14:09:39 -0400
malbec2 Linux (Ubuntu 18.04.4 LTS) / x86_64  OK  OK  OK UNNEEDED, same version exists in internal repository
tokay2 Windows Server 2012 R2 Standard / x64  OK  OK  OK  OK UNNEEDED, same version exists in internal repository
machv2 macOS 10.14.6 Mojave / x86_64  OK  OK  OK  OK UNNEEDED, same version exists in internal repository
Package 32/1905HostnameOS / ArchINSTALLBUILDCHECKBUILD BIN
affyPara 1.48.0
Markus Schmidberger
Last Commit: 7d105cd
Last Changed Date: 2020-04-27 14:16:46 -0400
malbec2 Linux (Ubuntu 18.04.4 LTS) / x86_64  OK  OK  OK UNNEEDED, same version exists in internal repository
tokay2 Windows Server 2012 R2 Standard / x64  OK  OK  OK  OK UNNEEDED, same version exists in internal repository
machv2 macOS 10.14.6 Mojave / x86_64  OK  OK  OK  OK UNNEEDED, same version exists in internal repository
Package 33/1905HostnameOS / ArchINSTALLBUILDCHECKBUILD BIN
affypdnn 1.62.0
Laurent Gautier
Last Commit: 22a6e97
Last Changed Date: 2020-04-27 14:09:01 -0400
malbec2 Linux (Ubuntu 18.04.4 LTS) / x86_64  OK  OK  ERROR 
tokay2 Windows Server 2012 R2 Standard / x64  OK  OK  ERROR  OK 
machv2 macOS 10.14.6 Mojave / x86_64  OK  OK  ERROR  OK 
Package 34/1905HostnameOS / ArchINSTALLBUILDCHECKBUILD BIN
affyPLM 1.64.0
Ben Bolstad
Last Commit: 11b83c7
Last Changed Date: 2020-04-27 14:08:49 -0400
malbec2 Linux (Ubuntu 18.04.4 LTS) / x86_64  OK  OK  OK UNNEEDED, same version exists in internal repository
tokay2 Windows Server 2012 R2 Standard / x64  OK  OK  OK  OK UNNEEDED, same version exists in internal repository
machv2 macOS 10.14.6 Mojave / x86_64  OK  OK  OK  OK UNNEEDED, same version exists in internal repository
Package 35/1905HostnameOS / ArchINSTALLBUILDCHECKBUILD BIN
affyQCReport 1.66.0
Craig Parman
Last Commit: 150105f
Last Changed Date: 2020-04-27 14:11:46 -0400
malbec2 Linux (Ubuntu 18.04.4 LTS) / x86_64  OK  OK  OK UNNEEDED, same version exists in internal repository
tokay2 Windows Server 2012 R2 Standard / x64  OK  OK  OK  OK UNNEEDED, same version exists in internal repository
machv2 macOS 10.14.6 Mojave / x86_64  OK  OK  OK  OK UNNEEDED, same version exists in internal repository
Package 36/1905HostnameOS / ArchINSTALLBUILDCHECKBUILD BIN
AffyRNADegradation 1.34.0
Mario Fasold
Last Commit: c2fc70c
Last Changed Date: 2020-04-27 14:28:04 -0400
malbec2 Linux (Ubuntu 18.04.4 LTS) / x86_64  OK  OK  OK UNNEEDED, same version exists in internal repository
tokay2 Windows Server 2012 R2 Standard / x64  OK  OK  OK  OK UNNEEDED, same version exists in internal repository
machv2 macOS 10.14.6 Mojave / x86_64  OK  OK  OK  OK UNNEEDED, same version exists in internal repository
Package 37/1905HostnameOS / ArchINSTALLBUILDCHECKBUILD BIN
AGDEX 1.36.0
Cuilan lani Gao
Last Commit: 60d359b
Last Changed Date: 2020-04-27 14:27:03 -0400
malbec2 Linux (Ubuntu 18.04.4 LTS) / x86_64  OK  OK  OK UNNEEDED, same version exists in internal repository
tokay2 Windows Server 2012 R2 Standard / x64  OK  OK  WARNINGS  OK UNNEEDED, same version exists in internal repository
machv2 macOS 10.14.6 Mojave / x86_64  OK  OK  OK  OK UNNEEDED, same version exists in internal repository
Package 38/1905HostnameOS / ArchINSTALLBUILDCHECKBUILD BIN
agilp 3.20.0
Benny Chain
Last Commit: 04f2642
Last Changed Date: 2020-04-27 14:31:27 -0400
malbec2 Linux (Ubuntu 18.04.4 LTS) / x86_64  OK  OK  OK UNNEEDED, same version exists in internal repository
tokay2 Windows Server 2012 R2 Standard / x64  OK  OK  OK  OK UNNEEDED, same version exists in internal repository
machv2 macOS 10.14.6 Mojave / x86_64  OK  OK  OK  OK UNNEEDED, same version exists in internal repository
Package 39/1905HostnameOS / ArchINSTALLBUILDCHECKBUILD BIN
AgiMicroRna 2.38.0
Pedro Lopez-Romero
Last Commit: cd2b0c7
Last Changed Date: 2020-04-27 14:20:03 -0400
malbec2 Linux (Ubuntu 18.04.4 LTS) / x86_64  OK  OK  OK UNNEEDED, same version exists in internal repository
tokay2 Windows Server 2012 R2 Standard / x64  OK  OK  OK  OK UNNEEDED, same version exists in internal repository
machv2 macOS 10.14.6 Mojave / x86_64  OK  OK  OK  OK UNNEEDED, same version exists in internal repository
Package 40/1905HostnameOS / ArchINSTALLBUILDCHECKBUILD BIN
AIMS 1.20.0
Eric R Paquet
Last Commit: cfe6843
Last Changed Date: 2020-04-27 14:45:30 -0400
malbec2 Linux (Ubuntu 18.04.4 LTS) / x86_64  OK  OK  OK UNNEEDED, same version exists in internal repository
tokay2 Windows Server 2012 R2 Standard / x64  OK  OK  OK  OK UNNEEDED, same version exists in internal repository
machv2 macOS 10.14.6 Mojave / x86_64  OK  OK  OK  OK UNNEEDED, same version exists in internal repository
Package 41/1905HostnameOS / ArchINSTALLBUILDCHECKBUILD BIN
ALDEx2 1.20.0
Greg Gloor
Last Commit: f9b4f4f
Last Changed Date: 2020-04-27 14:43:33 -0400
malbec2 Linux (Ubuntu 18.04.4 LTS) / x86_64  OK  OK  OK UNNEEDED, same version exists in internal repository
tokay2 Windows Server 2012 R2 Standard / x64  OK  OK  OK  OK UNNEEDED, same version exists in internal repository
machv2 macOS 10.14.6 Mojave / x86_64  OK  OK  OK  OK UNNEEDED, same version exists in internal repository
Package 42/1905HostnameOS / ArchINSTALLBUILDCHECKBUILD BIN
alevinQC 1.4.0
Charlotte Soneson
Last Commit: 610f009
Last Changed Date: 2020-04-27 15:23:35 -0400
malbec2 Linux (Ubuntu 18.04.4 LTS) / x86_64  OK  OK  OK UNNEEDED, same version exists in internal repository
tokay2 Windows Server 2012 R2 Standard / x64  OK  OK  OK  OK UNNEEDED, same version exists in internal repository
machv2 macOS 10.14.6 Mojave / x86_64  OK  OK  OK  OK UNNEEDED, same version exists in internal repository
Package 43/1905HostnameOS / ArchINSTALLBUILDCHECKBUILD BIN
AllelicImbalance 1.26.0
Jesper R Gadin
Last Commit: 06924db
Last Changed Date: 2020-04-27 14:36:41 -0400
malbec2 Linux (Ubuntu 18.04.4 LTS) / x86_64  OK  OK  OK UNNEEDED, same version exists in internal repository
tokay2 Windows Server 2012 R2 Standard / x64  OK  OK  OK  OK UNNEEDED, same version exists in internal repository
machv2 macOS 10.14.6 Mojave / x86_64  OK  OK  OK  OK UNNEEDED, same version exists in internal repository
Package 44/1905HostnameOS / ArchINSTALLBUILDCHECKBUILD BIN
AlphaBeta 1.2.3
Yadollah Shahryary Dizaji
Last Commit: 666df14
Last Changed Date: 2020-06-06 09:46:58 -0400
malbec2 Linux (Ubuntu 18.04.4 LTS) / x86_64  OK  OK  OK UNNEEDED, same version exists in internal repository
tokay2 Windows Server 2012 R2 Standard / x64  OK  OK  OK  OK UNNEEDED, same version exists in internal repository
machv2 macOS 10.14.6 Mojave / x86_64  OK  OK  OK  OK UNNEEDED, same version exists in internal repository
Package 45/1905HostnameOS / ArchINSTALLBUILDCHECKBUILD BIN
alpine 1.14.0
Michael Love
Last Commit: 056d317
Last Changed Date: 2020-04-27 15:00:57 -0400
malbec2 Linux (Ubuntu 18.04.4 LTS) / x86_64  OK  OK  OK UNNEEDED, same version exists in internal repository
tokay2 Windows Server 2012 R2 Standard / x64  OK  OK  OK  OK UNNEEDED, same version exists in internal repository
machv2 macOS 10.14.6 Mojave / x86_64  OK  OK  OK  OK UNNEEDED, same version exists in internal repository
Package 46/1905HostnameOS / ArchINSTALLBUILDCHECKBUILD BIN
ALPS 1.2.0
Venu Thatikonda
Last Commit: 3daf3ac
Last Changed Date: 2020-04-27 15:31:37 -0400
malbec2 Linux (Ubuntu 18.04.4 LTS) / x86_64  OK  OK  OK UNNEEDED, same version exists in internal repository
tokay2 Windows Server 2012 R2 Standard / x64  OK  OK  OK  OK UNNEEDED, same version exists in internal repository
machv2 macOS 10.14.6 Mojave / x86_64  OK  OK  OK  OK UNNEEDED, same version exists in internal repository
Package 47/1905HostnameOS / ArchINSTALLBUILDCHECKBUILD BIN
alsace 1.24.0
Ron Wehrens
Last Commit: f14a539
Last Changed Date: 2020-04-27 14:38:51 -0400
malbec2 Linux (Ubuntu 18.04.4 LTS) / x86_64  OK  OK  OK UNNEEDED, same version exists in internal repository
tokay2 Windows Server 2012 R2 Standard / x64  OK  OK  OK  OK UNNEEDED, same version exists in internal repository
machv2 macOS 10.14.6 Mojave / x86_64  OK  OK  OK  OK UNNEEDED, same version exists in internal repository
Package 48/1905HostnameOS / ArchINSTALLBUILDCHECKBUILD BIN
altcdfenvs 2.50.0
Laurent Gautier
Last Commit: b8a2fb2
Last Changed Date: 2020-04-27 14:09:31 -0400
malbec2 Linux (Ubuntu 18.04.4 LTS) / x86_64  OK  OK  OK UNNEEDED, same version exists in internal repository
tokay2 Windows Server 2012 R2 Standard / x64  OK  OK  OK  OK UNNEEDED, same version exists in internal repository
machv2 macOS 10.14.6 Mojave / x86_64  OK  OK  OK  OK UNNEEDED, same version exists in internal repository
Package 49/1905HostnameOS / ArchINSTALLBUILDCHECKBUILD BIN
AMARETTO 1.4.0
Olivier Gevaert
Last Commit: 21043df
Last Changed Date: 2020-04-27 15:24:46 -0400
malbec2 Linux (Ubuntu 18.04.4 LTS) / x86_64  OK  OK  OK UNNEEDED, same version exists in internal repository
tokay2 Windows Server 2012 R2 Standard / x64  OK  OK  OK  OK UNNEEDED, same version exists in internal repository
machv2 macOS 10.14.6 Mojave / x86_64  OK  OK  OK  OK UNNEEDED, same version exists in internal repository
Package 50/1905HostnameOS / ArchINSTALLBUILDCHECKBUILD BIN
AMOUNTAIN 1.14.0
Dong Li
Last Commit: 5df1fde
Last Changed Date: 2020-04-27 14:59:13 -0400
malbec2 Linux (Ubuntu 18.04.4 LTS) / x86_64  OK  OK  OK UNNEEDED, same version exists in internal repository
tokay2 Windows Server 2012 R2 Standard / x64  OK  OK  OK  OK UNNEEDED, same version exists in internal repository
machv2 macOS 10.14.6 Mojave / x86_64  OK  OK  OK  OK UNNEEDED, same version exists in internal repository
Package 51/1905HostnameOS / ArchINSTALLBUILDCHECKBUILD BIN
amplican 1.10.1
Eivind Valen
Last Commit: 63bd0b9
Last Changed Date: 2020-07-03 10:24:14 -0400
malbec2 Linux (Ubuntu 18.04.4 LTS) / x86_64  OK  OK  OK UNNEEDED, same version exists in internal repository
tokay2 Windows Server 2012 R2 Standard / x64  OK  OK  OK  OK UNNEEDED, same version exists in internal repository
machv2 macOS 10.14.6 Mojave / x86_64  OK  OK  OK  OK UNNEEDED, same version exists in internal repository
Package 52/1905HostnameOS / ArchINSTALLBUILDCHECKBUILD BIN
AnalysisPageServer 1.22.0
Brad Friedman
Last Commit: 2a18bb2
Last Changed Date: 2020-04-27 14:45:57 -0400
malbec2 Linux (Ubuntu 18.04.4 LTS) / x86_64  OK  OK  ERROR 
tokay2 Windows Server 2012 R2 Standard / x64  OK  OK  ERROR  OK 
machv2 macOS 10.14.6 Mojave / x86_64  OK  OK  ERROR  OK 
Package 53/1905HostnameOS / ArchINSTALLBUILDCHECKBUILD BIN
anamiR 1.16.0
Ti-Tai Wang
Last Commit: f1b60e6
Last Changed Date: 2020-04-27 15:02:52 -0400
malbec2 Linux (Ubuntu 18.04.4 LTS) / x86_64  OK  ERROR  skipped 
tokay2 Windows Server 2012 R2 Standard / x64  OK  ERROR  skipped  skipped 
machv2 macOS 10.14.6 Mojave / x86_64  OK  ERROR  skipped  skipped 
Package 54/1905HostnameOS / ArchINSTALLBUILDCHECKBUILD BIN
Anaquin 2.12.0
Ted Wong
Last Commit: 1796bb4
Last Changed Date: 2020-04-27 15:01:01 -0400
malbec2 Linux (Ubuntu 18.04.4 LTS) / x86_64  OK  OK  OK UNNEEDED, same version exists in internal repository
tokay2 Windows Server 2012 R2 Standard / x64  OK  OK  OK  OK UNNEEDED, same version exists in internal repository
machv2 macOS 10.14.6 Mojave / x86_64  OK  OK  OK  OK UNNEEDED, same version exists in internal repository
Package 55/1905HostnameOS / ArchINSTALLBUILDCHECKBUILD BIN
AneuFinder 1.16.0
Aaron Taudt
Last Commit: ba2e82e
Last Changed Date: 2020-04-27 14:55:57 -0400
malbec2 Linux (Ubuntu 18.04.4 LTS) / x86_64  OK  OK  OK UNNEEDED, same version exists in internal repository
tokay2 Windows Server 2012 R2 Standard / x64  OK  OK  OK  OK UNNEEDED, same version exists in internal repository
machv2 macOS 10.14.6 Mojave / x86_64  OK  OK  OK  OK UNNEEDED, same version exists in internal repository
Package 56/1905HostnameOS / ArchINSTALLBUILDCHECKBUILD BIN
ANF 1.10.0
Tianle Ma
Last Commit: f28e90e
Last Changed Date: 2020-04-27 15:11:11 -0400
malbec2 Linux (Ubuntu 18.04.4 LTS) / x86_64  OK  OK  OK UNNEEDED, same version exists in internal repository
tokay2 Windows Server 2012 R2 Standard / x64  OK  OK  OK  OK UNNEEDED, same version exists in internal repository
machv2 macOS 10.14.6 Mojave / x86_64  OK  OK  OK  OK UNNEEDED, same version exists in internal repository
Package 57/1905HostnameOS / ArchINSTALLBUILDCHECKBUILD BIN
animalcules 1.4.0
Yue Zhao
Last Commit: 8ee81de
Last Changed Date: 2020-06-18 11:27:45 -0400
malbec2 Linux (Ubuntu 18.04.4 LTS) / x86_64  OK  OK  OK UNNEEDED, same version exists in internal repository
tokay2 Windows Server 2012 R2 Standard / x64  OK  OK  OK  OK UNNEEDED, same version exists in internal repository
machv2 macOS 10.14.6 Mojave / x86_64  OK  OK  OK  OK UNNEEDED, same version exists in internal repository
Package 58/1905HostnameOS / ArchINSTALLBUILDCHECKBUILD BIN
annaffy 1.60.0
Colin A. Smith
Last Commit: ed7e8ee
Last Changed Date: 2020-04-27 14:08:37 -0400
malbec2 Linux (Ubuntu 18.04.4 LTS) / x86_64  OK  OK  WARNINGS UNNEEDED, same version exists in internal repository
tokay2 Windows Server 2012 R2 Standard / x64  OK  OK  WARNINGS  OK UNNEEDED, same version exists in internal repository
machv2 macOS 10.14.6 Mojave / x86_64  OK  OK  WARNINGS  OK UNNEEDED, same version exists in internal repository
Package 59/1905HostnameOS / ArchINSTALLBUILDCHECKBUILD BIN
annmap 1.30.0
Chris Wirth
Last Commit: a78a7cd
Last Changed Date: 2020-04-27 14:29:55 -0400
malbec2 Linux (Ubuntu 18.04.4 LTS) / x86_64  OK  OK  WARNINGS UNNEEDED, same version exists in internal repository
tokay2 Windows Server 2012 R2 Standard / x64 ...NOT SUPPORTED...
machv2 macOS 10.14.6 Mojave / x86_64  OK  OK  WARNINGS  OK UNNEEDED, same version exists in internal repository
Package 60/1905HostnameOS / ArchINSTALLBUILDCHECKBUILD BIN
annotate 1.66.0
Bioconductor Package Maintainer
Last Commit: a63378f
Last Changed Date: 2020-04-27 14:07:46 -0400
malbec2 Linux (Ubuntu 18.04.4 LTS) / x86_64  OK  OK  ERROR 
tokay2 Windows Server 2012 R2 Standard / x64  OK  OK  ERROR  OK 
machv2 macOS 10.14.6 Mojave / x86_64  OK  OK  ERROR  OK 
Package 61/1905HostnameOS / ArchINSTALLBUILDCHECKBUILD BIN
AnnotationDbi 1.50.3
Bioconductor Package Maintainer
Last Commit: efa119c
Last Changed Date: 2020-07-24 15:09:06 -0400
malbec2 Linux (Ubuntu 18.04.4 LTS) / x86_64  OK  OK  OK UNNEEDED, same version exists in internal repository
tokay2 Windows Server 2012 R2 Standard / x64  OK  OK  OK  OK UNNEEDED, same version exists in internal repository
machv2 macOS 10.14.6 Mojave / x86_64  OK  OK  OK  OK UNNEEDED, same version exists in internal repository
Package 62/1905HostnameOS / ArchINSTALLBUILDCHECKBUILD BIN
AnnotationFilter 1.12.0
Bioconductor Package Maintainer
Last Commit: 34c71e6
Last Changed Date: 2020-04-27 15:06:41 -0400
malbec2 Linux (Ubuntu 18.04.4 LTS) / x86_64  OK  OK  OK UNNEEDED, same version exists in internal repository
tokay2 Windows Server 2012 R2 Standard / x64  OK  OK  OK  OK UNNEEDED, same version exists in internal repository
machv2 macOS 10.14.6 Mojave / x86_64  OK  OK  OK  OK UNNEEDED, same version exists in internal repository
Package 63/1905HostnameOS / ArchINSTALLBUILDCHECKBUILD BIN
AnnotationForge 1.30.1
Bioconductor Package Maintainer
Last Commit: 3f93a43
Last Changed Date: 2020-04-30 10:29:20 -0400
malbec2 Linux (Ubuntu 18.04.4 LTS) / x86_64  OK  OK  OK UNNEEDED, same version exists in internal repository
tokay2 Windows Server 2012 R2 Standard / x64  OK  OK  OK  OK UNNEEDED, same version exists in internal repository
machv2 macOS 10.14.6 Mojave / x86_64  OK  OK  OK  OK UNNEEDED, same version exists in internal repository
Package 64/1905HostnameOS / ArchINSTALLBUILDCHECKBUILD BIN
AnnotationFuncs 1.38.0
Stefan McKinnon Edwards
Last Commit: 98461bb
Last Changed Date: 2020-04-27 14:24:47 -0400
malbec2 Linux (Ubuntu 18.04.4 LTS) / x86_64  OK  OK  OK UNNEEDED, same version exists in internal repository
tokay2 Windows Server 2012 R2 Standard / x64  OK  OK  OK  OK UNNEEDED, same version exists in internal repository
machv2 macOS 10.14.6 Mojave / x86_64  OK  OK  OK  OK UNNEEDED, same version exists in internal repository
Package 65/1905HostnameOS / ArchINSTALLBUILDCHECKBUILD BIN
AnnotationHub 2.20.2
Bioconductor Package Maintainer
Last Commit: 7b83201
Last Changed Date: 2020-08-18 12:28:57 -0400
malbec2 Linux (Ubuntu 18.04.4 LTS) / x86_64  OK  OK  WARNINGS UNNEEDED, same version exists in internal repository
tokay2 Windows Server 2012 R2 Standard / x64  OK  OK  WARNINGS  OK UNNEEDED, same version exists in internal repository
machv2 macOS 10.14.6 Mojave / x86_64  OK  OK  WARNINGS  OK UNNEEDED, same version exists in internal repository
Package 66/1905HostnameOS / ArchINSTALLBUILDCHECKBUILD BIN
AnnotationHubData 1.18.1
Bioconductor Package Maintainer
Last Commit: fabc442
Last Changed Date: 2020-08-03 10:39:21 -0400
malbec2 Linux (Ubuntu 18.04.4 LTS) / x86_64  OK  OK  WARNINGS UNNEEDED, same version exists in internal repository
tokay2 Windows Server 2012 R2 Standard / x64  OK  OK  WARNINGS  OK UNNEEDED, same version exists in internal repository
machv2 macOS 10.14.6 Mojave / x86_64  OK  OK  WARNINGS  OK UNNEEDED, same version exists in internal repository
Package 67/1905HostnameOS / ArchINSTALLBUILDCHECKBUILD BIN
annotationTools 1.62.0
Alexandre Kuhn
Last Commit: b2b4d2c
Last Changed Date: 2020-04-27 14:14:46 -0400
malbec2 Linux (Ubuntu 18.04.4 LTS) / x86_64  OK  OK  OK UNNEEDED, same version exists in internal repository
tokay2 Windows Server 2012 R2 Standard / x64  OK  OK  OK  OK UNNEEDED, same version exists in internal repository
machv2 macOS 10.14.6 Mojave / x86_64  OK  OK  OK  OK UNNEEDED, same version exists in internal repository
Package 68/1905HostnameOS / ArchINSTALLBUILDCHECKBUILD BIN
annotatr 1.14.0
Raymond G. Cavalcante
Last Commit: 5a01f8c
Last Changed Date: 2020-04-27 15:03:04 -0400
malbec2 Linux (Ubuntu 18.04.4 LTS) / x86_64  OK  OK  OK UNNEEDED, same version exists in internal repository
tokay2 Windows Server 2012 R2 Standard / x64  OK  OK  OK  OK UNNEEDED, same version exists in internal repository
machv2 macOS 10.14.6 Mojave / x86_64  OK  OK  OK  OK UNNEEDED, same version exists in internal repository
Package 69/1905HostnameOS / ArchINSTALLBUILDCHECKBUILD BIN
anota 1.36.0
Ola Larsson
Last Commit: 41257d0
Last Changed Date: 2020-04-27 14:25:34 -0400
malbec2 Linux (Ubuntu 18.04.4 LTS) / x86_64  OK  OK  OK UNNEEDED, same version exists in internal repository
tokay2 Windows Server 2012 R2 Standard / x64  OK  OK  OK  OK UNNEEDED, same version exists in internal repository
machv2 macOS 10.14.6 Mojave / x86_64  OK  OK  OK  OK UNNEEDED, same version exists in internal repository
Package 70/1905HostnameOS / ArchINSTALLBUILDCHECKBUILD BIN
anota2seq 1.10.0
Christian Oertlin , Julie Lorent
Last Commit: 8449eaf
Last Changed Date: 2020-04-27 15:11:14 -0400
malbec2 Linux (Ubuntu 18.04.4 LTS) / x86_64  OK  OK  OK UNNEEDED, same version exists in internal repository
tokay2 Windows Server 2012 R2 Standard / x64  OK  OK  OK  OK UNNEEDED, same version exists in internal repository
machv2 macOS 10.14.6 Mojave / x86_64  OK  OK  OK  OK UNNEEDED, same version exists in internal repository
Package 71/1905HostnameOS / ArchINSTALLBUILDCHECKBUILD BIN
antiProfiles 1.28.0
Hector Corrada Bravo
Last Commit: 778b34e
Last Changed Date: 2020-04-27 14:34:13 -0400
malbec2 Linux (Ubuntu 18.04.4 LTS) / x86_64  OK  OK  OK UNNEEDED, same version exists in internal repository
tokay2 Windows Server 2012 R2 Standard / x64  OK  OK  OK  OK UNNEEDED, same version exists in internal repository
machv2 macOS 10.14.6 Mojave / x86_64  OK  OK  OK  OK UNNEEDED, same version exists in internal repository
Package 72/1905HostnameOS / ArchINSTALLBUILDCHECKBUILD BIN
AnVIL 1.0.3
Martin Morgan
Last Commit: 5e06e75
Last Changed Date: 2020-05-03 05:47:03 -0400
malbec2 Linux (Ubuntu 18.04.4 LTS) / x86_64  OK  OK  OK UNNEEDED, same version exists in internal repository
tokay2 Windows Server 2012 R2 Standard / x64  OK  OK  OK  OK UNNEEDED, same version exists in internal repository
machv2 macOS 10.14.6 Mojave / x86_64  OK  OK  OK  OK UNNEEDED, same version exists in internal repository
Package 73/1905HostnameOS / ArchINSTALLBUILDCHECKBUILD BIN
APAlyzer 1.2.0
Ruijia Wang
Last Commit: 8c1a739
Last Changed Date: 2020-04-27 15:29:12 -0400
malbec2 Linux (Ubuntu 18.04.4 LTS) / x86_64  OK  OK  OK UNNEEDED, same version exists in internal repository
tokay2 Windows Server 2012 R2 Standard / x64  OK  OK  OK  OK UNNEEDED, same version exists in internal repository
machv2 macOS 10.14.6 Mojave / x86_64  OK  OK  OK  OK UNNEEDED, same version exists in internal repository
Package 74/1905HostnameOS / ArchINSTALLBUILDCHECKBUILD BIN
apComplex 2.54.0
Denise Scholtens
Last Commit: d32609a
Last Changed Date: 2020-04-27 14:10:49 -0400
malbec2 Linux (Ubuntu 18.04.4 LTS) / x86_64  OK  OK  OK UNNEEDED, same version exists in internal repository
tokay2 Windows Server 2012 R2 Standard / x64  OK  OK  OK  OK UNNEEDED, same version exists in internal repository
machv2 macOS 10.14.6 Mojave / x86_64  OK  OK  OK  OK UNNEEDED, same version exists in internal repository
Package 75/1905HostnameOS / ArchINSTALLBUILDCHECKBUILD BIN
apeglm 1.10.0
Anqi Zhu
Last Commit: b6c7a17
Last Changed Date: 2020-04-27 15:10:02 -0400
malbec2 Linux (Ubuntu 18.04.4 LTS) / x86_64  OK  OK  OK UNNEEDED, same version exists in internal repository
tokay2 Windows Server 2012 R2 Standard / x64  OK  OK  OK  OK UNNEEDED, same version exists in internal repository
machv2 macOS 10.14.6 Mojave / x86_64  OK  OK  OK  OK UNNEEDED, same version exists in internal repository
Package 76/1905HostnameOS / ArchINSTALLBUILDCHECKBUILD BIN
appreci8R 1.6.0
Sarah Sandmann
Last Commit: dfa7e67
Last Changed Date: 2020-04-27 15:18:01 -0400
malbec2 Linux (Ubuntu 18.04.4 LTS) / x86_64  OK  OK  OK UNNEEDED, same version exists in internal repository
tokay2 Windows Server 2012 R2 Standard / x64  OK  OK  OK  OK UNNEEDED, same version exists in internal repository
machv2 macOS 10.14.6 Mojave / x86_64  OK  OK  OK  OK UNNEEDED, same version exists in internal repository
Package 77/1905HostnameOS / ArchINSTALLBUILDCHECKBUILD BIN
aroma.light 3.18.0
Henrik Bengtsson
Last Commit: cbe7b51
Last Changed Date: 2020-04-27 14:13:39 -0400
malbec2 Linux (Ubuntu 18.04.4 LTS) / x86_64  OK  OK  OK UNNEEDED, same version exists in internal repository
tokay2 Windows Server 2012 R2 Standard / x64  OK  OK  WARNINGS  OK UNNEEDED, same version exists in internal repository
machv2 macOS 10.14.6 Mojave / x86_64  OK  OK  OK  OK UNNEEDED, same version exists in internal repository
Package 78/1905HostnameOS / ArchINSTALLBUILDCHECKBUILD BIN
ArrayExpress 1.48.0
Suhaib Mohammed
Last Commit: 9e8f346
Last Changed Date: 2020-04-27 14:18:09 -0400
malbec2 Linux (Ubuntu 18.04.4 LTS) / x86_64  OK  OK  OK UNNEEDED, same version exists in internal repository
tokay2 Windows Server 2012 R2 Standard / x64  OK  OK  OK  OK UNNEEDED, same version exists in internal repository
machv2 macOS 10.14.6 Mojave / x86_64  OK  OK  OK  OK UNNEEDED, same version exists in internal repository
Package 79/1905HostnameOS / ArchINSTALLBUILDCHECKBUILD BIN
ArrayExpressHTS 1.38.0
Angela Goncalves , Andrew Tikhonov
Last Commit: eeb5168
Last Changed Date: 2020-04-27 14:25:39 -0400
malbec2 Linux (Ubuntu 18.04.4 LTS) / x86_64  OK  OK  WARNINGS UNNEEDED, same version exists in internal repository
tokay2 Windows Server 2012 R2 Standard / x64 ...NOT SUPPORTED...
machv2 macOS 10.14.6 Mojave / x86_64  OK  OK  OK  OK UNNEEDED, same version exists in internal repository
Package 80/1905HostnameOS / ArchINSTALLBUILDCHECKBUILD BIN
arrayMvout 1.46.0
V. Carey
Last Commit: 4a68ce9
Last Changed Date: 2020-04-27 14:18:24 -0400
malbec2 Linux (Ubuntu 18.04.4 LTS) / x86_64  OK  OK  OK UNNEEDED, same version exists in internal repository
tokay2 Windows Server 2012 R2 Standard / x64  OK  OK  OK  OK UNNEEDED, same version exists in internal repository
machv2 macOS 10.14.6 Mojave / x86_64  OK  OK  OK  OK UNNEEDED, same version exists in internal repository
Package 81/1905HostnameOS / ArchINSTALLBUILDCHECKBUILD BIN
arrayQuality 1.66.0
Agnes Paquet
Last Commit: d0b97d0
Last Changed Date: 2020-04-27 14:09:34 -0400
malbec2 Linux (Ubuntu 18.04.4 LTS) / x86_64  OK  OK  WARNINGS UNNEEDED, same version exists in internal repository
tokay2 Windows Server 2012 R2 Standard / x64  OK  OK  WARNINGS  OK UNNEEDED, same version exists in internal repository
machv2 macOS 10.14.6 Mojave / x86_64  OK  OK  WARNINGS  OK UNNEEDED, same version exists in internal repository
Package 82/1905HostnameOS / ArchINSTALLBUILDCHECKBUILD BIN
arrayQualityMetrics 3.44.0
Mike Smith
Last Commit: 5b2bc23
Last Changed Date: 2020-04-27 14:15:36 -0400
malbec2 Linux (Ubuntu 18.04.4 LTS) / x86_64  OK  OK  OK UNNEEDED, same version exists in internal repository
tokay2 Windows Server 2012 R2 Standard / x64  OK  OK  OK  OK UNNEEDED, same version exists in internal repository
machv2 macOS 10.14.6 Mojave / x86_64  OK  OK  OK  OK UNNEEDED, same version exists in internal repository
Package 83/1905HostnameOS / ArchINSTALLBUILDCHECKBUILD BIN
ArrayTools 1.48.0
Arthur Li
Last Commit: e3575ed
Last Changed Date: 2020-04-27 14:18:01 -0400
malbec2 Linux (Ubuntu 18.04.4 LTS) / x86_64  OK  OK  OK UNNEEDED, same version exists in internal repository
tokay2 Windows Server 2012 R2 Standard / x64  OK  OK  OK  OK UNNEEDED, same version exists in internal repository
machv2 macOS 10.14.6 Mojave / x86_64  OK  OK  OK  OK UNNEEDED, same version exists in internal repository
Package 84/1905HostnameOS / ArchINSTALLBUILDCHECKBUILD BIN
ArrayTV 1.26.0
Eitan Halper-Stromberg
Last Commit: 7b47684
Last Changed Date: 2020-04-27 14:36:23 -0400
malbec2 Linux (Ubuntu 18.04.4 LTS) / x86_64  OK  ERROR  skipped 
tokay2 Windows Server 2012 R2 Standard / x64  OK  ERROR  skipped  skipped 
machv2 macOS 10.14.6 Mojave / x86_64  OK  ERROR  skipped  skipped 
Package 85/1905HostnameOS / ArchINSTALLBUILDCHECKBUILD BIN
ARRmNormalization 1.28.0
Jean-Philippe Fortin
Last Commit: 03c667d
Last Changed Date: 2020-04-27 14:33:29 -0400
malbec2 Linux (Ubuntu 18.04.4 LTS) / x86_64  OK  OK  OK UNNEEDED, same version exists in internal repository
tokay2 Windows Server 2012 R2 Standard / x64  OK  OK  OK  OK UNNEEDED, same version exists in internal repository
machv2 macOS 10.14.6 Mojave / x86_64  OK  OK  OK  OK UNNEEDED, same version exists in internal repository
Package 86/1905HostnameOS / ArchINSTALLBUILDCHECKBUILD BIN
artMS 1.6.5
David Jimenez-Morales
Last Commit: ba1bbb1
Last Changed Date: 2020-05-21 13:44:10 -0400
malbec2 Linux (Ubuntu 18.04.4 LTS) / x86_64  OK  OK  OK UNNEEDED, same version exists in internal repository
tokay2 Windows Server 2012 R2 Standard / x64  OK  OK  OK  OK UNNEEDED, same version exists in internal repository
machv2 macOS 10.14.6 Mojave / x86_64  OK  OK  OK  OK UNNEEDED, same version exists in internal repository
Package 87/1905HostnameOS / ArchINSTALLBUILDCHECKBUILD BIN
ASAFE 1.14.0
Qian Zhang
Last Commit: 2594bbf
Last Changed Date: 2020-04-27 14:59:36 -0400
malbec2 Linux (Ubuntu 18.04.4 LTS) / x86_64  OK  OK  OK UNNEEDED, same version exists in internal repository
tokay2 Windows Server 2012 R2 Standard / x64  OK  OK  OK  OK UNNEEDED, same version exists in internal repository
machv2 macOS 10.14.6 Mojave / x86_64  OK  OK  OK  OK UNNEEDED, same version exists in internal repository
Package 88/1905HostnameOS / ArchINSTALLBUILDCHECKBUILD BIN
ASEB 1.32.0
Likun Wang
Last Commit: 914944c
Last Changed Date: 2020-04-27 14:28:02 -0400
malbec2 Linux (Ubuntu 18.04.4 LTS) / x86_64  OK  OK  OK UNNEEDED, same version exists in internal repository
tokay2 Windows Server 2012 R2 Standard / x64  OK  OK  OK  OK UNNEEDED, same version exists in internal repository
machv2 macOS 10.14.6 Mojave / x86_64  OK  OK  OK  OK UNNEEDED, same version exists in internal repository
Package 89/1905HostnameOS / ArchINSTALLBUILDCHECKBUILD BIN
ASGSCA 1.22.0
Hela Romdhani
Last Commit: 55a0a6d
Last Changed Date: 2020-04-27 14:44:04 -0400
malbec2 Linux (Ubuntu 18.04.4 LTS) / x86_64  OK  OK  OK UNNEEDED, same version exists in internal repository
tokay2 Windows Server 2012 R2 Standard / x64  OK  OK  OK  OK UNNEEDED, same version exists in internal repository
machv2 macOS 10.14.6 Mojave / x86_64  OK  OK  OK  OK UNNEEDED, same version exists in internal repository
Package 90/1905HostnameOS / ArchINSTALLBUILDCHECKBUILD BIN
ASICS 2.4.3
Gaëlle Lefort
Last Commit: 1a78fbf
Last Changed Date: 2020-07-20 02:44:56 -0400
malbec2 Linux (Ubuntu 18.04.4 LTS) / x86_64  OK  OK  WARNINGS UNNEEDED, same version exists in internal repository
tokay2 Windows Server 2012 R2 Standard / x64  OK  OK  WARNINGS  OK UNNEEDED, same version exists in internal repository
machv2 macOS 10.14.6 Mojave / x86_64  OK  OK  WARNINGS  OK UNNEEDED, same version exists in internal repository
Package 91/1905HostnameOS / ArchINSTALLBUILDCHECKBUILD BIN
ASpediaFI 1.2.0
Doyeong Yu
Last Commit: 3f0676c
Last Changed Date: 2020-04-27 15:31:42 -0400
malbec2 Linux (Ubuntu 18.04.4 LTS) / x86_64  OK  OK  OK UNNEEDED, same version exists in internal repository
tokay2 Windows Server 2012 R2 Standard / x64  OK  OK  OK  OK UNNEEDED, same version exists in internal repository
machv2 macOS 10.14.6 Mojave / x86_64  OK  OK  OK  OK UNNEEDED, same version exists in internal repository
Package 92/1905HostnameOS / ArchINSTALLBUILDCHECKBUILD BIN
ASpli 1.14.0
Estefania Mancini
Last Commit: 912b01b
Last Changed Date: 2020-04-27 15:00:04 -0400
malbec2 Linux (Ubuntu 18.04.4 LTS) / x86_64  OK  OK  OK UNNEEDED, same version exists in internal repository
tokay2 Windows Server 2012 R2 Standard / x64  OK  OK  OK  OK UNNEEDED, same version exists in internal repository
machv2 macOS 10.14.6 Mojave / x86_64  OK  OK  OK  OK UNNEEDED, same version exists in internal repository
Package 93/1905HostnameOS / ArchINSTALLBUILDCHECKBUILD BIN
AssessORF 1.6.0
Deepank Korandla
Last Commit: 5c35f8c
Last Changed Date: 2020-04-27 15:21:14 -0400
malbec2 Linux (Ubuntu 18.04.4 LTS) / x86_64  OK  OK  OK UNNEEDED, same version exists in internal repository
tokay2 Windows Server 2012 R2 Standard / x64  OK  OK  OK  OK UNNEEDED, same version exists in internal repository
machv2 macOS 10.14.6 Mojave / x86_64  OK  OK  OK  OK UNNEEDED, same version exists in internal repository
Package 94/1905HostnameOS / ArchINSTALLBUILDCHECKBUILD BIN
ASSET 2.6.0
Samsiddhi Bhattacharjee
Last Commit: 9183346
Last Changed Date: 2020-04-27 14:36:01 -0400
malbec2 Linux (Ubuntu 18.04.4 LTS) / x86_64  OK  OK  WARNINGS UNNEEDED, same version exists in internal repository
tokay2 Windows Server 2012 R2 Standard / x64  OK  OK  WARNINGS  OK UNNEEDED, same version exists in internal repository
machv2 macOS 10.14.6 Mojave / x86_64  OK  OK  WARNINGS  OK UNNEEDED, same version exists in internal repository
Package 95/1905HostnameOS / ArchINSTALLBUILDCHECKBUILD BIN
ASSIGN 1.24.0
Ying Shen , W. Evan Johnson
Last Commit: 236dcf3
Last Changed Date: 2020-04-27 14:39:28 -0400
malbec2 Linux (Ubuntu 18.04.4 LTS) / x86_64  OK  OK  OK UNNEEDED, same version exists in internal repository
tokay2 Windows Server 2012 R2 Standard / x64  OK  OK  OK  OK UNNEEDED, same version exists in internal repository
machv2 macOS 10.14.6 Mojave / x86_64  OK  OK  OK  OK UNNEEDED, same version exists in internal repository
Package 96/1905HostnameOS / ArchINSTALLBUILDCHECKBUILD BIN
ATACseqQC 1.12.5
Jianhong Ou
Last Commit: b43a14c
Last Changed Date: 2020-09-01 10:32:46 -0400
malbec2 Linux (Ubuntu 18.04.4 LTS) / x86_64  OK  OK  OK UNNEEDED, same version exists in internal repository
tokay2 Windows Server 2012 R2 Standard / x64  OK  OK  OK  OK UNNEEDED, same version exists in internal repository
machv2 macOS 10.14.6 Mojave / x86_64  OK  OK  OK  OK UNNEEDED, same version exists in internal repository
Package 97/1905HostnameOS / ArchINSTALLBUILDCHECKBUILD BIN
atSNP 1.4.0
Sunyoung Shin
Last Commit: 1a804fa
Last Changed Date: 2020-04-27 15:23:26 -0400
malbec2 Linux (Ubuntu 18.04.4 LTS) / x86_64  OK  ERROR  skipped 
tokay2 Windows Server 2012 R2 Standard / x64  OK  OK  OK  OK UNNEEDED, same version exists in internal repository
machv2 macOS 10.14.6 Mojave / x86_64  OK  OK  OK  OK UNNEEDED, same version exists in internal repository
Package 98/1905HostnameOS / ArchINSTALLBUILDCHECKBUILD BIN
attract 1.40.0
Samuel Zimmerman
Last Commit: 9cb8ad2
Last Changed Date: 2020-04-27 14:22:21 -0400
malbec2 Linux (Ubuntu 18.04.4 LTS) / x86_64  OK  OK  OK UNNEEDED, same version exists in internal repository
tokay2 Windows Server 2012 R2 Standard / x64  OK  OK  OK  OK UNNEEDED, same version exists in internal repository
machv2 macOS 10.14.6 Mojave / x86_64  OK  OK  OK  OK UNNEEDED, same version exists in internal repository
Package 99/1905HostnameOS / ArchINSTALLBUILDCHECKBUILD BIN
AUCell 1.10.0
Sara Aibar
Last Commit: 199c33e
Last Changed Date: 2020-04-27 15:10:23 -0400
malbec2 Linux (Ubuntu 18.04.4 LTS) / x86_64  OK  OK  OK UNNEEDED, same version exists in internal repository
tokay2 Windows Server 2012 R2 Standard / x64  OK  OK  OK  OK UNNEEDED, same version exists in internal repository
machv2 macOS 10.14.6 Mojave / x86_64  OK  OK  OK  OK UNNEEDED, same version exists in internal repository
Package 100/1905HostnameOS / ArchINSTALLBUILDCHECKBUILD BIN
Autotuner 1.2.0
Craig McLean
Last Commit: 0cafc60
Last Changed Date: 2020-09-24 15:57:09 -0400
malbec2 Linux (Ubuntu 18.04.4 LTS) / x86_64  OK  OK  OK UNNEEDED, same version exists in internal repository
tokay2 Windows Server 2012 R2 Standard / x64  OK  OK  OK  OK UNNEEDED, same version exists in internal repository
machv2 macOS 10.14.6 Mojave / x86_64  OK  OK  OK  OK UNNEEDED, same version exists in internal repository
Package 101/1905HostnameOS / ArchINSTALLBUILDCHECKBUILD BIN
AWFisher 1.2.0
Zhiguang Huo
Last Commit: ddb3368
Last Changed Date: 2020-04-27 15:28:27 -0400
malbec2 Linux (Ubuntu 18.04.4 LTS) / x86_64  OK  OK  OK UNNEEDED, same version exists in internal repository
tokay2 Windows Server 2012 R2 Standard / x64  OK  OK  OK  OK UNNEEDED, same version exists in internal repository
machv2 macOS 10.14.6 Mojave / x86_64  OK  OK  OK  OK UNNEEDED, same version exists in internal repository
B
ABCDEFGHIJKLMNOPQRSTUVWXYZ
Package 102/1905HostnameOS / ArchINSTALLBUILDCHECKBUILD BIN
BaalChIP 1.14.0
Ines de Santiago
Last Commit: 119ccb4
Last Changed Date: 2020-04-27 15:01:46 -0400
malbec2 Linux (Ubuntu 18.04.4 LTS) / x86_64  OK  OK  WARNINGS UNNEEDED, same version exists in internal repository
tokay2 Windows Server 2012 R2 Standard / x64  OK  OK  WARNINGS  OK UNNEEDED, same version exists in internal repository
machv2 macOS 10.14.6 Mojave / x86_64  OK  OK  WARNINGS  OK UNNEEDED, same version exists in internal repository
Package 103/1905HostnameOS / ArchINSTALLBUILDCHECKBUILD BIN
BAC 1.48.0
Raphael Gottardo
Last Commit: a1f83c5
Last Changed Date: 2020-04-27 14:16:23 -0400
malbec2 Linux (Ubuntu 18.04.4 LTS) / x86_64  OK  OK  OK UNNEEDED, same version exists in internal repository
tokay2 Windows Server 2012 R2 Standard / x64  OK  OK  OK  OK UNNEEDED, same version exists in internal repository
machv2 macOS 10.14.6 Mojave / x86_64  OK  OK  OK  OK UNNEEDED, same version exists in internal repository
Package 104/1905HostnameOS / ArchINSTALLBUILDCHECKBUILD BIN
bacon 1.16.0
Maarten van Iterson
Last Commit: a9cd0b0
Last Changed Date: 2020-04-27 14:55:31 -0400
malbec2 Linux (Ubuntu 18.04.4 LTS) / x86_64  OK  OK  OK UNNEEDED, same version exists in internal repository
tokay2 Windows Server 2012 R2 Standard / x64  OK  OK  OK  OK UNNEEDED, same version exists in internal repository
machv2 macOS 10.14.6 Mojave / x86_64  OK  OK  OK  OK UNNEEDED, same version exists in internal repository
Package 105/1905HostnameOS / ArchINSTALLBUILDCHECKBUILD BIN
BADER 1.26.0
Andreas Neudecker
Last Commit: 117480c
Last Changed Date: 2020-04-27 14:36:18 -0400
malbec2 Linux (Ubuntu 18.04.4 LTS) / x86_64  OK  OK  OK UNNEEDED, same version exists in internal repository
tokay2 Windows Server 2012 R2 Standard / x64  OK  OK  OK  OK UNNEEDED, same version exists in internal repository
machv2 macOS 10.14.6 Mojave / x86_64  OK  OK  OK  OK UNNEEDED, same version exists in internal repository
Package 106/1905HostnameOS / ArchINSTALLBUILDCHECKBUILD BIN
BadRegionFinder 1.16.0
Sarah Sandmann
Last Commit: 026495b
Last Changed Date: 2020-04-27 14:56:28 -0400
malbec2 Linux (Ubuntu 18.04.4 LTS) / x86_64  OK  OK  OK UNNEEDED, same version exists in internal repository
tokay2 Windows Server 2012 R2 Standard / x64  OK  OK  OK  OK UNNEEDED, same version exists in internal repository
machv2 macOS 10.14.6 Mojave / x86_64  OK  OK  OK  OK UNNEEDED, same version exists in internal repository
Package 107/1905HostnameOS / ArchINSTALLBUILDCHECKBUILD BIN
BAGS 2.28.0
Alejandro Quiroz-Zarate
Last Commit: 7f058d9
Last Changed Date: 2020-04-27 14:28:21 -0400
malbec2 Linux (Ubuntu 18.04.4 LTS) / x86_64  OK  OK  OK UNNEEDED, same version exists in internal repository
tokay2 Windows Server 2012 R2 Standard / x64  OK  OK  OK  OK UNNEEDED, same version exists in internal repository
machv2 macOS 10.14.6 Mojave / x86_64  OK  OK  OK  OK UNNEEDED, same version exists in internal repository
Package 108/1905HostnameOS / ArchINSTALLBUILDCHECKBUILD BIN
ballgown 2.20.0
Jack Fu
Last Commit: e3e54c6
Last Changed Date: 2020-04-27 14:41:54 -0400
malbec2 Linux (Ubuntu 18.04.4 LTS) / x86_64  OK  OK  OK UNNEEDED, same version exists in internal repository
tokay2 Windows Server 2012 R2 Standard / x64  OK  OK  OK  OK UNNEEDED, same version exists in internal repository
machv2 macOS 10.14.6 Mojave / x86_64  OK  OK  OK  OK UNNEEDED, same version exists in internal repository
Package 109/1905HostnameOS / ArchINSTALLBUILDCHECKBUILD BIN
bamsignals 1.20.0
Johannes Helmuth
Last Commit: 246b07e
Last Changed Date: 2020-04-27 14:47:28 -0400
malbec2 Linux (Ubuntu 18.04.4 LTS) / x86_64  OK  OK  OK UNNEEDED, same version exists in internal repository
tokay2 Windows Server 2012 R2 Standard / x64  OK  OK  OK  OK UNNEEDED, same version exists in internal repository
machv2 macOS 10.14.6 Mojave / x86_64  OK  OK  OK  OK UNNEEDED, same version exists in internal repository
Package 110/1905HostnameOS / ArchINSTALLBUILDCHECKBUILD BIN
BANDITS 1.4.1
Simone Tiberi
Last Commit: 09afe0c
Last Changed Date: 2020-07-16 06:36:45 -0400
malbec2 Linux (Ubuntu 18.04.4 LTS) / x86_64  OK  OK  OK UNNEEDED, same version exists in internal repository
tokay2 Windows Server 2012 R2 Standard / x64  OK  OK  OK  OK UNNEEDED, same version exists in internal repository
machv2 macOS 10.14.6 Mojave / x86_64  OK  OK  OK  OK UNNEEDED, same version exists in internal repository
Package 111/1905HostnameOS / ArchINSTALLBUILDCHECKBUILD BIN
banocc 1.12.0
George Weingart
Last Commit: 7299cd2
Last Changed Date: 2020-04-27 15:06:53 -0400
malbec2 Linux (Ubuntu 18.04.4 LTS) / x86_64  OK  OK  OK UNNEEDED, same version exists in internal repository
tokay2 Windows Server 2012 R2 Standard / x64  OK  ERROR  skipped  skipped 
machv2 macOS 10.14.6 Mojave / x86_64  OK  OK  OK  OK UNNEEDED, same version exists in internal repository
Package 112/1905HostnameOS / ArchINSTALLBUILDCHECKBUILD BIN
basecallQC 1.12.0
Thomas Carroll
Last Commit: da43ca3
Last Changed Date: 2020-04-27 15:06:59 -0400
malbec2 Linux (Ubuntu 18.04.4 LTS) / x86_64  OK  OK  OK UNNEEDED, same version exists in internal repository
tokay2 Windows Server 2012 R2 Standard / x64  OK  OK  OK  OK UNNEEDED, same version exists in internal repository
machv2 macOS 10.14.6 Mojave / x86_64  OK  OK  OK  OK UNNEEDED, same version exists in internal repository
Package 113/1905HostnameOS / ArchINSTALLBUILDCHECKBUILD BIN
BaseSpaceR 1.32.0
Jared O'Connell
Last Commit: 44806d1
Last Changed Date: 2020-04-27 14:33:50 -0400
malbec2 Linux (Ubuntu 18.04.4 LTS) / x86_64  OK  OK  OK UNNEEDED, same version exists in internal repository
tokay2 Windows Server 2012 R2 Standard / x64  OK  OK  OK  OK UNNEEDED, same version exists in internal repository
machv2 macOS 10.14.6 Mojave / x86_64  OK  OK  OK  OK UNNEEDED, same version exists in internal repository
Package 114/1905HostnameOS / ArchINSTALLBUILDCHECKBUILD BIN
Basic4Cseq 1.24.0
Carolin Walter
Last Commit: 7f7fe27
Last Changed Date: 2020-04-27 14:38:54 -0400
malbec2 Linux (Ubuntu 18.04.4 LTS) / x86_64  OK  OK  OK UNNEEDED, same version exists in internal repository
tokay2 Windows Server 2012 R2 Standard / x64  OK  OK  OK  OK UNNEEDED, same version exists in internal repository
machv2 macOS 10.14.6 Mojave / x86_64  OK  OK  OK  OK UNNEEDED, same version exists in internal repository
Package 115/1905HostnameOS / ArchINSTALLBUILDCHECKBUILD BIN
BASiCS 2.0.0
Catalina Vallejos
Last Commit: 15fd420
Last Changed Date: 2020-04-27 15:10:45 -0400
malbec2 Linux (Ubuntu 18.04.4 LTS) / x86_64  OK  OK  OK UNNEEDED, same version exists in internal repository
tokay2 Windows Server 2012 R2 Standard / x64  OK  OK  OK  OK UNNEEDED, same version exists in internal repository
machv2 macOS 10.14.6 Mojave / x86_64  OK  OK  OK  OK UNNEEDED, same version exists in internal repository
Package 116/1905HostnameOS / ArchINSTALLBUILDCHECKBUILD BIN
BasicSTARRseq 1.16.0
Annika Buerger
Last Commit: 6235d33
Last Changed Date: 2020-04-27 14:54:20 -0400
malbec2 Linux (Ubuntu 18.04.4 LTS) / x86_64  OK  OK  OK UNNEEDED, same version exists in internal repository
tokay2 Windows Server 2012 R2 Standard / x64  OK  OK  OK  OK UNNEEDED, same version exists in internal repository
machv2 macOS 10.14.6 Mojave / x86_64  OK  OK  OK  OK UNNEEDED, same version exists in internal repository
Package 117/1905HostnameOS / ArchINSTALLBUILDCHECKBUILD BIN
basilisk 1.0.2
Aaron Lun
Last Commit: 15b9066
Last Changed Date: 2020-05-11 12:16:45 -0400
malbec2 Linux (Ubuntu 18.04.4 LTS) / x86_64  OK  OK  OK UNNEEDED, same version exists in internal repository
tokay2 Windows Server 2012 R2 Standard / x64  OK  OK  OK  OK UNNEEDED, same version exists in internal repository
machv2 macOS 10.14.6 Mojave / x86_64  OK  OK  OK  OK UNNEEDED, same version exists in internal repository
Package 118/1905HostnameOS / ArchINSTALLBUILDCHECKBUILD BIN
basilisk.utils 1.0.4
Aaron Lun
Last Commit: 4f4cc83
Last Changed Date: 2020-05-19 02:54:53 -0400
malbec2 Linux (Ubuntu 18.04.4 LTS) / x86_64  OK  OK  OK UNNEEDED, same version exists in internal repository
tokay2 Windows Server 2012 R2 Standard / x64  OK  OK  OK  OK UNNEEDED, same version exists in internal repository
machv2 macOS 10.14.6 Mojave / x86_64  OK  OK  OK  OK UNNEEDED, same version exists in internal repository
Package 119/1905HostnameOS / ArchINSTALLBUILDCHECKBUILD BIN
batchelor 1.4.0
Aaron Lun
Last Commit: cfce683
Last Changed Date: 2020-04-27 15:25:15 -0400
malbec2 Linux (Ubuntu 18.04.4 LTS) / x86_64  OK  OK  OK UNNEEDED, same version exists in internal repository
tokay2 Windows Server 2012 R2 Standard / x64  OK  OK  OK  OK UNNEEDED, same version exists in internal repository
machv2 macOS 10.14.6 Mojave / x86_64  OK  OK  OK  OK UNNEEDED, same version exists in internal repository
Package 120/1905HostnameOS / ArchINSTALLBUILDCHECKBUILD BIN
BatchQC 1.16.3
Solaiappan Manimaran
Last Commit: e8ec016
Last Changed Date: 2020-10-11 21:45:57 -0400
malbec2 Linux (Ubuntu 18.04.4 LTS) / x86_64  OK  OK  OK UNNEEDED, same version exists in internal repository
tokay2 Windows Server 2012 R2 Standard / x64  OK  OK  OK  OK UNNEEDED, same version exists in internal repository
machv2 macOS 10.14.6 Mojave / x86_64  OK  OK  OK  OK UNNEEDED, same version exists in internal repository
Package 121/1905HostnameOS / ArchINSTALLBUILDCHECKBUILD BIN
BayesKnockdown 1.14.0
William Chad Young
Last Commit: 5a9d1ac
Last Changed Date: 2020-04-27 15:00:13 -0400
malbec2 Linux (Ubuntu 18.04.4 LTS) / x86_64  OK  OK  OK UNNEEDED, same version exists in internal repository
tokay2 Windows Server 2012 R2 Standard / x64  OK  OK  OK  OK UNNEEDED, same version exists in internal repository
machv2 macOS 10.14.6 Mojave / x86_64  OK  OK  OK  OK UNNEEDED, same version exists in internal repository
Package 122/1905HostnameOS / ArchINSTALLBUILDCHECKBUILD BIN
BayesPeak 1.40.0
Jonathan Cairns
Last Commit: f72780e
Last Changed Date: 2020-04-27 14:21:54 -0400
malbec2 Linux (Ubuntu 18.04.4 LTS) / x86_64  OK  ERROR  skipped 
tokay2 Windows Server 2012 R2 Standard / x64  OK  ERROR  skipped  skipped 
machv2 macOS 10.14.6 Mojave / x86_64  OK  ERROR  skipped  skipped 
Package 123/1905HostnameOS / ArchINSTALLBUILDCHECKBUILD BIN
bayNorm 1.6.0
Wenhao Tang
Last Commit: 4dfd2ee
Last Changed Date: 2020-04-27 15:20:24 -0400
malbec2 Linux (Ubuntu 18.04.4 LTS) / x86_64  OK  OK  OK UNNEEDED, same version exists in internal repository
tokay2 Windows Server 2012 R2 Standard / x64  OK  OK  OK  OK UNNEEDED, same version exists in internal repository
machv2 macOS 10.14.6 Mojave / x86_64  OK  OK  OK  OK UNNEEDED, same version exists in internal repository
Package 124/1905HostnameOS / ArchINSTALLBUILDCHECKBUILD BIN
baySeq 2.22.0
Thomas J. Hardcastle
Last Commit: 4551dff
Last Changed Date: 2020-04-27 14:20:16 -0400
malbec2 Linux (Ubuntu 18.04.4 LTS) / x86_64  OK  OK  OK UNNEEDED, same version exists in internal repository
tokay2 Windows Server 2012 R2 Standard / x64  OK  OK  OK  OK UNNEEDED, same version exists in internal repository
machv2 macOS 10.14.6 Mojave / x86_64  OK  OK  OK  OK UNNEEDED, same version exists in internal repository
Package 125/1905HostnameOS / ArchINSTALLBUILDCHECKBUILD BIN
BBCAnalyzer 1.18.0
Sarah Sandmann
Last Commit: b9621dc
Last Changed Date: 2020-04-27 14:50:41 -0400
malbec2 Linux (Ubuntu 18.04.4 LTS) / x86_64  OK  OK  OK UNNEEDED, same version exists in internal repository
tokay2 Windows Server 2012 R2 Standard / x64  OK  OK  WARNINGS  OK UNNEEDED, same version exists in internal repository
machv2 macOS 10.14.6 Mojave / x86_64  OK  OK  OK  OK UNNEEDED, same version exists in internal repository
Package 126/1905HostnameOS / ArchINSTALLBUILDCHECKBUILD BIN
BCRANK 1.50.0
Adam Ameur
Last Commit: d26bab4
Last Changed Date: 2020-04-27 14:16:34 -0400
malbec2 Linux (Ubuntu 18.04.4 LTS) / x86_64  OK  OK  OK UNNEEDED, same version exists in internal repository
tokay2 Windows Server 2012 R2 Standard / x64  OK  OK  OK  OK UNNEEDED, same version exists in internal repository
machv2 macOS 10.14.6 Mojave / x86_64  OK  OK  OK  OK UNNEEDED, same version exists in internal repository
Package 127/1905HostnameOS / ArchINSTALLBUILDCHECKBUILD BIN
bcSeq 1.10.0
Jiaxing Lin
Last Commit: 1f1ce58
Last Changed Date: 2020-04-27 15:12:22 -0400
malbec2 Linux (Ubuntu 18.04.4 LTS) / x86_64  OK  OK  OK UNNEEDED, same version exists in internal repository
tokay2 Windows Server 2012 R2 Standard / x64  OK  OK  WARNINGS  OK UNNEEDED, same version exists in internal repository
machv2 macOS 10.14.6 Mojave / x86_64  OK  OK  OK  OK UNNEEDED, same version exists in internal repository
Package 128/1905HostnameOS / ArchINSTALLBUILDCHECKBUILD BIN
BDMMAcorrect 1.6.0
ZHENWEI DAI
Last Commit: 1d4a84a
Last Changed Date: 2020-04-27 15:21:40 -0400
malbec2 Linux (Ubuntu 18.04.4 LTS) / x86_64  OK  OK  OK UNNEEDED, same version exists in internal repository
tokay2 Windows Server 2012 R2 Standard / x64  OK  OK  OK  OK UNNEEDED, same version exists in internal repository
machv2 macOS 10.14.6 Mojave / x86_64  OK  OK  OK  OK UNNEEDED, same version exists in internal repository
Package 129/1905HostnameOS / ArchINSTALLBUILDCHECKBUILD BIN
beachmat 2.4.0
Aaron Lun
Last Commit: f8ee009
Last Changed Date: 2020-04-27 15:08:50 -0400
malbec2 Linux (Ubuntu 18.04.4 LTS) / x86_64  OK  OK  OK UNNEEDED, same version exists in internal repository
tokay2 Windows Server 2012 R2 Standard / x64  OK  OK  OK  OK UNNEEDED, same version exists in internal repository
machv2 macOS 10.14.6 Mojave / x86_64  OK  OK  OK  OK UNNEEDED, same version exists in internal repository
Package 130/1905HostnameOS / ArchINSTALLBUILDCHECKBUILD BIN
beadarray 2.38.0
Mark Dunning
Last Commit: 0213c96
Last Changed Date: 2020-04-27 14:12:51 -0400
malbec2 Linux (Ubuntu 18.04.4 LTS) / x86_64  OK  OK  OK UNNEEDED, same version exists in internal repository
tokay2 Windows Server 2012 R2 Standard / x64  OK  OK  OK  OK UNNEEDED, same version exists in internal repository
machv2 macOS 10.14.6 Mojave / x86_64  OK  OK  OK  OK UNNEEDED, same version exists in internal repository
Package 131/1905HostnameOS / ArchINSTALLBUILDCHECKBUILD BIN
beadarraySNP 1.54.0
Jan Oosting
Last Commit: a53b50d
Last Changed Date: 2020-04-27 14:13:54 -0400
malbec2 Linux (Ubuntu 18.04.4 LTS) / x86_64  OK  OK  OK UNNEEDED, same version exists in internal repository
tokay2 Windows Server 2012 R2 Standard / x64  OK  OK  OK  OK UNNEEDED, same version exists in internal repository
machv2 macOS 10.14.6 Mojave / x86_64  OK  OK  OK  OK UNNEEDED, same version exists in internal repository
Package 132/1905HostnameOS / ArchINSTALLBUILDCHECKBUILD BIN
BeadDataPackR 1.40.0
Mike Smith
Last Commit: ceb05c9
Last Changed Date: 2020-04-27 14:21:35 -0400
malbec2 Linux (Ubuntu 18.04.4 LTS) / x86_64  OK  OK  OK UNNEEDED, same version exists in internal repository
tokay2 Windows Server 2012 R2 Standard / x64  OK  OK  OK  OK UNNEEDED, same version exists in internal repository
machv2 macOS 10.14.6 Mojave / x86_64  OK  OK  OK  OK UNNEEDED, same version exists in internal repository
Package 133/1905HostnameOS / ArchINSTALLBUILDCHECKBUILD BIN
BEARscc 1.8.1
Benjamin Schuster-Boeckler
Last Commit: 771b19a
Last Changed Date: 2020-06-02 22:57:00 -0400
malbec2 Linux (Ubuntu 18.04.4 LTS) / x86_64  OK  OK  OK UNNEEDED, same version exists in internal repository
tokay2 Windows Server 2012 R2 Standard / x64  OK  OK  OK  OK UNNEEDED, same version exists in internal repository
machv2 macOS 10.14.6 Mojave / x86_64  OK  OK  OK  OK UNNEEDED, same version exists in internal repository
Package 134/1905HostnameOS / ArchINSTALLBUILDCHECKBUILD BIN
BEAT 1.26.0
Kemal Akman
Last Commit: 17c7c12
Last Changed Date: 2020-04-27 14:37:58 -0400
malbec2 Linux (Ubuntu 18.04.4 LTS) / x86_64  OK  OK  OK UNNEEDED, same version exists in internal repository
tokay2 Windows Server 2012 R2 Standard / x64  OK  OK  OK  OK UNNEEDED, same version exists in internal repository
machv2 macOS 10.14.6 Mojave / x86_64  OK  OK  OK  OK UNNEEDED, same version exists in internal repository
Package 135/1905HostnameOS / ArchINSTALLBUILDCHECKBUILD BIN
BEclear 2.4.0
David Rasp
Last Commit: 1bf288d
Last Changed Date: 2020-04-27 14:49:07 -0400
malbec2 Linux (Ubuntu 18.04.4 LTS) / x86_64  OK  OK  WARNINGS UNNEEDED, same version exists in internal repository
tokay2 Windows Server 2012 R2 Standard / x64  OK  OK  WARNINGS  OK UNNEEDED, same version exists in internal repository
machv2 macOS 10.14.6 Mojave / x86_64  OK  OK  WARNINGS  OK UNNEEDED, same version exists in internal repository
Package 136/1905HostnameOS / ArchINSTALLBUILDCHECKBUILD BIN
bgafun 1.50.0
Iain Wallace
Last Commit: a3ade48
Last Changed Date: 2020-04-27 14:15:51 -0400
malbec2 Linux (Ubuntu 18.04.4 LTS) / x86_64  OK  ERROR  skipped 
tokay2 Windows Server 2012 R2 Standard / x64  OK  ERROR  skipped  skipped 
machv2 macOS 10.14.6 Mojave / x86_64  OK  ERROR  skipped  skipped 
Package 137/1905HostnameOS / ArchINSTALLBUILDCHECKBUILD BIN
BgeeCall 1.4.1
Julien Wollbrett
Last Commit: 0dbbf56
Last Changed Date: 2020-05-12 11:38:59 -0400
malbec2 Linux (Ubuntu 18.04.4 LTS) / x86_64  OK  OK  OK UNNEEDED, same version exists in internal repository
tokay2 Windows Server 2012 R2 Standard / x64  OK  OK  OK  OK UNNEEDED, same version exists in internal repository
machv2 macOS 10.14.6 Mojave / x86_64  OK  OK  OK  OK UNNEEDED, same version exists in internal repository
Package 138/1905HostnameOS / ArchINSTALLBUILDCHECKBUILD BIN
BgeeDB 2.14.5
Julien Wollbrett , Julien Roux , Andrea Komljenovic , Frederic Bastian
Last Commit: 01114bd
Last Changed Date: 2020-06-04 05:12:44 -0400
malbec2 Linux (Ubuntu 18.04.4 LTS) / x86_64  OK  OK  OK UNNEEDED, same version exists in internal repository
tokay2 Windows Server 2012 R2 Standard / x64  OK  OK  OK  OK UNNEEDED, same version exists in internal repository
machv2 macOS 10.14.6 Mojave / x86_64  OK  OK  OK  OK UNNEEDED, same version exists in internal repository
Package 139/1905HostnameOS / ArchINSTALLBUILDCHECKBUILD BIN
BGmix 1.48.0
Alex Lewin
Last Commit: 918cdf8
Last Changed Date: 2020-04-27 14:16:11 -0400
malbec2 Linux (Ubuntu 18.04.4 LTS) / x86_64  OK  OK  WARNINGS UNNEEDED, same version exists in internal repository
tokay2 Windows Server 2012 R2 Standard / x64 ...NOT SUPPORTED...
machv2 macOS 10.14.6 Mojave / x86_64  OK  OK  OK  OK UNNEEDED, same version exists in internal repository
Package 140/1905HostnameOS / ArchINSTALLBUILDCHECKBUILD BIN
bgx 1.54.1
Ernest Turro
Last Commit: 81c81dd
Last Changed Date: 2020-09-22 16:53:14 -0400
malbec2 Linux (Ubuntu 18.04.4 LTS) / x86_64  OK  OK  OK UNNEEDED, same version exists in internal repository
tokay2 Windows Server 2012 R2 Standard / x64  OK  OK  OK  OK UNNEEDED, same version exists in internal repository
machv2 macOS 10.14.6 Mojave / x86_64  OK  OK  WARNINGS  OK UNNEEDED, same version exists in internal repository
Package 141/1905HostnameOS / ArchINSTALLBUILDCHECKBUILD BIN
BHC 1.40.0
Rich Savage
Last Commit: bd661f4
Last Changed Date: 2020-04-27 14:22:27 -0400
malbec2 Linux (Ubuntu 18.04.4 LTS) / x86_64  OK  OK  OK UNNEEDED, same version exists in internal repository
tokay2 Windows Server 2012 R2 Standard / x64  OK  OK  OK  OK UNNEEDED, same version exists in internal repository
machv2 macOS 10.14.6 Mojave / x86_64  OK  OK  OK  OK UNNEEDED, same version exists in internal repository
Package 142/1905HostnameOS / ArchINSTALLBUILDCHECKBUILD BIN
BicARE 1.46.0
Pierre Gestraud
Last Commit: c489b7a
Last Changed Date: 2020-04-27 14:18:27 -0400
malbec2 Linux (Ubuntu 18.04.4 LTS) / x86_64  OK  OK  OK UNNEEDED, same version exists in internal repository
tokay2 Windows Server 2012 R2 Standard / x64  OK  OK  OK  OK UNNEEDED, same version exists in internal repository
machv2 macOS 10.14.6 Mojave / x86_64  OK  OK  OK  OK UNNEEDED, same version exists in internal repository
Package 143/1905HostnameOS / ArchINSTALLBUILDCHECKBUILD BIN
BiFET 1.8.0
Ahrim Youn
Last Commit: 6ee7a3c
Last Changed Date: 2020-04-27 15:13:03 -0400
malbec2 Linux (Ubuntu 18.04.4 LTS) / x86_64  OK  OK  OK UNNEEDED, same version exists in internal repository
tokay2 Windows Server 2012 R2 Standard / x64  OK  OK  OK  OK UNNEEDED, same version exists in internal repository
machv2 macOS 10.14.6 Mojave / x86_64  OK  OK  OK  OK UNNEEDED, same version exists in internal repository
Package 144/1905HostnameOS / ArchINSTALLBUILDCHECKBUILD BIN
BiGGR 1.24.0
Anand K. Gavai
Last Commit: f74ab5a
Last Changed Date: 2020-05-12 17:13:26 -0400
malbec2 Linux (Ubuntu 18.04.4 LTS) / x86_64  OK  OK  WARNINGS UNNEEDED, same version exists in internal repository
tokay2 Windows Server 2012 R2 Standard / x64  OK  OK  WARNINGS  OK UNNEEDED, same version exists in internal repository
machv2 macOS 10.14.6 Mojave / x86_64 ...NOT SUPPORTED...
Package 145/1905HostnameOS / ArchINSTALLBUILDCHECKBUILD BIN
bigmelon 1.14.0
Tyler J. Gorrie-Stone
Last Commit: bf9812a
Last Changed Date: 2020-04-27 15:01:54 -0400
malbec2 Linux (Ubuntu 18.04.4 LTS) / x86_64  OK  OK  OK UNNEEDED, same version exists in internal repository
tokay2 Windows Server 2012 R2 Standard / x64  OK  OK  OK  OK UNNEEDED, same version exists in internal repository
machv2 macOS 10.14.6 Mojave / x86_64  OK  OK  OK  OK UNNEEDED, same version exists in internal repository
Package 146/1905HostnameOS / ArchINSTALLBUILDCHECKBUILD BIN
bigmemoryExtras 1.36.0
Peter M. Haverty
Last Commit: bfd441e
Last Changed Date: 2020-04-27 14:31:32 -0400
malbec2 Linux (Ubuntu 18.04.4 LTS) / x86_64  OK  OK  WARNINGS UNNEEDED, same version exists in internal repository
tokay2 Windows Server 2012 R2 Standard / x64 ...NOT SUPPORTED...
machv2 macOS 10.14.6 Mojave / x86_64  OK  OK  WARNINGS  OK UNNEEDED, same version exists in internal repository
Package 147/1905HostnameOS / ArchINSTALLBUILDCHECKBUILD BIN
bigPint 1.4.0
Lindsay Rutter
Last Commit: c3d5dbe
Last Changed Date: 2020-04-27 15:22:45 -0400
malbec2 Linux (Ubuntu 18.04.4 LTS) / x86_64  OK  OK  OK UNNEEDED, same version exists in internal repository
tokay2 Windows Server 2012 R2 Standard / x64  OK  OK  OK  OK UNNEEDED, same version exists in internal repository
machv2 macOS 10.14.6 Mojave / x86_64  OK  OK  OK  OK UNNEEDED, same version exists in internal repository
Package 148/1905HostnameOS / ArchINSTALLBUILDCHECKBUILD BIN
bioassayR 1.26.0
Tyler Backman
Last Commit: 9427474
Last Changed Date: 2020-04-27 14:36:43 -0400
malbec2 Linux (Ubuntu 18.04.4 LTS) / x86_64  OK  OK  OK UNNEEDED, same version exists in internal repository
tokay2 Windows Server 2012 R2 Standard / x64  OK  OK  OK  OK UNNEEDED, same version exists in internal repository
machv2 macOS 10.14.6 Mojave / x86_64  OK  OK  OK  OK UNNEEDED, same version exists in internal repository
Package 149/1905HostnameOS / ArchINSTALLBUILDCHECKBUILD BIN
Biobase 2.48.0
Bioconductor Package Maintainer
Last Commit: 4ffadf2
Last Changed Date: 2020-04-27 14:07:40 -0400
malbec2 Linux (Ubuntu 18.04.4 LTS) / x86_64  OK  OK  OK UNNEEDED, same version exists in internal repository
tokay2 Windows Server 2012 R2 Standard / x64  OK  OK  OK  OK UNNEEDED, same version exists in internal repository
machv2 macOS 10.14.6 Mojave / x86_64  OK  OK  OK  OK UNNEEDED, same version exists in internal repository
Package 150/1905HostnameOS / ArchINSTALLBUILDCHECKBUILD BIN
biobroom 1.20.0
John D. Storey and Andrew J. Bass
Last Commit: 00396d9
Last Changed Date: 2020-04-27 14:52:30 -0400
malbec2 Linux (Ubuntu 18.04.4 LTS) / x86_64  OK  OK  OK UNNEEDED, same version exists in internal repository
tokay2 Windows Server 2012 R2 Standard / x64  OK  OK  WARNINGS  OK UNNEEDED, same version exists in internal repository
machv2 macOS 10.14.6 Mojave / x86_64  OK  OK  OK  OK UNNEEDED, same version exists in internal repository
Package 151/1905HostnameOS / ArchINSTALLBUILDCHECKBUILD BIN
biobtreeR 1.0.0
Tamer Gur
Last Commit: 13ae11a
Last Changed Date: 2020-04-27 15:33:02 -0400
malbec2 Linux (Ubuntu 18.04.4 LTS) / x86_64  OK  OK  OK UNNEEDED, same version exists in internal repository
tokay2 Windows Server 2012 R2 Standard / x64  OK  OK  OK  OK UNNEEDED, same version exists in internal repository
machv2 macOS 10.14.6 Mojave / x86_64  OK  OK  OK  OK UNNEEDED, same version exists in internal repository
Package 152/1905HostnameOS / ArchINSTALLBUILDCHECKBUILD BIN
bioCancer 1.16.0
Karim Mezhoud
Last Commit: 0d95649
Last Changed Date: 2020-04-27 14:57:51 -0400
malbec2 Linux (Ubuntu 18.04.4 LTS) / x86_64  OK  OK  WARNINGS UNNEEDED, same version exists in internal repository
tokay2 Windows Server 2012 R2 Standard / x64  OK  OK  WARNINGS  OK UNNEEDED, same version exists in internal repository
machv2 macOS 10.14.6 Mojave / x86_64  OK  OK  WARNINGS  OK UNNEEDED, same version exists in internal repository
Package 153/1905HostnameOS / ArchINSTALLBUILDCHECKBUILD BIN
BiocCaseStudies 1.50.0
Bioconductor Package Maintainer
Last Commit: aab62a7
Last Changed Date: 2020-04-27 14:16:09 -0400
malbec2 Linux (Ubuntu 18.04.4 LTS) / x86_64  OK  OK  OK UNNEEDED, same version exists in internal repository
tokay2 Windows Server 2012 R2 Standard / x64  OK  OK  OK  OK UNNEEDED, same version exists in internal repository
machv2 macOS 10.14.6 Mojave / x86_64  OK  OK  OK  OK UNNEEDED, same version exists in internal repository
Package 154/1905HostnameOS / ArchINSTALLBUILDCHECKBUILD BIN
BiocCheck 1.24.0
Bioconductor Package Maintainer
Last Commit: c8362a3
Last Changed Date: 2020-04-27 14:39:44 -0400
malbec2 Linux (Ubuntu 18.04.4 LTS) / x86_64  OK  OK  OK UNNEEDED, same version exists in internal repository
tokay2 Windows Server 2012 R2 Standard / x64  OK  OK  OK  OK UNNEEDED, same version exists in internal repository
machv2 macOS 10.14.6 Mojave / x86_64  OK  OK  OK  OK UNNEEDED, same version exists in internal repository
Package 155/1905HostnameOS / ArchINSTALLBUILDCHECKBUILD BIN
BiocDockerManager 1.0.1
Maintainer
Last Commit: 0045070
Last Changed Date: 2020-05-11 18:29:40 -0400
malbec2 Linux (Ubuntu 18.04.4 LTS) / x86_64  OK  OK  OK UNNEEDED, same version exists in internal repository
tokay2 Windows Server 2012 R2 Standard / x64  OK  OK  OK  OK UNNEEDED, same version exists in internal repository
machv2 macOS 10.14.6 Mojave / x86_64  OK  OK  OK  OK UNNEEDED, same version exists in internal repository
Package 156/1905HostnameOS / ArchINSTALLBUILDCHECKBUILD BIN
BiocFileCache 1.12.1
Lori Shepherd
Last Commit: 4009647
Last Changed Date: 2020-08-04 14:44:10 -0400
malbec2 Linux (Ubuntu 18.04.4 LTS) / x86_64  OK  OK  OK UNNEEDED, same version exists in internal repository
tokay2 Windows Server 2012 R2 Standard / x64  OK  OK  OK  OK UNNEEDED, same version exists in internal repository
machv2 macOS 10.14.6 Mojave / x86_64  OK  OK  OK  OK UNNEEDED, same version exists in internal repository
Package 157/1905HostnameOS / ArchINSTALLBUILDCHECKBUILD BIN
BiocGenerics 0.34.0
Bioconductor Package Maintainer
Last Commit: f7c2020
Last Changed Date: 2020-04-27 14:27:57 -0400
malbec2 Linux (Ubuntu 18.04.4 LTS) / x86_64  OK  OK  WARNINGS UNNEEDED, same version exists in internal repository
tokay2 Windows Server 2012 R2 Standard / x64  OK  OK  WARNINGS  OK UNNEEDED, same version exists in internal repository
machv2 macOS 10.14.6 Mojave / x86_64  OK  OK  WARNINGS  OK UNNEEDED, same version exists in internal repository
Package 158/1905HostnameOS / ArchINSTALLBUILDCHECKBUILD BIN
biocGraph 1.50.0
Florian Hahne
Last Commit: 8358ee0
Last Changed Date: 2020-04-27 14:15:24 -0400
malbec2 Linux (Ubuntu 18.04.4 LTS) / x86_64  OK  OK  OK UNNEEDED, same version exists in internal repository
tokay2 Windows Server 2012 R2 Standard / x64  OK  OK  OK  OK UNNEEDED, same version exists in internal repository
machv2 macOS 10.14.6 Mojave / x86_64  OK  OK  OK  OK UNNEEDED, same version exists in internal repository
Package 159/1905HostnameOS / ArchINSTALLBUILDCHECKBUILD BIN
BiocNeighbors 1.6.0
Aaron Lun
Last Commit: fed16be
Last Changed Date: 2020-04-27 15:17:53 -0400
malbec2 Linux (Ubuntu 18.04.4 LTS) / x86_64  OK  OK  OK UNNEEDED, same version exists in internal repository
tokay2 Windows Server 2012 R2 Standard / x64  OK  OK  OK  OK UNNEEDED, same version exists in internal repository
machv2 macOS 10.14.6 Mojave / x86_64  OK  OK  OK  OK UNNEEDED, same version exists in internal repository
Package 160/1905HostnameOS / ArchINSTALLBUILDCHECKBUILD BIN
BiocOncoTK 1.8.0
VJ Carey
Last Commit: ba19f0d
Last Changed Date: 2020-04-27 15:16:30 -0400
malbec2 Linux (Ubuntu 18.04.4 LTS) / x86_64  OK  OK  OK UNNEEDED, same version exists in internal repository
tokay2 Windows Server 2012 R2 Standard / x64  OK  OK  WARNINGS  OK UNNEEDED, same version exists in internal repository
machv2 macOS 10.14.6 Mojave / x86_64  OK  OK  OK  OK UNNEEDED, same version exists in internal repository
Package 161/1905HostnameOS / ArchINSTALLBUILDCHECKBUILD BIN
BioCor 1.12.0
Lluís Revilla Sancho
Last Commit: 84473bb
Last Changed Date: 2020-04-27 15:06:18 -0400
malbec2 Linux (Ubuntu 18.04.4 LTS) / x86_64  OK  OK  OK UNNEEDED, same version exists in internal repository
tokay2 Windows Server 2012 R2 Standard / x64  OK  OK  OK  OK UNNEEDED, same version exists in internal repository
machv2 macOS 10.14.6 Mojave / x86_64  OK  OK  OK  OK UNNEEDED, same version exists in internal repository
Package 162/1905HostnameOS / ArchINSTALLBUILDCHECKBUILD BIN
BiocParallel 1.22.0
Bioconductor Package Maintainer
Last Commit: 430511c
Last Changed Date: 2020-04-27 14:32:09 -0400
malbec2 Linux (Ubuntu 18.04.4 LTS) / x86_64  OK  OK  WARNINGS UNNEEDED, same version exists in internal repository
tokay2 Windows Server 2012 R2 Standard / x64  OK  OK  WARNINGS  OK UNNEEDED, same version exists in internal repository
machv2 macOS 10.14.6 Mojave / x86_64  OK  OK  WARNINGS  OK UNNEEDED, same version exists in internal repository
Package 163/1905HostnameOS / ArchINSTALLBUILDCHECKBUILD BIN
BiocPkgTools 1.6.0
Sean Davis
Last Commit: 60dc59e
Last Changed Date: 2020-04-27 15:19:21 -0400
malbec2 Linux (Ubuntu 18.04.4 LTS) / x86_64  OK  OK  OK UNNEEDED, same version exists in internal repository
tokay2 Windows Server 2012 R2 Standard / x64  OK  OK  OK  OK UNNEEDED, same version exists in internal repository
machv2 macOS 10.14.6 Mojave / x86_64  OK  OK  OK  OK UNNEEDED, same version exists in internal repository
Package 164/1905HostnameOS / ArchINSTALLBUILDCHECKBUILD BIN
BiocSet 1.2.2
Kayla Morrell
Last Commit: 79a9b2d
Last Changed Date: 2020-07-21 10:55:25 -0400
malbec2 Linux (Ubuntu 18.04.4 LTS) / x86_64  OK  OK  OK UNNEEDED, same version exists in internal repository
tokay2 Windows Server 2012 R2 Standard / x64  OK  OK  OK  OK UNNEEDED, same version exists in internal repository
machv2 macOS 10.14.6 Mojave / x86_64  OK  OK  OK  OK UNNEEDED, same version exists in internal repository
Package 165/1905HostnameOS / ArchINSTALLBUILDCHECKBUILD BIN
BiocSingular 1.4.0
Aaron Lun
Last Commit: 74955b8
Last Changed Date: 2020-04-27 15:23:30 -0400
malbec2 Linux (Ubuntu 18.04.4 LTS) / x86_64  OK  OK  OK UNNEEDED, same version exists in internal repository
tokay2 Windows Server 2012 R2 Standard / x64  OK  OK  OK  OK UNNEEDED, same version exists in internal repository
machv2 macOS 10.14.6 Mojave / x86_64  OK  OK  OK  OK UNNEEDED, same version exists in internal repository
Package 166/1905HostnameOS / ArchINSTALLBUILDCHECKBUILD BIN
BiocSklearn 1.10.3
VJ Carey
Last Commit: 357f339
Last Changed Date: 2020-05-14 10:01:13 -0400
malbec2 Linux (Ubuntu 18.04.4 LTS) / x86_64  OK  OK  OK UNNEEDED, same version exists in internal repository
tokay2 Windows Server 2012 R2 Standard / x64  OK  OK  OK  OK UNNEEDED, same version exists in internal repository
machv2 macOS 10.14.6 Mojave / x86_64  OK  OK  OK  OK UNNEEDED, same version exists in internal repository
Package 167/1905HostnameOS / ArchINSTALLBUILDCHECKBUILD BIN
BiocStyle 2.16.1
Bioconductor Package Maintainer
Last Commit: 7f98419
Last Changed Date: 2020-09-24 10:45:11 -0400
malbec2 Linux (Ubuntu 18.04.4 LTS) / x86_64  OK  OK  OK UNNEEDED, same version exists in internal repository
tokay2 Windows Server 2012 R2 Standard / x64  OK  OK  OK  OK UNNEEDED, same version exists in internal repository
machv2 macOS 10.14.6 Mojave / x86_64  OK  OK  OK  OK UNNEEDED, same version exists in internal repository
Package 168/1905HostnameOS / ArchINSTALLBUILDCHECKBUILD BIN
BiocVersion 3.11.1
Bioconductor Package Maintainer
Last Commit: 75a6f4a
Last Changed Date: 2019-11-13 14:06:29 -0400
malbec2 Linux (Ubuntu 18.04.4 LTS) / x86_64  OK  OK  OK UNNEEDED, same version exists in internal repository
tokay2 Windows Server 2012 R2 Standard / x64  OK  OK  OK  OK UNNEEDED, same version exists in internal repository
machv2 macOS 10.14.6 Mojave / x86_64  OK  OK  OK  OK UNNEEDED, same version exists in internal repository
Package 169/1905HostnameOS / ArchINSTALLBUILDCHECKBUILD BIN
biocViews 1.56.2
Bioconductor Package Maintainer
Last Commit: 2b4aeb8
Last Changed Date: 2020-07-17 16:45:15 -0400
malbec2 Linux (Ubuntu 18.04.4 LTS) / x86_64  OK  OK  OK UNNEEDED, same version exists in internal repository
tokay2 Windows Server 2012 R2 Standard / x64  OK  OK  OK  OK UNNEEDED, same version exists in internal repository
machv2 macOS 10.14.6 Mojave / x86_64  OK  OK  OK  OK UNNEEDED, same version exists in internal repository
Package 170/1905HostnameOS / ArchINSTALLBUILDCHECKBUILD BIN
BiocWorkflowTools 1.14.0
Mike Smith
Last Commit: e80bf3f
Last Changed Date: 2020-04-27 15:01:39 -0400
malbec2 Linux (Ubuntu 18.04.4 LTS) / x86_64  OK  OK  OK UNNEEDED, same version exists in internal repository
tokay2 Windows Server 2012 R2 Standard / x64  OK  OK  OK  OK UNNEEDED, same version exists in internal repository
machv2 macOS 10.14.6 Mojave / x86_64  OK  OK  OK  OK UNNEEDED, same version exists in internal repository
Package 171/1905HostnameOS / ArchINSTALLBUILDCHECKBUILD BIN
bioDist 1.60.0
Bioconductor Package Maintainer
Last Commit: 32d5806
Last Changed Date: 2020-04-27 14:10:44 -0400
malbec2 Linux (Ubuntu 18.04.4 LTS) / x86_64  OK  OK  OK UNNEEDED, same version exists in internal repository
tokay2 Windows Server 2012 R2 Standard / x64  OK  OK  OK  OK UNNEEDED, same version exists in internal repository
machv2 macOS 10.14.6 Mojave / x86_64  OK  OK  OK  OK UNNEEDED, same version exists in internal repository
Package 172/1905HostnameOS / ArchINSTALLBUILDCHECKBUILD BIN
biomaRt 2.44.4
Mike Smith
Last Commit: 32c79f5
Last Changed Date: 2020-10-12 18:16:52 -0400
malbec2 Linux (Ubuntu 18.04.4 LTS) / x86_64  OK  OK  OK UNNEEDED, same version exists in internal repository
tokay2 Windows Server 2012 R2 Standard / x64  OK  OK  OK  OK UNNEEDED, same version exists in internal repository
machv2 macOS 10.14.6 Mojave / x86_64  OK  OK  OK  OK UNNEEDED, same version exists in internal repository
Package 173/1905HostnameOS / ArchINSTALLBUILDCHECKBUILD BIN
biomformat 1.16.0
Paul J. McMurdie
Last Commit: d2596cd
Last Changed Date: 2020-04-27 14:53:04 -0400
malbec2 Linux (Ubuntu 18.04.4 LTS) / x86_64  OK  OK  WARNINGS UNNEEDED, same version exists in internal repository
tokay2 Windows Server 2012 R2 Standard / x64  OK  OK  WARNINGS  OK UNNEEDED, same version exists in internal repository
machv2 macOS 10.14.6 Mojave / x86_64  OK  OK  WARNINGS  OK UNNEEDED, same version exists in internal repository
Package 174/1905HostnameOS / ArchINSTALLBUILDCHECKBUILD BIN
BioMM 1.4.0
Junfang Chen
Last Commit: 4635011
Last Changed Date: 2020-04-27 15:23:21 -0400
malbec2 Linux (Ubuntu 18.04.4 LTS) / x86_64  OK  OK  OK UNNEEDED, same version exists in internal repository
tokay2 Windows Server 2012 R2 Standard / x64  OK  OK  OK  OK UNNEEDED, same version exists in internal repository
machv2 macOS 10.14.6 Mojave / x86_64  OK  OK  OK  OK UNNEEDED, same version exists in internal repository
Package 175/1905HostnameOS / ArchINSTALLBUILDCHECKBUILD BIN
BioMVCClass 1.56.0
Elizabeth Whalen
Last Commit: 7052f1f
Last Changed Date: 2020-04-27 14:13:46 -0400
malbec2 Linux (Ubuntu 18.04.4 LTS) / x86_64  OK  OK  OK UNNEEDED, same version exists in internal repository
tokay2 Windows Server 2012 R2 Standard / x64  OK  OK  OK  OK UNNEEDED, same version exists in internal repository
machv2 macOS 10.14.6 Mojave / x86_64  OK  OK  OK  OK UNNEEDED, same version exists in internal repository
Package 176/1905HostnameOS / ArchINSTALLBUILDCHECKBUILD BIN
biomvRCNS 1.28.0
Yang Du
Last Commit: e55901b
Last Changed Date: 2020-04-27 14:33:11 -0400
malbec2 Linux (Ubuntu 18.04.4 LTS) / x86_64  OK  OK  OK UNNEEDED, same version exists in internal repository
tokay2 Windows Server 2012 R2 Standard / x64  OK  OK  OK  OK UNNEEDED, same version exists in internal repository
machv2 macOS 10.14.6 Mojave / x86_64  OK  OK  OK  OK UNNEEDED, same version exists in internal repository
Package 177/1905HostnameOS / ArchINSTALLBUILDCHECKBUILD BIN
BioNet 1.48.0
Marcus Dittrich
Last Commit: ce4c5d7
Last Changed Date: 2020-04-27 14:22:40 -0400
malbec2 Linux (Ubuntu 18.04.4 LTS) / x86_64  OK  ERROR  skipped 
tokay2 Windows Server 2012 R2 Standard / x64  OK  ERROR  skipped  skipped 
machv2 macOS 10.14.6 Mojave / x86_64  OK  ERROR  skipped  skipped 
Package 178/1905HostnameOS / ArchINSTALLBUILDCHECKBUILD BIN
BioNetStat 1.8.4
Vinicius Jardim
Last Commit: 37fb4cb
Last Changed Date: 2020-05-31 18:41:56 -0400
malbec2 Linux (Ubuntu 18.04.4 LTS) / x86_64  OK  OK  OK UNNEEDED, same version exists in internal repository
tokay2 Windows Server 2012 R2 Standard / x64  OK  OK  OK  OK UNNEEDED, same version exists in internal repository
machv2 macOS 10.14.6 Mojave / x86_64  OK  OK  OK  OK UNNEEDED, same version exists in internal repository
Package 179/1905HostnameOS / ArchINSTALLBUILDCHECKBUILD BIN
BioQC 1.16.0
Jitao David Zhang
Last Commit: e9a8893
Last Changed Date: 2020-04-27 14:53:01 -0400
malbec2 Linux (Ubuntu 18.04.4 LTS) / x86_64  OK  OK  OK UNNEEDED, same version exists in internal repository
tokay2 Windows Server 2012 R2 Standard / x64  OK  OK  OK  OK UNNEEDED, same version exists in internal repository
machv2 macOS 10.14.6 Mojave / x86_64  OK  OK  OK  OK UNNEEDED, same version exists in internal repository
Package 180/1905HostnameOS / ArchINSTALLBUILDCHECKBUILD BIN
BioSeqClass 1.46.0
Li Hong
Last Commit: 821d542
Last Changed Date: 2020-04-27 14:20:35 -0400
malbec2 Linux (Ubuntu 18.04.4 LTS) / x86_64  OK  ERROR  skipped 
tokay2 Windows Server 2012 R2 Standard / x64  OK  ERROR  skipped  skipped 
machv2 macOS 10.14.6 Mojave / x86_64  OK  ERROR  skipped  skipped 
Package 181/1905HostnameOS / ArchINSTALLBUILDCHECKBUILD BIN
biosigner 1.16.0
Philippe Rinaudo , Etienne Thevenot
Last Commit: 7ffb4ea
Last Changed Date: 2020-04-27 14:55:11 -0400
malbec2 Linux (Ubuntu 18.04.4 LTS) / x86_64  OK  OK  WARNINGS UNNEEDED, same version exists in internal repository
tokay2 Windows Server 2012 R2 Standard / x64  OK  OK  WARNINGS  OK UNNEEDED, same version exists in internal repository
machv2 macOS 10.14.6 Mojave / x86_64  OK  OK  WARNINGS  OK UNNEEDED, same version exists in internal repository
Package 182/1905HostnameOS / ArchINSTALLBUILDCHECKBUILD BIN
Biostrings 2.56.0
H. Pagès
Last Commit: 79b7ec8
Last Changed Date: 2020-04-27 14:09:14 -0400
malbec2 Linux (Ubuntu 18.04.4 LTS) / x86_64  OK  OK  WARNINGS UNNEEDED, same version exists in internal repository
tokay2 Windows Server 2012 R2 Standard / x64  OK  OK  WARNINGS  OK UNNEEDED, same version exists in internal repository
machv2 macOS 10.14.6 Mojave / x86_64  OK  OK  WARNINGS  OK UNNEEDED, same version exists in internal repository
Package 183/1905HostnameOS / ArchINSTALLBUILDCHECKBUILD BIN
biosvd 2.24.0
Anneleen Daemen , Matthew Brauer
Last Commit: 4aa7204
Last Changed Date: 2020-04-27 14:38:03 -0400
malbec2 Linux (Ubuntu 18.04.4 LTS) / x86_64  OK  OK  ERROR 
tokay2 Windows Server 2012 R2 Standard / x64  OK  OK  ERROR  OK 
machv2 macOS 10.14.6 Mojave / x86_64  OK  OK  ERROR  OK 
Package 184/1905HostnameOS / ArchINSTALLBUILDCHECKBUILD BIN
BioTIP 1.2.0
Zhezhen Wang , X Holly Yang < xyang2@uchicago> and Yuxi (Jennifer) Sun
Last Commit: 8c08cc8
Last Changed Date: 2020-04-27 15:30:56 -0400
malbec2 Linux (Ubuntu 18.04.4 LTS) / x86_64  OK  OK  WARNINGS UNNEEDED, same version exists in internal repository
tokay2 Windows Server 2012 R2 Standard / x64  OK  OK  WARNINGS  OK UNNEEDED, same version exists in internal repository
machv2 macOS 10.14.6 Mojave / x86_64  OK  OK  WARNINGS  OK UNNEEDED, same version exists in internal repository
Package 185/1905HostnameOS / ArchINSTALLBUILDCHECKBUILD BIN
biotmle 1.12.0
Nima Hejazi
Last Commit: 4c7d17e
Last Changed Date: 2020-04-27 15:07:19 -0400
malbec2 Linux (Ubuntu 18.04.4 LTS) / x86_64  OK  OK  OK UNNEEDED, same version exists in internal repository
tokay2 Windows Server 2012 R2 Standard / x64  OK  OK  WARNINGS  OK UNNEEDED, same version exists in internal repository
machv2 macOS 10.14.6 Mojave / x86_64  OK  OK  OK  OK UNNEEDED, same version exists in internal repository
Package 186/1905HostnameOS / ArchINSTALLBUILDCHECKBUILD BIN
biovizBase 1.36.0
Michael Lawrence
Last Commit: bfbea51
Last Changed Date: 2020-04-27 14:27:05 -0400
malbec2 Linux (Ubuntu 18.04.4 LTS) / x86_64  OK  OK  WARNINGS UNNEEDED, same version exists in internal repository
tokay2 Windows Server 2012 R2 Standard / x64  OK  OK  WARNINGS  OK UNNEEDED, same version exists in internal repository
machv2 macOS 10.14.6 Mojave / x86_64  OK  OK  WARNINGS  OK UNNEEDED, same version exists in internal repository
Package 187/1905HostnameOS / ArchINSTALLBUILDCHECKBUILD BIN
BiRewire 3.20.0
Andrea Gobbi
Last Commit: 6b3b1f2
Last Changed Date: 2020-04-27 14:36:26 -0400
malbec2 Linux (Ubuntu 18.04.4 LTS) / x86_64  OK  OK  WARNINGS UNNEEDED, same version exists in internal repository
tokay2 Windows Server 2012 R2 Standard / x64  OK  OK  WARNINGS  OK UNNEEDED, same version exists in internal repository
machv2 macOS 10.14.6 Mojave / x86_64  OK  OK  OK  OK UNNEEDED, same version exists in internal repository
Package 188/1905HostnameOS / ArchINSTALLBUILDCHECKBUILD BIN
birta 1.32.0
Benedikt Zacher
Last Commit: c2f1a45
Last Changed Date: 2020-04-27 14:29:03 -0400
malbec2 Linux (Ubuntu 18.04.4 LTS) / x86_64  OK  OK  ERROR 
tokay2 Windows Server 2012 R2 Standard / x64  OK  OK  ERROR  OK 
machv2 macOS 10.14.6 Mojave / x86_64  OK  OK  ERROR  OK 
Package 189/1905HostnameOS / ArchINSTALLBUILDCHECKBUILD BIN
biscuiteer 1.2.0
"Jacob Morrison"
Last Commit: 00c2aca
Last Changed Date: 2020-04-27 15:31:52 -0400
malbec2 Linux (Ubuntu 18.04.4 LTS) / x86_64  OK  OK  WARNINGS UNNEEDED, same version exists in internal repository
tokay2 Windows Server 2012 R2 Standard / x64  OK  OK  WARNINGS  OK UNNEEDED, same version exists in internal repository
machv2 macOS 10.14.6 Mojave / x86_64  OK  OK  WARNINGS  OK UNNEEDED, same version exists in internal repository
Package 190/1905HostnameOS / ArchINSTALLBUILDCHECKBUILD BIN
BiSeq 1.28.0
Katja Hebestreit
Last Commit: ffaf670
Last Changed Date: 2020-04-27 14:34:25 -0400
malbec2 Linux (Ubuntu 18.04.4 LTS) / x86_64  OK  OK  OK UNNEEDED, same version exists in internal repository
tokay2 Windows Server 2012 R2 Standard / x64  OK  OK  OK  OK UNNEEDED, same version exists in internal repository
machv2 macOS 10.14.6 Mojave / x86_64  OK  OK  OK  OK UNNEEDED, same version exists in internal repository
Package 191/1905HostnameOS / ArchINSTALLBUILDCHECKBUILD BIN
BitSeq 1.32.0
Antti Honkela , Panagiotis Papastamoulis
Last Commit: 73e8dfc
Last Changed Date: 2020-04-27 14:29:18 -0400
malbec2 Linux (Ubuntu 18.04.4 LTS) / x86_64  OK  OK  WARNINGS UNNEEDED, same version exists in internal repository
tokay2 Windows Server 2012 R2 Standard / x64  OK  OK  WARNINGS  OK UNNEEDED, same version exists in internal repository
machv2 macOS 10.14.6 Mojave / x86_64  OK  OK  WARNINGS  OK UNNEEDED, same version exists in internal repository
Package 192/1905HostnameOS / ArchINSTALLBUILDCHECKBUILD BIN
blacksheepr 1.2.0
RugglesLab
Last Commit: 3f17e95
Last Changed Date: 2020-04-27 15:31:23 -0400
malbec2 Linux (Ubuntu 18.04.4 LTS) / x86_64  OK  OK  OK UNNEEDED, same version exists in internal repository
tokay2 Windows Server 2012 R2 Standard / x64  OK  OK  OK  OK UNNEEDED, same version exists in internal repository
machv2 macOS 10.14.6 Mojave / x86_64  OK  OK  OK  OK UNNEEDED, same version exists in internal repository
Package 193/1905HostnameOS / ArchINSTALLBUILDCHECKBUILD BIN
blima 1.22.0
Vojtěch Kulvait
Last Commit: f8ad491
Last Changed Date: 2020-04-27 14:40:34 -0400
malbec2 Linux (Ubuntu 18.04.4 LTS) / x86_64  OK  OK  WARNINGS UNNEEDED, same version exists in internal repository
tokay2 Windows Server 2012 R2 Standard / x64  OK  OK  WARNINGS  OK UNNEEDED, same version exists in internal repository
machv2 macOS 10.14.6 Mojave / x86_64  OK  OK  WARNINGS  OK UNNEEDED, same version exists in internal repository
Package 194/1905HostnameOS / ArchINSTALLBUILDCHECKBUILD BIN
BLMA 1.12.0
Tin Nguyen
Last Commit: 6a77a36
Last Changed Date: 2020-04-27 15:07:21 -0400
malbec2 Linux (Ubuntu 18.04.4 LTS) / x86_64  OK  OK  OK UNNEEDED, same version exists in internal repository
tokay2 Windows Server 2012 R2 Standard / x64  OK  OK  OK  OK UNNEEDED, same version exists in internal repository
machv2 macOS 10.14.6 Mojave / x86_64  OK  OK  OK  OK UNNEEDED, same version exists in internal repository
Package 195/1905HostnameOS / ArchINSTALLBUILDCHECKBUILD BIN
bnbc 1.10.0
Kipper Fletez-Brant
Last Commit: ef45e09
Last Changed Date: 2020-04-27 15:11:21 -0400
malbec2 Linux (Ubuntu 18.04.4 LTS) / x86_64  OK  OK  OK UNNEEDED, same version exists in internal repository
tokay2 Windows Server 2012 R2 Standard / x64  OK  OK  OK  OK UNNEEDED, same version exists in internal repository
machv2 macOS 10.14.6 Mojave / x86_64  OK  OK  OK  OK UNNEEDED, same version exists in internal repository
Package 196/1905HostnameOS / ArchINSTALLBUILDCHECKBUILD BIN
BPRMeth 1.14.1
Chantriolnt-Andreas Kapourani
Last Commit: 451cdaf
Last Changed Date: 2020-07-16 17:39:39 -0400
malbec2 Linux (Ubuntu 18.04.4 LTS) / x86_64  OK  OK  OK UNNEEDED, same version exists in internal repository
tokay2 Windows Server 2012 R2 Standard / x64  OK  OK  OK  OK UNNEEDED, same version exists in internal repository
machv2 macOS 10.14.6 Mojave / x86_64  OK  OK  OK  OK UNNEEDED, same version exists in internal repository
Package 197/1905HostnameOS / ArchINSTALLBUILDCHECKBUILD BIN
BRAIN 1.34.0
Piotr Dittwald
Last Commit: 133f730
Last Changed Date: 2020-04-27 14:28:46 -0400
malbec2 Linux (Ubuntu 18.04.4 LTS) / x86_64  OK  OK  WARNINGS UNNEEDED, same version exists in internal repository
tokay2 Windows Server 2012 R2 Standard / x64  OK  OK  WARNINGS  OK UNNEEDED, same version exists in internal repository
machv2 macOS 10.14.6 Mojave / x86_64  OK  OK  WARNINGS  OK UNNEEDED, same version exists in internal repository
Package 198/1905HostnameOS / ArchINSTALLBUILDCHECKBUILD BIN
brainflowprobes 1.2.0
Amanda Price
Last Commit: 128445d
Last Changed Date: 2020-04-27 15:32:25 -0400
malbec2 Linux (Ubuntu 18.04.4 LTS) / x86_64  OK  OK  OK UNNEEDED, same version exists in internal repository
tokay2 Windows Server 2012 R2 Standard / x64  OK  OK  OK  OK UNNEEDED, same version exists in internal repository
machv2 macOS 10.14.6 Mojave / x86_64  OK  OK  OK  OK UNNEEDED, same version exists in internal repository
Package 199/1905HostnameOS / ArchINSTALLBUILDCHECKBUILD BIN
BrainStars 1.32.0
Itoshi NIKAIDO
Last Commit: e4f20fe
Last Changed Date: 2020-04-27 14:29:00 -0400
malbec2 Linux (Ubuntu 18.04.4 LTS) / x86_64  OK  ERROR  skipped 
tokay2 Windows Server 2012 R2 Standard / x64  OK  ERROR  skipped  skipped 
machv2 macOS 10.14.6 Mojave / x86_64  OK  ERROR  skipped  skipped 
Package 200/1905HostnameOS / ArchINSTALLBUILDCHECKBUILD BIN
branchpointer 1.14.0
Beth Signal
Last Commit: e5b83c3
Last Changed Date: 2020-04-27 15:06:12 -0400
malbec2 Linux (Ubuntu 18.04.4 LTS) / x86_64  OK  OK  OK UNNEEDED, same version exists in internal repository
tokay2 Windows Server 2012 R2 Standard / x64  OK  OK  OK  OK UNNEEDED, same version exists in internal repository
machv2 macOS 10.14.6 Mojave / x86_64  OK  OK  OK  OK UNNEEDED, same version exists in internal repository
Package 201/1905HostnameOS / ArchINSTALLBUILDCHECKBUILD BIN
breakpointR 1.6.0
David Porubsky
Last Commit: be6d643
Last Changed Date: 2020-04-27 15:19:36 -0400
malbec2 Linux (Ubuntu 18.04.4 LTS) / x86_64  OK  OK  OK UNNEEDED, same version exists in internal repository
tokay2 Windows Server 2012 R2 Standard / x64  OK  OK  OK  OK UNNEEDED, same version exists in internal repository
machv2 macOS 10.14.6 Mojave / x86_64  OK  OK  OK  OK UNNEEDED, same version exists in internal repository
Package 202/1905HostnameOS / ArchINSTALLBUILDCHECKBUILD BIN
brendaDb 1.2.0
Yi Zhou
Last Commit: c3b7760
Last Changed Date: 2020-04-27 15:29:29 -0400
malbec2 Linux (Ubuntu 18.04.4 LTS) / x86_64  OK  OK  ERROR 
tokay2 Windows Server 2012 R2 Standard / x64  OK  OK  ERROR  OK 
machv2 macOS 10.14.6 Mojave / x86_64  OK  OK  ERROR  OK 
Package 203/1905HostnameOS / ArchINSTALLBUILDCHECKBUILD BIN
BRGenomics 1.0.3
Mike DeBerardine
Last Commit: 50f2560
Last Changed Date: 2020-08-28 13:05:31 -0400
malbec2 Linux (Ubuntu 18.04.4 LTS) / x86_64  OK  OK  OK UNNEEDED, same version exists in internal repository
tokay2 Windows Server 2012 R2 Standard / x64  OK  OK  OK  OK UNNEEDED, same version exists in internal repository
machv2 macOS 10.14.6 Mojave / x86_64  OK  OK  OK  OK UNNEEDED, same version exists in internal repository
Package 204/1905HostnameOS / ArchINSTALLBUILDCHECKBUILD BIN
bridge 1.52.0
Raphael Gottardo
Last Commit: 182fd0b
Last Changed Date: 2020-04-27 14:11:24 -0400
malbec2 Linux (Ubuntu 18.04.4 LTS) / x86_64  OK  OK  WARNINGS UNNEEDED, same version exists in internal repository
tokay2 Windows Server 2012 R2 Standard / x64  OK  OK  WARNINGS  OK UNNEEDED, same version exists in internal repository
machv2 macOS 10.14.6 Mojave / x86_64  OK  OK  OK  OK UNNEEDED, same version exists in internal repository
Package 205/1905HostnameOS / ArchINSTALLBUILDCHECKBUILD BIN
BridgeDbR 1.22.0
Egon Willighagen
Last Commit: 099ec7b
Last Changed Date: 2020-04-27 14:45:02 -0400
malbec2 Linux (Ubuntu 18.04.4 LTS) / x86_64  OK  OK  OK UNNEEDED, same version exists in internal repository
tokay2 Windows Server 2012 R2 Standard / x64  OK  OK  OK  OK UNNEEDED, same version exists in internal repository
machv2 macOS 10.14.6 Mojave / x86_64  OK  OK  OK  OK UNNEEDED, same version exists in internal repository
Package 206/1905HostnameOS / ArchINSTALLBUILDCHECKBUILD BIN
BrowserViz 2.10.0
Paul Shannon
Last Commit: a1e8682
Last Changed Date: 2020-04-27 14:47:02 -0400
malbec2 Linux (Ubuntu 18.04.4 LTS) / x86_64  OK  OK  OK UNNEEDED, same version exists in internal repository
tokay2 Windows Server 2012 R2 Standard / x64  OK  OK  OK  OK UNNEEDED, same version exists in internal repository
machv2 macOS 10.14.6 Mojave / x86_64  OK  OK  OK  OK UNNEEDED, same version exists in internal repository
Package 207/1905HostnameOS / ArchINSTALLBUILDCHECKBUILD BIN
BSgenome 1.56.0
H. Pagès
Last Commit: 8364a0f
Last Changed Date: 2020-04-27 14:13:21 -0400
malbec2 Linux (Ubuntu 18.04.4 LTS) / x86_64  OK  OK  WARNINGS UNNEEDED, same version exists in internal repository
tokay2 Windows Server 2012 R2 Standard / x64  OK  OK  WARNINGS  OK UNNEEDED, same version exists in internal repository
machv2 macOS 10.14.6 Mojave / x86_64  OK  OK  WARNINGS  OK UNNEEDED, same version exists in internal repository
Package 208/1905HostnameOS / ArchINSTALLBUILDCHECKBUILD BIN
bsseq 1.24.4
Kasper Daniel Hansen
Last Commit: 8fe7a03
Last Changed Date: 2020-06-28 21:23:15 -0400
malbec2 Linux (Ubuntu 18.04.4 LTS) / x86_64  OK  OK  OK UNNEEDED, same version exists in internal repository
tokay2 Windows Server 2012 R2 Standard / x64  OK  OK  OK  OK UNNEEDED, same version exists in internal repository
machv2 macOS 10.14.6 Mojave / x86_64  OK  OK  OK  OK UNNEEDED, same version exists in internal repository
Package 209/1905HostnameOS / ArchINSTALLBUILDCHECKBUILD BIN
BubbleTree 2.18.0
Todd Creasy , Wei Zhu
Last Commit: 477c605
Last Changed Date: 2020-04-27 14:46:47 -0400
malbec2 Linux (Ubuntu 18.04.4 LTS) / x86_64  OK  OK  OK UNNEEDED, same version exists in internal repository
tokay2 Windows Server 2012 R2 Standard / x64  OK  OK  OK  OK UNNEEDED, same version exists in internal repository
machv2 macOS 10.14.6 Mojave / x86_64  OK  OK  OK  OK UNNEEDED, same version exists in internal repository
Package 210/1905HostnameOS / ArchINSTALLBUILDCHECKBUILD BIN
BufferedMatrix 1.52.0
Ben Bolstad
Last Commit: c4ad43d
Last Changed Date: 2020-04-27 14:14:34 -0400
malbec2 Linux (Ubuntu 18.04.4 LTS) / x86_64  OK  OK  OK UNNEEDED, same version exists in internal repository
tokay2 Windows Server 2012 R2 Standard / x64  OK  OK  OK  OK UNNEEDED, same version exists in internal repository
machv2 macOS 10.14.6 Mojave / x86_64  OK  OK  OK  OK UNNEEDED, same version exists in internal repository
Package 211/1905HostnameOS / ArchINSTALLBUILDCHECKBUILD BIN
BufferedMatrixMethods 1.52.0
Ben Bolstad
Last Commit: 89d73e1
Last Changed Date: 2020-04-27 14:14:37 -0400
malbec2 Linux (Ubuntu 18.04.4 LTS) / x86_64  OK  OK  OK UNNEEDED, same version exists in internal repository
tokay2 Windows Server 2012 R2 Standard / x64  OK  OK  OK  OK UNNEEDED, same version exists in internal repository
machv2 macOS 10.14.6 Mojave / x86_64  OK  OK  OK  OK UNNEEDED, same version exists in internal repository
Package 212/1905HostnameOS / ArchINSTALLBUILDCHECKBUILD BIN
BUMHMM 1.12.0
Alina Selega
Last Commit: c170a79
Last Changed Date: 2020-04-27 15:04:01 -0400
malbec2 Linux (Ubuntu 18.04.4 LTS) / x86_64  OK  OK  OK UNNEEDED, same version exists in internal repository
tokay2 Windows Server 2012 R2 Standard / x64  OK  OK  OK  OK UNNEEDED, same version exists in internal repository
machv2 macOS 10.14.6 Mojave / x86_64  OK  OK  OK  OK UNNEEDED, same version exists in internal repository
Package 213/1905HostnameOS / ArchINSTALLBUILDCHECKBUILD BIN
bumphunter 1.30.0
Rafael A. Irizarry
Last Commit: 4a6c1d8
Last Changed Date: 2020-04-27 14:32:19 -0400
malbec2 Linux (Ubuntu 18.04.4 LTS) / x86_64  OK  OK  OK UNNEEDED, same version exists in internal repository
tokay2 Windows Server 2012 R2 Standard / x64  OK  OK  WARNINGS  OK UNNEEDED, same version exists in internal repository
machv2 macOS 10.14.6 Mojave / x86_64  OK  OK  OK  OK UNNEEDED, same version exists in internal repository
Package 214/1905HostnameOS / ArchINSTALLBUILDCHECKBUILD BIN
BUS 1.44.0
Yuanhua Liu
Last Commit: 4de62f1
Last Changed Date: 2020-04-27 14:19:39 -0400
malbec2 Linux (Ubuntu 18.04.4 LTS) / x86_64  OK  OK  OK UNNEEDED, same version exists in internal repository
tokay2 Windows Server 2012 R2 Standard / x64  OK  OK  OK  OK UNNEEDED, same version exists in internal repository
machv2 macOS 10.14.6 Mojave / x86_64  OK  OK  OK  OK UNNEEDED, same version exists in internal repository
Package 215/1905HostnameOS / ArchINSTALLBUILDCHECKBUILD BIN
BUScorrect 1.6.0
Xiangyu Luo
Last Commit: 1ea8a4f
Last Changed Date: 2020-04-27 15:18:46 -0400
malbec2 Linux (Ubuntu 18.04.4 LTS) / x86_64  OK  OK  OK UNNEEDED, same version exists in internal repository
tokay2 Windows Server 2012 R2 Standard / x64  OK  OK  OK  OK UNNEEDED, same version exists in internal repository
machv2 macOS 10.14.6 Mojave / x86_64  OK  OK  OK  OK UNNEEDED, same version exists in internal repository
Package 216/1905HostnameOS / ArchINSTALLBUILDCHECKBUILD BIN
BUSpaRse 1.2.2
Lambda Moses
Last Commit: 2f0aa53
Last Changed Date: 2020-06-02 19:36:21 -0400
malbec2 Linux (Ubuntu 18.04.4 LTS) / x86_64  OK  OK  OK UNNEEDED, same version exists in internal repository
tokay2 Windows Server 2012 R2 Standard / x64  OK  OK  OK  OK UNNEEDED, same version exists in internal repository
machv2 macOS 10.14.6 Mojave / x86_64  OK  OK  OK  OK UNNEEDED, same version exists in internal repository
C
ABCDEFGHIJKLMNOPQRSTUVWXYZ
Package 217/1905HostnameOS / ArchINSTALLBUILDCHECKBUILD BIN
CAFE 1.24.0
Sander Bollen
Last Commit: df92e6d
Last Changed Date: 2020-04-27 14:38:56 -0400
malbec2 Linux (Ubuntu 18.04.4 LTS) / x86_64  OK  OK  WARNINGS UNNEEDED, same version exists in internal repository
tokay2 Windows Server 2012 R2 Standard / x64  OK  OK  WARNINGS  OK UNNEEDED, same version exists in internal repository
machv2 macOS 10.14.6 Mojave / x86_64  OK  OK  WARNINGS  OK UNNEEDED, same version exists in internal repository
Package 218/1905HostnameOS / ArchINSTALLBUILDCHECKBUILD BIN
CAGEfightR 1.8.0
Malte Thodberg
Last Commit: 224f1ab
Last Changed Date: 2020-04-27 15:16:40 -0400
malbec2 Linux (Ubuntu 18.04.4 LTS) / x86_64  OK  OK  OK UNNEEDED, same version exists in internal repository
tokay2 Windows Server 2012 R2 Standard / x64  OK  OK  OK  OK UNNEEDED, same version exists in internal repository
machv2 macOS 10.14.6 Mojave / x86_64  OK  OK  OK  OK UNNEEDED, same version exists in internal repository
Package 219/1905HostnameOS / ArchINSTALLBUILDCHECKBUILD BIN
CAGEr 1.30.3
Vanja Haberle , Charles Plessy , Damir Baranasic , Sarvesh Nikumbh
Last Commit: 3cc7af7
Last Changed Date: 2020-07-14 02:04:27 -0400
malbec2 Linux (Ubuntu 18.04.4 LTS) / x86_64  OK  OK  OK UNNEEDED, same version exists in internal repository
tokay2 Windows Server 2012 R2 Standard / x64  OK  OK  WARNINGS  OK UNNEEDED, same version exists in internal repository
machv2 macOS 10.14.6 Mojave / x86_64  OK  OK  OK  OK UNNEEDED, same version exists in internal repository
Package 220/1905HostnameOS / ArchINSTALLBUILDCHECKBUILD BIN
CALIB 1.54.0
Hui Zhao
Last Commit: 0e17e9d
Last Changed Date: 2020-04-27 14:14:54 -0400
malbec2 Linux (Ubuntu 18.04.4 LTS) / x86_64  OK  OK  ERROR 
tokay2 Windows Server 2012 R2 Standard / x64  OK  OK  ERROR  OK 
machv2 macOS 10.14.6 Mojave / x86_64  OK  OK  ERROR  OK 
Package 221/1905HostnameOS / ArchINSTALLBUILDCHECKBUILD BIN
calm 1.2.0
Kun Liang
Last Commit: 76679da
Last Changed Date: 2020-04-27 15:29:47 -0400
malbec2 Linux (Ubuntu 18.04.4 LTS) / x86_64  OK  OK  OK UNNEEDED, same version exists in internal repository
tokay2 Windows Server 2012 R2 Standard / x64  OK  OK  OK  OK UNNEEDED, same version exists in internal repository
machv2 macOS 10.14.6 Mojave / x86_64  OK  OK  OK  OK UNNEEDED, same version exists in internal repository
Package 222/1905HostnameOS / ArchINSTALLBUILDCHECKBUILD BIN
CAMERA 1.44.0
Steffen Neumann
Last Commit: 2f05aa6
Last Changed Date: 2020-04-27 14:18:58 -0400
malbec2 Linux (Ubuntu 18.04.4 LTS) / x86_64  OK  OK  WARNINGS UNNEEDED, same version exists in internal repository
tokay2 Windows Server 2012 R2 Standard / x64  OK  OK  WARNINGS  OK UNNEEDED, same version exists in internal repository
machv2 macOS 10.14.6 Mojave / x86_64  OK  OK  WARNINGS  OK UNNEEDED, same version exists in internal repository
Package 223/1905HostnameOS / ArchINSTALLBUILDCHECKBUILD BIN
CAMTHC 1.6.0
Lulu Chen
Last Commit: c81a87e
Last Changed Date: 2020-04-27 15:17:16 -0400
malbec2 Linux (Ubuntu 18.04.4 LTS) / x86_64  OK  OK  WARNINGS UNNEEDED, same version exists in internal repository
tokay2 Windows Server 2012 R2 Standard / x64  OK  OK  WARNINGS  OK UNNEEDED, same version exists in internal repository
machv2 macOS 10.14.6 Mojave / x86_64  OK  OK  WARNINGS  OK UNNEEDED, same version exists in internal repository
Package 224/1905HostnameOS / ArchINSTALLBUILDCHECKBUILD BIN
canceR 1.22.01
Karim Mezhoud
Last Commit: acc0004
Last Changed Date: 2020-05-11 10:15:40 -0400
malbec2 Linux (Ubuntu 18.04.4 LTS) / x86_64  OK  OK  OK UNNEEDED, same version exists in internal repository
tokay2 Windows Server 2012 R2 Standard / x64  OK  OK  OK  OK UNNEEDED, same version exists in internal repository
machv2 macOS 10.14.6 Mojave / x86_64  OK  OK  OK  OK UNNEEDED, same version exists in internal repository
Package 225/1905HostnameOS / ArchINSTALLBUILDCHECKBUILD BIN
cancerclass 1.32.0
Daniel Kosztyla
Last Commit: c811d2c
Last Changed Date: 2020-04-27 14:29:45 -0400
malbec2 Linux (Ubuntu 18.04.4 LTS) / x86_64  OK  OK  OK UNNEEDED, same version exists in internal repository
tokay2 Windows Server 2012 R2 Standard / x64  OK  OK  OK  OK UNNEEDED, same version exists in internal repository
machv2 macOS 10.14.6 Mojave / x86_64  OK  OK  WARNINGS  OK UNNEEDED, same version exists in internal repository
Package 226/1905HostnameOS / ArchINSTALLBUILDCHECKBUILD BIN
CancerInSilico 2.8.0
Thomas D. Sherman
Last Commit: 46a2df6
Last Changed Date: 2020-04-27 15:02:23 -0400
malbec2 Linux (Ubuntu 18.04.4 LTS) / x86_64  OK  OK  OK UNNEEDED, same version exists in internal repository
tokay2 Windows Server 2012 R2 Standard / x64  OK  OK  OK  OK UNNEEDED, same version exists in internal repository
machv2 macOS 10.14.6 Mojave / x86_64  OK  OK  OK  OK UNNEEDED, same version exists in internal repository
Package 227/1905HostnameOS / ArchINSTALLBUILDCHECKBUILD BIN
CancerMutationAnalysis 1.30.0
Simina M. Boca
Last Commit: 262971b
Last Changed Date: 2020-04-27 14:29:21 -0400
malbec2 Linux (Ubuntu 18.04.4 LTS) / x86_64  OK  OK  OK UNNEEDED, same version exists in internal repository
tokay2 Windows Server 2012 R2 Standard / x64  OK  OK  OK  OK UNNEEDED, same version exists in internal repository
machv2 macOS 10.14.6 Mojave / x86_64  OK  OK  OK  OK UNNEEDED, same version exists in internal repository
Package 228/1905HostnameOS / ArchINSTALLBUILDCHECKBUILD BIN
CancerSubtypes 1.14.0
Taosheng Xu
Last Commit: 49fb18d
Last Changed Date: 2020-04-27 15:00:39 -0400
malbec2 Linux (Ubuntu 18.04.4 LTS) / x86_64  OK  OK  OK UNNEEDED, same version exists in internal repository
tokay2 Windows Server 2012 R2 Standard / x64  OK  OK  OK  OK UNNEEDED, same version exists in internal repository
machv2 macOS 10.14.6 Mojave / x86_64  OK  OK  OK  OK UNNEEDED, same version exists in internal repository
Package 229/1905HostnameOS / ArchINSTALLBUILDCHECKBUILD BIN
CAnD 1.20.0
Caitlin McHugh
Last Commit: 02e412c
Last Changed Date: 2020-04-27 14:48:46 -0400
malbec2 Linux (Ubuntu 18.04.4 LTS) / x86_64  OK  OK  OK UNNEEDED, same version exists in internal repository
tokay2 Windows Server 2012 R2 Standard / x64  OK  OK  OK  OK UNNEEDED, same version exists in internal repository
machv2 macOS 10.14.6 Mojave / x86_64  OK  OK  OK  OK UNNEEDED, same version exists in internal repository
Package 230/1905HostnameOS / ArchINSTALLBUILDCHECKBUILD BIN
caOmicsV 1.18.0
Henry Zhang
Last Commit: dcd3e5d
Last Changed Date: 2020-04-27 14:49:25 -0400
malbec2 Linux (Ubuntu 18.04.4 LTS) / x86_64  OK  OK  WARNINGS UNNEEDED, same version exists in internal repository
tokay2 Windows Server 2012 R2 Standard / x64  OK  OK  WARNINGS  OK UNNEEDED, same version exists in internal repository
machv2 macOS 10.14.6 Mojave / x86_64  OK  OK  WARNINGS  OK UNNEEDED, same version exists in internal repository
Package 231/1905HostnameOS / ArchINSTALLBUILDCHECKBUILD BIN
Cardinal 2.6.0
Kylie A. Bemis
Last Commit: 0be87eb
Last Changed Date: 2020-04-27 14:46:37 -0400
malbec2 Linux (Ubuntu 18.04.4 LTS) / x86_64  OK  OK  OK UNNEEDED, same version exists in internal repository
tokay2 Windows Server 2012 R2 Standard / x64  OK  OK  OK  OK UNNEEDED, same version exists in internal repository
machv2 macOS 10.14.6 Mojave / x86_64  OK  OK  OK  OK UNNEEDED, same version exists in internal repository
Package 232/1905HostnameOS / ArchINSTALLBUILDCHECKBUILD BIN
CARNIVAL 1.0.0
Enio Gjerga
Last Commit: deb8dbb
Last Changed Date: 2020-04-27 15:36:20 -0400
malbec2 Linux (Ubuntu 18.04.4 LTS) / x86_64  OK  OK  OK UNNEEDED, same version exists in internal repository
tokay2 Windows Server 2012 R2 Standard / x64  OK  OK  OK  OK UNNEEDED, same version exists in internal repository
machv2 macOS 10.14.6 Mojave / x86_64  OK  OK  OK  OK UNNEEDED, same version exists in internal repository
Package 233/1905HostnameOS / ArchINSTALLBUILDCHECKBUILD BIN
casper 2.22.0
David Rossell
Last Commit: 6f24646
Last Changed Date: 2020-04-27 14:32:47 -0400
malbec2 Linux (Ubuntu 18.04.4 LTS) / x86_64  OK  OK  OK UNNEEDED, same version exists in internal repository
tokay2 Windows Server 2012 R2 Standard / x64  OK  OK  WARNINGS  OK UNNEEDED, same version exists in internal repository
machv2 macOS 10.14.6 Mojave / x86_64  OK  OK  WARNINGS  OK UNNEEDED, same version exists in internal repository
Package 234/1905HostnameOS / ArchINSTALLBUILDCHECKBUILD BIN
CATALYST 1.12.2
Helena L. Crowell
Last Commit: 3846718
Last Changed Date: 2020-07-02 09:14:54 -0400
malbec2 Linux (Ubuntu 18.04.4 LTS) / x86_64  OK  OK  OK UNNEEDED, same version exists in internal repository
tokay2 Windows Server 2012 R2 Standard / x64  OK  OK  OK  OK UNNEEDED, same version exists in internal repository
machv2 macOS 10.14.6 Mojave / x86_64  OK  OK  OK  OK UNNEEDED, same version exists in internal repository
Package 235/1905HostnameOS / ArchINSTALLBUILDCHECKBUILD BIN
Category 2.54.0
Bioconductor Package Maintainer
Last Commit: 3368428
Last Changed Date: 2020-04-27 14:11:31 -0400
malbec2 Linux (Ubuntu 18.04.4 LTS) / x86_64  OK  OK  OK UNNEEDED, same version exists in internal repository
tokay2 Windows Server 2012 R2 Standard / x64  OK  OK  OK  OK UNNEEDED, same version exists in internal repository
machv2 macOS 10.14.6 Mojave / x86_64  OK  OK  OK  OK UNNEEDED, same version exists in internal repository
Package 236/1905HostnameOS / ArchINSTALLBUILDCHECKBUILD BIN
categoryCompare 1.32.0
Robert M. Flight
Last Commit: 0ee538e
Last Changed Date: 2020-04-27 14:29:40 -0400
malbec2 Linux (Ubuntu 18.04.4 LTS) / x86_64  OK  OK  OK UNNEEDED, same version exists in internal repository
tokay2 Windows Server 2012 R2 Standard / x64  OK  OK  OK  OK UNNEEDED, same version exists in internal repository
machv2 macOS 10.14.6 Mojave / x86_64  OK  OK  OK  OK UNNEEDED, same version exists in internal repository
Package 237/1905HostnameOS / ArchINSTALLBUILDCHECKBUILD BIN
CausalR 1.20.0
Glyn Bradley , Steven Barrett
Last Commit: 55a37b2
Last Changed Date: 2020-04-27 14:49:15 -0400
malbec2 Linux (Ubuntu 18.04.4 LTS) / x86_64  OK  OK  OK UNNEEDED, same version exists in internal repository
tokay2 Windows Server 2012 R2 Standard / x64  OK  OK  OK  OK UNNEEDED, same version exists in internal repository
machv2 macOS 10.14.6 Mojave / x86_64  OK  OK  OK  OK UNNEEDED, same version exists in internal repository
Package 238/1905HostnameOS / ArchINSTALLBUILDCHECKBUILD BIN
cbaf 1.10.1
Arman Shahrisa
Last Commit: 4007bf0
Last Changed Date: 2020-05-05 12:45:12 -0400
malbec2 Linux (Ubuntu 18.04.4 LTS) / x86_64  OK  OK  OK UNNEEDED, same version exists in internal repository
tokay2 Windows Server 2012 R2 Standard / x64  OK  OK  OK  OK UNNEEDED, same version exists in internal repository
machv2 macOS 10.14.6 Mojave / x86_64  OK  OK  OK  OK UNNEEDED, same version exists in internal repository
Package 239/1905HostnameOS / ArchINSTALLBUILDCHECKBUILD BIN
cBioPortalData 2.0.10
Marcel Ramos
Last Commit: a52b1ab
Last Changed Date: 2020-08-26 18:14:19 -0400
malbec2 Linux (Ubuntu 18.04.4 LTS) / x86_64  OK  OK  OK UNNEEDED, same version exists in internal repository
tokay2 Windows Server 2012 R2 Standard / x64  OK  OK  OK  OK UNNEEDED, same version exists in internal repository
machv2 macOS 10.14.6 Mojave / x86_64  OK  OK  OK  OK UNNEEDED, same version exists in internal repository
Package 240/1905HostnameOS / ArchINSTALLBUILDCHECKBUILD BIN
ccfindR 1.8.0
Jun Woo
Last Commit: 58fcefc
Last Changed Date: 2020-04-27 15:16:20 -0400
malbec2 Linux (Ubuntu 18.04.4 LTS) / x86_64  OK  OK  OK UNNEEDED, same version exists in internal repository
tokay2 Windows Server 2012 R2 Standard / x64  OK  OK  OK  OK UNNEEDED, same version exists in internal repository
machv2 macOS 10.14.6 Mojave / x86_64  OK  OK  OK  OK UNNEEDED, same version exists in internal repository
Package 241/1905HostnameOS / ArchINSTALLBUILDCHECKBUILD BIN
ccmap 1.14.0
Alex Pickering
Last Commit: d62e3f4
Last Changed Date: 2020-04-27 14:58:50 -0400
malbec2 Linux (Ubuntu 18.04.4 LTS) / x86_64  OK  OK  OK UNNEEDED, same version exists in internal repository
tokay2 Windows Server 2012 R2 Standard / x64  OK  OK  OK  OK UNNEEDED, same version exists in internal repository
machv2 macOS 10.14.6 Mojave / x86_64  OK  OK  OK  OK UNNEEDED, same version exists in internal repository
Package 242/1905HostnameOS / ArchINSTALLBUILDCHECKBUILD BIN
CCPROMISE 1.14.0
Xueyuan Cao
Last Commit: f50e75b
Last Changed Date: 2020-04-27 15:03:28 -0400
malbec2 Linux (Ubuntu 18.04.4 LTS) / x86_64  OK  OK  WARNINGS UNNEEDED, same version exists in internal repository
tokay2 Windows Server 2012 R2 Standard / x64  OK  OK  WARNINGS  OK UNNEEDED, same version exists in internal repository
machv2 macOS 10.14.6 Mojave / x86_64  OK  OK  WARNINGS  OK UNNEEDED, same version exists in internal repository
Package 243/1905HostnameOS / ArchINSTALLBUILDCHECKBUILD BIN
ccrepe 1.24.0
Emma Schwager ,Craig Bielski, George Weingart
Last Commit: 4fa2a0a
Last Changed Date: 2020-04-27 14:37:41 -0400
malbec2 Linux (Ubuntu 18.04.4 LTS) / x86_64  OK  OK  OK UNNEEDED, same version exists in internal repository
tokay2 Windows Server 2012 R2 Standard / x64  OK  OK  ERROR  OK 
machv2 macOS 10.14.6 Mojave / x86_64  OK  OK  OK  OK UNNEEDED, same version exists in internal repository
Package 244/1905HostnameOS / ArchINSTALLBUILDCHECKBUILD BIN
celaref 1.6.0
Sarah Williams
Last Commit: 2ab7e2f
Last Changed Date: 2020-04-27 15:18:36 -0400
malbec2 Linux (Ubuntu 18.04.4 LTS) / x86_64  OK  OK  OK UNNEEDED, same version exists in internal repository
tokay2 Windows Server 2012 R2 Standard / x64  OK  OK  OK  OK UNNEEDED, same version exists in internal repository
machv2 macOS 10.14.6 Mojave / x86_64  OK  OK  OK  OK UNNEEDED, same version exists in internal repository
Package 245/1905HostnameOS / ArchINSTALLBUILDCHECKBUILD BIN
celda 1.4.7
Joshua Campbell
Last Commit: 9cfdbb2
Last Changed Date: 2020-10-07 19:07:54 -0400
malbec2 Linux (Ubuntu 18.04.4 LTS) / x86_64  OK  OK  OK UNNEEDED, same version exists in internal repository
tokay2 Windows Server 2012 R2 Standard / x64  OK  OK  OK  OK UNNEEDED, same version exists in internal repository
machv2 macOS 10.14.6 Mojave / x86_64  OK  OK  OK  OK UNNEEDED, same version exists in internal repository
Package 246/1905HostnameOS / ArchINSTALLBUILDCHECKBUILD BIN
cellbaseR 1.12.0
Mohammed OE Abdallah
Last Commit: 559afc7
Last Changed Date: 2020-04-27 15:07:27 -0400
malbec2 Linux (Ubuntu 18.04.4 LTS) / x86_64  OK  OK  OK UNNEEDED, same version exists in internal repository
tokay2 Windows Server 2012 R2 Standard / x64  OK  OK  WARNINGS  OK UNNEEDED, same version exists in internal repository
machv2 macOS 10.14.6 Mojave / x86_64  OK  OK  OK  OK UNNEEDED, same version exists in internal repository
Package 247/1905HostnameOS / ArchINSTALLBUILDCHECKBUILD BIN
CellBench 1.4.1
Shian Su
Last Commit: b34fe2c
Last Changed Date: 2020-06-09 20:57:51 -0400
malbec2 Linux (Ubuntu 18.04.4 LTS) / x86_64  OK  OK  OK UNNEEDED, same version exists in internal repository
tokay2 Windows Server 2012 R2 Standard / x64  OK  OK  OK  OK UNNEEDED, same version exists in internal repository
machv2 macOS 10.14.6 Mojave / x86_64  OK  OK  OK  OK UNNEEDED, same version exists in internal repository
Package 248/1905HostnameOS / ArchINSTALLBUILDCHECKBUILD BIN
cellGrowth 1.32.0
Julien Gagneur
Last Commit: f67b28f
Last Changed Date: 2020-04-27 14:29:08 -0400
malbec2 Linux (Ubuntu 18.04.4 LTS) / x86_64  OK  ERROR  skipped 
tokay2 Windows Server 2012 R2 Standard / x64  OK  ERROR  skipped  skipped 
machv2 macOS 10.14.6 Mojave / x86_64  OK  ERROR  skipped  skipped 
Package 249/1905HostnameOS / ArchINSTALLBUILDCHECKBUILD BIN
cellHTS2 2.52.0
Joseph Barry
Last Commit: 94333ac
Last Changed Date: 2020-04-27 14:15:21 -0400
malbec2 Linux (Ubuntu 18.04.4 LTS) / x86_64  OK  OK  OK UNNEEDED, same version exists in internal repository
tokay2 Windows Server 2012 R2 Standard / x64  OK  OK  OK  OK UNNEEDED, same version exists in internal repository
machv2 macOS 10.14.6 Mojave / x86_64  OK  OK  OK  OK UNNEEDED, same version exists in internal repository
Package 250/1905HostnameOS / ArchINSTALLBUILDCHECKBUILD BIN
cellity 1.16.0
Tomislav Ilicic
Last Commit: ac50675
Last Changed Date: 2020-04-27 14:54:50 -0400
malbec2 Linux (Ubuntu 18.04.4 LTS) / x86_64  OK  OK  OK UNNEEDED, same version exists in internal repository
tokay2 Windows Server 2012 R2 Standard / x64  OK  OK  OK  OK UNNEEDED, same version exists in internal repository
machv2 macOS 10.14.6 Mojave / x86_64  OK  OK  OK  OK UNNEEDED, same version exists in internal repository
Package 251/1905HostnameOS / ArchINSTALLBUILDCHECKBUILD BIN
CellMapper 1.14.0
Brad Nelms
Last Commit: 387dae1
Last Changed Date: 2020-04-27 15:00:27 -0400
malbec2 Linux (Ubuntu 18.04.4 LTS) / x86_64  OK  OK  WARNINGS UNNEEDED, same version exists in internal repository
tokay2 Windows Server 2012 R2 Standard / x64  OK  OK  WARNINGS  OK UNNEEDED, same version exists in internal repository
machv2 macOS 10.14.6 Mojave / x86_64  OK  OK  WARNINGS  OK UNNEEDED, same version exists in internal repository
Package 252/1905HostnameOS / ArchINSTALLBUILDCHECKBUILD BIN
CellMixS 1.4.2
Almut Lütge
Last Commit: 53d816b
Last Changed Date: 2020-09-08 02:40:49 -0400
malbec2 Linux (Ubuntu 18.04.4 LTS) / x86_64  OK  OK  OK UNNEEDED, same version exists in internal repository
tokay2 Windows Server 2012 R2 Standard / x64  OK  OK  OK  OK UNNEEDED, same version exists in internal repository
machv2 macOS 10.14.6 Mojave / x86_64  OK  OK  OK  OK UNNEEDED, same version exists in internal repository
Package 253/1905HostnameOS / ArchINSTALLBUILDCHECKBUILD BIN
CellNOptR 1.34.0
A.Gabor
Last Commit: bc86474
Last Changed Date: 2020-04-27 14:27:42 -0400
malbec2 Linux (Ubuntu 18.04.4 LTS) / x86_64  OK  OK  WARNINGS UNNEEDED, same version exists in internal repository
tokay2 Windows Server 2012 R2 Standard / x64  OK  OK  WARNINGS  OK UNNEEDED, same version exists in internal repository
machv2 macOS 10.14.6 Mojave / x86_64  OK  OK  WARNINGS  OK UNNEEDED, same version exists in internal repository
Package 254/1905HostnameOS / ArchINSTALLBUILDCHECKBUILD BIN
cellscape 1.12.0
Maia Smith
Last Commit: fd18a1b
Last Changed Date: 2020-04-27 15:05:30 -0400
malbec2 Linux (Ubuntu 18.04.4 LTS) / x86_64  OK  OK  WARNINGS UNNEEDED, same version exists in internal repository
tokay2 Windows Server 2012 R2 Standard / x64  OK  OK  WARNINGS  OK UNNEEDED, same version exists in internal repository
machv2 macOS 10.14.6 Mojave / x86_64  OK  OK  WARNINGS  OK UNNEEDED, same version exists in internal repository
Package 255/1905HostnameOS / ArchINSTALLBUILDCHECKBUILD BIN
CellScore 1.8.0
Nancy Mah
Last Commit: 796a585
Last Changed Date: 2020-04-27 15:13:55 -0400
malbec2 Linux (Ubuntu 18.04.4 LTS) / x86_64  OK  OK  OK UNNEEDED, same version exists in internal repository
tokay2 Windows Server 2012 R2 Standard / x64  OK  OK  OK  OK UNNEEDED, same version exists in internal repository
machv2 macOS 10.14.6 Mojave / x86_64  OK  OK  OK  OK UNNEEDED, same version exists in internal repository
Package 256/1905HostnameOS / ArchINSTALLBUILDCHECKBUILD BIN
CellTrails 1.6.1
Daniel Ellwanger
Last Commit: cc8c1b5
Last Changed Date: 2020-05-10 19:41:47 -0400
malbec2 Linux (Ubuntu 18.04.4 LTS) / x86_64  OK  OK  OK UNNEEDED, same version exists in internal repository
tokay2 Windows Server 2012 R2 Standard / x64  OK  OK  OK  OK UNNEEDED, same version exists in internal repository
machv2 macOS 10.14.6 Mojave / x86_64  OK  OK  OK  OK UNNEEDED, same version exists in internal repository
Package 257/1905HostnameOS / ArchINSTALLBUILDCHECKBUILD BIN
cellTree 1.18.0
David duVerle
Last Commit: 391e718
Last Changed Date: 2020-04-27 14:53:44 -0400
malbec2 Linux (Ubuntu 18.04.4 LTS) / x86_64  OK  OK  OK UNNEEDED, same version exists in internal repository
tokay2 Windows Server 2012 R2 Standard / x64  OK  OK  TIMEOUT  OK 
machv2 macOS 10.14.6 Mojave / x86_64  OK  OK  OK  OK UNNEEDED, same version exists in internal repository
Package 258/1905HostnameOS / ArchINSTALLBUILDCHECKBUILD BIN
CEMiTool 1.12.2
Helder Nakaya
Last Commit: 6b59055
Last Changed Date: 2020-09-01 23:11:29 -0400
malbec2 Linux (Ubuntu 18.04.4 LTS) / x86_64  OK  OK  WARNINGS UNNEEDED, same version exists in internal repository
tokay2 Windows Server 2012 R2 Standard / x64  OK  OK  WARNINGS  OK UNNEEDED, same version exists in internal repository
machv2 macOS 10.14.6 Mojave / x86_64  OK  OK  WARNINGS  OK UNNEEDED, same version exists in internal repository
Package 259/1905HostnameOS / ArchINSTALLBUILDCHECKBUILD BIN
ceRNAnetsim 1.0.0
Selcen Ari Yuka
Last Commit: 1468f1e
Last Changed Date: 2020-04-27 15:32:45 -0400
malbec2 Linux (Ubuntu 18.04.4 LTS) / x86_64  OK  OK  OK UNNEEDED, same version exists in internal repository
tokay2 Windows Server 2012 R2 Standard / x64  OK  OK  OK  OK UNNEEDED, same version exists in internal repository
machv2 macOS 10.14.6 Mojave / x86_64  OK  OK  OK  OK UNNEEDED, same version exists in internal repository
Package 260/1905HostnameOS / ArchINSTALLBUILDCHECKBUILD BIN
CeTF 1.0.7
Carlos Alberto Oliveira de Biagi Junior
Last Commit: e54fd31
Last Changed Date: 2020-08-27 13:26:44 -0400
malbec2 Linux (Ubuntu 18.04.4 LTS) / x86_64  OK  OK  OK UNNEEDED, same version exists in internal repository
tokay2 Windows Server 2012 R2 Standard / x64  OK  OK  OK  OK UNNEEDED, same version exists in internal repository
machv2 macOS 10.14.6 Mojave / x86_64  OK  OK  OK  OK UNNEEDED, same version exists in internal repository
Package 261/1905HostnameOS / ArchINSTALLBUILDCHECKBUILD BIN
CexoR 1.26.0
Pedro Madrigal
Last Commit: c6a2f6c
Last Changed Date: 2020-04-27 14:36:46 -0400
malbec2 Linux (Ubuntu 18.04.4 LTS) / x86_64  OK  OK  OK UNNEEDED, same version exists in internal repository
tokay2 Windows Server 2012 R2 Standard / x64  OK  OK  OK  OK UNNEEDED, same version exists in internal repository
machv2 macOS 10.14.6 Mojave / x86_64  OK  OK  OK  OK UNNEEDED, same version exists in internal repository
Package 262/1905HostnameOS / ArchINSTALLBUILDCHECKBUILD BIN
CFAssay 1.22.0
Herbert Braselmann
Last Commit: 3e5c36b
Last Changed Date: 2020-04-27 14:45:10 -0400
malbec2 Linux (Ubuntu 18.04.4 LTS) / x86_64  OK  OK  OK UNNEEDED, same version exists in internal repository
tokay2 Windows Server 2012 R2 Standard / x64  OK  OK  OK  OK UNNEEDED, same version exists in internal repository
machv2 macOS 10.14.6 Mojave / x86_64  OK  OK  OK  OK UNNEEDED, same version exists in internal repository
Package 263/1905HostnameOS / ArchINSTALLBUILDCHECKBUILD BIN
CGEN 3.24.0
William Wheeler
Last Commit: e26fb08
Last Changed Date: 2020-04-27 14:22:43 -0400
malbec2 Linux (Ubuntu 18.04.4 LTS) / x86_64  OK  OK  ERROR 
tokay2 Windows Server 2012 R2 Standard / x64  OK  OK  ERROR  OK 
machv2 macOS 10.14.6 Mojave / x86_64  OK  OK  ERROR  OK 
Package 264/1905HostnameOS / ArchINSTALLBUILDCHECKBUILD BIN
CGHbase 1.48.0
Mark van de Wiel
Last Commit: c05d75c
Last Changed Date: 2020-04-27 14:17:17 -0400
malbec2 Linux (Ubuntu 18.04.4 LTS) / x86_64  OK  OK  OK UNNEEDED, same version exists in internal repository
tokay2 Windows Server 2012 R2 Standard / x64  OK  OK  WARNINGS  OK UNNEEDED, same version exists in internal repository
machv2 macOS 10.14.6 Mojave / x86_64  OK  OK  OK  OK UNNEEDED, same version exists in internal repository
Package 265/1905HostnameOS / ArchINSTALLBUILDCHECKBUILD BIN
CGHcall 2.50.0
Mark van de Wiel
Last Commit: 0055950
Last Changed Date: 2020-04-27 14:15:39 -0400
malbec2 Linux (Ubuntu 18.04.4 LTS) / x86_64  OK  OK  OK UNNEEDED, same version exists in internal repository
tokay2 Windows Server 2012 R2 Standard / x64  OK  OK  OK  OK UNNEEDED, same version exists in internal repository
machv2 macOS 10.14.6 Mojave / x86_64  OK  OK  OK  OK UNNEEDED, same version exists in internal repository
Package 266/1905HostnameOS / ArchINSTALLBUILDCHECKBUILD BIN
cghMCR 1.46.0
J. Zhang
Last Commit: 9d05d22
Last Changed Date: 2020-04-27 14:13:13 -0400
malbec2 Linux (Ubuntu 18.04.4 LTS) / x86_64  OK  OK  WARNINGS UNNEEDED, same version exists in internal repository
tokay2 Windows Server 2012 R2 Standard / x64  OK  OK  WARNINGS  OK UNNEEDED, same version exists in internal repository
machv2 macOS 10.14.6 Mojave / x86_64  OK  OK  WARNINGS  OK UNNEEDED, same version exists in internal repository
Package 267/1905HostnameOS / ArchINSTALLBUILDCHECKBUILD BIN
CGHnormaliter 1.42.0
Bart P.P. van Houte
Last Commit: c609d4b
Last Changed Date: 2020-04-27 14:20:11 -0400
malbec2 Linux (Ubuntu 18.04.4 LTS) / x86_64  OK  OK  OK UNNEEDED, same version exists in internal repository
tokay2 Windows Server 2012 R2 Standard / x64  OK  OK  OK  OK UNNEEDED, same version exists in internal repository
machv2 macOS 10.14.6 Mojave / x86_64  OK  OK  OK  OK UNNEEDED, same version exists in internal repository
Package 268/1905HostnameOS / ArchINSTALLBUILDCHECKBUILD BIN
CGHregions 1.46.0
Sjoerd Vosse
Last Commit: 571109e
Last Changed Date: 2020-04-27 14:17:20 -0400
malbec2 Linux (Ubuntu 18.04.4 LTS) / x86_64  OK  OK  OK UNNEEDED, same version exists in internal repository
tokay2 Windows Server 2012 R2 Standard / x64  OK  OK  OK  OK UNNEEDED, same version exists in internal repository
machv2 macOS 10.14.6 Mojave / x86_64  OK  OK  OK  OK UNNEEDED, same version exists in internal repository
Package 269/1905HostnameOS / ArchINSTALLBUILDCHECKBUILD BIN
ChAMP 2.18.3
Yuan Tian
Last Commit: 8745a25
Last Changed Date: 2020-09-13 16:43:43 -0400
malbec2 Linux (Ubuntu 18.04.4 LTS) / x86_64  OK  OK  WARNINGS UNNEEDED, same version exists in internal repository
tokay2 Windows Server 2012 R2 Standard / x64  OK  OK  WARNINGS  OK UNNEEDED, same version exists in internal repository
machv2 macOS 10.14.6 Mojave / x86_64  OK  OK  WARNINGS  OK UNNEEDED, same version exists in internal repository
Package 270/1905HostnameOS / ArchINSTALLBUILDCHECKBUILD BIN
CHARGE 1.8.0
Benjamin Mayne
Last Commit: 35e64fe
Last Changed Date: 2020-04-27 15:13:06 -0400
malbec2 Linux (Ubuntu 18.04.4 LTS) / x86_64  ERROR  ERROR  skipped 
tokay2 Windows Server 2012 R2 Standard / x64  ERROR  ERROR  skipped  skipped 
machv2 macOS 10.14.6 Mojave / x86_64  ERROR  ERROR  skipped  skipped 
Package 271/1905HostnameOS / ArchINSTALLBUILDCHECKBUILD BIN
ChemmineOB 1.26.0
Thomas Girke
Last Commit: 720e55c
Last Changed Date: 2020-04-27 14:36:03 -0400
malbec2 Linux (Ubuntu 18.04.4 LTS) / x86_64  OK  OK  WARNINGS UNNEEDED, same version exists in internal repository
tokay2 Windows Server 2012 R2 Standard / x64  OK  OK  OK  OK UNNEEDED, same version exists in internal repository
machv2 macOS 10.14.6 Mojave / x86_64  OK  OK  WARNINGS  OK UNNEEDED, same version exists in internal repository
Package 272/1905HostnameOS / ArchINSTALLBUILDCHECKBUILD BIN
ChemmineR 3.40.0
Thomas Girke
Last Commit: dc28e93
Last Changed Date: 2020-04-27 14:18:14 -0400
malbec2 Linux (Ubuntu 18.04.4 LTS) / x86_64  OK  OK  OK UNNEEDED, same version exists in internal repository
tokay2 Windows Server 2012 R2 Standard / x64  OK  OK  ERROR  OK 
machv2 macOS 10.14.6 Mojave / x86_64  OK  OK  WARNINGS  OK UNNEEDED, same version exists in internal repository
Package 273/1905HostnameOS / ArchINSTALLBUILDCHECKBUILD BIN
CHETAH 1.4.0
Jurrian de Kanter
Last Commit: 701ca7f
Last Changed Date: 2020-04-27 15:24:40 -0400
malbec2 Linux (Ubuntu 18.04.4 LTS) / x86_64  OK  OK  OK UNNEEDED, same version exists in internal repository
tokay2 Windows Server 2012 R2 Standard / x64  OK  OK  OK  OK UNNEEDED, same version exists in internal repository
machv2 macOS 10.14.6 Mojave / x86_64  OK  OK  OK  OK UNNEEDED, same version exists in internal repository
Package 274/1905HostnameOS / ArchINSTALLBUILDCHECKBUILD BIN
ChIC 1.8.0
Carmen Maria Livi
Last Commit: c0d546e
Last Changed Date: 2020-04-27 15:15:51 -0400
malbec2 Linux (Ubuntu 18.04.4 LTS) / x86_64  OK  OK  OK UNNEEDED, same version exists in internal repository
tokay2 Windows Server 2012 R2 Standard / x64 ...NOT SUPPORTED...
machv2 macOS 10.14.6 Mojave / x86_64  OK  OK  OK  OK UNNEEDED, same version exists in internal repository
Package 275/1905HostnameOS / ArchINSTALLBUILDCHECKBUILD BIN
Chicago 1.16.1
Mikhail Spivakov
Last Commit: 73bfc0a
Last Changed Date: 2020-09-08 06:40:16 -0400
malbec2 Linux (Ubuntu 18.04.4 LTS) / x86_64  OK  OK  OK UNNEEDED, same version exists in internal repository
tokay2 Windows Server 2012 R2 Standard / x64  OK  OK  OK  OK UNNEEDED, same version exists in internal repository
machv2 macOS 10.14.6 Mojave / x86_64  OK  OK  OK  OK UNNEEDED, same version exists in internal repository
Package 276/1905HostnameOS / ArchINSTALLBUILDCHECKBUILD BIN
chimera 1.30.0
Raffaele A Calogero
Last Commit: e9ffbe3
Last Changed Date: 2020-04-27 14:33:16 -0400
malbec2 Linux (Ubuntu 18.04.4 LTS) / x86_64  OK  OK  OK UNNEEDED, same version exists in internal repository
tokay2 Windows Server 2012 R2 Standard / x64  OK  ERROR  skipped  skipped 
machv2 macOS 10.14.6 Mojave / x86_64  OK  OK  OK  OK UNNEEDED, same version exists in internal repository
Package 277/1905HostnameOS / ArchINSTALLBUILDCHECKBUILD BIN
chimeraviz 1.14.0
Stian Lågstad
Last Commit: fd9266e
Last Changed Date: 2020-04-27 15:03:55 -0400
malbec2 Linux (Ubuntu 18.04.4 LTS) / x86_64  OK  OK  OK UNNEEDED, same version exists in internal repository
tokay2 Windows Server 2012 R2 Standard / x64  OK  OK  OK  OK UNNEEDED, same version exists in internal repository
machv2 macOS 10.14.6 Mojave / x86_64  OK  ERROR  skipped  skipped 
Package 278/1905HostnameOS / ArchINSTALLBUILDCHECKBUILD BIN
ChIPanalyser 1.10.0
Patrick C.N. Martin
Last Commit: c8f1b51
Last Changed Date: 2020-04-27 15:09:59 -0400