Workflows build report for BioC 3.10

This page was generated on 2019-09-20 18:00:23 -0400 (Fri, 20 Sep 2019).

git log

Snapshot Date: 2019-09-20 11:00:01 -0400 (Fri, 20 Sep 2019)

HostnameOSArch (*)Platform label (**)R versionInstalled pkgs
malbec1Linux (Ubuntu 18.04.2 LTS)x86_64x86_64-linux-gnu3.6.1 (2019-07-05) -- "Action of the Toes" 3659
Click on any hostname to see more info about the system (e.g. compilers)      (*) as reported by 'uname -p', except on Windows and Mac OS X      (**) as reported by 'gcc -v'

Package status is indicated by one of the following glyphs
 TIMEOUT  INSTALL or BUILD of package took more than 120 minutes Use the check boxes to show only packages with the selected status types.
 ERROR  Bad DESCRIPTION file or INSTALL or BUILD of package failed
 OK  INSTALL or BUILD of package was OK
 skipped  CHECK or BUILD BIN of package was skipped because the BUILD step failed
 NA  BUILD result is not available because of an anomaly in the Build System
Click on any glyph in the report below to access the detailed results.
Package propagation status is indicated by one of the following LEDs
YES YES: Package was propagated because it didn't previously exist or version was bumped
NO NO: Package was not propagated because of a problem (impossible dependencies, or version lower than what is already propagated)
UNNEEDED UNNEEDED: Package was not propagated because it is already in the repository with this version. A version bump is required in order to propagate it

A crossed-out package name indicates the package is deprecated


SUMMARYOS / ArchINSTALLBUILD
malbec1 Linux (Ubuntu 18.04.2 LTS) / x86_64 
00270
0423
PackageMaintainerINSTALLBUILD
1/27annotation 1.9.2Bioconductor Package Maintainer OK  ERROR 
2/27arrays 1.11.0Bioconductor Package Maintainer OK  OK UNNEEDED, same version exists in internal repository
3/27BgeeCall 1.1.1Julien Wollbrett OK  OK UNNEEDED, same version exists in internal repository
4/27BiocMetaWorkflow 1.7.0Mike Smith OK  OK UNNEEDED, same version exists in internal repository
5/27CAGEWorkflow 1.1.2Malte Thodberg OK  OK UNNEEDED, same version exists in internal repository
6/27chipseqDB 1.9.4Aaron Lun OK  OK UNNEEDED, same version exists in internal repository
7/27csawUsersGuide 1.1.2Aaron Lun OK  OK UNNEEDED, same version exists in internal repository
8/27cytofWorkflow 1.9.3Malgorzata Nowicka OK  ERROR 
9/27EGSEA123 1.9.0Matthew Ritchie OK  OK UNNEEDED, same version exists in internal repository
10/27eQTL 1.9.0Vincent Carey OK  OK UNNEEDED, same version exists in internal repository
11/27ExpressionNormalizationWorkflow 1.11.0Karthikeyan Murugesan OK  OK UNNEEDED, same version exists in internal repository
12/27generegulation 1.9.0Bioconductor Package Maintainer OK  OK UNNEEDED, same version exists in internal repository
13/27highthroughputassays 1.9.1Bioconductor Package Maintainer OK  OK UNNEEDED, same version exists in internal repository
14/27liftOver 1.9.0Bioconductor Package Maintainer OK  OK UNNEEDED, same version exists in internal repository
15/27maEndToEnd 2.5.0Bernd Klaus OK  OK UNNEEDED, same version exists in internal repository
16/27methylationArrayAnalysis 1.9.1Jovana Maksimovic OK  OK UNNEEDED, same version exists in internal repository
17/27proteomics 1.9.1Laurent Gatto OK  ERROR 
18/27recountWorkflow 1.9.1Leonardo Collado-Torres OK  OK UNNEEDED, same version exists in internal repository
19/27RNAseq123 1.9.0Matthew Ritchie OK  OK UNNEEDED, same version exists in internal repository
20/27rnaseqDTU 1.5.1Michael Love OK  OK UNNEEDED, same version exists in internal repository
21/27rnaseqGene 1.9.2Michael Love OK  OK YES, new version is higher than in internal repository
22/27RnaSeqGeneEdgeRQL 1.9.0Yunshun Chen OK  OK UNNEEDED, same version exists in internal repository
23/27sequencing 1.9.0Bioconductor Package Maintainer OK  OK UNNEEDED, same version exists in internal repository
24/27simpleSingleCell 1.9.8Aaron Lun OK  ERROR 
25/27SingscoreAMLMutations 1.1.5Dharmesh D. Bhuva OK  OK UNNEEDED, same version exists in internal repository
26/27TCGAWorkflow 1.9.2Tiago Chedraoui Silva OK  OK UNNEEDED, same version exists in internal repository
27/27variants 1.9.0Bioconductor Package Maintainer OK  OK UNNEEDED, same version exists in internal repository