Multiple platform build/check report for BioC 3.10 experimental data

This page was generated on 2019-07-16 16:50:02 -0400 (Tue, 16 Jul 2019).

git log

Snapshot Date: 2019-07-16 09:00:05 -0400 (Tue, 16 Jul 2019)

HostnameOSArch (*)Platform label (**)R versionInstalled pkgs
malbec1Linux (Ubuntu 18.04.2 LTS)x86_64x86_64-linux-gnu3.6.1 (2019-07-05) -- "Action of the Toes" 3582
Click on any hostname to see more info about the system (e.g. compilers)      (*) as reported by 'uname -p', except on Windows and Mac OS X      (**) as reported by 'gcc -v'

Package status is indicated by one of the following glyphs
 TIMEOUT  INSTALL, BUILD, CHECK or BUILD BIN of package took more than 80 minutes Use the check boxes to show only packages with the selected status types.
 ERROR  Bad DESCRIPTION file or INSTALL, BUILD or BUILD BIN of package failed, or CHECK produced errors
 WARNINGS  CHECK of package produced warnings
 OK  INSTALL, BUILD, CHECK or BUILD BIN of package was OK
 skipped  CHECK or BUILD BIN of package was skipped because the BUILD step failed
 NA  BUILD, CHECK or BUILD BIN result is not available because of an anomaly in the Build System
Click on any glyph in the report below to access the detailed results.
Package propagation status is indicated by one of the following LEDs
YES YES: Package was propagated because it didn't previously exist or version was bumped
NO NO: Package was not propagated because of a problem (impossible dependencies, or version lower than what is already propagated)
UNNEEDED UNNEEDED: Package was not propagated because it is already in the repository with this version. A version bump is required in order to propagate it

A crossed-out package name indicates the package is deprecated


SUMMARYOS / ArchINSTALLBUILDCHECKBUILD BIN
malbec1 Linux (Ubuntu 18.04.2 LTS) / x86_64 
013750
04372
0582285
PackageMaintainerINSTALLBUILDCHECKBUILD BIN
1/376ABAData 1.15.0Steffi Grote OK  OK  OK UNNEEDED, same version exists in internal repository
2/376adductData 1.1.0Josie Hayes OK  OK  OK UNNEEDED, same version exists in internal repository
3/376affycompData 1.23.0Harris Jaffee OK  OK  OK UNNEEDED, same version exists in internal repository
4/376affydata 1.33.0Harris Jaffee OK  OK  WARNINGS UNNEEDED, same version exists in internal repository
5/376Affyhgu133A2Expr 1.21.0Zhicheng Ji OK  OK  OK UNNEEDED, same version exists in internal repository
6/376Affyhgu133aExpr 1.23.0Zhicheng Ji OK  OK  OK UNNEEDED, same version exists in internal repository
7/376Affyhgu133Plus2Expr 1.19.0Zhicheng Ji OK  OK  OK UNNEEDED, same version exists in internal repository
8/376AffymetrixDataTestFiles 0.23.0Henrik Bengtsson OK  OK  OK UNNEEDED, same version exists in internal repository
9/376Affymoe4302Expr 1.23.0Zhicheng Ji OK  OK  OK UNNEEDED, same version exists in internal repository
10/376airway 1.5.0Michael Love OK  OK  OK UNNEEDED, same version exists in internal repository
11/376ALL 1.27.0Robert Gentleman OK  OK  OK UNNEEDED, same version exists in internal repository
12/376allenpvc 1.3.1Diogo P. P. Branco OK  OK  WARNINGS UNNEEDED, same version exists in internal repository
13/376ALLMLL 1.25.0B. M. Bolstad OK  OK  OK UNNEEDED, same version exists in internal repository
14/376alpineData 1.11.0Michael Love OK  OK  OK UNNEEDED, same version exists in internal repository
15/376AmpAffyExample 1.25.0Rafael A. Irizarry OK  OK  WARNINGS UNNEEDED, same version exists in internal repository
16/376AneuFinderData 1.13.0Aaron Taudt OK  OK  WARNINGS UNNEEDED, same version exists in internal repository
17/376antiProfilesData 1.21.0Hector Corrada Bravo OK  OK  OK UNNEEDED, same version exists in internal repository
18/376aracne.networks 1.11.0Federico M. Giorgi , Mariano Alvarez OK  OK  WARNINGS UNNEEDED, same version exists in internal repository
19/376ARRmData 1.21.0Jean-Philippe Fortin OK  OK  OK UNNEEDED, same version exists in internal repository
20/376AshkenazimSonChr21 1.15.0Who to complain to OK  OK  OK UNNEEDED, same version exists in internal repository
21/376ASICSdata 1.5.0Gaëlle Lefort OK  OK  OK UNNEEDED, same version exists in internal repository
22/376AssessORFData 1.3.0Deepank Korandla OK  OK  OK UNNEEDED, same version exists in internal repository
23/376bcellViper 1.21.0Mariano Javier Alvarez OK  OK  OK UNNEEDED, same version exists in internal repository
24/376beadarrayExampleData 1.23.0Mark Dunning OK  OK  OK UNNEEDED, same version exists in internal repository
25/376BeadArrayUseCases 1.23.1Mike Smith OK  OK  OK UNNEEDED, same version exists in internal repository
26/376benchmarkfdrData2019 0.99.15Stephanie Hicks OK  OK  OK UNNEEDED, same version exists in internal repository
27/376beta7 1.23.0Jean Yang OK  OK  WARNINGS UNNEEDED, same version exists in internal repository
28/376biotmleData 1.9.0Nima Hejazi OK  OK  OK UNNEEDED, same version exists in internal repository
29/376bladderbatch 1.23.0Jeffrey T. Leek OK  OK  WARNINGS UNNEEDED, same version exists in internal repository
30/376blimaTestingData 1.5.0Vojtech Kulvait OK  OK  OK UNNEEDED, same version exists in internal repository
31/376BloodCancerMultiOmics2017 1.5.0Malgorzata Oles OK  OK  OK UNNEEDED, same version exists in internal repository
32/376bodymapRat 1.1.0Stephanie Hicks OK  OK  OK UNNEEDED, same version exists in internal repository
33/376brainImageRdata 1.3.0Sara Linker OK  OK  OK UNNEEDED, same version exists in internal repository
34/376breakpointRdata 1.3.0David Porubsky OK  OK  OK UNNEEDED, same version exists in internal repository
35/376breastCancerMAINZ 1.23.0Markus Schroeder , Benjamin Haibe-Kains OK  OK  WARNINGS UNNEEDED, same version exists in internal repository
36/376breastCancerNKI 1.23.0Markus Schroeder , Benjamin Haibe-Kains OK  OK  WARNINGS UNNEEDED, same version exists in internal repository
37/376breastCancerTRANSBIG 1.23.0Markus Schroeder , Benjamin Haibe-Kains OK  OK  WARNINGS UNNEEDED, same version exists in internal repository
38/376breastCancerUNT 1.23.0Markus Schroeder , Benjamin Haibe-Kains OK  OK  WARNINGS UNNEEDED, same version exists in internal repository
39/376breastCancerUPP 1.23.0Markus Schroeder , Benjamin Haibe-Kains OK  OK  WARNINGS UNNEEDED, same version exists in internal repository
40/376breastCancerVDX 1.23.0Markus Schroeder , Benjamin Haibe-Kains OK  OK  WARNINGS UNNEEDED, same version exists in internal repository
41/376brgedata 1.7.0Carlos Ruiz-Arenas OK  OK  WARNINGS UNNEEDED, same version exists in internal repository
42/376bronchialIL13 1.23.0Vince Carey OK  OK  OK UNNEEDED, same version exists in internal repository
43/376bsseqData 0.23.0Kasper Daniel Hansen OK  OK  OK UNNEEDED, same version exists in internal repository
44/376cancerdata 1.23.0Daniel Kosztyla OK  OK  OK UNNEEDED, same version exists in internal repository
45/376CardinalWorkflows 1.17.0Kylie A. Bemis OK  OK  OK UNNEEDED, same version exists in internal repository
46/376ccdata 1.11.0Alex Pickering OK  OK  WARNINGS UNNEEDED, same version exists in internal repository
47/376CCl4 1.23.0Audrey Kauffmann OK  OK  WARNINGS UNNEEDED, same version exists in internal repository
48/376ccTutorial 1.23.0Joern Toedling OK  OK  OK UNNEEDED, same version exists in internal repository
49/376celarefData 1.3.1Sarah Williams OK  OK  OK UNNEEDED, same version exists in internal repository
50/376CellMapperData 1.11.0Brad Nelms OK  OK  OK UNNEEDED, same version exists in internal repository
51/376ceu1kg 0.23.0VJ Carey OK  OK  OK UNNEEDED, same version exists in internal repository
52/376ceu1kgv 0.27.0VJ Carey OK  OK  OK UNNEEDED, same version exists in internal repository
53/376ceuhm3 0.23.0VJ Carey OK  OK  OK UNNEEDED, same version exists in internal repository
54/376cgdv17 0.23.0VJ Carey OK  OK  OK UNNEEDED, same version exists in internal repository
55/376ChAMPdata 2.17.0Yuan Tian OK  OK  OK UNNEEDED, same version exists in internal repository
56/376charmData 1.21.1Martin Aryee ERROR  OK  ERROR 
57/376ChIC.data 1.5.0Carmen Maria Livi OK  OK  OK UNNEEDED, same version exists in internal repository
58/376ChimpHumanBrainData 1.23.0Sean Davis OK  OK  OK UNNEEDED, same version exists in internal repository
59/376chipenrich.data 2.9.0Raymond G. Cavalcante OK  OK  OK UNNEEDED, same version exists in internal repository
60/376ChIPexoQualExample 1.9.0Rene Welch OK  OK  OK UNNEEDED, same version exists in internal repository
61/376chipseqDBData 1.1.0Aaron Lun OK  OK  OK UNNEEDED, same version exists in internal repository
62/376ChIPXpressData 1.23.0George Wu OK  OK  WARNINGS UNNEEDED, same version exists in internal repository
63/376chromstaRData 1.11.0Aaron Taudt OK  OK  OK UNNEEDED, same version exists in internal repository
64/376CLL 1.25.0Robert Gentleman OK  OK  OK UNNEEDED, same version exists in internal repository
65/376CLLmethylation 1.5.0Malgorzata Oles , Andreas Mock OK  OK  OK UNNEEDED, same version exists in internal repository
66/376CluMSIDdata 1.1.0Tobias Depke OK  OK  OK UNNEEDED, same version exists in internal repository
67/376cMap2data 1.21.0J. Saez-Rodriguez OK  OK  OK UNNEEDED, same version exists in internal repository
68/376cnvGSAdata 1.21.0Joseph Lugo OK  OK  WARNINGS UNNEEDED, same version exists in internal repository
69/376COHCAPanno 1.21.0Charles Warden OK  OK  OK UNNEEDED, same version exists in internal repository
70/376colonCA 1.27.0W Sylvia Merk OK  OK  WARNINGS UNNEEDED, same version exists in internal repository
71/376CONFESSdata 1.13.0Diana LOW OK  OK  OK UNNEEDED, same version exists in internal repository
72/376ConnectivityMap 1.21.0Paul Shannon OK  OK  OK UNNEEDED, same version exists in internal repository
73/376COPDSexualDimorphism.data 1.21.0J Fah Sathirapongsasuti OK  OK  WARNINGS UNNEEDED, same version exists in internal repository
74/376CopyhelpeR 1.17.0Oscar Krijgsman OK  OK  OK UNNEEDED, same version exists in internal repository
75/376CopyNeutralIMA 1.3.0Xavier Pastor Hostench OK  OK  OK UNNEEDED, same version exists in internal repository
76/376COSMIC.67 1.21.0Julian Gehring OK  OK  OK UNNEEDED, same version exists in internal repository
77/376CRCL18 1.5.0Claudio Isella OK  OK  OK UNNEEDED, same version exists in internal repository
78/376curatedAdipoChIP 1.1.0Mahmoud Ahmed OK  OK  OK UNNEEDED, same version exists in internal repository
79/376curatedAdipoRNA 1.1.0Mahmoud Ahmed OK  OK  OK UNNEEDED, same version exists in internal repository
80/376curatedBladderData 1.21.0Markus Riester OK  OK  OK UNNEEDED, same version exists in internal repository
81/376curatedBreastData 2.13.0Katie Planey OK  OK  OK UNNEEDED, same version exists in internal repository
82/376curatedCRCData 2.17.0Princy Parsana OK  OK  OK UNNEEDED, same version exists in internal repository
83/376curatedMetagenomicData 1.15.1Lucas Schiffer OK  OK  OK UNNEEDED, same version exists in internal repository
84/376curatedOvarianData 1.23.0Levi Waldron OK  OK  OK UNNEEDED, same version exists in internal repository
85/376curatedTCGAData 1.7.0Marcel Ramos OK  OK  OK UNNEEDED, same version exists in internal repository
86/376DAPARdata 1.15.0Samuel Wieczorek OK  OK  WARNINGS UNNEEDED, same version exists in internal repository
87/376davidTiling 1.25.0Wolfgang Huber OK  OK  WARNINGS UNNEEDED, same version exists in internal repository
88/376depmap 0.99.4Laurent Gatto OK  OK  OK UNNEEDED, same version exists in internal repository
89/376derfinderData 2.3.1Leonardo Collado-Torres OK  OK  OK UNNEEDED, same version exists in internal repository
90/376DeSousa2013 1.21.0Xin Wang OK  OK  OK UNNEEDED, same version exists in internal repository
91/376diffloopdata 1.13.0Caleb Lareau OK  OK  OK UNNEEDED, same version exists in internal repository
92/376diggitdata 1.17.1Mariano Javier Alvarez OK  OK  WARNINGS UNNEEDED, same version exists in internal repository
93/376DLBCL 1.25.0Marcus Dittrich OK  OK  WARNINGS UNNEEDED, same version exists in internal repository
94/376DmelSGI 1.17.0Bernd Fischer OK  OK  OK UNNEEDED, same version exists in internal repository
95/376DMRcatedata 1.21.0Tim Peters OK  OK  WARNINGS UNNEEDED, same version exists in internal repository
96/376DonaPLLP2013 1.23.0Joseph D. Barry OK  OK  OK UNNEEDED, same version exists in internal repository
97/376DREAM4 1.21.0Paul Shannon OK  OK  WARNINGS UNNEEDED, same version exists in internal repository
98/376dressCheck 0.23.0Vincent Carey OK  OK  OK UNNEEDED, same version exists in internal repository
99/376DrugVsDiseasedata 1.21.0J. Saez-Rodriguez OK  OK  OK UNNEEDED, same version exists in internal repository
100/376dsQTL 0.23.0VJ Carey OK  OK  OK UNNEEDED, same version exists in internal repository
101/376DuoClustering2018 1.3.0Angelo Duò OK  OK  OK UNNEEDED, same version exists in internal repository
102/376DvDdata 1.21.0J. Saez-Rodriguez OK  OK  OK UNNEEDED, same version exists in internal repository
103/376dyebiasexamples 1.25.0Philip Lijnzaad OK  OK  WARNINGS UNNEEDED, same version exists in internal repository
104/376EatonEtAlChIPseq 0.23.0Patrick Aboyoun OK  OK  WARNINGS UNNEEDED, same version exists in internal repository
105/376ecoliLeucine 1.25.0Laurent Gautier OK  OK  WARNINGS UNNEEDED, same version exists in internal repository
106/376EGSEAdata 1.13.0Monther Alhamdoosh OK  OK  OK UNNEEDED, same version exists in internal repository
107/376ELMER.data 2.9.3Tiago Chedraoui Silva OK  OK  OK UNNEEDED, same version exists in internal repository
108/376estrogen 1.31.0Wolfgang Huber OK  OK  OK UNNEEDED, same version exists in internal repository
109/376etec16s 1.13.0Joseph N. Paulson OK  OK  OK UNNEEDED, same version exists in internal repository
110/376faahKO 1.25.0Colin A. Smith OK  OK  OK UNNEEDED, same version exists in internal repository
111/376fabiaData 1.23.0Sepp Hochreiter OK  OK  OK UNNEEDED, same version exists in internal repository
112/376facopy.annot 1.5.1David Mosen-Ansorena OK  OK  WARNINGS UNNEEDED, same version exists in internal repository
113/376facsDorit 1.27.0Florian Hahne OK  OK  OK UNNEEDED, same version exists in internal repository
114/376FANTOM3and4CAGE 1.21.0Vanja Haberle OK  OK  OK UNNEEDED, same version exists in internal repository
115/376ffpeExampleData 1.23.0Levi Waldron OK  OK  OK UNNEEDED, same version exists in internal repository
116/376fibroEset 1.27.0Sylvia Merk OK  OK  WARNINGS UNNEEDED, same version exists in internal repository
117/376FIs 1.13.0Herbert Braselmann OK  OK  OK UNNEEDED, same version exists in internal repository
118/376fission 1.5.0Michael Love OK  OK  OK UNNEEDED, same version exists in internal repository
119/376Fletcher2013a 1.21.0Mauro Castro OK  OK  OK UNNEEDED, same version exists in internal repository
120/376Fletcher2013b 1.21.0Mauro Castro OK  OK  OK UNNEEDED, same version exists in internal repository
121/376flowFitExampleData 1.21.0Davide Rambaldi OK  OK  OK UNNEEDED, same version exists in internal repository
122/376flowPloidyData 1.11.0Tyler Smith OK  OK  OK UNNEEDED, same version exists in internal repository
123/376FlowSorted.Blood.450k 1.23.0Andrew E Jaffe OK  OK  OK UNNEEDED, same version exists in internal repository
124/376FlowSorted.Blood.EPIC 1.3.0Lucas A. Salas OK  OK  OK UNNEEDED, same version exists in internal repository
125/376FlowSorted.CordBlood.450k 1.13.0Shan V. Andrews OK  OK  OK UNNEEDED, same version exists in internal repository
126/376FlowSorted.CordBloodCombined.450k 1.1.0Lucas A. Salas OK  OK  OK UNNEEDED, same version exists in internal repository
127/376FlowSorted.CordBloodNorway.450k 1.11.0kristina gervin OK  OK  OK UNNEEDED, same version exists in internal repository
128/376FlowSorted.DLPFC.450k 1.21.0Andrew E Jaffe OK  OK  OK UNNEEDED, same version exists in internal repository
129/376flowWorkspaceData 2.21.0Mike Jiang OK  OK  OK UNNEEDED, same version exists in internal repository
130/376frmaExampleData 1.21.0Matthew N. McCall OK  OK  WARNINGS UNNEEDED, same version exists in internal repository
131/376FunciSNP.data 1.21.0Simon G. Coetzee OK  OK  OK UNNEEDED, same version exists in internal repository
132/376furrowSeg 1.13.0Joseph Barry OK  OK  WARNINGS UNNEEDED, same version exists in internal repository
133/376gageData 2.23.0Weijun Luo OK  OK  OK UNNEEDED, same version exists in internal repository
134/376gaschYHS 1.23.0Vince Carey OK  OK  OK UNNEEDED, same version exists in internal repository
135/376gatingMLData 2.25.0J. Spidlen OK  OK  ERROR 
136/376gcspikelite 1.23.0Mark Robinson OK  OK  WARNINGS UNNEEDED, same version exists in internal repository
137/376geneLenDataBase 1.21.0Matthew Young , Nadia Davidson OK  OK  WARNINGS UNNEEDED, same version exists in internal repository
138/376genomationData 1.17.0Vedran Franke OK  OK  OK UNNEEDED, same version exists in internal repository
139/376GeuvadisTranscriptExpr 1.13.0Malgorzata Nowicka OK  OK  OK UNNEEDED, same version exists in internal repository
140/376geuvPack 1.17.0VJ Carey OK  OK  OK UNNEEDED, same version exists in internal repository
141/376geuvStore2 1.15.0VJ Carey OK  OK  WARNINGS UNNEEDED, same version exists in internal repository
142/376GGdata 1.23.0VJ Carey OK  OK  OK UNNEEDED, same version exists in internal repository
143/376GIGSEAdata 1.3.0Shijia Zhu OK  OK  OK UNNEEDED, same version exists in internal repository
144/376golubEsets 1.27.0Vince Carey OK  OK  OK UNNEEDED, same version exists in internal repository
145/376grndata 1.17.0Pau Bellot OK  OK  OK UNNEEDED, same version exists in internal repository
146/376GSBenchMark 1.5.0Bahman Afsari OK  OK  OK UNNEEDED, same version exists in internal repository
147/376GSE62944 1.13.0Bioconductor Package Maintainer OK  OK  OK UNNEEDED, same version exists in internal repository
148/376gskb 1.17.0Valerie Bares OK  OK  OK UNNEEDED, same version exists in internal repository
149/376GSVAdata 1.21.0Robert Castelo OK  OK  OK UNNEEDED, same version exists in internal repository
150/376GWASdata 1.23.0Stephanie Gogarten , Adrienne Stilp OK  OK  OK UNNEEDED, same version exists in internal repository
151/376h5vcData 2.5.0Paul Theodor Pyl OK  OK  OK UNNEEDED, same version exists in internal repository
152/376hapmap100khind 1.27.0Benilton Carvalho OK  OK  OK UNNEEDED, same version exists in internal repository
153/376hapmap100kxba 1.27.0Benilton Carvalho OK  OK  OK UNNEEDED, same version exists in internal repository
154/376hapmap500knsp 1.27.0Benilton Carvalho OK  OK  OK UNNEEDED, same version exists in internal repository
155/376hapmap500ksty 1.27.0Benilton Carvalho OK  OK  OK UNNEEDED, same version exists in internal repository
156/376hapmapsnp5 1.27.0Benilton Carvalho OK  OK  OK UNNEEDED, same version exists in internal repository
157/376hapmapsnp6 1.27.0Benilton Carvalho OK  OK  OK UNNEEDED, same version exists in internal repository
158/376harbChIP 1.23.0VJ Carey OK  OK  OK UNNEEDED, same version exists in internal repository
159/376HarmanData 1.13.0Jason Ross OK  OK  OK UNNEEDED, same version exists in internal repository
160/376HarmonizedTCGAData 1.7.0Tianle Ma OK  OK  OK UNNEEDED, same version exists in internal repository
161/376HCAData 1.1.1Federico Marini OK  OK  OK UNNEEDED, same version exists in internal repository
162/376HD2013SGI 1.25.0Bernd Fischer OK  OK  OK UNNEEDED, same version exists in internal repository
163/376HDCytoData 1.5.0Lukas M. Weber OK  OK  OK UNNEEDED, same version exists in internal repository
164/376healthyFlowData 1.23.0Ariful Azad OK  OK  OK UNNEEDED, same version exists in internal repository
165/376HEEBOdata 1.23.0Agnes Paquet OK  OK  WARNINGS UNNEEDED, same version exists in internal repository
166/376HelloRangesData 1.11.0Michael Lawrence OK  OK  OK UNNEEDED, same version exists in internal repository
167/376hgu133abarcodevecs 1.23.0Matthew N. McCall OK  OK  OK UNNEEDED, same version exists in internal repository
168/376hgu133plus2barcodevecs 1.23.0Matthew N. McCall OK  OK  OK UNNEEDED, same version exists in internal repository
169/376hgu133plus2CellScore 1.5.0Nancy Mah OK  OK  OK UNNEEDED, same version exists in internal repository
170/376hgu2beta7 1.25.0Bioconductor Package Maintainer OK  OK  WARNINGS UNNEEDED, same version exists in internal repository
171/376HiCDataHumanIMR90 1.5.0Nicolas Servant OK  OK  OK UNNEEDED, same version exists in internal repository
172/376HiCDataLymphoblast 1.21.1Borbala Mifsud OK  OK  OK UNNEEDED, same version exists in internal repository
173/376Hiiragi2013 1.21.0Andrzej Oles OK  OK  OK UNNEEDED, same version exists in internal repository
174/376HIVcDNAvantWout03 1.25.0Chris Fraley OK  OK  WARNINGS UNNEEDED, same version exists in internal repository
175/376HMP16SData 1.5.1Lucas Schiffer OK  OK  OK UNNEEDED, same version exists in internal repository
176/376HMP2Data 0.99.4John Stansfield OK  OK  OK UNNEEDED, same version exists in internal repository
177/376hmyriB36 1.21.0Vincent Carey OK  OK  OK UNNEEDED, same version exists in internal repository
178/376HSMMSingleCell 1.5.0Cole Trapnell OK  OK  WARNINGS UNNEEDED, same version exists in internal repository
179/376HumanAffyData 1.11.0Brad Nelms OK  OK  OK UNNEEDED, same version exists in internal repository
180/376humanStemCell 0.25.0R. Gentleman OK  OK  WARNINGS UNNEEDED, same version exists in internal repository
181/376IHWpaper 1.13.0Nikos Ignatiadis OK  OK  OK UNNEEDED, same version exists in internal repository
182/376Illumina450ProbeVariants.db 1.21.0Tiffany Morris OK  OK  OK UNNEEDED, same version exists in internal repository
183/376IlluminaDataTestFiles 1.23.0Kasper Daniel Hansen OK  OK  OK UNNEEDED, same version exists in internal repository
184/376ITALICSData 2.23.0Guillem Rigaill OK  OK  WARNINGS UNNEEDED, same version exists in internal repository
185/376Iyer517 1.27.0Vince Carey OK  OK  OK UNNEEDED, same version exists in internal repository
186/376JASPAR2014 1.21.0Ge Tan OK  OK  OK UNNEEDED, same version exists in internal repository
187/376JASPAR2016 1.13.0Ge Tan OK  OK  OK UNNEEDED, same version exists in internal repository
188/376JctSeqData 1.15.0Stephen Hartley OK  OK  OK UNNEEDED, same version exists in internal repository
189/376KEGGandMetacoreDzPathwaysGEO 1.5.0Gaurav Bhatti OK  OK  OK UNNEEDED, same version exists in internal repository
190/376KEGGdzPathwaysGEO 1.23.0Gaurav Bhatti OK  OK  OK UNNEEDED, same version exists in internal repository
191/376kidpack 1.27.0Wolfgang Huber OK  OK  WARNINGS UNNEEDED, same version exists in internal repository
192/376KOdata 1.11.0Shana White OK  OK  OK UNNEEDED, same version exists in internal repository
193/376leeBamViews 1.21.0VJ Carey OK  ERROR  skipped 
194/376leukemiasEset 1.21.0Sara Aibar OK  OK  OK UNNEEDED, same version exists in internal repository
195/376LiebermanAidenHiC2009 0.23.0Felix Klein OK  OK  WARNINGS UNNEEDED, same version exists in internal repository
196/376ListerEtAlBSseq 1.17.0Kamal Kishore OK  OK  WARNINGS UNNEEDED, same version exists in internal repository
197/376lumiBarnes 1.25.0Pan Du OK  OK  WARNINGS UNNEEDED, same version exists in internal repository
198/376LungCancerACvsSCCGEO 1.21.0Adi Laurentiu Tarca OK  OK  OK UNNEEDED, same version exists in internal repository
199/376LungCancerLines 0.23.0Cory Barr OK  OK  OK UNNEEDED, same version exists in internal repository
200/376lungExpression 0.23.0Robert Scharpf OK  OK  OK UNNEEDED, same version exists in internal repository
201/376lydata 1.11.0Alex Pickering OK  OK  OK UNNEEDED, same version exists in internal repository
202/376M3DExampleData 1.11.0Tallulah Andrews OK  OK  WARNINGS UNNEEDED, same version exists in internal repository
203/376macrophage 1.1.0Michael Love OK  OK  OK UNNEEDED, same version exists in internal repository
204/376mammaPrintData 1.21.0Luigi Marchionni OK  OK  OK UNNEEDED, same version exists in internal repository
205/376mAPKLData 1.17.0Argiris Sakellariou OK  OK  WARNINGS UNNEEDED, same version exists in internal repository
206/376maqcExpression4plex 1.29.0Benilton Carvalho OK  OK  OK UNNEEDED, same version exists in internal repository
207/376MAQCsubset 1.23.0VJ Carey OK  OK  OK UNNEEDED, same version exists in internal repository
208/376MAQCsubsetAFX 1.23.0Laurent Gatto OK  OK  OK UNNEEDED, same version exists in internal repository
209/376MAQCsubsetILM 1.23.0Laurent Gatto OK  OK  OK UNNEEDED, same version exists in internal repository
210/376mCSEAdata 1.5.0Jordi Martorell Marugán OK  OK  OK UNNEEDED, same version exists in internal repository
211/376mcsurvdata 1.3.0Adria Caballe Mestres OK  OK  OK UNNEEDED, same version exists in internal repository
212/376MEDIPSData 1.21.0Lukas Chavez OK  OK  OK UNNEEDED, same version exists in internal repository
213/376MEEBOdata 1.23.0Agnes Paquet OK  OK  WARNINGS UNNEEDED, same version exists in internal repository
214/376MetaGxBreast 1.5.0Michael Zon OK  OK  OK UNNEEDED, same version exists in internal repository
215/376MetaGxOvarian 1.5.0Michael Zon OK  OK  WARNINGS UNNEEDED, same version exists in internal repository
216/376MetaGxPancreas 1.5.0Michael Zon OK  OK  OK UNNEEDED, same version exists in internal repository
217/376metaMSdata 1.21.0Ron Wehrens OK  OK  OK UNNEEDED, same version exists in internal repository
218/376MethylAidData 1.17.0M. van Iterson OK  OK  OK UNNEEDED, same version exists in internal repository
219/376methyvimData 1.7.0Nima Hejazi OK  OK  OK UNNEEDED, same version exists in internal repository
220/376microRNAome 1.7.0Matthew N. McCall OK  OK  OK UNNEEDED, same version exists in internal repository
221/376MIGSAdata 1.9.0Juan C. Rodriguez OK  OK  OK UNNEEDED, same version exists in internal repository
222/376minfiData 0.31.0Kasper Daniel Hansen OK  OK  OK UNNEEDED, same version exists in internal repository
223/376minfiDataEPIC 1.11.0Kasper Daniel Hansen OK  OK  OK UNNEEDED, same version exists in internal repository
224/376minionSummaryData 1.15.0Mike Smith OK  OK  OK UNNEEDED, same version exists in internal repository
225/376miRcompData 1.15.0Matthew N. McCall OK  OK  OK UNNEEDED, same version exists in internal repository
226/376miRNATarget 1.23.0Y-h. Taguchi OK  OK  OK UNNEEDED, same version exists in internal repository
227/376mitoODEdata 1.21.0Gregoire Pau OK  OK  OK UNNEEDED, same version exists in internal repository
228/376MMAPPR2data 0.99.20Jonathon Hill OK  OK  OK UNNEEDED, same version exists in internal repository
229/376MMDiffBamSubset 1.21.0Gabriele Schweikert OK  OK  OK UNNEEDED, same version exists in internal repository
230/376MOFAdata 1.1.0Britta Velten OK  OK  OK UNNEEDED, same version exists in internal repository
231/376mosaicsExample 1.23.0Dongjun Chung OK  OK  OK UNNEEDED, same version exists in internal repository
232/376mouse4302barcodevecs 1.23.0Matthew N. McCall OK  OK  OK UNNEEDED, same version exists in internal repository
233/376msd16s 1.5.0Joseph N. Paulson OK  OK  OK UNNEEDED, same version exists in internal repository
234/376msdata 0.25.2Steffen Neumann , Laurent Gatto OK  OK  OK YES, new version is higher than in internal repository
235/376MSMB 1.3.0Wolfgang Huber OK  OK  WARNINGS UNNEEDED, same version exists in internal repository
236/376msPurityData 1.13.0Thomas N. Lawson OK  OK  OK UNNEEDED, same version exists in internal repository
237/376msqc1 1.13.0Christian Panse OK  OK  OK UNNEEDED, same version exists in internal repository
238/376MSstatsBioData 1.7.0Meena Choi OK  OK  OK UNNEEDED, same version exists in internal repository
239/376mtbls2 1.15.0Steffen Neumann OK  OK  OK UNNEEDED, same version exists in internal repository
240/376MTseekerData 1.3.0Tim Triche, Jr. OK  OK  ERROR 
241/376MUGAExampleData 1.5.0Daniel Gatti OK  OK  OK UNNEEDED, same version exists in internal repository
242/376Mulder2012 0.25.0Xin Wang OK  OK  OK UNNEEDED, same version exists in internal repository
243/376muscData 0.99.6Helena L. Crowell OK  OK  OK UNNEEDED, same version exists in internal repository
244/376mvoutData 1.21.0VJ Carey OK  OK  OK UNNEEDED, same version exists in internal repository
245/376nanotubes 1.1.0Malte Thodberg OK  OK  OK UNNEEDED, same version exists in internal repository
246/376NCIgraphData 1.21.0Laurent Jacob OK  OK  WARNINGS UNNEEDED, same version exists in internal repository
247/376NestLink 1.1.0Christian Panse OK  OK  OK UNNEEDED, same version exists in internal repository
248/376Neve2006 0.23.0VJ Carey OK  OK  OK UNNEEDED, same version exists in internal repository
249/376NGScopyData 1.5.0Xiaobei Zhao OK  OK  OK UNNEEDED, same version exists in internal repository
250/376oct4 1.1.0Michael Love OK  OK  OK UNNEEDED, same version exists in internal repository
251/376OMICsPCAdata 1.3.0Subhadeep Das OK  OK  OK UNNEEDED, same version exists in internal repository
252/376OnassisJavaLibs 1.7.0Eugenia Galeota OK  OK  OK UNNEEDED, same version exists in internal repository
253/376parathyroidSE 1.23.0Michael Love OK  OK  OK UNNEEDED, same version exists in internal repository
254/376pasilla 1.13.0Alejandro Reyes OK  OK  OK UNNEEDED, same version exists in internal repository
255/376pasillaBamSubset 0.23.0Hervé Pagès OK  OK  OK UNNEEDED, same version exists in internal repository
256/376PasillaTranscriptExpr 1.13.0Malgorzata Nowicka OK  OK  OK UNNEEDED, same version exists in internal repository
257/376PathNetData 1.21.0Jason B. Smith OK  OK  OK UNNEEDED, same version exists in internal repository
258/376pathprintGEOData 1.15.0Sokratis Kariotis OK  OK  WARNINGS UNNEEDED, same version exists in internal repository
259/376pcaGoPromoter.Hs.hg19 1.21.0Morten Hansen OK  OK  OK UNNEEDED, same version exists in internal repository
260/376pcaGoPromoter.Mm.mm9 1.21.0Morten Hansen OK  OK  OK UNNEEDED, same version exists in internal repository
261/376pcaGoPromoter.Rn.rn4 1.21.0Morten Hansen, OK  OK  OK UNNEEDED, same version exists in internal repository
262/376PCHiCdata 1.13.0Paula Freire-Pritchett OK  OK  OK UNNEEDED, same version exists in internal repository
263/376pcxnData 2.7.0Sokratis Kariotis OK  OK  WARNINGS UNNEEDED, same version exists in internal repository
264/376pd.atdschip.tiling 0.23.0Kristof De Beuf OK  OK  WARNINGS UNNEEDED, same version exists in internal repository
265/376pepDat 1.5.0Renan Sauteraud OK  OK  OK UNNEEDED, same version exists in internal repository
266/376PepsNMRData 1.3.0Manon Martin OK  OK  OK UNNEEDED, same version exists in internal repository
267/376plasFIA 1.13.0Alexis Delabriere OK  OK  OK UNNEEDED, same version exists in internal repository
268/376ppiData 0.23.0Bioconductor Package Maintainer OK  OK  WARNINGS UNNEEDED, same version exists in internal repository
269/376prebsdata 1.21.0Karolis Uziela OK  OK  OK UNNEEDED, same version exists in internal repository
270/376PREDAsampledata 0.25.0Francesco Ferrari OK  OK  OK UNNEEDED, same version exists in internal repository
271/376ProData 1.23.0Xiaochun Li OK  OK  OK UNNEEDED, same version exists in internal repository
272/376pRolocdata 1.23.0Laurent Gatto OK  OK  OK UNNEEDED, same version exists in internal repository
273/376prostateCancerCamcap 1.13.0Mark Dunning OK  OK  OK UNNEEDED, same version exists in internal repository
274/376prostateCancerGrasso 1.13.0Mark Dunning OK  OK  OK UNNEEDED, same version exists in internal repository
275/376prostateCancerStockholm 1.13.0Mark Dunning OK  OK  OK UNNEEDED, same version exists in internal repository
276/376prostateCancerTaylor 1.13.0Mark Dunning OK  OK  OK UNNEEDED, same version exists in internal repository
277/376prostateCancerVarambally 1.13.0Mark Dunning OK  OK  OK UNNEEDED, same version exists in internal repository
278/376PtH2O2lipids 1.11.0James Collins OK  OK  WARNINGS UNNEEDED, same version exists in internal repository
279/376pumadata 2.21.0Richard Pearson OK  OK  ERROR 
280/376PWMEnrich.Dmelanogaster.background 4.19.0Robert Stojnic OK  OK  WARNINGS UNNEEDED, same version exists in internal repository
281/376PWMEnrich.Hsapiens.background 4.19.0Robert Stojnic OK  OK  WARNINGS UNNEEDED, same version exists in internal repository
282/376PWMEnrich.Mmusculus.background 4.19.0Robert Stojnic OK  OK  OK UNNEEDED, same version exists in internal repository
283/376QDNAseq.hg19 1.15.0Daoud Sie OK  OK  OK UNNEEDED, same version exists in internal repository
284/376QDNAseq.mm10 1.15.0Daoud Sie OK  OK  OK UNNEEDED, same version exists in internal repository
285/376qPLEXdata 1.3.0Kamal Kishore Developer OK  OK  WARNINGS UNNEEDED, same version exists in internal repository
286/376QUBICdata 1.13.0Yu Zhang OK  OK  OK UNNEEDED, same version exists in internal repository
287/376rcellminerData 2.7.0Augustin Luna , Vinodh Rajapakse OK  OK  WARNINGS UNNEEDED, same version exists in internal repository
288/376RcisTarget.hg19.motifDBs.cisbpOnly.500bp 1.5.0Sara Aibar OK  OK  OK UNNEEDED, same version exists in internal repository
289/376RegParallel 1.3.1Kevin Blighe OK  ERROR  skipped 
290/376restfulSEData 1.7.0Bioconductor Package Maintainer OK  ERROR  skipped 
291/376RforProteomics 1.23.0Laurent Gatto OK  ERROR  skipped 
292/376RGMQLlib 1.5.0Simone Pallotta OK  OK  OK UNNEEDED, same version exists in internal repository
293/376rheumaticConditionWOLLBOLD 1.23.0Alejandro Quiroz-Zarate OK  OK  OK UNNEEDED, same version exists in internal repository
294/376RIPSeekerData 1.21.0Alejandro Reyes OK  OK  WARNINGS UNNEEDED, same version exists in internal repository
295/376RITANdata 1.9.0Michael Zimmermann OK  OK  OK UNNEEDED, same version exists in internal repository
296/376RMassBankData 1.23.0Michael Stravs, Emma Schymanski OK  OK  OK UNNEEDED, same version exists in internal repository
297/376RNAinteractMAPK 1.23.0Bernd Fischer OK  OK  OK UNNEEDED, same version exists in internal repository
298/376RNAmodR.Data 0.99.6Felix G.M. Ernst OK  OK  OK UNNEEDED, same version exists in internal repository
299/376RNAseqData.HNRNPC.bam.chr14 0.23.0Hervé Pagès OK  OK  OK UNNEEDED, same version exists in internal repository
300/376RNASeqRData 1.3.0Kuan-Hao Chao OK  OK  OK UNNEEDED, same version exists in internal repository
301/376RnaSeqSampleSizeData 1.17.0Shilin Zhao OK  OK  OK UNNEEDED, same version exists in internal repository
302/376RnBeads.hg19 1.17.0RnBeadsAnnotationCreator OK  OK  WARNINGS UNNEEDED, same version exists in internal repository
303/376RnBeads.hg38 1.17.0RnBeadsAnnotationCreator OK  OK  OK UNNEEDED, same version exists in internal repository
304/376RnBeads.mm10 1.17.0RnBeadsAnnotationCreator OK  OK  OK UNNEEDED, same version exists in internal repository
305/376RnBeads.mm9 1.17.0RnBeadsAnnotationCreator OK  OK  WARNINGS UNNEEDED, same version exists in internal repository
306/376RnBeads.rn5 1.17.0RnBeadsAnnotationCreator OK  OK  OK UNNEEDED, same version exists in internal repository
307/376RRBSdata 1.5.0Katja Hebestreit OK  OK  OK UNNEEDED, same version exists in internal repository
308/376rRDPData 1.5.0Michael Hahsler OK  OK  OK UNNEEDED, same version exists in internal repository
309/376RTCGA.clinical 20151101.15.0Marcin Kosinski OK  OK  OK UNNEEDED, same version exists in internal repository
310/376RTCGA.CNV 1.13.0Marcin Kosinski OK  OK  OK UNNEEDED, same version exists in internal repository
311/376RTCGA.methylation 1.13.0Marcin Kosinski OK  OK  OK UNNEEDED, same version exists in internal repository
312/376RTCGA.miRNASeq 1.13.0Marcin Kosinski OK  OK  OK UNNEEDED, same version exists in internal repository
313/376RTCGA.mRNA 1.13.0Marcin Kosinski OK  OK  OK UNNEEDED, same version exists in internal repository
314/376RTCGA.mutations 20151101.15.0Marcin Kosinski OK  OK  OK UNNEEDED, same version exists in internal repository
315/376RTCGA.PANCAN12 1.13.0Marcin Kosinski OK  OK  OK UNNEEDED, same version exists in internal repository
316/376RTCGA.rnaseq 20151101.15.0Marcin Kosinski OK  OK  OK UNNEEDED, same version exists in internal repository
317/376RTCGA.RPPA 1.13.0Marcin Kosinski OK  OK  OK UNNEEDED, same version exists in internal repository
318/376RUVnormalizeData 1.5.0Laurent Jacob OK  OK  OK UNNEEDED, same version exists in internal repository
319/376sampleClassifierData 1.9.0Khadija El Amrani OK  OK  OK UNNEEDED, same version exists in internal repository
320/376SBGNview.data 0.99.18Xiaoxi Dong OK  OK  OK UNNEEDED, same version exists in internal repository
321/376SCLCBam 1.17.0Oscar Krijgsman OK  OK  OK UNNEEDED, same version exists in internal repository
322/376scRNAseq 1.11.8Davide Risso OK  OK  WARNINGS YES, new version is higher than in internal repository
323/376seq2pathway.data 1.17.0Xinan Holly Yang OK  OK  OK UNNEEDED, same version exists in internal repository
324/376seqc 1.19.0Yang Liao and Wei Shi OK  OK  OK UNNEEDED, same version exists in internal repository
325/376seqCNA.annot 1.21.0David Mosen-Ansorena OK  OK  OK UNNEEDED, same version exists in internal repository
326/376serumStimulation 1.21.0Morten Hansen, OK  OK  OK UNNEEDED, same version exists in internal repository
327/376sesameData 1.3.0Wanding Zhou OK  OK  ERROR 
328/376seventyGeneData 1.21.0Luigi Marchionni OK  OK  OK UNNEEDED, same version exists in internal repository
329/376shinyMethylData 1.5.0Jean-Philippe Fortin OK  OK  OK UNNEEDED, same version exists in internal repository
330/376simpIntLists 1.21.0Kircicegi Korkmaz OK  OK  WARNINGS UNNEEDED, same version exists in internal repository
331/376Single.mTEC.Transcriptomes 1.13.0Alejandro Reyes OK  OK  OK UNNEEDED, same version exists in internal repository
332/376SNAData 1.31.0Denise Scholtens OK  OK  OK UNNEEDED, same version exists in internal repository
333/376SNAGEEdata 1.21.0David Venet OK  OK  OK UNNEEDED, same version exists in internal repository
334/376SNPhoodData 1.15.0Christian Arnold OK  OK  OK UNNEEDED, same version exists in internal repository
335/376SomatiCAData 1.23.0Mengjie Chen OK  OK  WARNINGS UNNEEDED, same version exists in internal repository
336/376SomaticCancerAlterations 1.21.0Julian Gehring OK  OK  WARNINGS UNNEEDED, same version exists in internal repository
337/376SpikeIn 1.27.0Rafael A. Irizarry OK  OK  WARNINGS UNNEEDED, same version exists in internal repository
338/376SpikeInSubset 1.25.0Rafael A. Irizarry OK  OK  WARNINGS UNNEEDED, same version exists in internal repository
339/376stemHypoxia 1.21.0Cristobal Fresno OK  OK  OK UNNEEDED, same version exists in internal repository
340/376stjudem 1.25.0Joern Toedling OK  OK  OK UNNEEDED, same version exists in internal repository
341/376SVM2CRMdata 1.17.0Guidantonio Malagoli Tagliazucchi OK  OK  WARNINGS UNNEEDED, same version exists in internal repository
342/376synapterdata 1.23.0Laurent Gatto OK  OK  OK UNNEEDED, same version exists in internal repository
343/376systemPipeRdata 1.13.0Thomas Girke OK  OK  OK UNNEEDED, same version exists in internal repository
344/376TabulaMurisData 1.3.0Charlotte Soneson OK  OK  OK UNNEEDED, same version exists in internal repository
345/376TargetScoreData 1.21.0Yue Li OK  OK  OK UNNEEDED, same version exists in internal repository
346/376TargetSearchData 1.23.0Alvaro Cuadros-Inostroza OK  OK  OK UNNEEDED, same version exists in internal repository
347/376TBX20BamSubset 1.21.0D. Bindreither OK  OK  OK UNNEEDED, same version exists in internal repository
348/376TCGAbiolinksGUI.data 1.5.0Tiago Chedraoui Silva OK  OK  OK UNNEEDED, same version exists in internal repository
349/376TCGAcrcmiRNA 1.5.0Claudio Isella OK  OK  OK UNNEEDED, same version exists in internal repository
350/376TCGAcrcmRNA 1.5.0Claudio Isella OK  OK  OK UNNEEDED, same version exists in internal repository
351/376TCGAMethylation450k 1.21.0Sean Davis OK  OK  OK UNNEEDED, same version exists in internal repository
352/376tcgaWGBSData.hg19 1.3.0Divy Kangeyan OK  OK  OK UNNEEDED, same version exists in internal repository
353/376TCGAWorkflowData 1.9.0Tiago Chedraoui Silva OK  OK  WARNINGS UNNEEDED, same version exists in internal repository
354/376TENxBrainData 1.5.0Bioconductor Package Maintainer OK  OK  OK UNNEEDED, same version exists in internal repository
355/376TENxPBMCData 1.3.0Stephanie Hicks OK  OK  OK UNNEEDED, same version exists in internal repository
356/376TimerQuant 1.15.0Joseph Barry OK  OK  OK UNNEEDED, same version exists in internal repository
357/376tinesath1cdf 1.23.0Tine Casneuf OK  OK  WARNINGS UNNEEDED, same version exists in internal repository
358/376tinesath1probe 1.23.0Tine Casneuf OK  OK  WARNINGS UNNEEDED, same version exists in internal repository
359/376tissueTreg 1.5.0Charles Imbusch OK  OK  OK UNNEEDED, same version exists in internal repository
360/376tofsimsData 1.13.0Lorenz Gerber OK  OK  OK UNNEEDED, same version exists in internal repository
361/376topdownrdata 1.7.0Sebastian Gibb OK  OK  OK UNNEEDED, same version exists in internal repository
362/376tweeDEseqCountData 1.23.0Juan R Gonzalez OK  OK  OK UNNEEDED, same version exists in internal repository
363/376tximportData 1.13.2Michael Love OK  OK  OK UNNEEDED, same version exists in internal repository
364/376VariantToolsData 1.9.0Michael Lawrence OK  OK  WARNINGS UNNEEDED, same version exists in internal repository
365/376vulcandata 1.7.0Federico M. Giorgi OK  OK  OK UNNEEDED, same version exists in internal repository
366/376waveTilingData 1.21.0Kristof De Beuf OK  OK  WARNINGS UNNEEDED, same version exists in internal repository
367/376WES.1KG.WUGSC 1.17.0Yuchao Jiang OK  OK  OK UNNEEDED, same version exists in internal repository
368/376XhybCasneuf 1.23.0Tineke Casneuf OK  OK  WARNINGS UNNEEDED, same version exists in internal repository
369/376yeastCC 1.25.0Sandrine Dudoit OK  OK  WARNINGS UNNEEDED, same version exists in internal repository
370/376yeastExpData 0.31.0R. Gentleman OK  OK  WARNINGS UNNEEDED, same version exists in internal repository
371/376yeastGSData 0.23.0R. Gentleman OK  OK  WARNINGS UNNEEDED, same version exists in internal repository
372/376yeastNagalakshmi 1.21.0Bioconductor Package Maintainer OK  OK  OK UNNEEDED, same version exists in internal repository
373/376yeastRNASeq 0.23.0J. Bullard OK  OK  WARNINGS UNNEEDED, same version exists in internal repository
374/376yri1kgv 0.27.0VJ Carey OK  OK  OK UNNEEDED, same version exists in internal repository
375/376yriMulti 0.15.0VJ Carey OK  OK  WARNINGS UNNEEDED, same version exists in internal repository
376/376zebrafishRNASeq 1.5.0Davide Risso OK  OK  OK UNNEEDED, same version exists in internal repository