Long tests report for BioC 3.10

This page was generated on 2019-09-07 19:55:03 -0400 (Sat, 07 Sep 2019).

git log

Snapshot Date: 2019-09-07 11:00:01 -0400 (Sat, 07 Sep 2019)

HostnameOSArch (*)Platform label (**)R versionInstalled pkgs
malbec1Linux (Ubuntu 18.04.2 LTS)x86_64x86_64-linux-gnu3.6.1 (2019-07-05) -- "Action of the Toes" 3650
Click on any hostname to see more info about the system (e.g. compilers)      (*) as reported by 'uname -p', except on Windows and Mac OS X      (**) as reported by 'gcc -v'

Package status is indicated by one of the following glyphs
 TIMEOUT  CHECK of package took more than 360 minutes Use the check boxes to show only packages with the selected status types.
 ERROR  Bad DESCRIPTION file or CHECK of package produced errors
 WARNINGS  CHECK of package produced warnings
 OK  CHECK of package was OK
 NA  CHECK result is not available because of an anomaly in the Build System
Click on any glyph in the report below to access the detailed results.

SUMMARYOS / ArchCHECK
malbec1 Linux (Ubuntu 18.04.2 LTS) / x86_64 
0121
PackageMaintainerCHECK
1/4beachmat 2.1.2Aaron Lun OK 
2/4BiocParallel 1.19.2Bioconductor Package Maintainer WARNINGS 
3/4GenomicFeatures 1.37.4Bioconductor Package Maintainer WARNINGS 
4/4HDF5Array 1.13.6Hervé Pagès ERROR