Multiple platform build/check report for BioC 3.10

This page was generated on 2019-11-19 13:40:49 -0500 (Tue, 19 Nov 2019).

git log

Snapshot Date: 2019-11-18 16:46:01 -0500 (Mon, 18 Nov 2019)

HostnameOSArch (*)Platform label (**)R versionInstalled pkgs
malbec1Linux (Ubuntu 18.04.3 LTS)x86_64x86_64-linux-gnu3.6.1 (2019-07-05) -- "Action of the Toes" 3753
tokay1Windows Server 2012 R2 Standardx64mingw32 / x86_64-w64-mingw323.6.1 (2019-07-05) -- "Action of the Toes" 3542
merida1OS X 10.11.6 El Capitanx86_64x86_64-apple-darwin15.6.03.6.1 (2019-07-05) -- "Action of the Toes" 3583
Click on any hostname to see more info about the system (e.g. compilers)      (*) as reported by 'uname -p', except on Windows and Mac OS X      (**) as reported by 'gcc -v'

Package status is indicated by one of the following glyphs
 TIMEOUT  INSTALL, BUILD, CHECK or BUILD BIN of package took more than 40 minutes Use the check boxes to show only packages with the selected status types.
 ERROR  Bad DESCRIPTION file or INSTALL, BUILD or BUILD BIN of package failed, or CHECK produced errors
 WARNINGS  CHECK of package produced warnings
 OK  INSTALL, BUILD, CHECK or BUILD BIN of package was OK
 skipped  CHECK or BUILD BIN of package was skipped because the BUILD step failed
 NA  BUILD, CHECK or BUILD BIN result is not available because of an anomaly in the Build System
Click on any glyph in the report below to access the detailed results.
Package propagation status is indicated by one of the following LEDs
YES YES: Package was propagated because it didn't previously exist or version was bumped
NO NO: Package was not propagated because of a problem (impossible dependencies, or version lower than what is already propagated)
UNNEEDED UNNEEDED: Package was not propagated because it is already in the repository with this version. A version bump is required in order to propagate it

A crossed-out package name indicates the package is deprecated


SUMMARYOS / ArchINSTALLBUILDCHECKBUILD BIN
malbec1 Linux (Ubuntu 18.04.3 LTS) / x86_64 
0111812
1341788
1122481527
tokay1 Windows Server 2012 R2 Standard / x64 
0131780
2461745
4203741347
021743
merida1 OS X 10.11.6 El Capitan / x86_64 
0101807
2361779
082701501
001779
A
ABCDEFGHIJKLMNOPQRSTUVWXYZ
Package 1/1823HostnameOS / ArchINSTALLBUILDCHECKBUILD BIN
a4 1.34.0
Tobias Verbeke
Last Commit: 2fe2ace
Last Changed Date: 2019-10-29 13:08:20 -0500
malbec1 Linux (Ubuntu 18.04.3 LTS) / x86_64  OK  OK  OK UNNEEDED, same version exists in internal repository
tokay1 Windows Server 2012 R2 Standard / x64  OK  OK  OK  OK UNNEEDED, same version exists in internal repository
merida1 OS X 10.11.6 El Capitan / x86_64  OK  OK  OK  OK UNNEEDED, same version exists in internal repository
Package 2/1823HostnameOS / ArchINSTALLBUILDCHECKBUILD BIN
a4Base 1.34.0
Tobias Verbeke
Last Commit: 6c81869
Last Changed Date: 2019-10-29 13:08:20 -0500
malbec1 Linux (Ubuntu 18.04.3 LTS) / x86_64  OK  OK  OK UNNEEDED, same version exists in internal repository
tokay1 Windows Server 2012 R2 Standard / x64  OK  OK  ERROR  OK 
merida1 OS X 10.11.6 El Capitan / x86_64  OK  OK  OK  OK UNNEEDED, same version exists in internal repository
Package 3/1823HostnameOS / ArchINSTALLBUILDCHECKBUILD BIN
a4Classif 1.34.0
Tobias Verbeke
Last Commit: cbf7c5c
Last Changed Date: 2019-10-29 13:08:20 -0500
malbec1 Linux (Ubuntu 18.04.3 LTS) / x86_64  OK  OK  OK UNNEEDED, same version exists in internal repository
tokay1 Windows Server 2012 R2 Standard / x64  OK  OK  OK  OK UNNEEDED, same version exists in internal repository
merida1 OS X 10.11.6 El Capitan / x86_64  OK  OK  OK  OK UNNEEDED, same version exists in internal repository
Package 4/1823HostnameOS / ArchINSTALLBUILDCHECKBUILD BIN
a4Core 1.34.0
Tobias Verbeke
Last Commit: 61c1d88
Last Changed Date: 2019-10-29 13:08:20 -0500
malbec1 Linux (Ubuntu 18.04.3 LTS) / x86_64  OK  OK  OK UNNEEDED, same version exists in internal repository
tokay1 Windows Server 2012 R2 Standard / x64  OK  OK  OK  OK UNNEEDED, same version exists in internal repository
merida1 OS X 10.11.6 El Capitan / x86_64  OK  OK  OK  OK UNNEEDED, same version exists in internal repository
Package 5/1823HostnameOS / ArchINSTALLBUILDCHECKBUILD BIN
a4Preproc 1.34.0
Tobias Verbeke
Last Commit: bfe8262
Last Changed Date: 2019-10-29 13:08:20 -0500
malbec1 Linux (Ubuntu 18.04.3 LTS) / x86_64  OK  OK  OK UNNEEDED, same version exists in internal repository
tokay1 Windows Server 2012 R2 Standard / x64  OK  OK  OK  OK UNNEEDED, same version exists in internal repository
merida1 OS X 10.11.6 El Capitan / x86_64  OK  OK  OK  OK UNNEEDED, same version exists in internal repository
Package 6/1823HostnameOS / ArchINSTALLBUILDCHECKBUILD BIN
a4Reporting 1.34.0
Tobias Verbeke , Willem Ligtenberg
Last Commit: 967b263
Last Changed Date: 2019-10-29 13:08:20 -0500
malbec1 Linux (Ubuntu 18.04.3 LTS) / x86_64  OK  OK  OK UNNEEDED, same version exists in internal repository
tokay1 Windows Server 2012 R2 Standard / x64  OK  OK  OK  OK UNNEEDED, same version exists in internal repository
merida1 OS X 10.11.6 El Capitan / x86_64  OK  OK  OK  OK UNNEEDED, same version exists in internal repository
Package 7/1823HostnameOS / ArchINSTALLBUILDCHECKBUILD BIN
ABAEnrichment 1.16.0
Steffi Grote
Last Commit: 32cd3e7
Last Changed Date: 2019-10-29 13:09:23 -0500
malbec1 Linux (Ubuntu 18.04.3 LTS) / x86_64  OK  OK  OK UNNEEDED, same version exists in internal repository
tokay1 Windows Server 2012 R2 Standard / x64  OK  OK  OK  OK UNNEEDED, same version exists in internal repository
merida1 OS X 10.11.6 El Capitan / x86_64  OK  OK  OK  OK UNNEEDED, same version exists in internal repository
Package 8/1823HostnameOS / ArchINSTALLBUILDCHECKBUILD BIN
ABarray 1.54.0
Yongming Andrew Sun
Last Commit: a5e3ee6
Last Changed Date: 2019-10-29 13:07:43 -0500
malbec1 Linux (Ubuntu 18.04.3 LTS) / x86_64  OK  OK  OK UNNEEDED, same version exists in internal repository
tokay1 Windows Server 2012 R2 Standard / x64  OK  OK  OK  OK UNNEEDED, same version exists in internal repository
merida1 OS X 10.11.6 El Capitan / x86_64  OK  OK  OK  OK UNNEEDED, same version exists in internal repository
Package 9/1823HostnameOS / ArchINSTALLBUILDCHECKBUILD BIN
abseqR 1.4.0
JiaHong Fong
Last Commit: d30efb4
Last Changed Date: 2019-10-29 13:11:26 -0500
malbec1 Linux (Ubuntu 18.04.3 LTS) / x86_64  OK  OK  OK UNNEEDED, same version exists in internal repository
tokay1 Windows Server 2012 R2 Standard / x64  OK  OK  OK  OK UNNEEDED, same version exists in internal repository
merida1 OS X 10.11.6 El Capitan / x86_64  OK  OK  OK  OK UNNEEDED, same version exists in internal repository
Package 10/1823HostnameOS / ArchINSTALLBUILDCHECKBUILD BIN
ABSSeq 1.40.0
Wentao Yang
Last Commit: 13635c2
Last Changed Date: 2019-10-29 13:08:54 -0500
malbec1 Linux (Ubuntu 18.04.3 LTS) / x86_64  OK  OK  OK UNNEEDED, same version exists in internal repository
tokay1 Windows Server 2012 R2 Standard / x64  OK  OK  OK  OK UNNEEDED, same version exists in internal repository
merida1 OS X 10.11.6 El Capitan / x86_64  OK  OK  OK  OK UNNEEDED, same version exists in internal repository
Package 11/1823HostnameOS / ArchINSTALLBUILDCHECKBUILD BIN
acde 1.16.0
Juan Pablo Acosta
Last Commit: 3c8dc1a
Last Changed Date: 2019-10-29 13:09:19 -0500
malbec1 Linux (Ubuntu 18.04.3 LTS) / x86_64  OK  OK  OK UNNEEDED, same version exists in internal repository
tokay1 Windows Server 2012 R2 Standard / x64  OK  OK  OK  OK UNNEEDED, same version exists in internal repository
merida1 OS X 10.11.6 El Capitan / x86_64  OK  OK  OK  OK UNNEEDED, same version exists in internal repository
Package 12/1823HostnameOS / ArchINSTALLBUILDCHECKBUILD BIN
ACE 1.4.0
Jos B Poell
Last Commit: 246b8d7
Last Changed Date: 2019-10-29 13:11:17 -0500
malbec1 Linux (Ubuntu 18.04.3 LTS) / x86_64  OK  OK  OK UNNEEDED, same version exists in internal repository
tokay1 Windows Server 2012 R2 Standard / x64  OK  OK  OK  OK UNNEEDED, same version exists in internal repository
merida1 OS X 10.11.6 El Capitan / x86_64  OK  OK  OK  OK UNNEEDED, same version exists in internal repository
Package 13/1823HostnameOS / ArchINSTALLBUILDCHECKBUILD BIN
aCGH 1.64.0
Peter Dimitrov
Last Commit: 42470b5
Last Changed Date: 2019-10-29 13:07:30 -0500
malbec1 Linux (Ubuntu 18.04.3 LTS) / x86_64  OK  OK  OK UNNEEDED, same version exists in internal repository
tokay1 Windows Server 2012 R2 Standard / x64  OK  OK  OK  OK UNNEEDED, same version exists in internal repository
merida1 OS X 10.11.6 El Capitan / x86_64  OK  OK  OK  OK UNNEEDED, same version exists in internal repository
Package 14/1823HostnameOS / ArchINSTALLBUILDCHECKBUILD BIN
ACME 2.42.0
Sean Davis
Last Commit: 7f41657
Last Changed Date: 2019-10-29 13:07:47 -0500
malbec1 Linux (Ubuntu 18.04.3 LTS) / x86_64  OK  OK  WARNINGS UNNEEDED, same version exists in internal repository
tokay1 Windows Server 2012 R2 Standard / x64  OK  OK  WARNINGS  OK UNNEEDED, same version exists in internal repository
merida1 OS X 10.11.6 El Capitan / x86_64  OK  OK  OK  OK UNNEEDED, same version exists in internal repository
Package 15/1823HostnameOS / ArchINSTALLBUILDCHECKBUILD BIN
ADaCGH2 2.26.0
Ramon Diaz-Uriarte
Last Commit: e93a6c9
Last Changed Date: 2019-10-29 13:08:18 -0500
malbec1 Linux (Ubuntu 18.04.3 LTS) / x86_64  OK  OK  OK UNNEEDED, same version exists in internal repository
tokay1 Windows Server 2012 R2 Standard / x64  OK  OK  OK  OK UNNEEDED, same version exists in internal repository
merida1 OS X 10.11.6 El Capitan / x86_64  OK  OK  OK  OK UNNEEDED, same version exists in internal repository
Package 16/1823HostnameOS / ArchINSTALLBUILDCHECKBUILD BIN
ADAM 1.2.0
Jose Luiz Rybarczyk Filho
Last Commit: 42c70ad
Last Changed Date: 2019-10-29 13:11:27 -0500
malbec1 Linux (Ubuntu 18.04.3 LTS) / x86_64  OK  OK  OK UNNEEDED, same version exists in internal repository
tokay1 Windows Server 2012 R2 Standard / x64  OK  OK  OK  OK UNNEEDED, same version exists in internal repository
merida1 OS X 10.11.6 El Capitan / x86_64  OK  OK  OK  OK UNNEEDED, same version exists in internal repository
Package 17/1823HostnameOS / ArchINSTALLBUILDCHECKBUILD BIN
ADAMgui 1.2.0
Jose Luiz Rybarczyk Filho
Last Commit: 989f760
Last Changed Date: 2019-10-29 13:11:38 -0500
malbec1 Linux (Ubuntu 18.04.3 LTS) / x86_64  OK  OK  OK UNNEEDED, same version exists in internal repository
tokay1 Windows Server 2012 R2 Standard / x64  OK  OK  OK  OK UNNEEDED, same version exists in internal repository
merida1 OS X 10.11.6 El Capitan / x86_64  OK  OK  OK  OK UNNEEDED, same version exists in internal repository
Package 18/1823HostnameOS / ArchINSTALLBUILDCHECKBUILD BIN
adaptest 1.6.0
Weixin Cai
Last Commit: 3d4ea75
Last Changed Date: 2019-10-29 13:11:03 -0500
malbec1 Linux (Ubuntu 18.04.3 LTS) / x86_64  OK  OK  ERROR 
tokay1 Windows Server 2012 R2 Standard / x64  OK  OK  ERROR  OK 
merida1 OS X 10.11.6 El Capitan / x86_64  OK  OK  ERROR  OK 
Package 19/1823HostnameOS / ArchINSTALLBUILDCHECKBUILD BIN
adductomicsR 1.2.0
Josie Hayes
Last Commit: b9699e7
Last Changed Date: 2019-10-29 13:11:29 -0500
malbec1 Linux (Ubuntu 18.04.3 LTS) / x86_64  OK  OK  OK UNNEEDED, same version exists in internal repository
tokay1 Windows Server 2012 R2 Standard / x64  OK  OK  ERROR  OK 
merida1 OS X 10.11.6 El Capitan / x86_64  OK  OK  OK  OK UNNEEDED, same version exists in internal repository
Package 20/1823HostnameOS / ArchINSTALLBUILDCHECKBUILD BIN
adSplit 1.56.0
Claudio Lottaz
Last Commit: 5f31deb
Last Changed Date: 2019-10-29 13:07:40 -0500
malbec1 Linux (Ubuntu 18.04.3 LTS) / x86_64  OK  OK  WARNINGS UNNEEDED, same version exists in internal repository
tokay1 Windows Server 2012 R2 Standard / x64  OK  OK  OK  OK UNNEEDED, same version exists in internal repository
merida1 OS X 10.11.6 El Capitan / x86_64  OK  OK  WARNINGS  OK UNNEEDED, same version exists in internal repository
Package 21/1823HostnameOS / ArchINSTALLBUILDCHECKBUILD BIN
AffiXcan 1.4.0
Alessandro Lussana
Last Commit: 268b82b
Last Changed Date: 2019-10-29 13:11:23 -0500
malbec1 Linux (Ubuntu 18.04.3 LTS) / x86_64  OK  OK  OK UNNEEDED, same version exists in internal repository
tokay1 Windows Server 2012 R2 Standard / x64  OK  OK  OK  OK UNNEEDED, same version exists in internal repository
merida1 OS X 10.11.6 El Capitan / x86_64  OK  OK  OK  OK UNNEEDED, same version exists in internal repository
Package 22/1823HostnameOS / ArchINSTALLBUILDCHECKBUILD BIN
affxparser 1.58.0
Kasper Daniel Hansen
Last Commit: 2dd0fef
Last Changed Date: 2019-10-29 13:07:36 -0500
malbec1 Linux (Ubuntu 18.04.3 LTS) / x86_64  OK  OK  WARNINGS UNNEEDED, same version exists in internal repository
tokay1 Windows Server 2012 R2 Standard / x64  OK  OK  OK  OK UNNEEDED, same version exists in internal repository
merida1 OS X 10.11.6 El Capitan / x86_64  OK  OK  WARNINGS  OK UNNEEDED, same version exists in internal repository
Package 23/1823HostnameOS / ArchINSTALLBUILDCHECKBUILD BIN
affy 1.64.0
Rafael A. Irizarry
Last Commit: 82d96e6
Last Changed Date: 2019-10-29 13:07:23 -0500
malbec1 Linux (Ubuntu 18.04.3 LTS) / x86_64  OK  OK  WARNINGS UNNEEDED, same version exists in internal repository
tokay1 Windows Server 2012 R2 Standard / x64  OK  OK  WARNINGS  OK UNNEEDED, same version exists in internal repository
merida1 OS X 10.11.6 El Capitan / x86_64  OK  OK  WARNINGS  OK UNNEEDED, same version exists in internal repository
Package 24/1823HostnameOS / ArchINSTALLBUILDCHECKBUILD BIN
affycomp 1.62.0
Rafael A. Irizarry
Last Commit: d5b30ad
Last Changed Date: 2019-10-29 13:07:24 -0500
malbec1 Linux (Ubuntu 18.04.3 LTS) / x86_64  OK  OK  OK UNNEEDED, same version exists in internal repository
tokay1 Windows Server 2012 R2 Standard / x64  OK  OK  WARNINGS  OK UNNEEDED, same version exists in internal repository
merida1 OS X 10.11.6 El Capitan / x86_64  OK  OK  OK  OK UNNEEDED, same version exists in internal repository
Package 25/1823HostnameOS / ArchINSTALLBUILDCHECKBUILD BIN
AffyCompatible 1.46.0
Martin Morgan
Last Commit: 57551c1
Last Changed Date: 2019-10-29 13:07:56 -0500
malbec1 Linux (Ubuntu 18.04.3 LTS) / x86_64  OK  OK  OK UNNEEDED, same version exists in internal repository
tokay1 Windows Server 2012 R2 Standard / x64  OK  ERROR  skipped  skipped 
merida1 OS X 10.11.6 El Capitan / x86_64  OK  OK  OK  OK UNNEEDED, same version exists in internal repository
Package 26/1823HostnameOS / ArchINSTALLBUILDCHECKBUILD BIN
affyContam 1.44.0
V. Carey
Last Commit: fddfe14
Last Changed Date: 2019-10-29 13:07:59 -0500
malbec1 Linux (Ubuntu 18.04.3 LTS) / x86_64  OK  OK  OK UNNEEDED, same version exists in internal repository
tokay1 Windows Server 2012 R2 Standard / x64  OK  OK  OK  OK UNNEEDED, same version exists in internal repository
merida1 OS X 10.11.6 El Capitan / x86_64  OK  OK  OK  OK UNNEEDED, same version exists in internal repository
Package 27/1823HostnameOS / ArchINSTALLBUILDCHECKBUILD BIN
affycoretools 1.58.1
James W. MacDonald
Last Commit: 0f302a7
Last Changed Date: 2019-11-07 13:33:12 -0500
malbec1 Linux (Ubuntu 18.04.3 LTS) / x86_64  OK  OK  OK UNNEEDED, same version exists in internal repository
tokay1 Windows Server 2012 R2 Standard / x64  OK  OK  WARNINGS  OK UNNEEDED, same version exists in internal repository
merida1 OS X 10.11.6 El Capitan / x86_64  OK  OK  OK  OK UNNEEDED, same version exists in internal repository
Package 28/1823HostnameOS / ArchINSTALLBUILDCHECKBUILD BIN
AffyExpress 1.52.0
Xuejun Arthur Li
Last Commit: cab3660
Last Changed Date: 2019-10-29 13:07:52 -0500
malbec1 Linux (Ubuntu 18.04.3 LTS) / x86_64  OK  OK  OK UNNEEDED, same version exists in internal repository
tokay1 Windows Server 2012 R2 Standard / x64  OK  OK  OK  OK UNNEEDED, same version exists in internal repository
merida1 OS X 10.11.6 El Capitan / x86_64  OK  OK  OK  OK UNNEEDED, same version exists in internal repository
Package 29/1823HostnameOS / ArchINSTALLBUILDCHECKBUILD BIN
affyILM 1.38.0
Myriam Kroll and Fabrice Berger
Last Commit: e6abfe8
Last Changed Date: 2019-10-29 13:08:16 -0500
malbec1 Linux (Ubuntu 18.04.3 LTS) / x86_64  OK  OK  OK UNNEEDED, same version exists in internal repository
tokay1 Windows Server 2012 R2 Standard / x64  OK  OK  OK  OK UNNEEDED, same version exists in internal repository
merida1 OS X 10.11.6 El Capitan / x86_64  OK  OK  OK  OK UNNEEDED, same version exists in internal repository
Package 30/1823HostnameOS / ArchINSTALLBUILDCHECKBUILD BIN
affyio 1.56.0
Ben Bolstad
Last Commit: fd0e865
Last Changed Date: 2019-10-29 13:07:22 -0500
malbec1 Linux (Ubuntu 18.04.3 LTS) / x86_64  OK  OK  OK UNNEEDED, same version exists in internal repository
tokay1 Windows Server 2012 R2 Standard / x64  OK  OK  OK  OK UNNEEDED, same version exists in internal repository
merida1 OS X 10.11.6 El Capitan / x86_64  OK  OK  OK  OK UNNEEDED, same version exists in internal repository
Package 31/1823HostnameOS / ArchINSTALLBUILDCHECKBUILD BIN
affylmGUI 1.60.0
Gordon Smyth
Last Commit: 255d7db
Last Changed Date: 2019-10-29 13:07:28 -0500
malbec1 Linux (Ubuntu 18.04.3 LTS) / x86_64  OK  OK  OK UNNEEDED, same version exists in internal repository
tokay1 Windows Server 2012 R2 Standard / x64  OK  OK  OK  OK UNNEEDED, same version exists in internal repository
merida1 OS X 10.11.6 El Capitan / x86_64  OK  OK  OK  OK UNNEEDED, same version exists in internal repository
Package 32/1823HostnameOS / ArchINSTALLBUILDCHECKBUILD BIN
affyPara 1.46.0
Markus Schmidberger
Last Commit: cbe3d99
Last Changed Date: 2019-10-29 13:07:55 -0500
malbec1 Linux (Ubuntu 18.04.3 LTS) / x86_64  OK  OK  OK UNNEEDED, same version exists in internal repository
tokay1 Windows Server 2012 R2 Standard / x64  OK  OK  OK  OK UNNEEDED, same version exists in internal repository
merida1 OS X 10.11.6 El Capitan / x86_64  OK  OK  OK  OK UNNEEDED, same version exists in internal repository
Package 33/1823HostnameOS / ArchINSTALLBUILDCHECKBUILD BIN
affypdnn 1.60.0
Laurent Gautier
Last Commit: 9f8998f
Last Changed Date: 2019-10-29 13:07:26 -0500
malbec1 Linux (Ubuntu 18.04.3 LTS) / x86_64  OK  OK  OK UNNEEDED, same version exists in internal repository
tokay1 Windows Server 2012 R2 Standard / x64  OK  OK  OK  OK UNNEEDED, same version exists in internal repository
merida1 OS X 10.11.6 El Capitan / x86_64  OK  OK  OK  OK UNNEEDED, same version exists in internal repository
Package 34/1823HostnameOS / ArchINSTALLBUILDCHECKBUILD BIN
affyPLM 1.62.0
Ben Bolstad
Last Commit: c61a1ea
Last Changed Date: 2019-10-29 13:07:25 -0500
malbec1 Linux (Ubuntu 18.04.3 LTS) / x86_64  OK  OK  OK UNNEEDED, same version exists in internal repository
tokay1 Windows Server 2012 R2 Standard / x64  OK  OK  OK  OK UNNEEDED, same version exists in internal repository
merida1 OS X 10.11.6 El Capitan / x86_64  OK  OK  OK  OK UNNEEDED, same version exists in internal repository
Package 35/1823HostnameOS / ArchINSTALLBUILDCHECKBUILD BIN
affyQCReport 1.64.0
Craig Parman
Last Commit: c97d070
Last Changed Date: 2019-10-29 13:07:34 -0500
malbec1 Linux (Ubuntu 18.04.3 LTS) / x86_64  OK  OK  OK UNNEEDED, same version exists in internal repository
tokay1 Windows Server 2012 R2 Standard / x64  OK  OK  OK  OK UNNEEDED, same version exists in internal repository
merida1 OS X 10.11.6 El Capitan / x86_64  OK  OK  OK  OK UNNEEDED, same version exists in internal repository
Package 36/1823HostnameOS / ArchINSTALLBUILDCHECKBUILD BIN
AffyRNADegradation 1.32.0
Mario Fasold
Last Commit: f5821da
Last Changed Date: 2019-10-29 13:08:25 -0500
malbec1 Linux (Ubuntu 18.04.3 LTS) / x86_64  OK  OK  OK UNNEEDED, same version exists in internal repository
tokay1 Windows Server 2012 R2 Standard / x64  OK  OK  OK  OK UNNEEDED, same version exists in internal repository
merida1 OS X 10.11.6 El Capitan / x86_64  OK  OK  OK  OK UNNEEDED, same version exists in internal repository
Package 37/1823HostnameOS / ArchINSTALLBUILDCHECKBUILD BIN
AGDEX 1.34.0
Cuilan lani Gao
Last Commit: f34d12b
Last Changed Date: 2019-10-29 13:08:22 -0500
malbec1 Linux (Ubuntu 18.04.3 LTS) / x86_64  OK  OK  OK UNNEEDED, same version exists in internal repository
tokay1 Windows Server 2012 R2 Standard / x64  OK  OK  WARNINGS  OK UNNEEDED, same version exists in internal repository
merida1 OS X 10.11.6 El Capitan / x86_64  OK  OK  OK  OK UNNEEDED, same version exists in internal repository
Package 38/1823HostnameOS / ArchINSTALLBUILDCHECKBUILD BIN
agilp 3.18.0
Benny Chain
Last Commit: b69a5d7
Last Changed Date: 2019-10-29 13:08:34 -0500
malbec1 Linux (Ubuntu 18.04.3 LTS) / x86_64  OK  OK  OK UNNEEDED, same version exists in internal repository
tokay1 Windows Server 2012 R2 Standard / x64  OK  OK  OK  OK UNNEEDED, same version exists in internal repository
merida1 OS X 10.11.6 El Capitan / x86_64  OK  OK  OK  OK UNNEEDED, same version exists in internal repository
Package 39/1823HostnameOS / ArchINSTALLBUILDCHECKBUILD BIN
AgiMicroRna 2.36.0
Pedro Lopez-Romero
Last Commit: a8b23d2
Last Changed Date: 2019-10-29 13:08:07 -0500
malbec1 Linux (Ubuntu 18.04.3 LTS) / x86_64  OK  OK  OK UNNEEDED, same version exists in internal repository
tokay1 Windows Server 2012 R2 Standard / x64  OK  OK  OK  OK UNNEEDED, same version exists in internal repository
merida1 OS X 10.11.6 El Capitan / x86_64  OK  OK  OK  OK UNNEEDED, same version exists in internal repository
Package 40/1823HostnameOS / ArchINSTALLBUILDCHECKBUILD BIN
AIMS 1.18.0
Eric R Paquet
Last Commit: 16edc7b
Last Changed Date: 2019-10-29 13:09:07 -0500
malbec1 Linux (Ubuntu 18.04.3 LTS) / x86_64  OK  OK  OK UNNEEDED, same version exists in internal repository
tokay1 Windows Server 2012 R2 Standard / x64  OK  OK  OK  OK UNNEEDED, same version exists in internal repository
merida1 OS X 10.11.6 El Capitan / x86_64  OK  OK  OK  OK UNNEEDED, same version exists in internal repository
Package 41/1823HostnameOS / ArchINSTALLBUILDCHECKBUILD BIN
ALDEx2 1.18.0
Greg Gloor
Last Commit: 3355bad
Last Changed Date: 2019-10-29 13:09:04 -0500
malbec1 Linux (Ubuntu 18.04.3 LTS) / x86_64  OK  OK  OK UNNEEDED, same version exists in internal repository
tokay1 Windows Server 2012 R2 Standard / x64  OK  OK  OK  OK UNNEEDED, same version exists in internal repository
merida1 OS X 10.11.6 El Capitan / x86_64  OK  OK  OK  OK UNNEEDED, same version exists in internal repository
Package 42/1823HostnameOS / ArchINSTALLBUILDCHECKBUILD BIN
alevinQC 1.2.0
Charlotte Soneson
Last Commit: 8ca336f
Last Changed Date: 2019-10-29 13:11:30 -0500
malbec1 Linux (Ubuntu 18.04.3 LTS) / x86_64  OK  OK  OK UNNEEDED, same version exists in internal repository
tokay1 Windows Server 2012 R2 Standard / x64  OK  OK  OK  OK UNNEEDED, same version exists in internal repository
merida1 OS X 10.11.6 El Capitan / x86_64  OK  OK  OK  OK UNNEEDED, same version exists in internal repository
Package 43/1823HostnameOS / ArchINSTALLBUILDCHECKBUILD BIN
AllelicImbalance 1.24.0
Jesper R Gadin
Last Commit: 068ad8b
Last Changed Date: 2019-10-29 13:08:48 -0500
malbec1 Linux (Ubuntu 18.04.3 LTS) / x86_64  OK  OK  OK UNNEEDED, same version exists in internal repository
tokay1 Windows Server 2012 R2 Standard / x64  OK  OK  OK  OK UNNEEDED, same version exists in internal repository
merida1 OS X 10.11.6 El Capitan / x86_64  OK  OK  OK  OK UNNEEDED, same version exists in internal repository
Package 44/1823HostnameOS / ArchINSTALLBUILDCHECKBUILD BIN
AlphaBeta 1.0.0
Yadollah Shahryary Dizaji
Last Commit: ce752ca
Last Changed Date: 2019-10-29 13:11:52 -0500
malbec1 Linux (Ubuntu 18.04.3 LTS) / x86_64  OK  OK  OK UNNEEDED, same version exists in internal repository
tokay1 Windows Server 2012 R2 Standard / x64  OK  OK  OK  OK UNNEEDED, same version exists in internal repository
merida1 OS X 10.11.6 El Capitan / x86_64  OK  OK  OK  OK UNNEEDED, same version exists in internal repository
Package 45/1823HostnameOS / ArchINSTALLBUILDCHECKBUILD BIN
alpine 1.12.0
Michael Love
Last Commit: a46f925
Last Changed Date: 2019-10-29 13:10:02 -0500
malbec1 Linux (Ubuntu 18.04.3 LTS) / x86_64  OK  OK  OK UNNEEDED, same version exists in internal repository
tokay1 Windows Server 2012 R2 Standard / x64  OK  OK  OK  OK UNNEEDED, same version exists in internal repository
merida1 OS X 10.11.6 El Capitan / x86_64  OK  OK  OK  OK UNNEEDED, same version exists in internal repository
Package 46/1823HostnameOS / ArchINSTALLBUILDCHECKBUILD BIN
ALPS 1.0.0
Venu Thatikonda
Last Commit: 25ef438
Last Changed Date: 2019-10-29 13:12:12 -0500
malbec1 Linux (Ubuntu 18.04.3 LTS) / x86_64  OK  OK  OK UNNEEDED, same version exists in internal repository
tokay1 Windows Server 2012 R2 Standard / x64  OK  OK  OK  OK UNNEEDED, same version exists in internal repository
merida1 OS X 10.11.6 El Capitan / x86_64  OK  OK  OK  OK UNNEEDED, same version exists in internal repository
Package 47/1823HostnameOS / ArchINSTALLBUILDCHECKBUILD BIN
alsace 1.22.0
Ron Wehrens
Last Commit: 58bfd6c
Last Changed Date: 2019-10-29 13:08:52 -0500
malbec1 Linux (Ubuntu 18.04.3 LTS) / x86_64  OK  OK  OK UNNEEDED, same version exists in internal repository
tokay1 Windows Server 2012 R2 Standard / x64  OK  OK  OK  OK UNNEEDED, same version exists in internal repository
merida1 OS X 10.11.6 El Capitan / x86_64  OK  OK  OK  OK UNNEEDED, same version exists in internal repository
Package 48/1823HostnameOS / ArchINSTALLBUILDCHECKBUILD BIN
altcdfenvs 2.48.0
Laurent Gautier
Last Commit: ae877d2
Last Changed Date: 2019-10-29 13:07:28 -0500
malbec1 Linux (Ubuntu 18.04.3 LTS) / x86_64  OK  OK  OK UNNEEDED, same version exists in internal repository
tokay1 Windows Server 2012 R2 Standard / x64  OK  OK  OK  OK UNNEEDED, same version exists in internal repository
merida1 OS X 10.11.6 El Capitan / x86_64  OK  OK  OK  OK UNNEEDED, same version exists in internal repository
Package 49/1823HostnameOS / ArchINSTALLBUILDCHECKBUILD BIN
AMARETTO 1.2.0
Olivier Gevaert
Last Commit: d8b2734
Last Changed Date: 2019-10-29 13:11:32 -0500
malbec1 Linux (Ubuntu 18.04.3 LTS) / x86_64  OK  ERROR  skipped 
tokay1 Windows Server 2012 R2 Standard / x64  OK  ERROR  skipped  skipped 
merida1 OS X 10.11.6 El Capitan / x86_64  OK  ERROR  skipped  skipped 
Package 50/1823HostnameOS / ArchINSTALLBUILDCHECKBUILD BIN
AMOUNTAIN 1.12.0
Dong Li
Last Commit: fc4db0b
Last Changed Date: 2019-10-29 13:09:52 -0500
malbec1 Linux (Ubuntu 18.04.3 LTS) / x86_64  OK  OK  OK UNNEEDED, same version exists in internal repository
tokay1 Windows Server 2012 R2 Standard / x64  OK  OK  OK  OK UNNEEDED, same version exists in internal repository
merida1 OS X 10.11.6 El Capitan / x86_64  OK  OK  OK  OK UNNEEDED, same version exists in internal repository
Package 51/1823HostnameOS / ArchINSTALLBUILDCHECKBUILD BIN
amplican 1.8.0
Eivind Valen
Last Commit: 09d0806
Last Changed Date: 2019-10-29 13:10:43 -0500
malbec1 Linux (Ubuntu 18.04.3 LTS) / x86_64  OK  OK  OK UNNEEDED, same version exists in internal repository
tokay1 Windows Server 2012 R2 Standard / x64  OK  OK  OK  OK UNNEEDED, same version exists in internal repository
merida1 OS X 10.11.6 El Capitan / x86_64  OK  OK  OK  OK UNNEEDED, same version exists in internal repository
Package 52/1823HostnameOS / ArchINSTALLBUILDCHECKBUILD BIN
AnalysisPageServer 1.20.0
Brad Friedman
Last Commit: aafd036
Last Changed Date: 2019-10-29 13:09:07 -0500
malbec1 Linux (Ubuntu 18.04.3 LTS) / x86_64  OK  OK  OK UNNEEDED, same version exists in internal repository
tokay1 Windows Server 2012 R2 Standard / x64  OK  OK  WARNINGS  OK UNNEEDED, same version exists in internal repository
merida1 OS X 10.11.6 El Capitan / x86_64  OK  OK  OK  OK UNNEEDED, same version exists in internal repository
Package 53/1823HostnameOS / ArchINSTALLBUILDCHECKBUILD BIN
anamiR 1.14.0
Ti-Tai Wang
Last Commit: 8e3d157
Last Changed Date: 2019-10-29 13:10:12 -0500
malbec1 Linux (Ubuntu 18.04.3 LTS) / x86_64  OK  ERROR  skipped 
tokay1 Windows Server 2012 R2 Standard / x64  OK  ERROR  skipped  skipped 
merida1 OS X 10.11.6 El Capitan / x86_64  OK  ERROR  skipped  skipped 
Package 54/1823HostnameOS / ArchINSTALLBUILDCHECKBUILD BIN
Anaquin 2.10.0
Ted Wong
Last Commit: fb0476a
Last Changed Date: 2019-10-29 13:10:03 -0500
malbec1 Linux (Ubuntu 18.04.3 LTS) / x86_64  OK  OK  OK UNNEEDED, same version exists in internal repository
tokay1 Windows Server 2012 R2 Standard / x64  OK  OK  OK  OK UNNEEDED, same version exists in internal repository
merida1 OS X 10.11.6 El Capitan / x86_64  OK  OK  OK  OK UNNEEDED, same version exists in internal repository
Package 55/1823HostnameOS / ArchINSTALLBUILDCHECKBUILD BIN
AneuFinder 1.14.0
Aaron Taudt
Last Commit: 536431e
Last Changed Date: 2019-10-29 13:09:36 -0500
malbec1 Linux (Ubuntu 18.04.3 LTS) / x86_64  OK  OK  OK UNNEEDED, same version exists in internal repository
tokay1 Windows Server 2012 R2 Standard / x64  OK  OK  OK  OK UNNEEDED, same version exists in internal repository
merida1 OS X 10.11.6 El Capitan / x86_64  OK  OK  OK  OK UNNEEDED, same version exists in internal repository
Package 56/1823HostnameOS / ArchINSTALLBUILDCHECKBUILD BIN
ANF 1.8.0
Tianle Ma
Last Commit: 9804022
Last Changed Date: 2019-10-29 13:10:50 -0500
malbec1 Linux (Ubuntu 18.04.3 LTS) / x86_64  OK  OK  OK UNNEEDED, same version exists in internal repository
tokay1 Windows Server 2012 R2 Standard / x64  OK  OK  OK  OK UNNEEDED, same version exists in internal repository
merida1 OS X 10.11.6 El Capitan / x86_64  OK  OK  OK  OK UNNEEDED, same version exists in internal repository
Package 57/1823HostnameOS / ArchINSTALLBUILDCHECKBUILD BIN
animalcules 1.2.0
Yue Zhao
Last Commit: 1b0d06f
Last Changed Date: 2019-10-29 13:11:40 -0500
malbec1 Linux (Ubuntu 18.04.3 LTS) / x86_64  OK  OK  OK UNNEEDED, same version exists in internal repository
tokay1 Windows Server 2012 R2 Standard / x64  OK  OK  OK  OK UNNEEDED, same version exists in internal repository
merida1 OS X 10.11.6 El Capitan / x86_64  OK  OK  OK  OK UNNEEDED, same version exists in internal repository
Package 58/1823HostnameOS / ArchINSTALLBUILDCHECKBUILD BIN
annaffy 1.58.0
Colin A. Smith
Last Commit: 5617008
Last Changed Date: 2019-10-29 13:07:25 -0500
malbec1 Linux (Ubuntu 18.04.3 LTS) / x86_64  OK  OK  OK UNNEEDED, same version exists in internal repository
tokay1 Windows Server 2012 R2 Standard / x64  OK  OK  OK  OK UNNEEDED, same version exists in internal repository
merida1 OS X 10.11.6 El Capitan / x86_64  OK  OK  OK  OK UNNEEDED, same version exists in internal repository
Package 59/1823HostnameOS / ArchINSTALLBUILDCHECKBUILD BIN
annmap 1.28.0
Chris Wirth
Last Commit: 0822a1a
Last Changed Date: 2019-10-29 13:08:32 -0500
malbec1 Linux (Ubuntu 18.04.3 LTS) / x86_64  OK  OK  WARNINGS UNNEEDED, same version exists in internal repository
tokay1 Windows Server 2012 R2 Standard / x64 ...NOT SUPPORTED...
merida1 OS X 10.11.6 El Capitan / x86_64  OK  OK  WARNINGS  OK UNNEEDED, same version exists in internal repository
Package 60/1823HostnameOS / ArchINSTALLBUILDCHECKBUILD BIN
annotate 1.64.0
Bioconductor Package Maintainer
Last Commit: e272e0b
Last Changed Date: 2019-10-29 13:07:20 -0500
malbec1 Linux (Ubuntu 18.04.3 LTS) / x86_64  OK  OK  OK UNNEEDED, same version exists in internal repository
tokay1 Windows Server 2012 R2 Standard / x64  OK  OK  OK  OK UNNEEDED, same version exists in internal repository
merida1 OS X 10.11.6 El Capitan / x86_64  OK  OK  OK  OK UNNEEDED, same version exists in internal repository
Package 61/1823HostnameOS / ArchINSTALLBUILDCHECKBUILD BIN
AnnotationDbi 1.48.0
Bioconductor Package Maintainer
Last Commit: e8ca855
Last Changed Date: 2019-10-29 13:07:45 -0500
malbec1 Linux (Ubuntu 18.04.3 LTS) / x86_64  OK  OK  OK UNNEEDED, same version exists in internal repository
tokay1 Windows Server 2012 R2 Standard / x64  OK  OK  OK  OK UNNEEDED, same version exists in internal repository
merida1 OS X 10.11.6 El Capitan / x86_64  OK  OK  OK  OK UNNEEDED, same version exists in internal repository
Package 62/1823HostnameOS / ArchINSTALLBUILDCHECKBUILD BIN
AnnotationFilter 1.10.0
Bioconductor Package Maintainer
Last Commit: 23d7018
Last Changed Date: 2019-10-29 13:10:20 -0500
malbec1 Linux (Ubuntu 18.04.3 LTS) / x86_64  OK  OK  OK UNNEEDED, same version exists in internal repository
tokay1 Windows Server 2012 R2 Standard / x64  OK  OK  OK  OK UNNEEDED, same version exists in internal repository
merida1 OS X 10.11.6 El Capitan / x86_64  OK  OK  OK  OK UNNEEDED, same version exists in internal repository
Package 63/1823HostnameOS / ArchINSTALLBUILDCHECKBUILD BIN
AnnotationForge 1.28.0
Bioconductor Package Maintainer
Last Commit: 61a9cb6
Last Changed Date: 2019-10-29 13:08:32 -0500
malbec1 Linux (Ubuntu 18.04.3 LTS) / x86_64  OK  OK  OK UNNEEDED, same version exists in internal repository
tokay1 Windows Server 2012 R2 Standard / x64  OK  OK  OK  OK UNNEEDED, same version exists in internal repository
merida1 OS X 10.11.6 El Capitan / x86_64  OK  OK  OK  OK UNNEEDED, same version exists in internal repository
Package 64/1823HostnameOS / ArchINSTALLBUILDCHECKBUILD BIN
AnnotationFuncs 1.36.0
Stefan McKinnon Edwards
Last Commit: 73abe3e
Last Changed Date: 2019-10-29 13:08:19 -0500
malbec1 Linux (Ubuntu 18.04.3 LTS) / x86_64  OK  OK  OK UNNEEDED, same version exists in internal repository
tokay1 Windows Server 2012 R2 Standard / x64  OK  OK  OK  OK UNNEEDED, same version exists in internal repository
merida1 OS X 10.11.6 El Capitan / x86_64  OK  OK  OK  OK UNNEEDED, same version exists in internal repository
Package 65/1823HostnameOS / ArchINSTALLBUILDCHECKBUILD BIN
AnnotationHub 2.18.0
Bioconductor Package Maintainer
Last Commit: 660ceb5
Last Changed Date: 2019-10-29 13:08:38 -0500
malbec1 Linux (Ubuntu 18.04.3 LTS) / x86_64  OK  OK  WARNINGS UNNEEDED, same version exists in internal repository
tokay1 Windows Server 2012 R2 Standard / x64  OK  OK  WARNINGS  OK UNNEEDED, same version exists in internal repository
merida1 OS X 10.11.6 El Capitan / x86_64  OK  OK  WARNINGS  OK UNNEEDED, same version exists in internal repository
Package 66/1823HostnameOS / ArchINSTALLBUILDCHECKBUILD BIN
AnnotationHubData 1.16.0
Bioconductor Package Maintainer
Last Commit: 67b7ca8
Last Changed Date: 2019-10-29 13:09:25 -0500
malbec1 Linux (Ubuntu 18.04.3 LTS) / x86_64  OK  OK  WARNINGS UNNEEDED, same version exists in internal repository
tokay1 Windows Server 2012 R2 Standard / x64  OK  OK  WARNINGS  OK UNNEEDED, same version exists in internal repository
merida1 OS X 10.11.6 El Capitan / x86_64  OK  OK  WARNINGS  OK UNNEEDED, same version exists in internal repository
Package 67/1823HostnameOS / ArchINSTALLBUILDCHECKBUILD BIN
annotationTools 1.60.0
Alexandre Kuhn
Last Commit: 95df48e
Last Changed Date: 2019-10-29 13:07:47 -0500
malbec1 Linux (Ubuntu 18.04.3 LTS) / x86_64  OK  OK  OK UNNEEDED, same version exists in internal repository
tokay1 Windows Server 2012 R2 Standard / x64  OK  OK  OK  OK UNNEEDED, same version exists in internal repository
merida1 OS X 10.11.6 El Capitan / x86_64  OK  OK  OK  OK UNNEEDED, same version exists in internal repository
Package 68/1823HostnameOS / ArchINSTALLBUILDCHECKBUILD BIN
annotatr 1.12.1
Raymond G. Cavalcante
Last Commit: 919d4e3
Last Changed Date: 2019-11-12 10:00:22 -0500
malbec1 Linux (Ubuntu 18.04.3 LTS) / x86_64  OK  OK  OK UNNEEDED, same version exists in internal repository
tokay1 Windows Server 2012 R2 Standard / x64  OK  OK  OK  OK UNNEEDED, same version exists in internal repository
merida1 OS X 10.11.6 El Capitan / x86_64  OK  OK  OK  OK UNNEEDED, same version exists in internal repository
Package 69/1823HostnameOS / ArchINSTALLBUILDCHECKBUILD BIN
anota 1.34.0
Ola Larsson
Last Commit: 2d8ef45
Last Changed Date: 2019-10-29 13:08:20 -0500
malbec1 Linux (Ubuntu 18.04.3 LTS) / x86_64  OK  OK  OK UNNEEDED, same version exists in internal repository
tokay1 Windows Server 2012 R2 Standard / x64  OK  OK  OK  OK UNNEEDED, same version exists in internal repository
merida1 OS X 10.11.6 El Capitan / x86_64  OK  OK  OK  OK UNNEEDED, same version exists in internal repository
Package 70/1823HostnameOS / ArchINSTALLBUILDCHECKBUILD BIN
anota2seq 1.8.0
Christian Oertlin , Julie Lorent
Last Commit: 89e6122
Last Changed Date: 2019-10-29 13:10:50 -0500
malbec1 Linux (Ubuntu 18.04.3 LTS) / x86_64  OK  OK  OK UNNEEDED, same version exists in internal repository
tokay1 Windows Server 2012 R2 Standard / x64  OK  OK  OK  OK UNNEEDED, same version exists in internal repository
merida1 OS X 10.11.6 El Capitan / x86_64  OK  OK  OK  OK UNNEEDED, same version exists in internal repository
Package 71/1823HostnameOS / ArchINSTALLBUILDCHECKBUILD BIN
antiProfiles 1.26.0
Hector Corrada Bravo
Last Commit: fe78e7a
Last Changed Date: 2019-10-29 13:08:38 -0500
malbec1 Linux (Ubuntu 18.04.3 LTS) / x86_64  OK  OK  OK UNNEEDED, same version exists in internal repository
tokay1 Windows Server 2012 R2 Standard / x64  OK  OK  OK  OK UNNEEDED, same version exists in internal repository
merida1 OS X 10.11.6 El Capitan / x86_64  OK  OK  OK  OK UNNEEDED, same version exists in internal repository
Package 72/1823HostnameOS / ArchINSTALLBUILDCHECKBUILD BIN
APAlyzer 1.0.0
Ruijia Wang
Last Commit: 2874b52
Last Changed Date: 2019-10-29 13:11:53 -0500
malbec1 Linux (Ubuntu 18.04.3 LTS) / x86_64  OK  OK  OK UNNEEDED, same version exists in internal repository
tokay1 Windows Server 2012 R2 Standard / x64  OK  OK  OK  OK UNNEEDED, same version exists in internal repository
merida1 OS X 10.11.6 El Capitan / x86_64  OK  OK  OK  OK UNNEEDED, same version exists in internal repository
Package 73/1823HostnameOS / ArchINSTALLBUILDCHECKBUILD BIN
apComplex 2.52.0
Denise Scholtens
Last Commit: 812b679
Last Changed Date: 2019-10-29 13:07:32 -0500
malbec1 Linux (Ubuntu 18.04.3 LTS) / x86_64  OK  OK  OK UNNEEDED, same version exists in internal repository
tokay1 Windows Server 2012 R2 Standard / x64  OK  OK  OK  OK UNNEEDED, same version exists in internal repository
merida1 OS X 10.11.6 El Capitan / x86_64  OK  OK  OK  OK UNNEEDED, same version exists in internal repository
Package 74/1823HostnameOS / ArchINSTALLBUILDCHECKBUILD BIN
apeglm 1.8.0
Anqi Zhu
Last Commit: e27f70c
Last Changed Date: 2019-10-29 13:10:42 -0500
malbec1 Linux (Ubuntu 18.04.3 LTS) / x86_64  OK  OK  OK UNNEEDED, same version exists in internal repository
tokay1 Windows Server 2012 R2 Standard / x64  OK  OK  OK  OK UNNEEDED, same version exists in internal repository
merida1 OS X 10.11.6 El Capitan / x86_64  OK  OK  OK  OK UNNEEDED, same version exists in internal repository
Package 75/1823HostnameOS / ArchINSTALLBUILDCHECKBUILD BIN
appreci8R 1.4.0
Sarah Sandmann
Last Commit: ba9885a
Last Changed Date: 2019-10-29 13:11:16 -0500
malbec1 Linux (Ubuntu 18.04.3 LTS) / x86_64  OK  OK  OK UNNEEDED, same version exists in internal repository
tokay1 Windows Server 2012 R2 Standard / x64  OK  OK  OK  OK UNNEEDED, same version exists in internal repository
merida1 OS X 10.11.6 El Capitan / x86_64  OK  OK  OK  OK UNNEEDED, same version exists in internal repository
Package 76/1823HostnameOS / ArchINSTALLBUILDCHECKBUILD BIN
aroma.light 3.16.0
Henrik Bengtsson
Last Commit: fc16179
Last Changed Date: 2019-10-29 13:07:43 -0500
malbec1 Linux (Ubuntu 18.04.3 LTS) / x86_64  OK  OK  OK UNNEEDED, same version exists in internal repository
tokay1 Windows Server 2012 R2 Standard / x64  OK  OK  OK  OK UNNEEDED, same version exists in internal repository
merida1 OS X 10.11.6 El Capitan / x86_64  OK  OK  OK  OK UNNEEDED, same version exists in internal repository
Package 77/1823HostnameOS / ArchINSTALLBUILDCHECKBUILD BIN
ArrayExpress 1.46.0
Suhaib Mohammed
Last Commit: 4eb2ee5
Last Changed Date: 2019-10-29 13:07:58 -0500
malbec1 Linux (Ubuntu 18.04.3 LTS) / x86_64  OK  OK  OK UNNEEDED, same version exists in internal repository
tokay1 Windows Server 2012 R2 Standard / x64  OK  ERROR  skipped  skipped 
merida1 OS X 10.11.6 El Capitan / x86_64  OK  OK  OK  OK UNNEEDED, same version exists in internal repository
Package 78/1823HostnameOS / ArchINSTALLBUILDCHECKBUILD BIN
ArrayExpressHTS 1.36.0
Angela Goncalves , Andrew Tikhonov
Last Commit: 1c23173
Last Changed Date: 2019-10-29 13:08:20 -0500
malbec1 Linux (Ubuntu 18.04.3 LTS) / x86_64  OK  OK  WARNINGS UNNEEDED, same version exists in internal repository
tokay1 Windows Server 2012 R2 Standard / x64 ...NOT SUPPORTED...
merida1 OS X 10.11.6 El Capitan / x86_64  OK  OK  OK  OK UNNEEDED, same version exists in internal repository
Package 79/1823HostnameOS / ArchINSTALLBUILDCHECKBUILD BIN
arrayMvout 1.44.0
V. Carey
Last Commit: d65f39c
Last Changed Date: 2019-10-29 13:08:00 -0500
malbec1 Linux (Ubuntu 18.04.3 LTS) / x86_64  OK  OK  OK UNNEEDED, same version exists in internal repository
tokay1 Windows Server 2012 R2 Standard / x64  OK  OK  OK  OK UNNEEDED, same version exists in internal repository
merida1 OS X 10.11.6 El Capitan / x86_64  OK  OK  OK  OK UNNEEDED, same version exists in internal repository
Package 80/1823HostnameOS / ArchINSTALLBUILDCHECKBUILD BIN
arrayQuality 1.64.0
Agnes Paquet
Last Commit: dd0c0b8
Last Changed Date: 2019-10-29 13:07:28 -0500
malbec1 Linux (Ubuntu 18.04.3 LTS) / x86_64  OK  OK  WARNINGS UNNEEDED, same version exists in internal repository
tokay1 Windows Server 2012 R2 Standard / x64  OK  OK  WARNINGS  OK UNNEEDED, same version exists in internal repository
merida1 OS X 10.11.6 El Capitan / x86_64  OK  OK  WARNINGS  OK UNNEEDED, same version exists in internal repository
Package 81/1823HostnameOS / ArchINSTALLBUILDCHECKBUILD BIN
arrayQualityMetrics 3.42.0
Mike Smith
Last Commit: 6ebb828
Last Changed Date: 2019-10-29 13:07:51 -0500
malbec1 Linux (Ubuntu 18.04.3 LTS) / x86_64  OK  OK  OK UNNEEDED, same version exists in internal repository
tokay1 Windows Server 2012 R2 Standard / x64  OK  OK  OK  OK UNNEEDED, same version exists in internal repository
merida1 OS X 10.11.6 El Capitan / x86_64  OK  OK  OK  OK UNNEEDED, same version exists in internal repository
Package 82/1823HostnameOS / ArchINSTALLBUILDCHECKBUILD BIN
ArrayTools 1.46.0
Arthur Li
Last Commit: 247759d
Last Changed Date: 2019-10-29 13:07:58 -0500
malbec1 Linux (Ubuntu 18.04.3 LTS) / x86_64  OK  OK  OK UNNEEDED, same version exists in internal repository
tokay1 Windows Server 2012 R2 Standard / x64  OK  OK  OK  OK UNNEEDED, same version exists in internal repository
merida1 OS X 10.11.6 El Capitan / x86_64  OK  OK  OK  OK UNNEEDED, same version exists in internal repository
Package 83/1823HostnameOS / ArchINSTALLBUILDCHECKBUILD BIN
ArrayTV 1.24.0
Eitan Halper-Stromberg
Last Commit: b7398de
Last Changed Date: 2019-10-29 13:08:47 -0500
malbec1 Linux (Ubuntu 18.04.3 LTS) / x86_64  OK  OK  OK UNNEEDED, same version exists in internal repository
tokay1 Windows Server 2012 R2 Standard / x64  OK  OK  OK  OK UNNEEDED, same version exists in internal repository
merida1 OS X 10.11.6 El Capitan / x86_64  OK  OK  OK  OK UNNEEDED, same version exists in internal repository
Package 84/1823HostnameOS / ArchINSTALLBUILDCHECKBUILD BIN
ARRmNormalization 1.26.0
Jean-Philippe Fortin
Last Commit: 014b76a
Last Changed Date: 2019-10-29 13:08:37 -0500
malbec1 Linux (Ubuntu 18.04.3 LTS) / x86_64  OK  OK  OK UNNEEDED, same version exists in internal repository
tokay1 Windows Server 2012 R2 Standard / x64  OK  OK  OK  OK UNNEEDED, same version exists in internal repository
merida1 OS X 10.11.6 El Capitan / x86_64  OK  OK  OK  OK UNNEEDED, same version exists in internal repository
Package 85/1823HostnameOS / ArchINSTALLBUILDCHECKBUILD BIN
artMS 1.4.0
David Jimenez-Morales
Last Commit: 0b38330
Last Changed Date: 2019-10-29 13:11:26 -0500
malbec1 Linux (Ubuntu 18.04.3 LTS) / x86_64  OK  OK  OK UNNEEDED, same version exists in internal repository
tokay1 Windows Server 2012 R2 Standard / x64  OK  OK  OK  OK UNNEEDED, same version exists in internal repository
merida1 OS X 10.11.6 El Capitan / x86_64  OK  OK  OK  OK UNNEEDED, same version exists in internal repository
Package 86/1823HostnameOS / ArchINSTALLBUILDCHECKBUILD BIN
ASAFE 1.12.0
Qian Zhang
Last Commit: 0a912e6
Last Changed Date: 2019-10-29 13:09:54 -0500
malbec1 Linux (Ubuntu 18.04.3 LTS) / x86_64  OK  OK  OK UNNEEDED, same version exists in internal repository
tokay1 Windows Server 2012 R2 Standard / x64  OK  OK  OK  OK UNNEEDED, same version exists in internal repository
merida1 OS X 10.11.6 El Capitan / x86_64  OK  OK  OK  OK UNNEEDED, same version exists in internal repository
Package 87/1823HostnameOS / ArchINSTALLBUILDCHECKBUILD BIN
ASEB 1.30.0
Likun Wang
Last Commit: 149eae9
Last Changed Date: 2019-10-29 13:08:25 -0500
malbec1 Linux (Ubuntu 18.04.3 LTS) / x86_64  OK  OK  OK UNNEEDED, same version exists in internal repository
tokay1 Windows Server 2012 R2 Standard / x64  OK  OK  OK  OK UNNEEDED, same version exists in internal repository
merida1 OS X 10.11.6 El Capitan / x86_64  OK  OK  OK  OK UNNEEDED, same version exists in internal repository
Package 88/1823HostnameOS / ArchINSTALLBUILDCHECKBUILD BIN
ASGSCA 1.20.0
Hela Romdhani
Last Commit: eb3457d
Last Changed Date: 2019-10-29 13:09:05 -0500
malbec1 Linux (Ubuntu 18.04.3 LTS) / x86_64  OK  OK  OK UNNEEDED, same version exists in internal repository
tokay1 Windows Server 2012 R2 Standard / x64  OK  OK  OK  OK UNNEEDED, same version exists in internal repository
merida1 OS X 10.11.6 El Capitan / x86_64  OK  OK  OK  OK UNNEEDED, same version exists in internal repository
Package 89/1823HostnameOS / ArchINSTALLBUILDCHECKBUILD BIN
ASICS 2.2.0
Gaëlle Lefort
Last Commit: a8eba84
Last Changed Date: 2019-10-29 13:11:05 -0500
malbec1 Linux (Ubuntu 18.04.3 LTS) / x86_64  OK  OK  OK UNNEEDED, same version exists in internal repository
tokay1 Windows Server 2012 R2 Standard / x64  OK  OK  OK  OK UNNEEDED, same version exists in internal repository
merida1 OS X 10.11.6 El Capitan / x86_64  OK  OK  WARNINGS  OK UNNEEDED, same version exists in internal repository
Package 90/1823HostnameOS / ArchINSTALLBUILDCHECKBUILD BIN
ASpediaFI 1.0.0
Doyeong Yu
Last Commit: 41d9e03
Last Changed Date: 2019-10-29 13:12:13 -0500
malbec1 Linux (Ubuntu 18.04.3 LTS) / x86_64  OK  OK  OK UNNEEDED, same version exists in internal repository
tokay1 Windows Server 2012 R2 Standard / x64  OK  OK  OK  OK UNNEEDED, same version exists in internal repository
merida1 OS X 10.11.6 El Capitan / x86_64  OK  OK  OK  OK UNNEEDED, same version exists in internal repository
Package 91/1823HostnameOS / ArchINSTALLBUILDCHECKBUILD BIN
ASpli 1.12.0
Estefania Mancini
Last Commit: 23929ac
Last Changed Date: 2019-10-29 13:09:57 -0500
malbec1 Linux (Ubuntu 18.04.3 LTS) / x86_64  OK  OK  OK UNNEEDED, same version exists in internal repository
tokay1 Windows Server 2012 R2 Standard / x64  OK  OK  OK  OK UNNEEDED, same version exists in internal repository
merida1 OS X 10.11.6 El Capitan / x86_64  OK  OK  OK  OK UNNEEDED, same version exists in internal repository
Package 92/1823HostnameOS / ArchINSTALLBUILDCHECKBUILD BIN
AssessORF 1.4.0
Deepank Korandla
Last Commit: d7805a6
Last Changed Date: 2019-10-29 13:11:26 -0500
malbec1 Linux (Ubuntu 18.04.3 LTS) / x86_64  OK  OK  OK UNNEEDED, same version exists in internal repository
tokay1 Windows Server 2012 R2 Standard / x64  OK  OK  OK  OK UNNEEDED, same version exists in internal repository
merida1 OS X 10.11.6 El Capitan / x86_64  OK  OK  OK  OK UNNEEDED, same version exists in internal repository
Package 93/1823HostnameOS / ArchINSTALLBUILDCHECKBUILD BIN
ASSET 2.4.0
Samsiddhi Bhattacharjee
Last Commit: 47effea
Last Changed Date: 2019-10-29 13:08:45 -0500
malbec1 Linux (Ubuntu 18.04.3 LTS) / x86_64  OK  OK  WARNINGS UNNEEDED, same version exists in internal repository
tokay1 Windows Server 2012 R2 Standard / x64  OK  OK  WARNINGS  OK UNNEEDED, same version exists in internal repository
merida1 OS X 10.11.6 El Capitan / x86_64  OK  OK  WARNINGS  OK UNNEEDED, same version exists in internal repository
Package 94/1823HostnameOS / ArchINSTALLBUILDCHECKBUILD BIN
ASSIGN 1.22.0
Ying Shen , W. Evan Johnson
Last Commit: c20ca70
Last Changed Date: 2019-10-29 13:08:53 -0500
malbec1 Linux (Ubuntu 18.04.3 LTS) / x86_64  OK  OK  OK UNNEEDED, same version exists in internal repository
tokay1 Windows Server 2012 R2 Standard / x64  OK  OK  OK  OK UNNEEDED, same version exists in internal repository
merida1 OS X 10.11.6 El Capitan / x86_64  OK  OK  OK  OK UNNEEDED, same version exists in internal repository
Package 95/1823HostnameOS / ArchINSTALLBUILDCHECKBUILD BIN
ATACseqQC 1.10.1
Jianhong Ou
Last Commit: 0ca455d
Last Changed Date: 2019-11-11 10:45:29 -0500
malbec1 Linux (Ubuntu 18.04.3 LTS) / x86_64  OK  OK  OK UNNEEDED, same version exists in internal repository
tokay1 Windows Server 2012 R2 Standard / x64  OK  OK  OK  OK UNNEEDED, same version exists in internal repository
merida1 OS X 10.11.6 El Capitan / x86_64  OK  OK  OK  OK UNNEEDED, same version exists in internal repository
Package 96/1823HostnameOS / ArchINSTALLBUILDCHECKBUILD BIN
atSNP 1.2.0
Sunyoung Shin
Last Commit: 4c978e2
Last Changed Date: 2019-10-29 13:11:29 -0500
malbec1 Linux (Ubuntu 18.04.3 LTS) / x86_64  OK  OK  OK UNNEEDED, same version exists in internal repository
tokay1 Windows Server 2012 R2 Standard / x64  OK  OK  OK  OK UNNEEDED, same version exists in internal repository
merida1 OS X 10.11.6 El Capitan / x86_64  OK  OK  OK  OK UNNEEDED, same version exists in internal repository
Package 97/1823HostnameOS / ArchINSTALLBUILDCHECKBUILD BIN
attract 1.38.0
Samuel Zimmerman
Last Commit: d71a381
Last Changed Date: 2019-10-29 13:08:16 -0500
malbec1 Linux (Ubuntu 18.04.3 LTS) / x86_64  OK  OK  OK UNNEEDED, same version exists in internal repository
tokay1 Windows Server 2012 R2 Standard / x64  OK  OK  OK  OK UNNEEDED, same version exists in internal repository
merida1 OS X 10.11.6 El Capitan / x86_64  OK  OK  OK  OK UNNEEDED, same version exists in internal repository
Package 98/1823HostnameOS / ArchINSTALLBUILDCHECKBUILD BIN
AUCell 1.8.0
Sara Aibar
Last Commit: b1f460c
Last Changed Date: 2019-10-29 13:10:44 -0500
malbec1 Linux (Ubuntu 18.04.3 LTS) / x86_64  OK  OK  WARNINGS UNNEEDED, same version exists in internal repository
tokay1 Windows Server 2012 R2 Standard / x64  OK  OK  WARNINGS  OK UNNEEDED, same version exists in internal repository
merida1 OS X 10.11.6 El Capitan / x86_64  OK  OK  WARNINGS  OK UNNEEDED, same version exists in internal repository
Package 99/1823HostnameOS / ArchINSTALLBUILDCHECKBUILD BIN
Autotuner 1.0.0
Craig McLean
Last Commit: 1b33025
Last Changed Date: 2019-10-29 13:11:48 -0500
malbec1 Linux (Ubuntu 18.04.3 LTS) / x86_64  OK  OK  OK UNNEEDED, same version exists in internal repository
tokay1 Windows Server 2012 R2 Standard / x64  OK  OK  OK  OK UNNEEDED, same version exists in internal repository
merida1 OS X 10.11.6 El Capitan / x86_64  OK  OK  OK  OK UNNEEDED, same version exists in internal repository
Package 100/1823HostnameOS / ArchINSTALLBUILDCHECKBUILD BIN
AWFisher 1.0.0
Zhiguang Huo
Last Commit: b55ee55
Last Changed Date: 2019-10-29 13:11:46 -0500
malbec1 Linux (Ubuntu 18.04.3 LTS) / x86_64  OK  OK  OK UNNEEDED, same version exists in internal repository
tokay1 Windows Server 2012 R2 Standard / x64  OK  OK  OK  OK UNNEEDED, same version exists in internal repository
merida1 OS X 10.11.6 El Capitan / x86_64  OK  OK  OK  OK UNNEEDED, same version exists in internal repository
B
ABCDEFGHIJKLMNOPQRSTUVWXYZ
Package 101/1823HostnameOS / ArchINSTALLBUILDCHECKBUILD BIN
BaalChIP 1.12.0
Ines de Santiago
Last Commit: cdb93e0
Last Changed Date: 2019-10-29 13:10:05 -0500
malbec1 Linux (Ubuntu 18.04.3 LTS) / x86_64  OK  OK  WARNINGS UNNEEDED, same version exists in internal repository
tokay1 Windows Server 2012 R2 Standard / x64  OK  OK  WARNINGS  OK UNNEEDED, same version exists in internal repository
merida1 OS X 10.11.6 El Capitan / x86_64  OK  OK  WARNINGS  OK UNNEEDED, same version exists in internal repository
Package 102/1823HostnameOS / ArchINSTALLBUILDCHECKBUILD BIN
BAC 1.46.0
Raphael Gottardo
Last Commit: bd93fcd
Last Changed Date: 2019-10-29 13:07:54 -0500
malbec1 Linux (Ubuntu 18.04.3 LTS) / x86_64  OK  OK  OK UNNEEDED, same version exists in internal repository
tokay1 Windows Server 2012 R2 Standard / x64  OK  OK  OK  OK UNNEEDED, same version exists in internal repository
merida1 OS X 10.11.6 El Capitan / x86_64  OK  OK  OK  OK UNNEEDED, same version exists in internal repository
Package 103/1823HostnameOS / ArchINSTALLBUILDCHECKBUILD BIN
bacon 1.14.0
Maarten van Iterson
Last Commit: f3ef756
Last Changed Date: 2019-10-29 13:09:35 -0500
malbec1 Linux (Ubuntu 18.04.3 LTS) / x86_64  OK  OK  OK UNNEEDED, same version exists in internal repository
tokay1 Windows Server 2012 R2 Standard / x64  OK  OK  OK  OK UNNEEDED, same version exists in internal repository
merida1 OS X 10.11.6 El Capitan / x86_64  OK  OK  OK  OK UNNEEDED, same version exists in internal repository
Package 104/1823HostnameOS / ArchINSTALLBUILDCHECKBUILD BIN
BADER 1.24.0
Andreas Neudecker
Last Commit: 0c5d8cb
Last Changed Date: 2019-10-29 13:08:46 -0500
malbec1 Linux (Ubuntu 18.04.3 LTS) / x86_64  OK  OK  OK UNNEEDED, same version exists in internal repository
tokay1 Windows Server 2012 R2 Standard / x64  OK  OK  OK  OK UNNEEDED, same version exists in internal repository
merida1 OS X 10.11.6 El Capitan / x86_64  OK  OK  OK  OK UNNEEDED, same version exists in internal repository
Package 105/1823HostnameOS / ArchINSTALLBUILDCHECKBUILD BIN
BadRegionFinder 1.14.0
Sarah Sandmann
Last Commit: 49af136
Last Changed Date: 2019-10-29 13:09:37 -0500
malbec1 Linux (Ubuntu 18.04.3 LTS) / x86_64  OK  OK  OK UNNEEDED, same version exists in internal repository
tokay1 Windows Server 2012 R2 Standard / x64  OK  OK  OK  OK UNNEEDED, same version exists in internal repository
merida1 OS X 10.11.6 El Capitan / x86_64  OK  OK  OK  OK UNNEEDED, same version exists in internal repository
Package 106/1823HostnameOS / ArchINSTALLBUILDCHECKBUILD BIN
BAGS 2.26.0
Alejandro Quiroz-Zarate
Last Commit: 47e6a5c
Last Changed Date: 2019-10-29 13:08:26 -0500
malbec1 Linux (Ubuntu 18.04.3 LTS) / x86_64  OK  OK  OK UNNEEDED, same version exists in internal repository
tokay1 Windows Server 2012 R2 Standard / x64  OK  OK  OK  OK UNNEEDED, same version exists in internal repository
merida1 OS X 10.11.6 El Capitan / x86_64  OK  OK  OK  OK UNNEEDED, same version exists in internal repository
Package 107/1823HostnameOS / ArchINSTALLBUILDCHECKBUILD BIN
ballgown 2.18.0
Jack Fu
Last Commit: 3e1dcf2
Last Changed Date: 2019-10-29 13:09:02 -0500
malbec1 Linux (Ubuntu 18.04.3 LTS) / x86_64  OK  OK  OK UNNEEDED, same version exists in internal repository
tokay1 Windows Server 2012 R2 Standard / x64  OK  OK  OK  OK UNNEEDED, same version exists in internal repository
merida1 OS X 10.11.6 El Capitan / x86_64  OK  OK  OK  OK UNNEEDED, same version exists in internal repository
Package 108/1823HostnameOS / ArchINSTALLBUILDCHECKBUILD BIN
bamsignals 1.18.0
Johannes Helmuth
Last Commit: 4ed80c9
Last Changed Date: 2019-10-29 13:09:13 -0500
malbec1 Linux (Ubuntu 18.04.3 LTS) / x86_64  OK  OK  OK UNNEEDED, same version exists in internal repository
tokay1 Windows Server 2012 R2 Standard / x64  OK  OK  OK  OK UNNEEDED, same version exists in internal repository
merida1 OS X 10.11.6 El Capitan / x86_64  OK  OK  OK  OK UNNEEDED, same version exists in internal repository
Package 109/1823HostnameOS / ArchINSTALLBUILDCHECKBUILD BIN
BANDITS 1.2.0
Simone Tiberi
Last Commit: 4c07f7e
Last Changed Date: 2019-10-29 13:11:38 -0500
malbec1 Linux (Ubuntu 18.04.3 LTS) / x86_64  OK  OK  OK UNNEEDED, same version exists in internal repository
tokay1 Windows Server 2012 R2 Standard / x64  OK  OK  OK  OK UNNEEDED, same version exists in internal repository
merida1 OS X 10.11.6 El Capitan / x86_64  OK  OK  OK  OK UNNEEDED, same version exists in internal repository
Package 110/1823HostnameOS / ArchINSTALLBUILDCHECKBUILD BIN
banocc 1.10.0
George Weingart
Last Commit: 97df938
Last Changed Date: 2019-10-29 13:10:21 -0500
malbec1 Linux (Ubuntu 18.04.3 LTS) / x86_64  OK  OK  OK UNNEEDED, same version exists in internal repository
tokay1 Windows Server 2012 R2 Standard / x64  OK  OK  WARNINGS  OK UNNEEDED, same version exists in internal repository
merida1 OS X 10.11.6 El Capitan / x86_64  OK  OK  OK  OK UNNEEDED, same version exists in internal repository
Package 111/1823HostnameOS / ArchINSTALLBUILDCHECKBUILD BIN
basecallQC 1.10.0
Thomas Carroll
Last Commit: 421c582
Last Changed Date: 2019-10-29 13:10:22 -0500
malbec1 Linux (Ubuntu 18.04.3 LTS) / x86_64  OK  OK  OK UNNEEDED, same version exists in internal repository
tokay1 Windows Server 2012 R2 Standard / x64  OK  OK  OK  OK UNNEEDED, same version exists in internal repository
merida1 OS X 10.11.6 El Capitan / x86_64  OK  OK  OK  OK UNNEEDED, same version exists in internal repository
Package 112/1823HostnameOS / ArchINSTALLBUILDCHECKBUILD BIN
BaseSpaceR 1.30.0
Jared O'Connell
Last Commit: 7d1ce41
Last Changed Date: 2019-10-29 13:08:38 -0500
malbec1 Linux (Ubuntu 18.04.3 LTS) / x86_64  OK  OK  OK UNNEEDED, same version exists in internal repository
tokay1 Windows Server 2012 R2 Standard / x64  OK  OK  OK  OK UNNEEDED, same version exists in internal repository
merida1 OS X 10.11.6 El Capitan / x86_64  OK  OK  OK  OK UNNEEDED, same version exists in internal repository
Package 113/1823HostnameOS / ArchINSTALLBUILDCHECKBUILD BIN
Basic4Cseq 1.22.0
Carolin Walter
Last Commit: 25a3f99
Last Changed Date: 2019-10-29 13:08:53 -0500
malbec1 Linux (Ubuntu 18.04.3 LTS) / x86_64  OK  OK  OK UNNEEDED, same version exists in internal repository
tokay1 Windows Server 2012 R2 Standard / x64  OK  OK  OK  OK UNNEEDED, same version exists in internal repository
merida1 OS X 10.11.6 El Capitan / x86_64  OK  OK  OK  OK UNNEEDED, same version exists in internal repository
Package 114/1823HostnameOS / ArchINSTALLBUILDCHECKBUILD BIN
BASiCS 1.8.0
Catalina Vallejos
Last Commit: 11022a2
Last Changed Date: 2019-10-29 13:10:47 -0500
malbec1 Linux (Ubuntu 18.04.3 LTS) / x86_64  OK  OK  OK UNNEEDED, same version exists in internal repository
tokay1 Windows Server 2012 R2 Standard / x64  OK  OK  OK  OK UNNEEDED, same version exists in internal repository
merida1 OS X 10.11.6 El Capitan / x86_64  OK  OK  OK  OK UNNEEDED, same version exists in internal repository
Package 115/1823HostnameOS / ArchINSTALLBUILDCHECKBUILD BIN
BasicSTARRseq 1.14.0
Annika Buerger
Last Commit: 73e356d
Last Changed Date: 2019-10-29 13:09:33 -0500
malbec1 Linux (Ubuntu 18.04.3 LTS) / x86_64  OK  OK  OK UNNEEDED, same version exists in internal repository
tokay1 Windows Server 2012 R2 Standard / x64  OK  OK  OK  OK UNNEEDED, same version exists in internal repository
merida1 OS X 10.11.6 El Capitan / x86_64  OK  OK  OK  OK UNNEEDED, same version exists in internal repository
Package 116/1823HostnameOS / ArchINSTALLBUILDCHECKBUILD BIN
batchelor 1.2.2
Aaron Lun
Last Commit: de2a362
Last Changed Date: 2019-11-06 20:35:44 -0500
malbec1 Linux (Ubuntu 18.04.3 LTS) / x86_64  OK  OK  OK UNNEEDED, same version exists in internal repository
tokay1 Windows Server 2012 R2 Standard / x64  OK  OK  OK  OK UNNEEDED, same version exists in internal repository
merida1 OS X 10.11.6 El Capitan / x86_64  OK  OK  OK  OK UNNEEDED, same version exists in internal repository
Package 117/1823HostnameOS / ArchINSTALLBUILDCHECKBUILD BIN
BatchQC 1.14.0
Solaiappan Manimaran
Last Commit: 7a5a5dc
Last Changed Date: 2019-10-29 13:09:37 -0500
malbec1 Linux (Ubuntu 18.04.3 LTS) / x86_64  OK  OK  OK UNNEEDED, same version exists in internal repository
tokay1 Windows Server 2012 R2 Standard / x64  OK  OK  OK  OK UNNEEDED, same version exists in internal repository
merida1 OS X 10.11.6 El Capitan / x86_64  OK  OK  OK  OK UNNEEDED, same version exists in internal repository
Package 118/1823HostnameOS / ArchINSTALLBUILDCHECKBUILD BIN
BayesKnockdown 1.12.0
William Chad Young
Last Commit: fa78a35
Last Changed Date: 2019-10-29 13:09:58 -0500
malbec1 Linux (Ubuntu 18.04.3 LTS) / x86_64  OK  OK  OK UNNEEDED, same version exists in internal repository
tokay1 Windows Server 2012 R2 Standard / x64  OK  OK  OK  OK UNNEEDED, same version exists in internal repository
merida1 OS X 10.11.6 El Capitan / x86_64  OK  OK  OK  OK UNNEEDED, same version exists in internal repository
Package 119/1823HostnameOS / ArchINSTALLBUILDCHECKBUILD BIN
BayesPeak 1.38.0
Jonathan Cairns
Last Commit: edf7c38
Last Changed Date: 2019-10-29 13:08:15 -0500
malbec1 Linux (Ubuntu 18.04.3 LTS) / x86_64  OK  OK  OK UNNEEDED, same version exists in internal repository
tokay1 Windows Server 2012 R2 Standard / x64  OK  OK  WARNINGS  OK UNNEEDED, same version exists in internal repository
merida1 OS X 10.11.6 El Capitan / x86_64  OK  OK  OK  OK UNNEEDED, same version exists in internal repository
Package 120/1823HostnameOS / ArchINSTALLBUILDCHECKBUILD BIN
bayNorm 1.4.1
Wenhao Tang
Last Commit: b069072
Last Changed Date: 2019-11-04 07:19:05 -0500
malbec1 Linux (Ubuntu 18.04.3 LTS) / x86_64  OK  OK  OK UNNEEDED, same version exists in internal repository
tokay1 Windows Server 2012 R2 Standard / x64  OK  OK  OK  OK UNNEEDED, same version exists in internal repository
merida1 OS X 10.11.6 El Capitan / x86_64  OK  OK  OK  OK UNNEEDED, same version exists in internal repository
Package 121/1823HostnameOS / ArchINSTALLBUILDCHECKBUILD BIN
baySeq 2.20.0
Thomas J. Hardcastle
Last Commit: f4f56a9
Last Changed Date: 2019-10-29 13:08:09 -0500
malbec1 Linux (Ubuntu 18.04.3 LTS) / x86_64  OK  OK  OK UNNEEDED, same version exists in internal repository
tokay1 Windows Server 2012 R2 Standard / x64  OK  OK  OK  OK UNNEEDED, same version exists in internal repository
merida1 OS X 10.11.6 El Capitan / x86_64  OK  OK  OK  OK UNNEEDED, same version exists in internal repository
Package 122/1823HostnameOS / ArchINSTALLBUILDCHECKBUILD BIN
BBCAnalyzer 1.16.0
Sarah Sandmann
Last Commit: e7d013a
Last Changed Date: 2019-10-29 13:09:24 -0500
malbec1 Linux (Ubuntu 18.04.3 LTS) / x86_64  OK  OK  OK UNNEEDED, same version exists in internal repository
tokay1 Windows Server 2012 R2 Standard / x64  OK  OK  WARNINGS  OK UNNEEDED, same version exists in internal repository
merida1 OS X 10.11.6 El Capitan / x86_64  OK  OK  OK  OK UNNEEDED, same version exists in internal repository
Package 123/1823HostnameOS / ArchINSTALLBUILDCHECKBUILD BIN
BCRANK 1.48.0
Adam Ameur
Last Commit: 466922c
Last Changed Date: 2019-10-29 13:07:54 -0500
malbec1 Linux (Ubuntu 18.04.3 LTS) / x86_64  OK  OK  OK UNNEEDED, same version exists in internal repository
tokay1 Windows Server 2012 R2 Standard / x64  OK  OK  OK  OK UNNEEDED, same version exists in internal repository
merida1 OS X 10.11.6 El Capitan / x86_64  OK  OK  OK  OK UNNEEDED, same version exists in internal repository
Package 124/1823HostnameOS / ArchINSTALLBUILDCHECKBUILD BIN
bcSeq 1.8.0
Jiaxing Lin
Last Commit: f87331f
Last Changed Date: 2019-10-29 13:10:54 -0500
malbec1 Linux (Ubuntu 18.04.3 LTS) / x86_64  OK  OK  OK UNNEEDED, same version exists in internal repository
tokay1 Windows Server 2012 R2 Standard / x64  OK  OK  OK  OK UNNEEDED, same version exists in internal repository
merida1 OS X 10.11.6 El Capitan / x86_64  OK  OK  OK  OK UNNEEDED, same version exists in internal repository
Package 125/1823HostnameOS / ArchINSTALLBUILDCHECKBUILD BIN
BDMMAcorrect 1.4.0
ZHENWEI DAI
Last Commit: 8359f9b
Last Changed Date: 2019-10-29 13:11:27 -0500
malbec1 Linux (Ubuntu 18.04.3 LTS) / x86_64  OK  OK  OK UNNEEDED, same version exists in internal repository
tokay1 Windows Server 2012 R2 Standard / x64  OK  OK  OK  OK UNNEEDED, same version exists in internal repository
merida1 OS X 10.11.6 El Capitan / x86_64  OK  OK  OK  OK UNNEEDED, same version exists in internal repository
Package 126/1823HostnameOS / ArchINSTALLBUILDCHECKBUILD BIN
beachmat 2.2.1
Aaron Lun
Last Commit: 1e85e4d
Last Changed Date: 2019-11-14 20:02:36 -0500
malbec1 Linux (Ubuntu 18.04.3 LTS) / x86_64  OK  OK  OK UNNEEDED, same version exists in internal repository
tokay1 Windows Server 2012 R2 Standard / x64  OK  OK  OK  OK UNNEEDED, same version exists in internal repository
merida1 OS X 10.11.6 El Capitan / x86_64  OK  OK  OK  OK UNNEEDED, same version exists in internal repository
Package 127/1823HostnameOS / ArchINSTALLBUILDCHECKBUILD BIN
beadarray 2.36.0
Mark Dunning
Last Commit: d469fc3
Last Changed Date: 2019-10-29 13:07:40 -0500
malbec1 Linux (Ubuntu 18.04.3 LTS) / x86_64  OK  OK  OK UNNEEDED, same version exists in internal repository
tokay1 Windows Server 2012 R2 Standard / x64  OK  OK  OK  OK UNNEEDED, same version exists in internal repository
merida1 OS X 10.11.6 El Capitan / x86_64  OK  OK  OK  OK UNNEEDED, same version exists in internal repository
Package 128/1823HostnameOS / ArchINSTALLBUILDCHECKBUILD BIN
beadarraySNP 1.52.0
Jan Oosting
Last Commit: 53b7e15
Last Changed Date: 2019-10-29 13:07:44 -0500
malbec1 Linux (Ubuntu 18.04.3 LTS) / x86_64  OK  OK  OK UNNEEDED, same version exists in internal repository
tokay1 Windows Server 2012 R2 Standard / x64  OK  OK  OK  OK UNNEEDED, same version exists in internal repository
merida1 OS X 10.11.6 El Capitan / x86_64  OK  OK  OK  OK UNNEEDED, same version exists in internal repository
Package 129/1823HostnameOS / ArchINSTALLBUILDCHECKBUILD BIN
BeadDataPackR 1.38.0
Mike Smith
Last Commit: afe5ca9
Last Changed Date: 2019-10-29 13:08:14 -0500
malbec1 Linux (Ubuntu 18.04.3 LTS) / x86_64  OK  OK  OK UNNEEDED, same version exists in internal repository
tokay1 Windows Server 2012 R2 Standard / x64  OK  OK  OK  OK UNNEEDED, same version exists in internal repository
merida1 OS X 10.11.6 El Capitan / x86_64  OK  OK  OK  OK UNNEEDED, same version exists in internal repository
Package 130/1823HostnameOS / ArchINSTALLBUILDCHECKBUILD BIN
BEARscc 1.6.0
Benjamin Schuster-Boeckler
Last Commit: 2cbd532
Last Changed Date: 2019-10-29 13:10:57 -0500
malbec1 Linux (Ubuntu 18.04.3 LTS) / x86_64  OK  OK  WARNINGS UNNEEDED, same version exists in internal repository
tokay1 Windows Server 2012 R2 Standard / x64  OK  OK  WARNINGS  OK UNNEEDED, same version exists in internal repository
merida1 OS X 10.11.6 El Capitan / x86_64  OK  OK  WARNINGS  OK UNNEEDED, same version exists in internal repository
Package 131/1823HostnameOS / ArchINSTALLBUILDCHECKBUILD BIN
BEAT 1.24.0
Kemal Akman
Last Commit: a4e37f9
Last Changed Date: 2019-10-29 13:08:51 -0500
malbec1 Linux (Ubuntu 18.04.3 LTS) / x86_64  OK  OK  OK UNNEEDED, same version exists in internal repository
tokay1 Windows Server 2012 R2 Standard / x64  OK  OK  OK  OK UNNEEDED, same version exists in internal repository
merida1 OS X 10.11.6 El Capitan / x86_64  OK  OK  OK  OK UNNEEDED, same version exists in internal repository
Package 132/1823HostnameOS / ArchINSTALLBUILDCHECKBUILD BIN
BEclear 2.2.0
David Rasp
Last Commit: 0537966
Last Changed Date: 2019-10-29 13:09:18 -0500
malbec1 Linux (Ubuntu 18.04.3 LTS) / x86_64  OK  OK  OK UNNEEDED, same version exists in internal repository
tokay1 Windows Server 2012 R2 Standard / x64  OK  OK  OK  OK UNNEEDED, same version exists in internal repository
merida1 OS X 10.11.6 El Capitan / x86_64  OK  OK  OK  OK UNNEEDED, same version exists in internal repository
Package 133/1823HostnameOS / ArchINSTALLBUILDCHECKBUILD BIN
bgafun 1.48.0
Iain Wallace
Last Commit: dce9fdc
Last Changed Date: 2019-10-29 13:07:53 -0500
malbec1 Linux (Ubuntu 18.04.3 LTS) / x86_64  OK  OK  OK UNNEEDED, same version exists in internal repository
tokay1 Windows Server 2012 R2 Standard / x64  OK  OK  OK  OK UNNEEDED, same version exists in internal repository
merida1 OS X 10.11.6 El Capitan / x86_64  OK  OK  OK  OK UNNEEDED, same version exists in internal repository
Package 134/1823HostnameOS / ArchINSTALLBUILDCHECKBUILD BIN
BgeeDB 2.12.0
Julien Wollbrett , Julien Roux , Andrea Komljenovic , Frederic Bastian
Last Commit: d919421
Last Changed Date: 2019-10-29 13:09:37 -0500
malbec1 Linux (Ubuntu 18.04.3 LTS) / x86_64  OK  OK  OK UNNEEDED, same version exists in internal repository
tokay1 Windows Server 2012 R2 Standard / x64  OK  OK  OK  OK UNNEEDED, same version exists in internal repository
merida1 OS X 10.11.6 El Capitan / x86_64  OK  OK  OK  OK UNNEEDED, same version exists in internal repository
Package 135/1823HostnameOS / ArchINSTALLBUILDCHECKBUILD BIN
BGmix 1.46.0
Alex Lewin
Last Commit: d476b23
Last Changed Date: 2019-10-29 13:07:53 -0500
malbec1 Linux (Ubuntu 18.04.3 LTS) / x86_64  OK  OK  WARNINGS UNNEEDED, same version exists in internal repository
tokay1 Windows Server 2012 R2 Standard / x64 ...NOT SUPPORTED...
merida1 OS X 10.11.6 El Capitan / x86_64  OK  OK  OK  OK UNNEEDED, same version exists in internal repository
Package 136/1823HostnameOS / ArchINSTALLBUILDCHECKBUILD BIN
bgx 1.52.0
Ernest Turro
Last Commit: d5748cf
Last Changed Date: 2019-10-29 13:07:49 -0500
malbec1 Linux (Ubuntu 18.04.3 LTS) / x86_64  OK  OK  OK UNNEEDED, same version exists in internal repository
tokay1 Windows Server 2012 R2 Standard / x64  OK  OK  OK  OK UNNEEDED, same version exists in internal repository
merida1 OS X 10.11.6 El Capitan / x86_64  OK  OK  OK  OK UNNEEDED, same version exists in internal repository
Package 137/1823HostnameOS / ArchINSTALLBUILDCHECKBUILD BIN
BHC 1.38.0
Rich Savage
Last Commit: 26e930e
Last Changed Date: 2019-10-29 13:08:16 -0500
malbec1 Linux (Ubuntu 18.04.3 LTS) / x86_64  OK  OK  OK UNNEEDED, same version exists in internal repository
tokay1 Windows Server 2012 R2 Standard / x64  OK  OK  OK  OK UNNEEDED, same version exists in internal repository
merida1 OS X 10.11.6 El Capitan / x86_64  OK  OK  OK  OK UNNEEDED, same version exists in internal repository
Package 138/1823HostnameOS / ArchINSTALLBUILDCHECKBUILD BIN
BicARE 1.44.0
Pierre Gestraud
Last Commit: 41b10e4
Last Changed Date: 2019-10-29 13:08:00 -0500
malbec1 Linux (Ubuntu 18.04.3 LTS) / x86_64  OK  OK  OK UNNEEDED, same version exists in internal repository
tokay1 Windows Server 2012 R2 Standard / x64  OK  OK  OK  OK UNNEEDED, same version exists in internal repository
merida1 OS X 10.11.6 El Capitan / x86_64  OK  OK  OK  OK UNNEEDED, same version exists in internal repository
Package 139/1823HostnameOS / ArchINSTALLBUILDCHECKBUILD BIN
BiFET 1.6.0
Ahrim Youn
Last Commit: 7b7b60b
Last Changed Date: 2019-10-29 13:10:56 -0500
malbec1 Linux (Ubuntu 18.04.3 LTS) / x86_64  OK  OK  OK UNNEEDED, same version exists in internal repository
tokay1 Windows Server 2012 R2 Standard / x64  OK  OK  OK  OK UNNEEDED, same version exists in internal repository
merida1 OS X 10.11.6 El Capitan / x86_64  OK  OK  OK  OK UNNEEDED, same version exists in internal repository
Package 140/1823HostnameOS / ArchINSTALLBUILDCHECKBUILD BIN
BiGGR 1.22.0
Anand K. Gavai
Last Commit: f34d300
Last Changed Date: 2019-10-29 13:08:46 -0500
malbec1 Linux (Ubuntu 18.04.3 LTS) / x86_64  OK  OK  WARNINGS UNNEEDED, same version exists in internal repository
tokay1 Windows Server 2012 R2 Standard / x64  OK  OK  WARNINGS  OK UNNEEDED, same version exists in internal repository
merida1 OS X 10.11.6 El Capitan / x86_64  OK  OK  WARNINGS  OK UNNEEDED, same version exists in internal repository
Package 141/1823HostnameOS / ArchINSTALLBUILDCHECKBUILD BIN
bigmelon 1.12.0
Tyler J. Gorrie-Stone
Last Commit: c9d2cfb
Last Changed Date: 2019-10-29 13:10:06 -0500
malbec1 Linux (Ubuntu 18.04.3 LTS) / x86_64  OK  OK  OK UNNEEDED, same version exists in internal repository
tokay1 Windows Server 2012 R2 Standard / x64  OK  OK  WARNINGS  OK UNNEEDED, same version exists in internal repository
merida1 OS X 10.11.6 El Capitan / x86_64  OK  OK  OK  OK UNNEEDED, same version exists in internal repository
Package 142/1823HostnameOS / ArchINSTALLBUILDCHECKBUILD BIN
bigmemoryExtras 1.34.0
Peter M. Haverty
Last Commit: 5c86515
Last Changed Date: 2019-10-29 13:08:34 -0500
malbec1 Linux (Ubuntu 18.04.3 LTS) / x86_64  OK  OK  WARNINGS UNNEEDED, same version exists in internal repository
tokay1 Windows Server 2012 R2 Standard / x64 ...NOT SUPPORTED...
merida1 OS X 10.11.6 El Capitan / x86_64  OK  OK  WARNINGS  OK UNNEEDED, same version exists in internal repository
Package 143/1823HostnameOS / ArchINSTALLBUILDCHECKBUILD BIN
bigPint 1.2.0
Lindsay Rutter
Last Commit: 516aa8b
Last Changed Date: 2019-10-29 13:11:29 -0500
malbec1 Linux (Ubuntu 18.04.3 LTS) / x86_64  OK  ERROR  skipped 
tokay1 Windows Server 2012 R2 Standard / x64  OK  ERROR  skipped  skipped 
merida1 OS X 10.11.6 El Capitan / x86_64  OK  ERROR  skipped  skipped 
Package 144/1823HostnameOS / ArchINSTALLBUILDCHECKBUILD BIN
bioassayR 1.24.0
Tyler Backman
Last Commit: b81c97d
Last Changed Date: 2019-10-29 13:08:48 -0500
malbec1 Linux (Ubuntu 18.04.3 LTS) / x86_64  OK  OK  OK UNNEEDED, same version exists in internal repository
tokay1 Windows Server 2012 R2 Standard / x64  OK  OK  OK  OK UNNEEDED, same version exists in internal repository
merida1 OS X 10.11.6 El Capitan / x86_64  OK  OK  OK  OK UNNEEDED, same version exists in internal repository
Package 145/1823HostnameOS / ArchINSTALLBUILDCHECKBUILD BIN
Biobase 2.46.0
Bioconductor Package Maintainer
Last Commit: 153c5c6
Last Changed Date: 2019-10-29 13:07:19 -0500
malbec1 Linux (Ubuntu 18.04.3 LTS) / x86_64  OK  OK  WARNINGS UNNEEDED, same version exists in internal repository
tokay1 Windows Server 2012 R2 Standard / x64  OK  OK  WARNINGS  OK UNNEEDED, same version exists in internal repository
merida1 OS X 10.11.6 El Capitan / x86_64  OK  OK  WARNINGS  OK UNNEEDED, same version exists in internal repository
Package 146/1823HostnameOS / ArchINSTALLBUILDCHECKBUILD BIN
biobroom 1.18.0
John D. Storey and Andrew J. Bass
Last Commit: 1e7d17b
Last Changed Date: 2019-10-29 13:09:29 -0500
malbec1 Linux (Ubuntu 18.04.3 LTS) / x86_64  OK  OK  OK UNNEEDED, same version exists in internal repository
tokay1 Windows Server 2012 R2 Standard / x64  OK  OK  WARNINGS  OK UNNEEDED, same version exists in internal repository
merida1 OS X 10.11.6 El Capitan / x86_64  OK  OK  OK  OK UNNEEDED, same version exists in internal repository
Package 147/1823HostnameOS / ArchINSTALLBUILDCHECKBUILD BIN
bioCancer 1.14.0
Karim Mezhoud
Last Commit: 97dca4c
Last Changed Date: 2019-10-29 13:09:42 -0500
malbec1 Linux (Ubuntu 18.04.3 LTS) / x86_64  OK  OK  OK UNNEEDED, same version exists in internal repository
tokay1 Windows Server 2012 R2 Standard / x64  OK  OK  OK  OK UNNEEDED, same version exists in internal repository
merida1 OS X 10.11.6 El Capitan / x86_64  OK  OK  OK  OK UNNEEDED, same version exists in internal repository
Package 148/1823HostnameOS / ArchINSTALLBUILDCHECKBUILD BIN
BiocCaseStudies 1.48.0
Bioconductor Package Maintainer
Last Commit: 03e1cf0
Last Changed Date: 2019-10-29 13:07:53 -0500
malbec1 Linux (Ubuntu 18.04.3 LTS) / x86_64  OK  OK  OK UNNEEDED, same version exists in internal repository
tokay1 Windows Server 2012 R2 Standard / x64  OK  OK  OK  OK UNNEEDED, same version exists in internal repository
merida1 OS X 10.11.6 El Capitan / x86_64  OK  OK  OK  OK UNNEEDED, same version exists in internal repository
Package 149/1823HostnameOS / ArchINSTALLBUILDCHECKBUILD BIN
BiocCheck 1.22.0
Bioconductor Package Maintainer
Last Commit: bb71553
Last Changed Date: 2019-10-29 13:08:55 -0500
malbec1 Linux (Ubuntu 18.04.3 LTS) / x86_64  OK  OK  OK UNNEEDED, same version exists in internal repository
tokay1 Windows Server 2012 R2 Standard / x64  OK  OK  OK  OK UNNEEDED, same version exists in internal repository
merida1 OS X 10.11.6 El Capitan / x86_64  OK  OK  OK  OK UNNEEDED, same version exists in internal repository
Package 150/1823HostnameOS / ArchINSTALLBUILDCHECKBUILD BIN
BiocFileCache 1.10.2
Lori Shepherd
Last Commit: e6d2a47
Last Changed Date: 2019-11-08 14:33:31 -0500
malbec1 Linux (Ubuntu 18.04.3 LTS) / x86_64  OK  OK  OK UNNEEDED, same version exists in internal repository
tokay1 Windows Server 2012 R2 Standard / x64  OK  OK  WARNINGS  OK UNNEEDED, same version exists in internal repository
merida1 OS X 10.11.6 El Capitan / x86_64  OK  OK  OK  OK UNNEEDED, same version exists in internal repository
Package 151/1823HostnameOS / ArchINSTALLBUILDCHECKBUILD BIN
BiocGenerics 0.32.0
Bioconductor Package Maintainer
Last Commit: 22a01ac
Last Changed Date: 2019-10-29 13:08:25 -0500
malbec1 Linux (Ubuntu 18.04.3 LTS) / x86_64  OK  OK  WARNINGS UNNEEDED, same version exists in internal repository
tokay1 Windows Server 2012 R2 Standard / x64  OK  OK  WARNINGS  OK UNNEEDED, same version exists in internal repository
merida1 OS X 10.11.6 El Capitan / x86_64  OK  OK  WARNINGS  OK UNNEEDED, same version exists in internal repository
Package 152/1823HostnameOS / ArchINSTALLBUILDCHECKBUILD BIN
biocGraph 1.48.0
Florian Hahne
Last Commit: 2ce8d86
Last Changed Date: 2019-10-29 13:07:50 -0500
malbec1 Linux (Ubuntu 18.04.3 LTS) / x86_64  OK  OK  OK UNNEEDED, same version exists in internal repository
tokay1 Windows Server 2012 R2 Standard / x64  OK  OK  OK  OK UNNEEDED, same version exists in internal repository
merida1 OS X 10.11.6 El Capitan / x86_64  OK  OK  OK  OK UNNEEDED, same version exists in internal repository
Package 153/1823HostnameOS / ArchINSTALLBUILDCHECKBUILD BIN
BiocNeighbors 1.4.1
Aaron Lun
Last Commit: 8073996
Last Changed Date: 2019-10-31 02:27:46 -0500
malbec1 Linux (Ubuntu 18.04.3 LTS) / x86_64  OK  OK  WARNINGS UNNEEDED, same version exists in internal repository
tokay1 Windows Server 2012 R2 Standard / x64  OK  OK  WARNINGS  OK UNNEEDED, same version exists in internal repository
merida1 OS X 10.11.6 El Capitan / x86_64  OK  OK  WARNINGS  OK UNNEEDED, same version exists in internal repository
Package 154/1823HostnameOS / ArchINSTALLBUILDCHECKBUILD BIN
BiocOncoTK 1.6.0
VJ Carey
Last Commit: ca628a5
Last Changed Date: 2019-10-29 13:11:10 -0500
malbec1 Linux (Ubuntu 18.04.3 LTS) / x86_64  OK  OK  OK UNNEEDED, same version exists in internal repository
tokay1 Windows Server 2012 R2 Standard / x64  OK  ERROR  skipped  skipped 
merida1 OS X 10.11.6 El Capitan / x86_64  OK  OK  OK  OK UNNEEDED, same version exists in internal repository
Package 155/1823HostnameOS / ArchINSTALLBUILDCHECKBUILD BIN
BioCor 1.10.0
Lluís Revilla Sancho
Last Commit: 1e7e870
Last Changed Date: 2019-10-29 13:10:19 -0500
malbec1 Linux (Ubuntu 18.04.3 LTS) / x86_64  OK  OK  OK UNNEEDED, same version exists in internal repository
tokay1 Windows Server 2012 R2 Standard / x64  OK  OK  OK  OK UNNEEDED, same version exists in internal repository
merida1 OS X 10.11.6 El Capitan / x86_64  OK  OK  OK  OK UNNEEDED, same version exists in internal repository
Package 156/1823HostnameOS / ArchINSTALLBUILDCHECKBUILD BIN
BiocParallel 1.20.0
Bioconductor Package Maintainer
Last Commit: c9e68fc
Last Changed Date: 2019-10-29 13:08:35 -0500
malbec1 Linux (Ubuntu 18.04.3 LTS) / x86_64  OK  OK  OK UNNEEDED, same version exists in internal repository
tokay1 Windows Server 2012 R2 Standard / x64  OK  OK  OK  OK UNNEEDED, same version exists in internal repository
merida1 OS X 10.11.6 El Capitan / x86_64  OK  OK  OK  OK UNNEEDED, same version exists in internal repository
Package 157/1823HostnameOS / ArchINSTALLBUILDCHECKBUILD BIN
BiocPkgTools 1.4.0
Sean Davis
Last Commit: 9eb7e83
Last Changed Date: 2019-10-29 13:11:21 -0500
malbec1 Linux (Ubuntu 18.04.3 LTS) / x86_64  OK  OK  OK UNNEEDED, same version exists in internal repository
tokay1 Windows Server 2012 R2 Standard / x64  OK  OK  OK  OK UNNEEDED, same version exists in internal repository
merida1 OS X 10.11.6 El Capitan / x86_64  OK  OK  OK  OK UNNEEDED, same version exists in internal repository
Package 158/1823HostnameOS / ArchINSTALLBUILDCHECKBUILD BIN
BiocSet 1.0.1
Kayla Morrell
Last Commit: 12d71b2
Last Changed Date: 2019-11-06 14:04:48 -0500
malbec1 Linux (Ubuntu 18.04.3 LTS) / x86_64  OK  OK  OK UNNEEDED, same version exists in internal repository
tokay1 Windows Server 2012 R2 Standard / x64  OK  OK  OK  OK UNNEEDED, same version exists in internal repository
merida1 OS X 10.11.6 El Capitan / x86_64  OK  OK  OK  OK UNNEEDED, same version exists in internal repository
Package 159/1823HostnameOS / ArchINSTALLBUILDCHECKBUILD BIN
BiocSingular 1.2.0
Aaron Lun
Last Commit: 4906d0f
Last Changed Date: 2019-10-29 13:11:29 -0500
malbec1 Linux (Ubuntu 18.04.3 LTS) / x86_64  OK  OK  OK UNNEEDED, same version exists in internal repository
tokay1 Windows Server 2012 R2 Standard / x64  OK  OK  OK  OK UNNEEDED, same version exists in internal repository
merida1 OS X 10.11.6 El Capitan / x86_64  OK  OK  OK  OK UNNEEDED, same version exists in internal repository
Package 160/1823HostnameOS / ArchINSTALLBUILDCHECKBUILD BIN
BiocSklearn 1.8.0
VJ Carey
Last Commit: 464c429
Last Changed Date: 2019-10-29 13:10:37 -0500
malbec1 Linux (Ubuntu 18.04.3 LTS) / x86_64  OK  OK  OK UNNEEDED, same version exists in internal repository
tokay1 Windows Server 2012 R2 Standard / x64  OK  ERROR  skipped  skipped 
merida1 OS X 10.11.6 El Capitan / x86_64  OK  OK  ERROR  OK 
Package 161/1823HostnameOS / ArchINSTALLBUILDCHECKBUILD BIN
BiocStyle 2.14.0
Bioconductor Package Maintainer
Last Commit: 8dbe6fd
Last Changed Date: 2019-10-29 13:08:42 -0500
malbec1 Linux (Ubuntu 18.04.3 LTS) / x86_64  OK  OK  OK UNNEEDED, same version exists in internal repository
tokay1 Windows Server 2012 R2 Standard / x64  OK  OK  OK  OK UNNEEDED, same version exists in internal repository
merida1 OS X 10.11.6 El Capitan / x86_64  OK  OK  OK  OK UNNEEDED, same version exists in internal repository
Package 162/1823HostnameOS / ArchINSTALLBUILDCHECKBUILD BIN
BiocVersion 3.10.1
Bioconductor Package Maintainer
Last Commit: 8c298c6
Last Changed Date: 2019-06-05 12:18:34 -0500
malbec1 Linux (Ubuntu 18.04.3 LTS) / x86_64  OK  OK  OK UNNEEDED, same version exists in internal repository
tokay1 Windows Server 2012 R2 Standard / x64  OK  OK  OK  OK UNNEEDED, same version exists in internal repository
merida1 OS X 10.11.6 El Capitan / x86_64  OK  OK  OK  OK UNNEEDED, same version exists in internal repository
Package 163/1823HostnameOS / ArchINSTALLBUILDCHECKBUILD BIN
biocViews 1.54.0
Bioconductor Package Maintainer
Last Commit: a76f97c
Last Changed Date: 2019-10-29 13:07:36 -0500
malbec1 Linux (Ubuntu 18.04.3 LTS) / x86_64  OK  OK  OK UNNEEDED, same version exists in internal repository
tokay1 Windows Server 2012 R2 Standard / x64  OK  OK  OK  OK UNNEEDED, same version exists in internal repository
merida1 OS X 10.11.6 El Capitan / x86_64  OK  OK  OK  OK UNNEEDED, same version exists in internal repository
Package 164/1823HostnameOS / ArchINSTALLBUILDCHECKBUILD BIN
BiocWorkflowTools 1.12.0
Mike Smith
Last Commit: 6c6d4bb
Last Changed Date: 2019-10-29 13:10:05 -0500
malbec1 Linux (Ubuntu 18.04.3 LTS) / x86_64  OK  OK  OK UNNEEDED, same version exists in internal repository
tokay1 Windows Server 2012 R2 Standard / x64  OK  OK  OK  OK UNNEEDED, same version exists in internal repository
merida1 OS X 10.11.6 El Capitan / x86_64  OK  OK  OK  OK UNNEEDED, same version exists in internal repository
Package 165/1823HostnameOS / ArchINSTALLBUILDCHECKBUILD BIN
bioDist 1.58.0
Bioconductor Package Maintainer
Last Commit: 1f744e1
Last Changed Date: 2019-10-29 13:07:31 -0500
malbec1 Linux (Ubuntu 18.04.3 LTS) / x86_64  OK  OK  OK UNNEEDED, same version exists in internal repository
tokay1 Windows Server 2012 R2 Standard / x64  OK  OK  OK  OK UNNEEDED, same version exists in internal repository
merida1 OS X 10.11.6 El Capitan / x86_64  OK  OK  OK  OK UNNEEDED, same version exists in internal repository
Package 166/1823HostnameOS / ArchINSTALLBUILDCHECKBUILD BIN
biomaRt 2.42.0
Mike Smith
Last Commit: 7c91079
Last Changed Date: 2019-10-29 13:07:32 -0500
malbec1 Linux (Ubuntu 18.04.3 LTS) / x86_64  OK  OK  OK UNNEEDED, same version exists in internal repository
tokay1 Windows Server 2012 R2 Standard / x64  OK  OK  ERROR  OK 
merida1 OS X 10.11.6 El Capitan / x86_64  OK  OK  OK  OK UNNEEDED, same version exists in internal repository
Package 167/1823HostnameOS / ArchINSTALLBUILDCHECKBUILD BIN
biomformat 1.14.0
Paul J. McMurdie
Last Commit: f20af45
Last Changed Date: 2019-10-29 13:09:31 -0500
malbec1 Linux (Ubuntu 18.04.3 LTS) / x86_64  OK  OK  OK UNNEEDED, same version exists in internal repository
tokay1 Windows Server 2012 R2 Standard / x64  OK  OK  WARNINGS  OK UNNEEDED, same version exists in internal repository
merida1 OS X 10.11.6 El Capitan / x86_64  OK  OK  OK  OK UNNEEDED, same version exists in internal repository
Package 168/1823HostnameOS / ArchINSTALLBUILDCHECKBUILD BIN
BioMM 1.2.0
Junfang Chen
Last Commit: b509122
Last Changed Date: 2019-10-29 13:11:29 -0500
malbec1 Linux (Ubuntu 18.04.3 LTS) / x86_64  OK  OK  OK UNNEEDED, same version exists in internal repository
tokay1 Windows Server 2012 R2 Standard / x64  OK  OK  OK  OK UNNEEDED, same version exists in internal repository
merida1 OS X 10.11.6 El Capitan / x86_64  OK  OK  OK  OK UNNEEDED, same version exists in internal repository
Package 169/1823HostnameOS / ArchINSTALLBUILDCHECKBUILD BIN
BioMVCClass 1.54.0
Elizabeth Whalen
Last Commit: da6a665
Last Changed Date: 2019-10-29 13:07:44 -0500
malbec1 Linux (Ubuntu 18.04.3 LTS) / x86_64  OK  OK  OK UNNEEDED, same version exists in internal repository
tokay1 Windows Server 2012 R2 Standard / x64  OK  OK  OK  OK UNNEEDED, same version exists in internal repository
merida1 OS X 10.11.6 El Capitan / x86_64  OK  OK  OK  OK UNNEEDED, same version exists in internal repository
Package 170/1823HostnameOS / ArchINSTALLBUILDCHECKBUILD BIN
biomvRCNS 1.26.0
Yang Du
Last Commit: b1a6d65
Last Changed Date: 2019-10-29 13:08:37 -0500
malbec1 Linux (Ubuntu 18.04.3 LTS) / x86_64  OK  OK  OK UNNEEDED, same version exists in internal repository
tokay1 Windows Server 2012 R2 Standard / x64  OK  OK  OK  OK UNNEEDED, same version exists in internal repository
merida1 OS X 10.11.6 El Capitan / x86_64  OK  OK  OK  OK UNNEEDED, same version exists in internal repository
Package 171/1823HostnameOS / ArchINSTALLBUILDCHECKBUILD BIN
BioNet 1.46.0
Marcus Dittrich
Last Commit: b438d2c
Last Changed Date: 2019-10-29 13:08:17 -0500
malbec1 Linux (Ubuntu 18.04.3 LTS) / x86_64  OK  OK  OK UNNEEDED, same version exists in internal repository
tokay1 Windows Server 2012 R2 Standard / x64  OK  OK  OK  OK UNNEEDED, same version exists in internal repository
merida1 OS X 10.11.6 El Capitan / x86_64  OK  OK  OK  OK UNNEEDED, same version exists in internal repository
Package 172/1823HostnameOS / ArchINSTALLBUILDCHECKBUILD BIN
BioNetStat 1.6.0
Vinicius Jardim
Last Commit: 7ddaf2a
Last Changed Date: 2019-10-29 13:11:08 -0500
malbec1 Linux (Ubuntu 18.04.3 LTS) / x86_64  OK  OK  OK UNNEEDED, same version exists in internal repository
tokay1 Windows Server 2012 R2 Standard / x64  OK  OK  OK  OK UNNEEDED, same version exists in internal repository
merida1 OS X 10.11.6 El Capitan / x86_64  OK  OK  OK  OK UNNEEDED, same version exists in internal repository
Package 173/1823HostnameOS / ArchINSTALLBUILDCHECKBUILD BIN
BioQC 1.14.0
Jitao David Zhang
Last Commit: c49a9cd
Last Changed Date: 2019-10-29 13:09:31 -0500
malbec1 Linux (Ubuntu 18.04.3 LTS) / x86_64  OK  OK  OK UNNEEDED, same version exists in internal repository
tokay1 Windows Server 2012 R2 Standard / x64  OK  OK  OK  OK UNNEEDED, same version exists in internal repository
merida1 OS X 10.11.6 El Capitan / x86_64  OK  OK  OK  OK UNNEEDED, same version exists in internal repository
Package 174/1823HostnameOS / ArchINSTALLBUILDCHECKBUILD BIN
BioSeqClass 1.44.0
Li Hong
Last Commit: adfa127
Last Changed Date: 2019-10-29 13:08:11 -0500
malbec1 Linux (Ubuntu 18.04.3 LTS) / x86_64  OK  OK  OK UNNEEDED, same version exists in internal repository
tokay1 Windows Server 2012 R2 Standard / x64  OK  OK  OK  OK UNNEEDED, same version exists in internal repository
merida1 OS X 10.11.6 El Capitan / x86_64  OK  OK  OK  OK UNNEEDED, same version exists in internal repository
Package 175/1823HostnameOS / ArchINSTALLBUILDCHECKBUILD BIN
biosigner 1.14.0
Philippe Rinaudo , Etienne Thevenot
Last Commit: 30786c9
Last Changed Date: 2019-10-29 13:09:34 -0500
malbec1 Linux (Ubuntu 18.04.3 LTS) / x86_64  OK  OK  OK UNNEEDED, same version exists in internal repository
tokay1 Windows Server 2012 R2 Standard / x64  OK  OK  OK  OK UNNEEDED, same version exists in internal repository
merida1 OS X 10.11.6 El Capitan / x86_64  OK  OK  OK  OK UNNEEDED, same version exists in internal repository
Package 176/1823HostnameOS / ArchINSTALLBUILDCHECKBUILD BIN
Biostrings 2.54.0
H. Pagès
Last Commit: b8982e7
Last Changed Date: 2019-10-29 13:07:27 -0500
malbec1 Linux (Ubuntu 18.04.3 LTS) / x86_64  OK  OK  WARNINGS UNNEEDED, same version exists in internal repository
tokay1 Windows Server 2012 R2 Standard / x64  OK  OK  WARNINGS  OK UNNEEDED, same version exists in internal repository
merida1 OS X 10.11.6 El Capitan / x86_64  OK  OK  WARNINGS  OK UNNEEDED, same version exists in internal repository
Package 177/1823HostnameOS / ArchINSTALLBUILDCHECKBUILD BIN
biosvd 2.22.0
Anneleen Daemen , Matthew Brauer
Last Commit: f85c6ea
Last Changed Date: 2019-10-29 13:08:52 -0500
malbec1 Linux (Ubuntu 18.04.3 LTS) / x86_64  OK  OK  OK UNNEEDED, same version exists in internal repository
tokay1 Windows Server 2012 R2 Standard / x64  OK  OK  OK  OK UNNEEDED, same version exists in internal repository
merida1 OS X 10.11.6 El Capitan / x86_64  OK  OK  OK  OK UNNEEDED, same version exists in internal repository
Package 178/1823HostnameOS / ArchINSTALLBUILDCHECKBUILD BIN
BioTIP 1.0.0
Zhezhen Wang , X Holly Yang < xyang2@uchicago> and Yuxi (Jennifer) Sun
Last Commit: cb9a58f
Last Changed Date: 2019-10-29 13:12:06 -0500
malbec1 Linux (Ubuntu 18.04.3 LTS) / x86_64  OK  OK  OK UNNEEDED, same version exists in internal repository
tokay1 Windows Server 2012 R2 Standard / x64  OK  OK  OK  OK UNNEEDED, same version exists in internal repository
merida1 OS X 10.11.6 El Capitan / x86_64  OK  OK  OK  OK UNNEEDED, same version exists in internal repository
Package 179/1823HostnameOS / ArchINSTALLBUILDCHECKBUILD BIN
biotmle 1.10.0
Nima Hejazi
Last Commit: d9a0a1f
Last Changed Date: 2019-10-29 16:41:28 -0500
malbec1 Linux (Ubuntu 18.04.3 LTS) / x86_64  OK  OK  OK UNNEEDED, same version exists in internal repository
tokay1 Windows Server 2012 R2 Standard / x64  OK  OK  WARNINGS  OK UNNEEDED, same version exists in internal repository
merida1 OS X 10.11.6 El Capitan / x86_64  OK  OK  OK  OK UNNEEDED, same version exists in internal repository
Package 180/1823HostnameOS / ArchINSTALLBUILDCHECKBUILD BIN
biovizBase 1.34.0
Michael Lawrence
Last Commit: 4ac1a00
Last Changed Date: 2019-10-29 13:08:22 -0500
malbec1 Linux (Ubuntu 18.04.3 LTS) / x86_64  OK  OK  WARNINGS UNNEEDED, same version exists in internal repository
tokay1 Windows Server 2012 R2 Standard / x64  OK  OK  WARNINGS  OK UNNEEDED, same version exists in internal repository
merida1 OS X 10.11.6 El Capitan / x86_64  OK  OK  WARNINGS  OK UNNEEDED, same version exists in internal repository
Package 181/1823HostnameOS / ArchINSTALLBUILDCHECKBUILD BIN
BiRewire 3.18.0
Andrea Gobbi
Last Commit: ae684c9
Last Changed Date: 2019-10-29 13:08:47 -0500
malbec1 Linux (Ubuntu 18.04.3 LTS) / x86_64  OK  OK  WARNINGS UNNEEDED, same version exists in internal repository
tokay1 Windows Server 2012 R2 Standard / x64  OK  OK  WARNINGS  OK UNNEEDED, same version exists in internal repository
merida1 OS X 10.11.6 El Capitan / x86_64  OK  OK  OK  OK UNNEEDED, same version exists in internal repository
Package 182/1823HostnameOS / ArchINSTALLBUILDCHECKBUILD BIN
birta 1.30.0
Benedikt Zacher
Last Commit: 4921b50
Last Changed Date: 2019-10-29 13:08:29 -0500
malbec1 Linux (Ubuntu 18.04.3 LTS) / x86_64  OK  OK  OK UNNEEDED, same version exists in internal repository
tokay1 Windows Server 2012 R2 Standard / x64  OK  OK  WARNINGS  OK UNNEEDED, same version exists in internal repository
merida1 OS X 10.11.6 El Capitan / x86_64  OK  OK  OK  OK UNNEEDED, same version exists in internal repository
Package 183/1823HostnameOS / ArchINSTALLBUILDCHECKBUILD BIN
birte 1.22.0
Holger Froehlich
Last Commit: cadde5e
Last Changed Date: 2019-10-29 13:09:09 -0500
malbec1 Linux (Ubuntu 18.04.3 LTS) / x86_64  OK  ERROR  skipped 
tokay1 Windows Server 2012 R2 Standard / x64  OK  OK  WARNINGS  OK UNNEEDED, same version exists in internal repository
merida1 OS X 10.11.6 El Capitan / x86_64  OK  ERROR  skipped  skipped 
Package 184/1823HostnameOS / ArchINSTALLBUILDCHECKBUILD BIN
biscuiteer 1.0.0
"Tim Triche, Jr."
Last Commit: 4445919
Last Changed Date: 2019-10-29 13:12:14 -0500
malbec1 Linux (Ubuntu 18.04.3 LTS) / x86_64  OK  OK  OK UNNEEDED, same version exists in internal repository
tokay1 Windows Server 2012 R2 Standard / x64  OK  OK  OK  OK UNNEEDED, same version exists in internal repository
merida1 OS X 10.11.6 El Capitan / x86_64  OK  OK  OK  OK UNNEEDED, same version exists in internal repository
Package 185/1823HostnameOS / ArchINSTALLBUILDCHECKBUILD BIN
BiSeq 1.26.0
Katja Hebestreit
Last Commit: 1e02352
Last Changed Date: 2019-10-29 13:08:39 -0500
malbec1 Linux (Ubuntu 18.04.3 LTS) / x86_64  OK  OK  OK UNNEEDED, same version exists in internal repository
tokay1 Windows Server 2012 R2 Standard / x64  OK  OK  OK  OK UNNEEDED, same version exists in internal repository
merida1 OS X 10.11.6 El Capitan / x86_64  OK  OK  OK  OK UNNEEDED, same version exists in internal repository
Package 186/1823HostnameOS / ArchINSTALLBUILDCHECKBUILD BIN
BitSeq 1.30.0
Antti Honkela , Panagiotis Papastamoulis
Last Commit: 501ff8e
Last Changed Date: 2019-10-29 13:08:30 -0500
malbec1 Linux (Ubuntu 18.04.3 LTS) / x86_64  OK  OK  WARNINGS UNNEEDED, same version exists in internal repository
tokay1 Windows Server 2012 R2 Standard / x64  ERROR  ERROR  skipped  skipped 
merida1 OS X 10.11.6 El Capitan / x86_64  OK  OK  WARNINGS  OK UNNEEDED, same version exists in internal repository
Package 187/1823HostnameOS / ArchINSTALLBUILDCHECKBUILD BIN
blacksheepr 1.0.0
RugglesLab
Last Commit: 6baf5fb
Last Changed Date: 2019-10-29 13:12:11 -0500
malbec1 Linux (Ubuntu 18.04.3 LTS) / x86_64  OK  OK  OK UNNEEDED, same version exists in internal repository
tokay1 Windows Server 2012 R2 Standard / x64  OK  OK  OK  OK UNNEEDED, same version exists in internal repository
merida1 OS X 10.11.6 El Capitan / x86_64  OK  OK  OK  OK UNNEEDED, same version exists in internal repository
Package 188/1823HostnameOS / ArchINSTALLBUILDCHECKBUILD BIN
blima 1.20.0
Vojtěch Kulvait
Last Commit: 914fab7
Last Changed Date: 2019-10-29 13:08:58 -0500
malbec1 Linux (Ubuntu 18.04.3 LTS) / x86_64  OK  OK  WARNINGS UNNEEDED, same version exists in internal repository
tokay1 Windows Server 2012 R2 Standard / x64  OK  OK  WARNINGS  OK UNNEEDED, same version exists in internal repository
merida1 OS X 10.11.6 El Capitan / x86_64  OK  OK  WARNINGS  OK UNNEEDED, same version exists in internal repository
Package 189/1823HostnameOS / ArchINSTALLBUILDCHECKBUILD BIN
BLMA 1.10.0
Tin Nguyen
Last Commit: defcde0
Last Changed Date: 2019-10-29 13:10:24 -0500
malbec1 Linux (Ubuntu 18.04.3 LTS) / x86_64  OK  OK  OK UNNEEDED, same version exists in internal repository
tokay1 Windows Server 2012 R2 Standard / x64  OK  OK  OK  OK UNNEEDED, same version exists in internal repository
merida1 OS X 10.11.6 El Capitan / x86_64  OK  OK  OK  OK UNNEEDED, same version exists in internal repository
Package 190/1823HostnameOS / ArchINSTALLBUILDCHECKBUILD BIN
bnbc 1.8.0
Kipper Fletez-Brant
Last Commit: 4f16142
Last Changed Date: 2019-10-29 13:10:50 -0500
malbec1 Linux (Ubuntu 18.04.3 LTS) / x86_64  OK  OK  OK UNNEEDED, same version exists in internal repository
tokay1 Windows Server 2012 R2 Standard / x64  OK  OK  OK  OK UNNEEDED, same version exists in internal repository
merida1 OS X 10.11.6 El Capitan / x86_64  OK  OK  OK  OK UNNEEDED, same version exists in internal repository
Package 191/1823HostnameOS / ArchINSTALLBUILDCHECKBUILD BIN
BPRMeth 1.12.0
Chantriolnt-Andreas Kapourani
Last Commit: ddd4beb
Last Changed Date: 2019-10-29 13:10:14 -0500
malbec1 Linux (Ubuntu 18.04.3 LTS) / x86_64  OK  OK  OK UNNEEDED, same version exists in internal repository
tokay1 Windows Server 2012 R2 Standard / x64  OK  OK  OK  OK UNNEEDED, same version exists in internal repository
merida1 OS X 10.11.6 El Capitan / x86_64  OK  OK  OK  OK UNNEEDED, same version exists in internal repository
Package 192/1823HostnameOS / ArchINSTALLBUILDCHECKBUILD BIN
BRAIN 1.32.0
Piotr Dittwald
Last Commit: 3eb6869
Last Changed Date: 2019-10-29 13:08:28 -0500
malbec1 Linux (Ubuntu 18.04.3 LTS) / x86_64  OK  OK  WARNINGS UNNEEDED, same version exists in internal repository
tokay1 Windows Server 2012 R2 Standard / x64  OK  OK  WARNINGS  OK UNNEEDED, same version exists in internal repository
merida1 OS X 10.11.6 El Capitan / x86_64  OK  OK  WARNINGS  OK UNNEEDED, same version exists in internal repository
Package 193/1823HostnameOS / ArchINSTALLBUILDCHECKBUILD BIN
brainflowprobes 1.0.0
Amanda Price
Last Commit: 6c379c8
Last Changed Date: 2019-10-29 13:12:17 -0500
malbec1 Linux (Ubuntu 18.04.3 LTS) / x86_64  OK  OK  OK UNNEEDED, same version exists in internal repository
tokay1 Windows Server 2012 R2 Standard / x64  OK  OK  OK  OK UNNEEDED, same version exists in internal repository
merida1 OS X 10.11.6 El Capitan / x86_64  OK  OK  OK  OK UNNEEDED, same version exists in internal repository
Package 194/1823HostnameOS / ArchINSTALLBUILDCHECKBUILD BIN
brainImageR 1.4.0
Sara B Linker
Last Commit: 157e512
Last Changed Date: 2019-10-29 13:11:18 -0500
malbec1 Linux (Ubuntu 18.04.3 LTS) / x86_64  OK  ERROR  skipped 
tokay1 Windows Server 2012 R2 Standard / x64  OK  ERROR  skipped  skipped 
merida1 OS X 10.11.6 El Capitan / x86_64  OK  ERROR  skipped  skipped 
Package 195/1823HostnameOS / ArchINSTALLBUILDCHECKBUILD BIN
BrainStars 1.30.0
Itoshi NIKAIDO
Last Commit: 0231587
Last Changed Date: 2019-10-29 13:08:29 -0500
malbec1 Linux (Ubuntu 18.04.3 LTS) / x86_64  OK  OK  OK UNNEEDED, same version exists in internal repository
tokay1 Windows Server 2012 R2 Standard / x64  OK  OK  OK  OK UNNEEDED, same version exists in internal repository
merida1 OS X 10.11.6 El Capitan / x86_64  OK  OK  OK  OK UNNEEDED, same version exists in internal repository
Package 196/1823HostnameOS / ArchINSTALLBUILDCHECKBUILD BIN
branchpointer 1.12.0
Beth Signal
Last Commit: e00ca01
Last Changed Date: 2019-10-29 13:10:18 -0500
malbec1 Linux (Ubuntu 18.04.3 LTS) / x86_64  OK  OK  OK UNNEEDED, same version exists in internal repository
tokay1 Windows Server 2012 R2 Standard / x64  OK  OK  OK  OK UNNEEDED, same version exists in internal repository
merida1 OS X 10.11.6 El Capitan / x86_64  OK  OK  OK  OK UNNEEDED, same version exists in internal repository
Package 197/1823HostnameOS / ArchINSTALLBUILDCHECKBUILD BIN
breakpointR 1.4.0
David Porubsky
Last Commit: 3101874
Last Changed Date: 2019-10-29 13:11:22 -0500
malbec1 Linux (Ubuntu 18.04.3 LTS) / x86_64  OK  OK  OK UNNEEDED, same version exists in internal repository
tokay1 Windows Server 2012 R2 Standard / x64  OK  OK  OK  OK UNNEEDED, same version exists in internal repository
merida1 OS X 10.11.6 El Capitan / x86_64  OK  OK  OK  OK UNNEEDED, same version exists in internal repository
Package 198/1823HostnameOS / ArchINSTALLBUILDCHECKBUILD BIN
brendaDb 1.0.0
Yi Zhou
Last Commit: a20aedb
Last Changed Date: 2019-10-29 13:11:55 -0500
malbec1 Linux (Ubuntu 18.04.3 LTS) / x86_64  OK  OK  OK UNNEEDED, same version exists in internal repository
tokay1 Windows Server 2012 R2 Standard / x64  OK  OK  OK  OK UNNEEDED, same version exists in internal repository
merida1 OS X 10.11.6 El Capitan / x86_64  OK  OK  OK  OK UNNEEDED, same version exists in internal repository
Package 199/1823HostnameOS / ArchINSTALLBUILDCHECKBUILD BIN
bridge 1.50.0
Raphael Gottardo
Last Commit: 47833c4
Last Changed Date: 2019-10-29 13:07:33 -0500
malbec1 Linux (Ubuntu 18.04.3 LTS) / x86_64  OK  OK  WARNINGS UNNEEDED, same version exists in internal repository
tokay1 Windows Server 2012 R2 Standard / x64  OK  OK  WARNINGS  OK UNNEEDED, same version exists in internal repository
merida1 OS X 10.11.6 El Capitan / x86_64  OK  OK  OK  OK UNNEEDED, same version exists in internal repository
Package 200/1823HostnameOS / ArchINSTALLBUILDCHECKBUILD BIN
BridgeDbR 1.20.0
Egon Willighagen
Last Commit: 4127b48
Last Changed Date: 2019-10-29 13:09:06 -0500
malbec1 Linux (Ubuntu 18.04.3 LTS) / x86_64  OK  OK  OK UNNEEDED, same version exists in internal repository
tokay1 Windows Server 2012 R2 Standard / x64  OK  OK  OK  OK UNNEEDED, same version exists in internal repository
merida1 OS X 10.11.6 El Capitan / x86_64  OK  OK  OK  OK UNNEEDED, same version exists in internal repository
Package 201/1823HostnameOS / ArchINSTALLBUILDCHECKBUILD BIN
BrowserViz 2.8.0
Paul Shannon
Last Commit: 04b22ca
Last Changed Date: 2019-10-29 13:09:11 -0500
malbec1 Linux (Ubuntu 18.04.3 LTS) / x86_64  OK  OK  OK UNNEEDED, same version exists in internal repository
tokay1 Windows Server 2012 R2 Standard / x64  OK  OK  OK  OK UNNEEDED, same version exists in internal repository
merida1 OS X 10.11.6 El Capitan / x86_64  OK  OK  OK  OK UNNEEDED, same version exists in internal repository
Package 202/1823HostnameOS / ArchINSTALLBUILDCHECKBUILD BIN
BSgenome 1.54.0
H. Pagès
Last Commit: 58524c9
Last Changed Date: 2019-10-29 13:07:43 -0500
malbec1 Linux (Ubuntu 18.04.3 LTS) / x86_64  OK  OK  WARNINGS UNNEEDED, same version exists in internal repository
tokay1 Windows Server 2012 R2 Standard / x64  OK  OK  WARNINGS  OK UNNEEDED, same version exists in internal repository
merida1 OS X 10.11.6 El Capitan / x86_64  OK  OK  WARNINGS  OK UNNEEDED, same version exists in internal repository
Package 203/1823HostnameOS / ArchINSTALLBUILDCHECKBUILD BIN
bsseq 1.22.0
Kasper Daniel Hansen
Last Commit: d4f7301
Last Changed Date: 2019-10-29 13:08:33 -0500
malbec1 Linux (Ubuntu 18.04.3 LTS) / x86_64  OK  OK  OK UNNEEDED, same version exists in internal repository
tokay1 Windows Server 2012 R2 Standard / x64  OK  OK  WARNINGS  OK UNNEEDED, same version exists in internal repository
merida1 OS X 10.11.6 El Capitan / x86_64  OK  OK  OK  OK UNNEEDED, same version exists in internal repository
Package 204/1823HostnameOS / ArchINSTALLBUILDCHECKBUILD BIN
BubbleTree 2.16.0
Todd Creasy , Wei Zhu
Last Commit: 4929476
Last Changed Date: 2019-10-29 13:09:09 -0500
malbec1 Linux (Ubuntu 18.04.3 LTS) / x86_64  OK  OK  OK UNNEEDED, same version exists in internal repository
tokay1 Windows Server 2012 R2 Standard / x64  OK  OK  OK  OK UNNEEDED, same version exists in internal repository
merida1 OS X 10.11.6 El Capitan / x86_64  OK  OK  OK  OK UNNEEDED, same version exists in internal repository
Package 205/1823HostnameOS / ArchINSTALLBUILDCHECKBUILD BIN
BufferedMatrix 1.50.0
Ben Bolstad
Last Commit: c7a0fa5
Last Changed Date: 2019-10-29 13:07:46 -0500
malbec1 Linux (Ubuntu 18.04.3 LTS) / x86_64  OK  OK  OK UNNEEDED, same version exists in internal repository
tokay1 Windows Server 2012 R2 Standard / x64  OK  OK  OK  OK UNNEEDED, same version exists in internal repository
merida1 OS X 10.11.6 El Capitan / x86_64  OK  OK  OK  OK UNNEEDED, same version exists in internal repository
Package 206/1823HostnameOS / ArchINSTALLBUILDCHECKBUILD BIN
BufferedMatrixMethods 1.50.0
Ben Bolstad
Last Commit: c88e3a1
Last Changed Date: 2019-10-29 13:07:46 -0500
malbec1 Linux (Ubuntu 18.04.3 LTS) / x86_64  OK  OK  OK UNNEEDED, same version exists in internal repository
tokay1 Windows Server 2012 R2 Standard / x64  OK  OK  OK  OK UNNEEDED, same version exists in internal repository
merida1 OS X 10.11.6 El Capitan / x86_64  OK  OK  OK  OK UNNEEDED, same version exists in internal repository
Package 207/1823HostnameOS / ArchINSTALLBUILDCHECKBUILD BIN
BUMHMM 1.10.0
Alina Selega
Last Commit: de55cdd
Last Changed Date: 2019-10-29 13:10:14 -0500
malbec1 Linux (Ubuntu 18.04.3 LTS) / x86_64  OK  OK  OK UNNEEDED, same version exists in internal repository
tokay1 Windows Server 2012 R2 Standard / x64  OK  OK  OK  OK UNNEEDED, same version exists in internal repository
merida1 OS X 10.11.6 El Capitan / x86_64  OK  OK  OK  OK UNNEEDED, same version exists in internal repository
Package 208/1823HostnameOS / ArchINSTALLBUILDCHECKBUILD BIN
bumphunter 1.28.0
Rafael A. Irizarry
Last Commit: 308ed33
Last Changed Date: 2019-10-29 13:08:35 -0500
malbec1 Linux (Ubuntu 18.04.3 LTS) / x86_64  OK  OK  OK UNNEEDED, same version exists in internal repository
tokay1 Windows Server 2012 R2 Standard / x64  OK  OK  WARNINGS  OK UNNEEDED, same version exists in internal repository
merida1 OS X 10.11.6 El Capitan / x86_64  OK  OK  OK  OK UNNEEDED, same version exists in internal repository
Package 209/1823HostnameOS / ArchINSTALLBUILDCHECKBUILD BIN
BUS 1.42.0
Yuanhua Liu
Last Commit: 1cac661
Last Changed Date: 2019-10-29 13:08:06 -0500
malbec1 Linux (Ubuntu 18.04.3 LTS) / x86_64  OK  OK  OK UNNEEDED, same version exists in internal repository
tokay1 Windows Server 2012 R2 Standard / x64  OK  OK  OK  OK UNNEEDED, same version exists in internal repository
merida1 OS X 10.11.6 El Capitan / x86_64  OK  OK  OK  OK UNNEEDED, same version exists in internal repository
Package 210/1823HostnameOS / ArchINSTALLBUILDCHECKBUILD BIN
BUScorrect 1.4.0
Xiangyu Luo
Last Commit: 2b44d47
Last Changed Date: 2019-10-29 13:11:19 -0500
malbec1 Linux (Ubuntu 18.04.3 LTS) / x86_64  OK  OK  OK UNNEEDED, same version exists in internal repository
tokay1 Windows Server 2012 R2 Standard / x64  OK  OK  OK  OK UNNEEDED, same version exists in internal repository
merida1 OS X 10.11.6 El Capitan / x86_64  OK  OK  OK  OK UNNEEDED, same version exists in internal repository
Package 211/1823HostnameOS / ArchINSTALLBUILDCHECKBUILD BIN
BUSpaRse 1.0.0
Lambda Moses
Last Commit: 9b33e52
Last Changed Date: 2019-10-29 13:11:56 -0500
malbec1 Linux (Ubuntu 18.04.3 LTS) / x86_64  OK  OK  ERROR 
tokay1 Windows Server 2012 R2 Standard / x64  OK  ERROR  skipped  skipped 
merida1 OS X 10.11.6 El Capitan / x86_64  OK  OK  OK  OK UNNEEDED, same version exists in internal repository
C
ABCDEFGHIJKLMNOPQRSTUVWXYZ
Package 212/1823HostnameOS / ArchINSTALLBUILDCHECKBUILD BIN
CAFE 1.22.0
Sander Bollen
Last Commit: 6e2d9e7
Last Changed Date: 2019-10-29 13:08:53 -0500
malbec1 Linux (Ubuntu 18.04.3 LTS) / x86_64  OK  OK  WARNINGS UNNEEDED, same version exists in internal repository
tokay1 Windows Server 2012 R2 Standard / x64  OK  OK  WARNINGS  OK UNNEEDED, same version exists in internal repository
merida1 OS X 10.11.6 El Capitan / x86_64  OK  OK  WARNINGS  OK UNNEEDED, same version exists in internal repository
Package 213/1823HostnameOS / ArchINSTALLBUILDCHECKBUILD BIN
CAGEfightR 1.6.0
Malte Thodberg
Last Commit: a293b9a
Last Changed Date: 2019-10-29 13:11:11 -0500
malbec1 Linux (Ubuntu 18.04.3 LTS) / x86_64  OK  OK  OK UNNEEDED, same version exists in internal repository
tokay1 Windows Server 2012 R2 Standard / x64  OK  OK  OK  OK UNNEEDED, same version exists in internal repository
merida1 OS X 10.11.6 El Capitan / x86_64  OK  OK  OK  OK UNNEEDED, same version exists in internal repository
Package 214/1823HostnameOS / ArchINSTALLBUILDCHECKBUILD BIN
CAGEr 1.28.0
Vanja Haberle , Charles Plessy , Damir Baranasic , Sarvesh Nikumbh
Last Commit: de5899e
Last Changed Date: 2019-10-29 13:08:37 -0500
malbec1 Linux (Ubuntu 18.04.3 LTS) / x86_64  OK  OK  OK UNNEEDED, same version exists in internal repository
tokay1 Windows Server 2012 R2 Standard / x64  OK  OK  WARNINGS  OK UNNEEDED, same version exists in internal repository
merida1 OS X 10.11.6 El Capitan / x86_64  OK  OK  OK  OK UNNEEDED, same version exists in internal repository
Package 215/1823HostnameOS / ArchINSTALLBUILDCHECKBUILD BIN
CALIB 1.52.0
Hui Zhao
Last Commit: c32140a
Last Changed Date: 2019-10-29 13:07:47 -0500
malbec1 Linux (Ubuntu 18.04.3 LTS) / x86_64  OK  OK  WARNINGS UNNEEDED, same version exists in internal repository
tokay1 Windows Server 2012 R2 Standard / x64  OK  OK  OK  OK UNNEEDED, same version exists in internal repository
merida1 OS X 10.11.6 El Capitan / x86_64  OK  OK  WARNINGS  OK UNNEEDED, same version exists in internal repository
Package 216/1823HostnameOS / ArchINSTALLBUILDCHECKBUILD BIN
calm 1.0.0
Kun Liang
Last Commit: 67501d2
Last Changed Date: 2019-10-29 13:11:57 -0500
malbec1 Linux (Ubuntu 18.04.3 LTS) / x86_64  OK  OK  OK UNNEEDED, same version exists in internal repository
tokay1 Windows Server 2012 R2 Standard / x64  OK  OK  OK  OK UNNEEDED, same version exists in internal repository
merida1 OS X 10.11.6 El Capitan / x86_64  OK  OK  OK  OK UNNEEDED, same version exists in internal repository
Package 217/1823HostnameOS / ArchINSTALLBUILDCHECKBUILD BIN
CAMERA 1.42.0
Steffen Neumann
Last Commit: c99e379
Last Changed Date: 2019-10-29 13:08:04 -0500
malbec1 Linux (Ubuntu 18.04.3 LTS) / x86_64  OK  OK  WARNINGS UNNEEDED, same version exists in internal repository
tokay1 Windows Server 2012 R2 Standard / x64  OK  OK  WARNINGS  OK UNNEEDED, same version exists in internal repository
merida1 OS X 10.11.6 El Capitan / x86_64  OK  OK  WARNINGS  OK UNNEEDED, same version exists in internal repository
Package 218/1823HostnameOS / ArchINSTALLBUILDCHECKBUILD BIN
CAMTHC 1.4.0
Lulu Chen
Last Commit: 306688f
Last Changed Date: 2019-10-29 13:11:12 -0500
malbec1 Linux (Ubuntu 18.04.3 LTS) / x86_64  OK  OK  WARNINGS UNNEEDED, same version exists in internal repository
tokay1 Windows Server 2012 R2 Standard / x64  OK  OK  WARNINGS  OK UNNEEDED, same version exists in internal repository
merida1 OS X 10.11.6 El Capitan / x86_64  OK  OK  WARNINGS  OK UNNEEDED, same version exists in internal repository
Package 219/1823HostnameOS / ArchINSTALLBUILDCHECKBUILD BIN
canceR 1.20.0
Karim Mezhoud
Last Commit: f1b52a7
Last Changed Date: 2019-10-29 13:09:11 -0500
malbec1 Linux (Ubuntu 18.04.3 LTS) / x86_64  OK  OK  OK UNNEEDED, same version exists in internal repository
tokay1 Windows Server 2012 R2 Standard / x64  OK  OK  OK  OK UNNEEDED, same version exists in internal repository
merida1 OS X 10.11.6 El Capitan / x86_64  OK  OK  OK  OK UNNEEDED, same version exists in internal repository
Package 220/1823HostnameOS / ArchINSTALLBUILDCHECKBUILD BIN
cancerclass 1.30.0
Daniel Kosztyla
Last Commit: c4208b1
Last Changed Date: 2019-10-29 13:08:32 -0500
malbec1 Linux (Ubuntu 18.04.3 LTS) / x86_64  OK  OK  OK UNNEEDED, same version exists in internal repository
tokay1 Windows Server 2012 R2 Standard / x64  OK  OK  OK  OK UNNEEDED, same version exists in internal repository
merida1 OS X 10.11.6 El Capitan / x86_64  OK  OK  WARNINGS  OK UNNEEDED, same version exists in internal repository
Package 221/1823HostnameOS / ArchINSTALLBUILDCHECKBUILD BIN
CancerInSilico 2.6.0
Thomas D. Sherman
Last Commit: 96c0a6f
Last Changed Date: 2019-10-29 13:10:08 -0500
malbec1 Linux (Ubuntu 18.04.3 LTS) / x86_64  OK  OK  OK UNNEEDED, same version exists in internal repository
tokay1 Windows Server 2012 R2 Standard / x64  OK  OK  OK  OK UNNEEDED, same version exists in internal repository
merida1 OS X 10.11.6 El Capitan / x86_64  OK  OK  OK  OK UNNEEDED, same version exists in internal repository
Package 222/1823HostnameOS / ArchINSTALLBUILDCHECKBUILD BIN
CancerMutationAnalysis 1.28.0
Simina M. Boca
Last Commit: 4973cff
Last Changed Date: 2019-10-29 13:08:30 -0500
malbec1 Linux (Ubuntu 18.04.3 LTS) / x86_64  OK  OK  OK UNNEEDED, same version exists in internal repository
tokay1 Windows Server 2012 R2 Standard / x64  OK  OK  OK  OK UNNEEDED, same version exists in internal repository
merida1 OS X 10.11.6 El Capitan / x86_64  OK  OK  OK  OK UNNEEDED, same version exists in internal repository
Package 223/1823HostnameOS / ArchINSTALLBUILDCHECKBUILD BIN
CancerSubtypes 1.12.0
Taosheng Xu
Last Commit: d7d8e5d
Last Changed Date: 2019-10-29 13:10:01 -0500
malbec1 Linux (Ubuntu 18.04.3 LTS) / x86_64  OK  OK  OK UNNEEDED, same version exists in internal repository
tokay1 Windows Server 2012 R2 Standard / x64  OK  OK  OK  OK UNNEEDED, same version exists in internal repository
merida1 OS X 10.11.6 El Capitan / x86_64  OK  OK  OK  OK UNNEEDED, same version exists in internal repository
Package 224/1823HostnameOS / ArchINSTALLBUILDCHECKBUILD BIN
CAnD 1.18.0
Caitlin McHugh
Last Commit: 4962096
Last Changed Date: 2019-10-29 13:09:17 -0500
malbec1 Linux (Ubuntu 18.04.3 LTS) / x86_64  OK  OK  OK UNNEEDED, same version exists in internal repository
tokay1 Windows Server 2012 R2 Standard / x64  OK  OK  OK  OK UNNEEDED, same version exists in internal repository
merida1 OS X 10.11.6 El Capitan / x86_64  OK  OK  OK  OK UNNEEDED, same version exists in internal repository
Package 225/1823HostnameOS / ArchINSTALLBUILDCHECKBUILD BIN
caOmicsV 1.16.0
Henry Zhang
Last Commit: f404be7
Last Changed Date: 2019-10-29 13:09:20 -0500
malbec1 Linux (Ubuntu 18.04.3 LTS) / x86_64  OK  OK  OK UNNEEDED, same version exists in internal repository
tokay1 Windows Server 2012 R2 Standard / x64  OK  OK  OK  OK UNNEEDED, same version exists in internal repository
merida1 OS X 10.11.6 El Capitan / x86_64  OK  OK  OK  OK UNNEEDED, same version exists in internal repository
Package 226/1823HostnameOS / ArchINSTALLBUILDCHECKBUILD BIN
Cardinal 2.4.0
Kylie A. Bemis
Last Commit: 5f5c0c9
Last Changed Date: 2019-10-29 13:09:08 -0500
malbec1 Linux (Ubuntu 18.04.3 LTS) / x86_64  OK  OK  OK UNNEEDED, same version exists in internal repository
tokay1 Windows Server 2012 R2 Standard / x64  OK  OK  OK  OK UNNEEDED, same version exists in internal repository
merida1 OS X 10.11.6 El Capitan / x86_64  OK  OK  OK  OK UNNEEDED, same version exists in internal repository
Package 227/1823HostnameOS / ArchINSTALLBUILDCHECKBUILD BIN
casper 2.20.0
David Rossell
Last Commit: a1c170a
Last Changed Date: 2019-10-29 13:08:36 -0500
malbec1 Linux (Ubuntu 18.04.3 LTS) / x86_64  OK  OK  OK UNNEEDED, same version exists in internal repository
tokay1 Windows Server 2012 R2 Standard / x64  OK  OK  OK  OK UNNEEDED, same version exists in internal repository
merida1 OS X 10.11.6 El Capitan / x86_64  OK  OK  WARNINGS  OK UNNEEDED, same version exists in internal repository
Package 228/1823HostnameOS / ArchINSTALLBUILDCHECKBUILD BIN
CATALYST 1.10.0
Helena L. Crowell
Last Commit: 8b3cdd0
Last Changed Date: 2019-10-29 13:10:22 -0500
malbec1 Linux (Ubuntu 18.04.3 LTS) / x86_64  OK  OK  OK UNNEEDED, same version exists in internal repository
tokay1 Windows Server 2012 R2 Standard / x64  OK  OK  OK  OK UNNEEDED, same version exists in internal repository
merida1 OS X 10.11.6 El Capitan / x86_64  OK  OK  OK  OK UNNEEDED, same version exists in internal repository
Package 229/1823HostnameOS / ArchINSTALLBUILDCHECKBUILD BIN
Category 2.52.1
Bioconductor Package Maintainer
Last Commit: 71e3a7a
Last Changed Date: 2019-11-08 12:20:13 -0500
malbec1 Linux (Ubuntu 18.04.3 LTS) / x86_64  OK  OK  OK UNNEEDED, same version exists in internal repository
tokay1 Windows Server 2012 R2 Standard / x64  OK  OK  OK  OK UNNEEDED, same version exists in internal repository
merida1 OS X 10.11.6 El Capitan / x86_64  OK  OK  OK  OK UNNEEDED, same version exists in internal repository
Package 230/1823HostnameOS / ArchINSTALLBUILDCHECKBUILD BIN
categoryCompare 1.30.0
Robert M. Flight
Last Commit: 9cfd52a
Last Changed Date: 2019-10-29 13:08:31 -0500
malbec1 Linux (Ubuntu 18.04.3 LTS) / x86_64  OK  OK  OK UNNEEDED, same version exists in internal repository
tokay1 Windows Server 2012 R2 Standard / x64  OK  OK  OK  OK UNNEEDED, same version exists in internal repository
merida1 OS X 10.11.6 El Capitan / x86_64  OK  OK  OK  OK UNNEEDED, same version exists in internal repository
Package 231/1823HostnameOS / ArchINSTALLBUILDCHECKBUILD BIN
CausalR 1.18.0
Glyn Bradley , Steven Barrett
Last Commit: f2d6c69
Last Changed Date: 2019-10-29 13:09:19 -0500
malbec1 Linux (Ubuntu 18.04.3 LTS) / x86_64  OK  OK  OK UNNEEDED, same version exists in internal repository
tokay1 Windows Server 2012 R2 Standard / x64  OK  OK  OK  OK UNNEEDED, same version exists in internal repository
merida1 OS X 10.11.6 El Capitan / x86_64  OK  OK  OK  OK UNNEEDED, same version exists in internal repository
Package 232/1823HostnameOS / ArchINSTALLBUILDCHECKBUILD BIN
cbaf 1.8.0
Arman Shahrisa
Last Commit: 2122a29
Last Changed Date: 2019-10-29 13:10:48 -0500
malbec1 Linux (Ubuntu 18.04.3 LTS) / x86_64  OK  OK  OK UNNEEDED, same version exists in internal repository
tokay1 Windows Server 2012 R2 Standard / x64  OK  OK  OK  OK UNNEEDED, same version exists in internal repository
merida1 OS X 10.11.6 El Capitan / x86_64  OK  OK  OK  OK UNNEEDED, same version exists in internal repository
Package 233/1823HostnameOS / ArchINSTALLBUILDCHECKBUILD BIN
ccfindR 1.6.0
Jun Woo
Last Commit: 8b5b604
Last Changed Date: 2019-10-29 13:11:09 -0500
malbec1 Linux (Ubuntu 18.04.3 LTS) / x86_64  OK  OK  OK UNNEEDED, same version exists in internal repository
tokay1 Windows Server 2012 R2 Standard / x64  OK  OK  OK  OK UNNEEDED, same version exists in internal repository
merida1 OS X 10.11.6 El Capitan / x86_64  OK  OK  OK  OK UNNEEDED, same version exists in internal repository
Package 234/1823HostnameOS / ArchINSTALLBUILDCHECKBUILD BIN
ccmap 1.12.0
Alex Pickering
Last Commit: 1770f4b
Last Changed Date: 2019-10-29 13:09:48 -0500
malbec1 Linux (Ubuntu 18.04.3 LTS) / x86_64  OK  OK  OK UNNEEDED, same version exists in internal repository
tokay1 Windows Server 2012 R2 Standard / x64  OK  OK  OK  OK UNNEEDED, same version exists in internal repository
merida1 OS X 10.11.6 El Capitan / x86_64  OK  OK  OK  OK UNNEEDED, same version exists in internal repository
Package 235/1823HostnameOS / ArchINSTALLBUILDCHECKBUILD BIN
CCPROMISE 1.12.0
Xueyuan Cao
Last Commit: 7ac4968
Last Changed Date: 2019-10-29 13:10:13 -0500
malbec1 Linux (Ubuntu 18.04.3 LTS) / x86_64  OK  OK  WARNINGS UNNEEDED, same version exists in internal repository
tokay1 Windows Server 2012 R2 Standard / x64  OK  OK  WARNINGS  OK UNNEEDED, same version exists in internal repository
merida1 OS X 10.11.6 El Capitan / x86_64  OK  OK  WARNINGS  OK UNNEEDED, same version exists in internal repository
Package 236/1823HostnameOS / ArchINSTALLBUILDCHECKBUILD BIN
ccrepe 1.22.0
Emma Schwager ,Craig Bielski, George Weingart
Last Commit: 1c05f01
Last Changed Date: 2019-10-29 13:08:51 -0500
malbec1 Linux (Ubuntu 18.04.3 LTS) / x86_64  OK  OK  OK UNNEEDED, same version exists in internal repository
tokay1 Windows Server 2012 R2 Standard / x64  OK  OK  OK  OK UNNEEDED, same version exists in internal repository
merida1 OS X 10.11.6 El Capitan / x86_64  OK  OK  OK  OK UNNEEDED, same version exists in internal repository
Package 237/1823HostnameOS / ArchINSTALLBUILDCHECKBUILD BIN
celaref 1.4.0
Sarah Williams
Last Commit: 89082dd
Last Changed Date: 2019-10-29 13:11:18 -0500
malbec1 Linux (Ubuntu 18.04.3 LTS) / x86_64  OK  OK  OK UNNEEDED, same version exists in internal repository
tokay1 Windows Server 2012 R2 Standard / x64  OK  OK  OK  OK UNNEEDED, same version exists in internal repository
merida1 OS X 10.11.6 El Capitan / x86_64  OK  OK  OK  OK UNNEEDED, same version exists in internal repository
Package 238/1823HostnameOS / ArchINSTALLBUILDCHECKBUILD BIN
celda 1.2.0
Joshua Campbell
Last Commit: 58f8538
Last Changed Date: 2019-10-29 13:11:41 -0500
malbec1 Linux (Ubuntu 18.04.3 LTS) / x86_64  OK  OK  OK UNNEEDED, same version exists in internal repository
tokay1 Windows Server 2012 R2 Standard / x64  OK  OK  OK  OK UNNEEDED, same version exists in internal repository
merida1 OS X 10.11.6 El Capitan / x86_64  OK  OK  OK  OK UNNEEDED, same version exists in internal repository
Package 239/1823HostnameOS / ArchINSTALLBUILDCHECKBUILD BIN
cellbaseR 1.10.0
Mohammed OE Abdallah
Last Commit: 3cf038b
Last Changed Date: 2019-10-29 13:10:25 -0500
malbec1 Linux (Ubuntu 18.04.3 LTS) / x86_64  OK  OK  OK UNNEEDED, same version exists in internal repository
tokay1 Windows Server 2012 R2 Standard / x64  OK  OK  WARNINGS  OK UNNEEDED, same version exists in internal repository
merida1 OS X 10.11.6 El Capitan / x86_64  OK  OK  OK  OK UNNEEDED, same version exists in internal repository
Package 240/1823HostnameOS / ArchINSTALLBUILDCHECKBUILD BIN
CellBench 1.2.0
Shian Su
Last Commit: c725e05
Last Changed Date: 2019-10-29 13:11:30 -0500
malbec1 Linux (Ubuntu 18.04.3 LTS) / x86_64  OK  OK  OK UNNEEDED, same version exists in internal repository
tokay1 Windows Server 2012 R2 Standard / x64  OK  OK  OK  OK UNNEEDED, same version exists in internal repository
merida1 OS X 10.11.6 El Capitan / x86_64  OK  OK  OK  OK UNNEEDED, same version exists in internal repository
Package 241/1823HostnameOS / ArchINSTALLBUILDCHECKBUILD BIN
cellGrowth 1.30.0
Julien Gagneur
Last Commit: 8775667
Last Changed Date: 2019-10-29 13:08:29 -0500
malbec1 Linux (Ubuntu 18.04.3 LTS) / x86_64  OK  OK  OK UNNEEDED, same version exists in internal repository
tokay1 Windows Server 2012 R2 Standard / x64  OK  OK  OK  OK UNNEEDED, same version exists in internal repository
merida1 OS X 10.11.6 El Capitan / x86_64  OK  OK  OK  OK UNNEEDED, same version exists in internal repository
Package 242/1823HostnameOS / ArchINSTALLBUILDCHECKBUILD BIN
cellHTS2 2.50.0
Joseph Barry
Last Commit: 05030fc
Last Changed Date: 2019-10-29 13:07:50 -0500
malbec1 Linux (Ubuntu 18.04.3 LTS) / x86_64  OK  OK  WARNINGS UNNEEDED, same version exists in internal repository
tokay1 Windows Server 2012 R2 Standard / x64  OK  OK  WARNINGS  OK UNNEEDED, same version exists in internal repository
merida1 OS X 10.11.6 El Capitan / x86_64  OK  OK  WARNINGS  OK UNNEEDED, same version exists in internal repository
Package 243/1823HostnameOS / ArchINSTALLBUILDCHECKBUILD BIN
cellity 1.14.0
Tomislav Ilicic
Last Commit: cf77bd9
Last Changed Date: 2019-10-29 13:09:34 -0500
malbec1 Linux (Ubuntu 18.04.3 LTS) / x86_64  OK  OK  OK UNNEEDED, same version exists in internal repository
tokay1 Windows Server 2012 R2 Standard / x64  OK  OK  OK  OK UNNEEDED, same version exists in internal repository
merida1 OS X 10.11.6 El Capitan / x86_64  OK  OK  OK  OK UNNEEDED, same version exists in internal repository
Package 244/1823HostnameOS / ArchINSTALLBUILDCHECKBUILD BIN
CellMapper 1.12.0
Brad Nelms
Last Commit: ee2dbf5
Last Changed Date: 2019-10-29 13:10:00 -0500
malbec1 Linux (Ubuntu 18.04.3 LTS) / x86_64  OK  OK  WARNINGS UNNEEDED, same version exists in internal repository
tokay1 Windows Server 2012 R2 Standard / x64  OK  OK  WARNINGS  OK UNNEEDED, same version exists in internal repository
merida1 OS X 10.11.6 El Capitan / x86_64  OK  OK  WARNINGS  OK UNNEEDED, same version exists in internal repository
Package 245/1823HostnameOS / ArchINSTALLBUILDCHECKBUILD BIN
CellMixS 1.2.1
Almut Lütge
Last Commit: 94a6a70
Last Changed Date: 2019-11-07 11:40:46 -0500
malbec1 Linux (Ubuntu 18.04.3 LTS) / x86_64  OK  OK  OK UNNEEDED, same version exists in internal repository
tokay1 Windows Server 2012 R2 Standard / x64  OK  OK  OK  OK UNNEEDED, same version exists in internal repository
merida1 OS X 10.11.6 El Capitan / x86_64  OK  OK  OK  OK UNNEEDED, same version exists in internal repository
Package 246/1823HostnameOS / ArchINSTALLBUILDCHECKBUILD BIN
CellNOptR 1.32.0
A.Gabor
Last Commit: 44da697
Last Changed Date: 2019-10-29 13:08:23 -0500
malbec1 Linux (Ubuntu 18.04.3 LTS) / x86_64  OK  OK  WARNINGS UNNEEDED, same version exists in internal repository
tokay1 Windows Server 2012 R2 Standard / x64  OK  OK  WARNINGS  OK UNNEEDED, same version exists in internal repository
merida1 OS X 10.11.6 El Capitan / x86_64  OK  OK  WARNINGS  OK UNNEEDED, same version exists in internal repository
Package 247/1823HostnameOS / ArchINSTALLBUILDCHECKBUILD BIN
cellscape 1.10.0
Maia Smith
Last Commit: acf3bd2
Last Changed Date: 2019-10-29 13:10:17 -0500
malbec1 Linux (Ubuntu 18.04.3 LTS) / x86_64  OK  OK  WARNINGS UNNEEDED, same version exists in internal repository
tokay1 Windows Server 2012 R2 Standard / x64  OK  OK  WARNINGS  OK UNNEEDED, same version exists in internal repository
merida1 OS X 10.11.6 El Capitan / x86_64  OK  OK  WARNINGS  OK UNNEEDED, same version exists in internal repository
Package 248/1823HostnameOS / ArchINSTALLBUILDCHECKBUILD BIN
CellScore 1.6.0
Nancy Mah
Last Commit: e3ee348
Last Changed Date: 2019-10-29 13:10:58 -0500
malbec1 Linux (Ubuntu 18.04.3 LTS) / x86_64  OK  OK  OK UNNEEDED, same version exists in internal repository
tokay1 Windows Server 2012 R2 Standard / x64  OK  OK  OK  OK UNNEEDED, same version exists in internal repository
merida1 OS X 10.11.6 El Capitan / x86_64  OK  OK  OK  OK UNNEEDED, same version exists in internal repository
Package 249/1823HostnameOS / ArchINSTALLBUILDCHECKBUILD BIN
CellTrails 1.4.0
Daniel Ellwanger
Last Commit: 71d24e0
Last Changed Date: 2019-10-29 13:11:14 -0500
malbec1 Linux (Ubuntu 18.04.3 LTS) / x86_64  OK  OK  WARNINGS UNNEEDED, same version exists in internal repository
tokay1 Windows Server 2012 R2 Standard / x64  OK  OK  WARNINGS  OK UNNEEDED, same version exists in internal repository
merida1 OS X 10.11.6 El Capitan / x86_64  OK  OK  WARNINGS  OK UNNEEDED, same version exists in internal repository
Package 250/1823HostnameOS / ArchINSTALLBUILDCHECKBUILD BIN
cellTree 1.16.0
David duVerle
Last Commit: 180a4a2
Last Changed Date: 2019-10-29 13:09:33 -0500
malbec1 Linux (Ubuntu 18.04.3 LTS) / x86_64  OK  OK  OK UNNEEDED, same version exists in internal repository
tokay1 Windows Server 2012 R2 Standard / x64  OK  OK  WARNINGS  OK UNNEEDED, same version exists in internal repository
merida1 OS X 10.11.6 El Capitan / x86_64  OK  OK  OK  OK UNNEEDED, same version exists in internal repository
Package 251/1823HostnameOS / ArchINSTALLBUILDCHECKBUILD BIN
CEMiTool 1.10.0
Helder Nakaya
Last Commit: 0b2605a
Last Changed Date: 2019-10-29 13:10:37 -0500
malbec1 Linux (Ubuntu 18.04.3 LTS) / x86_64  OK  OK  OK UNNEEDED, same version exists in internal repository
tokay1 Windows Server 2012 R2 Standard / x64  OK  OK  OK  OK UNNEEDED, same version exists in internal repository
merida1 OS X 10.11.6 El Capitan / x86_64  OK  OK  OK  OK UNNEEDED, same version exists in internal repository
Package 252/1823HostnameOS / ArchINSTALLBUILDCHECKBUILD BIN
CexoR 1.24.0
Pedro Madrigal
Last Commit: 9749fa7
Last Changed Date: 2019-10-29 13:08:48 -0500
malbec1 Linux (Ubuntu 18.04.3 LTS) / x86_64  OK  OK  OK UNNEEDED, same version exists in internal repository
tokay1 Windows Server 2012 R2 Standard / x64  OK  OK  OK  OK UNNEEDED, same version exists in internal repository
merida1 OS X 10.11.6 El Capitan / x86_64  OK  OK  OK  OK UNNEEDED, same version exists in internal repository
Package 253/1823HostnameOS / ArchINSTALLBUILDCHECKBUILD BIN
CFAssay 1.20.0
Herbert Braselmann
Last Commit: c8d98fc
Last Changed Date: 2019-10-29 13:09:06 -0500
malbec1 Linux (Ubuntu 18.04.3 LTS) / x86_64  OK  OK  OK UNNEEDED, same version exists in internal repository
tokay1 Windows Server 2012 R2 Standard / x64  OK  OK  OK  OK UNNEEDED, same version exists in internal repository
merida1 OS X 10.11.6 El Capitan / x86_64  OK  OK  OK  OK UNNEEDED, same version exists in internal repository
Package 254/1823HostnameOS / ArchINSTALLBUILDCHECKBUILD BIN
CGEN 3.22.0
William Wheeler
Last Commit: 4975526
Last Changed Date: 2019-10-29 13:08:17 -0500
malbec1 Linux (Ubuntu 18.04.3 LTS) / x86_64  OK  OK  OK UNNEEDED, same version exists in internal repository
tokay1 Windows Server 2012 R2 Standard / x64  OK  OK  OK  OK UNNEEDED, same version exists in internal repository
merida1 OS X 10.11.6 El Capitan / x86_64  OK  OK  OK  OK UNNEEDED, same version exists in internal repository
Package 255/1823HostnameOS / ArchINSTALLBUILDCHECKBUILD BIN
CGHbase 1.46.0
Mark van de Wiel
Last Commit: 0a0ad49
Last Changed Date: 2019-10-29 13:07:56 -0500
malbec1 Linux (Ubuntu 18.04.3 LTS) / x86_64  OK  OK  OK UNNEEDED, same version exists in internal repository
tokay1 Windows Server 2012 R2 Standard / x64  OK  OK  WARNINGS  OK UNNEEDED, same version exists in internal repository
merida1 OS X 10.11.6 El Capitan / x86_64  OK  OK  OK  OK UNNEEDED, same version exists in internal repository
Package 256/1823HostnameOS / ArchINSTALLBUILDCHECKBUILD BIN
CGHcall 2.48.0
Mark van de Wiel
Last Commit: fbfc366
Last Changed Date: 2019-10-29 13:07:52 -0500
malbec1 Linux (Ubuntu 18.04.3 LTS) / x86_64  OK  OK  OK UNNEEDED, same version exists in internal repository
tokay1 Windows Server 2012 R2 Standard / x64  OK  OK  OK  OK UNNEEDED, same version exists in internal repository
merida1 OS X 10.11.6 El Capitan / x86_64  OK  OK  OK  OK UNNEEDED, same version exists in internal repository
Package 257/1823HostnameOS / ArchINSTALLBUILDCHECKBUILD BIN
cghMCR 1.44.0
J. Zhang
Last Commit: 9d1306e
Last Changed Date: 2019-10-29 13:07:42 -0500
malbec1 Linux (Ubuntu 18.04.3 LTS) / x86_64  OK  OK  WARNINGS UNNEEDED, same version exists in internal repository
tokay1 Windows Server 2012 R2 Standard / x64  OK  OK  WARNINGS  OK UNNEEDED, same version exists in internal repository
merida1 OS X 10.11.6 El Capitan / x86_64  OK  OK  WARNINGS  OK UNNEEDED, same version exists in internal repository
Package 258/1823HostnameOS / ArchINSTALLBUILDCHECKBUILD BIN
CGHnormaliter 1.40.0
Bart P.P. van Houte
Last Commit: 7f45642
Last Changed Date: 2019-10-29 13:08:08 -0500
malbec1 Linux (Ubuntu 18.04.3 LTS) / x86_64  OK  OK  OK UNNEEDED, same version exists in internal repository
tokay1 Windows Server 2012 R2 Standard / x64  OK  OK  OK  OK UNNEEDED, same version exists in internal repository
merida1 OS X 10.11.6 El Capitan / x86_64  OK  OK  OK  OK UNNEEDED, same version exists in internal repository
Package 259/1823HostnameOS / ArchINSTALLBUILDCHECKBUILD BIN
CGHregions 1.44.0
Sjoerd Vosse
Last Commit: 6319eb8
Last Changed Date: 2019-10-29 13:07:56 -0500
malbec1 Linux (Ubuntu 18.04.3 LTS) / x86_64  OK  OK  OK UNNEEDED, same version exists in internal repository
tokay1 Windows Server 2012 R2 Standard / x64  OK  OK  OK  OK UNNEEDED, same version exists in internal repository
merida1 OS X 10.11.6 El Capitan / x86_64  OK  OK  OK  OK UNNEEDED, same version exists in internal repository
Package 260/1823HostnameOS / ArchINSTALLBUILDCHECKBUILD BIN
ChAMP 2.16.0
Yuan Tian
Last Commit: 0b0a519
Last Changed Date: 2019-10-29 13:08:50 -0500
malbec1 Linux (Ubuntu 18.04.3 LTS) / x86_64  OK  OK  WARNINGS UNNEEDED, same version exists in internal repository
tokay1 Windows Server 2012 R2 Standard / x64  OK  OK  WARNINGS  OK UNNEEDED, same version exists in internal repository
merida1 OS X 10.11.6 El Capitan / x86_64  OK  OK  WARNINGS  OK UNNEEDED, same version exists in internal repository
Package 261/1823HostnameOS / ArchINSTALLBUILDCHECKBUILD BIN
CHARGE 1.6.0
Benjamin Mayne
Last Commit: 0d8eb0f
Last Changed Date: 2019-10-29 13:10:56 -0500
malbec1 Linux (Ubuntu 18.04.3 LTS) / x86_64  OK  OK  OK UNNEEDED, same version exists in internal repository
tokay1 Windows Server 2012 R2 Standard / x64  OK  OK  OK  OK UNNEEDED, same version exists in internal repository
merida1 OS X 10.11.6 El Capitan / x86_64  OK  OK  OK  OK UNNEEDED, same version exists in internal repository
Package 262/1823HostnameOS / ArchINSTALLBUILDCHECKBUILD BIN
charm 2.32.0
Peter Murakami
Last Commit: 5fc2719
Last Changed Date: 2019-10-29 13:08:13 -0500
malbec1 Linux (Ubuntu 18.04.3 LTS) / x86_64  ERROR  ERROR  skipped 
tokay1 Windows Server 2012 R2 Standard / x64  ERROR  ERROR  skipped  skipped 
merida1 OS X 10.11.6 El Capitan / x86_64  ERROR  ERROR  skipped  skipped 
Package 263/1823HostnameOS / ArchINSTALLBUILDCHECKBUILD BIN
ChemmineOB 1.24.0
Thomas Girke
Last Commit: cd2f82f
Last Changed Date: 2019-10-29 13:08:45 -0500
malbec1 Linux (Ubuntu 18.04.3 LTS) / x86_64  OK  OK  OK UNNEEDED, same version exists in internal repository
tokay1 Windows Server 2012 R2 Standard / x64  OK  OK  OK  OK UNNEEDED, same version exists in internal repository
merida1 OS X 10.11.6 El Capitan / x86_64  OK  OK  WARNINGS  OK UNNEEDED, same version exists in internal repository
Package 264/1823HostnameOS / ArchINSTALLBUILDCHECKBUILD BIN
ChemmineR 3.38.0
Thomas Girke
Last Commit: 1cbe310
Last Changed Date: 2019-10-29 13:07:59 -0500
malbec1 Linux (Ubuntu 18.04.3 LTS) / x86_64  OK  OK  OK UNNEEDED, same version exists in internal repository
tokay1 Windows Server 2012 R2 Standard / x64  OK  OK  OK  OK UNNEEDED, same version exists in internal repository
merida1 OS X 10.11.6 El Capitan / x86_64  OK  OK  WARNINGS  OK UNNEEDED, same version exists in internal repository
Package 265/1823HostnameOS / ArchINSTALLBUILDCHECKBUILD BIN
CHETAH 1.2.0
Jurrian de Kanter
Last Commit: 063de2d
Last Changed Date: 2019-10-29 13:11:32 -0500
malbec1 Linux (Ubuntu 18.04.3 LTS) / x86_64  OK  OK  OK UNNEEDED, same version exists in internal repository
tokay1 Windows Server 2012 R2 Standard / x64  OK  OK  OK  OK UNNEEDED, same version exists in internal repository
merida1 OS X 10.11.6 El Capitan / x86_64  OK  OK  OK  OK UNNEEDED, same version exists in internal repository
Package 266/1823HostnameOS / ArchINSTALLBUILDCHECKBUILD BIN
ChIC 1.6.0
Carmen Maria Livi
Last Commit: 209fad0
Last Changed Date: 2019-10-29 13:11:08 -0500
malbec1 Linux (Ubuntu 18.04.3 LTS) / x86_64  OK  OK  OK UNNEEDED, same version exists in internal repository
tokay1 Windows Server 2012 R2 Standard / x64 ...NOT SUPPORTED...
merida1 OS X 10.11.6 El Capitan / x86_64  OK  OK  OK  OK UNNEEDED, same version exists in internal repository
Package 267/1823HostnameOS / ArchINSTALLBUILDCHECKBUILD BIN
Chicago 1.14.0
Mikhail Spivakov
Last Commit: a79cb8e
Last Changed Date: 2019-10-29 13:09:30 -0500
malbec1 Linux (Ubuntu 18.04.3 LTS) / x86_64  OK  OK  OK UNNEEDED, same version exists in internal repository
tokay1 Windows Server 2012 R2 Standard / x64  OK  OK  OK  OK UNNEEDED, same version exists in internal repository
merida1 OS X 10.11.6 El Capitan / x86_64  OK  OK  OK  OK UNNEEDED, same version exists in internal repository
Package 268/1823HostnameOS / ArchINSTALLBUILDCHECKBUILD BIN
chimera 1.28.0
Raffaele A Calogero
Last Commit: ddedb49
Last Changed Date: 2019-10-29 13:08:37 -0500
malbec1 Linux (Ubuntu 18.04.3 LTS) / x86_64  OK  OK  OK UNNEEDED, same version exists in internal repository
tokay1 Windows Server 2012 R2 Standard / x64  OK  ERROR  skipped  skipped 
merida1 OS X 10.11.6 El Capitan / x86_64  OK  OK  OK  OK UNNEEDED, same version exists in internal repository
Package 269/1823HostnameOS / ArchINSTALLBUILDCHECKBUILD BIN
chimeraviz 1.12.0
Stian Lågstad
Last Commit: 49df126
Last Changed Date: 2019-10-29 13:10:14 -0500
malbec1 Linux (Ubuntu 18.04.3 LTS) / x86_64  OK  OK  OK UNNEEDED, same version exists in internal repository
tokay1 Windows Server 2012 R2 Standard / x64  OK  OK  OK  OK UNNEEDED, same version exists in internal repository
merida1 OS X 10.11.6 El Capitan / x86_64  OK  OK  OK  OK UNNEEDED, same version exists in internal repository
Package 270/1823HostnameOS / ArchINSTALLBUILDCHECKBUILD BIN
ChIPanalyser 1.8.0
Patrick C.N. Martin
Last Commit: acf14fb
Last Changed Date: 2019-10-29 13:10:42 -0500
malbec1 Linux (Ubuntu 18.04.3 LTS) / x86_64  OK  OK  OK UNNEEDED, same version exists in internal repository
tokay1 Windows Server 2012 R2 Standard / x64  OK  OK  WARNINGS  OK UNNEEDED, same version exists in internal repository
merida1 OS X 10.11.6 El Capitan / x86_64  OK  OK  OK  OK UNNEEDED, same version exists in internal repository
Package 271/1823HostnameOS / ArchINSTALLBUILDCHECKBUILD BIN
ChIPComp 1.16.0
Li Chen
Last Commit: e589412
Last Changed Date: 2019-10-29 13:09:24 -0500
malbec1 Linux (Ubuntu 18.04.3 LTS) / x86_64  OK  OK  OK UNNEEDED, same version exists in internal repository
tokay1 Windows Server 2012 R2 Standard / x64  OK  OK  OK  OK UNNEEDED, same version exists in internal repository
merida1 OS X 10.11.6 El Capitan / x86_64  OK  OK  OK  OK UNNEEDED, same version exists in internal repository
Package 272/1823HostnameOS / ArchINSTALLBUILDCHECKBUILD BIN
chipenrich 2.10.0
Raymond G. Cavalcante
Last Commit: 38187ca
Last Changed Date: 2019-10-29 13:08:46 -0500
malbec1 Linux (Ubuntu 18.04.3 LTS) / x86_64  OK  OK  OK UNNEEDED, same version exists in internal repository
tokay1 Windows Server 2012 R2 Standard / x64  OK  OK  OK  OK UNNEEDED, same version exists in internal repository
merida1 OS X 10.11.6 El Capitan / x86_64  OK  OK  OK  OK UNNEEDED, same version exists in internal repository
Package 273/1823HostnameOS / ArchINSTALLBUILDCHECKBUILD BIN
ChIPexoQual 1.10.0
Rene Welch
Last Commit: 74a2848
Last Changed Date: 2019-10-29 13:10:16 -0500
malbec1 Linux (Ubuntu 18.04.3 LTS) / x86_64  OK  OK  OK UNNEEDED, same version exists in internal repository
tokay1 Windows Server 2012 R2 Standard / x64  OK  OK  OK  OK UNNEEDED, same version exists in internal repository
merida1