BioC 2.9: Multiple platform build/check report

This page was generated on 2012-03-24 12:02:06 -0700 (Sat, 24 Mar 2012).

svn info

Snapshot Date: 2012-03-23 18:21:46 -0700 (Fri, 23 Mar 2012)
URL: https://hedgehog.fhcrc.org/bioconductor/branches/RELEASE_2_9/madman/Rpacks
Last Changed Rev: 64291 / Revision: 64395
Last Changed Date: 2012-03-22 11:29:35 -0700 (Thu, 22 Mar 2012)

Hostname OS Arch (*) Platform label (**) R version Installed pkgs
wilson2 Linux (openSUSE 11.4) x86_64 x86_64-suse-linux 2.14.2 (2012-02-29) 1051
moscato1 Windows Server 2008 R2 Enterprise SP1 (64-bit) x64 mingw32 / x86_64-w64-mingw32 2.14.2 (2012-02-29) 1026
pitt Mac OS X Leopard (10.5.8) i386 i686-apple-darwin8 2.14.2 (2012-02-29) 1011
Click on any hostname to see more info about the system (e.g. compilers)      (*) as reported by 'uname -p', except on Windows      (**) as reported by 'gcc -v'

Package STATUS - Package status is indicated by one of the following glyphs:
 -  TIMEOUT  BUILD, CHECK or BUILD BIN of package took more than 40 minutes
 -  ERROR  BUILD, CHECK or BUILD BIN of package returned an error
 -  WARNINGS  CHECK of package produced warnings
 -  OK  BUILD, CHECK or BUILD BIN of package was OK
 - skipped  CHECK or BUILD BIN of package was skipped because the BUILD step failed (or because something bad happened with the Build System itself)
Click on any glyph in the report below to see the status details (command output).
Use the check boxes to show only packages with the selected status types:  TIMEOUT   ERROR   WARNINGS   OK 

SUMMARYOS / ArchBUILDCHECKBUILD BIN
wilson2 Linux (openSUSE 11.4) / x86_64 
02512
0110501
moscato1 Windows Server 2008 R2 Enterprise SP1 (64-bit) / x64 
07491
079475
01490
pitt Mac OS X Leopard (10.5.8) / i386 
04495
0216477
00495
A [A] B  C  D  E  F  G  H  I  J  K  L  M  N  O  P  Q  R  S  T  U  V  W  X  Y  Z 
Package 1/514HostnameOS / ArchBUILDCHECKBUILD BIN
a4 1.2.0
Tobias Verbeke
Last Changed Rev: 59920 / Revision: 64395
Last Changed Date: 2011-10-31 15:59:03 -0700
wilson2 Linux (openSUSE 11.4) / x86_64  OK  OK 
moscato1 Windows Server 2008 R2 Enterprise SP1 (64-bit) / x64  OK  OK  OK 
pitt Mac OS X Leopard (10.5.8) / i386  OK  OK  OK 
Package 2/514HostnameOS / ArchBUILDCHECKBUILD BIN
a4Base 1.2.3
Tobias Verbeke
Last Changed Rev: 63467 / Revision: 64395
Last Changed Date: 2012-03-05 03:35:56 -0800
wilson2 Linux (openSUSE 11.4) / x86_64  OK  OK 
moscato1 Windows Server 2008 R2 Enterprise SP1 (64-bit) / x64  OK  OK  OK 
pitt Mac OS X Leopard (10.5.8) / i386  OK  OK  OK 
Package 3/514HostnameOS / ArchBUILDCHECKBUILD BIN
a4Classif 1.2.0
Tobias Verbeke
Last Changed Rev: 59920 / Revision: 64395
Last Changed Date: 2011-10-31 15:59:03 -0700
wilson2 Linux (openSUSE 11.4) / x86_64  OK  OK 
moscato1 Windows Server 2008 R2 Enterprise SP1 (64-bit) / x64  OK  OK  OK 
pitt Mac OS X Leopard (10.5.8) / i386  OK  OK  OK 
Package 4/514HostnameOS / ArchBUILDCHECKBUILD BIN
a4Core 1.2.0
Tobias Verbeke
Last Changed Rev: 59920 / Revision: 64395
Last Changed Date: 2011-10-31 15:59:03 -0700
wilson2 Linux (openSUSE 11.4) / x86_64  OK  OK 
moscato1 Windows Server 2008 R2 Enterprise SP1 (64-bit) / x64  OK  OK  OK 
pitt Mac OS X Leopard (10.5.8) / i386  OK  OK  OK 
Package 5/514HostnameOS / ArchBUILDCHECKBUILD BIN
a4Preproc 1.2.0
Tobias Verbeke
Last Changed Rev: 59920 / Revision: 64395
Last Changed Date: 2011-10-31 15:59:03 -0700
wilson2 Linux (openSUSE 11.4) / x86_64  OK  OK 
moscato1 Windows Server 2008 R2 Enterprise SP1 (64-bit) / x64  OK  OK  OK 
pitt Mac OS X Leopard (10.5.8) / i386  OK  OK  OK 
Package 6/514HostnameOS / ArchBUILDCHECKBUILD BIN
a4Reporting 1.2.0
Tobias Verbeke
Last Changed Rev: 59920 / Revision: 64395
Last Changed Date: 2011-10-31 15:59:03 -0700
wilson2 Linux (openSUSE 11.4) / x86_64  OK  OK 
moscato1 Windows Server 2008 R2 Enterprise SP1 (64-bit) / x64  OK  OK  OK 
pitt Mac OS X Leopard (10.5.8) / i386  OK  OK  OK 
Package 7/514HostnameOS / ArchBUILDCHECKBUILD BIN
ABarray 1.22.0
Yongming Andrew Sun
Last Changed Rev: 59920 / Revision: 64395
Last Changed Date: 2011-10-31 15:59:03 -0700
wilson2 Linux (openSUSE 11.4) / x86_64  OK  OK 
moscato1 Windows Server 2008 R2 Enterprise SP1 (64-bit) / x64  OK  OK  OK 
pitt Mac OS X Leopard (10.5.8) / i386  OK  OK  OK 
Package 8/514HostnameOS / ArchBUILDCHECKBUILD BIN
aCGH 1.32.0
Peter Dimitrov
Last Changed Rev: 59920 / Revision: 64395
Last Changed Date: 2011-10-31 15:59:03 -0700
wilson2 Linux (openSUSE 11.4) / x86_64  OK  OK 
moscato1 Windows Server 2008 R2 Enterprise SP1 (64-bit) / x64  OK  OK  OK 
pitt Mac OS X Leopard (10.5.8) / i386  OK  OK  OK 
Package 9/514HostnameOS / ArchBUILDCHECKBUILD BIN
ACME 2.10.0
Sean Davis
Last Changed Rev: 59920 / Revision: 64395
Last Changed Date: 2011-10-31 15:59:03 -0700
wilson2 Linux (openSUSE 11.4) / x86_64  OK  OK 
moscato1 Windows Server 2008 R2 Enterprise SP1 (64-bit) / x64  OK  OK  OK 
pitt Mac OS X Leopard (10.5.8) / i386  OK  OK  OK 
Package 10/514HostnameOS / ArchBUILDCHECKBUILD BIN
ADaCGH2 1.4.0
Ramon Diaz-Uriarte
Last Changed Rev: 59920 / Revision: 64395
Last Changed Date: 2011-10-31 15:59:03 -0700
wilson2 Linux (openSUSE 11.4) / x86_64  OK  OK 
moscato1 Windows Server 2008 R2 Enterprise SP1 (64-bit) / x64  OK  OK  OK 
pitt Mac OS X Leopard (10.5.8) / i386  OK  OK  OK 
Package 11/514HostnameOS / ArchBUILDCHECKBUILD BIN
adSplit 1.24.0
Claudio Lottaz
Last Changed Rev: 59920 / Revision: 64395
Last Changed Date: 2011-10-31 15:59:03 -0700
wilson2 Linux (openSUSE 11.4) / x86_64  OK  OK 
moscato1 Windows Server 2008 R2 Enterprise SP1 (64-bit) / x64  OK  OK  OK 
pitt Mac OS X Leopard (10.5.8) / i386  OK  OK  OK 
Package 12/514HostnameOS / ArchBUILDCHECKBUILD BIN
affxparser 1.26.4
Kasper Daniel Hansen
Last Changed Rev: 63550 / Revision: 64395
Last Changed Date: 2012-03-06 12:05:22 -0800
wilson2 Linux (openSUSE 11.4) / x86_64  OK  OK 
moscato1 Windows Server 2008 R2 Enterprise SP1 (64-bit) / x64  OK  OK  OK 
pitt Mac OS X Leopard (10.5.8) / i386  OK  OK  OK 
Package 13/514HostnameOS / ArchBUILDCHECKBUILD BIN
affy 1.32.1
Rafael A. Irizarry
Last Changed Rev: 62374 / Revision: 64395
Last Changed Date: 2012-01-30 06:50:45 -0800
wilson2 Linux (openSUSE 11.4) / x86_64  OK  OK 
moscato1 Windows Server 2008 R2 Enterprise SP1 (64-bit) / x64  OK  OK  OK 
pitt Mac OS X Leopard (10.5.8) / i386  OK  OK  OK 
Package 14/514HostnameOS / ArchBUILDCHECKBUILD BIN
affycomp 1.30.2
Rafael A. Irizarry
Last Changed Rev: 61203 / Revision: 64395
Last Changed Date: 2011-12-08 13:28:06 -0800
wilson2 Linux (openSUSE 11.4) / x86_64  OK  OK 
moscato1 Windows Server 2008 R2 Enterprise SP1 (64-bit) / x64  OK  OK  OK 
pitt Mac OS X Leopard (10.5.8) / i386  OK  OK  OK 
Package 15/514HostnameOS / ArchBUILDCHECKBUILD BIN
AffyCompatible 1.14.0
Martin Morgan
Last Changed Rev: 59920 / Revision: 64395
Last Changed Date: 2011-10-31 15:59:03 -0700
wilson2 Linux (openSUSE 11.4) / x86_64  OK  OK 
moscato1 Windows Server 2008 R2 Enterprise SP1 (64-bit) / x64  OK  OK  OK 
pitt Mac OS X Leopard (10.5.8) / i386  OK  OK  OK 
Package 16/514HostnameOS / ArchBUILDCHECKBUILD BIN
affyContam 1.12.0
V. Carey
Last Changed Rev: 59920 / Revision: 64395
Last Changed Date: 2011-10-31 15:59:03 -0700
wilson2 Linux (openSUSE 11.4) / x86_64  OK  OK 
moscato1 Windows Server 2008 R2 Enterprise SP1 (64-bit) / x64  OK  OK  OK 
pitt Mac OS X Leopard (10.5.8) / i386  OK  OK  OK 
Package 17/514HostnameOS / ArchBUILDCHECKBUILD BIN
affycoretools 1.26.0
James W. MacDonald
Last Changed Rev: 59920 / Revision: 64395
Last Changed Date: 2011-10-31 15:59:03 -0700
wilson2 Linux (openSUSE 11.4) / x86_64  OK  OK 
moscato1 Windows Server 2008 R2 Enterprise SP1 (64-bit) / x64  OK  OK  OK 
pitt Mac OS X Leopard (10.5.8) / i386  OK  OK  OK 
Package 18/514HostnameOS / ArchBUILDCHECKBUILD BIN
AffyExpress 1.20.0
Xuejun Arthur Li
Last Changed Rev: 59920 / Revision: 64395
Last Changed Date: 2011-10-31 15:59:03 -0700
wilson2 Linux (openSUSE 11.4) / x86_64  OK  OK 
moscato1 Windows Server 2008 R2 Enterprise SP1 (64-bit) / x64  OK  OK  OK 
pitt Mac OS X Leopard (10.5.8) / i386  OK  OK  OK 
Package 19/514HostnameOS / ArchBUILDCHECKBUILD BIN
affyILM 1.6.1
Myriam Kroll and Fabrice Berger
Last Changed Rev: 60373 / Revision: 64395
Last Changed Date: 2011-11-15 17:44:53 -0800
wilson2 Linux (openSUSE 11.4) / x86_64  OK  OK 
moscato1 Windows Server 2008 R2 Enterprise SP1 (64-bit) / x64  OK  OK  OK 
pitt Mac OS X Leopard (10.5.8) / i386  OK  OK  OK 
Package 20/514HostnameOS / ArchBUILDCHECKBUILD BIN
affyio 1.22.0
Benjamin Milo Bolstad
Last Changed Rev: 59920 / Revision: 64395
Last Changed Date: 2011-10-31 15:59:03 -0700
wilson2 Linux (openSUSE 11.4) / x86_64  OK  OK 
moscato1 Windows Server 2008 R2 Enterprise SP1 (64-bit) / x64  OK  OK  OK 
pitt Mac OS X Leopard (10.5.8) / i386  OK  OK  OK 
Package 21/514HostnameOS / ArchBUILDCHECKBUILD BIN
affylmGUI 1.28.0
Keith Satterley
Last Changed Rev: 59920 / Revision: 64395
Last Changed Date: 2011-10-31 15:59:03 -0700
wilson2 Linux (openSUSE 11.4) / x86_64  OK  OK 
moscato1 Windows Server 2008 R2 Enterprise SP1 (64-bit) / x64  OK  OK  OK 
pitt Mac OS X Leopard (10.5.8) / i386  OK  OK  OK 
Package 22/514HostnameOS / ArchBUILDCHECKBUILD BIN
affyPara 1.14.0
Markus Schmidberger
Last Changed Rev: 59920 / Revision: 64395
Last Changed Date: 2011-10-31 15:59:03 -0700
wilson2 Linux (openSUSE 11.4) / x86_64  OK  OK 
moscato1 Windows Server 2008 R2 Enterprise SP1 (64-bit) / x64  OK  OK  OK 
pitt Mac OS X Leopard (10.5.8) / i386  OK  OK  OK 
Package 23/514HostnameOS / ArchBUILDCHECKBUILD BIN
affypdnn 1.28.0
Laurent Gautier
Last Changed Rev: 59920 / Revision: 64395
Last Changed Date: 2011-10-31 15:59:03 -0700
wilson2 Linux (openSUSE 11.4) / x86_64  OK  OK 
moscato1 Windows Server 2008 R2 Enterprise SP1 (64-bit) / x64  OK  OK  OK 
pitt Mac OS X Leopard (10.5.8) / i386  OK  OK  OK 
Package 24/514HostnameOS / ArchBUILDCHECKBUILD BIN
affyPLM 1.30.0
Ben Bolstad
Last Changed Rev: 59920 / Revision: 64395
Last Changed Date: 2011-10-31 15:59:03 -0700
wilson2 Linux (openSUSE 11.4) / x86_64  OK  OK 
moscato1 Windows Server 2008 R2 Enterprise SP1 (64-bit) / x64  OK  OK  OK 
pitt Mac OS X Leopard (10.5.8) / i386  OK  OK  OK 
Package 25/514HostnameOS / ArchBUILDCHECKBUILD BIN
affyQCReport 1.32.0
Craig Parman
Last Changed Rev: 59920 / Revision: 64395
Last Changed Date: 2011-10-31 15:59:03 -0700
wilson2 Linux (openSUSE 11.4) / x86_64  OK  OK 
moscato1 Windows Server 2008 R2 Enterprise SP1 (64-bit) / x64  OK  OK  OK 
pitt Mac OS X Leopard (10.5.8) / i386  OK  OK  OK 
Package 26/514HostnameOS / ArchBUILDCHECKBUILD BIN
AffyTiling 1.12.1
Charles G. Danko
Last Changed Rev: 63826 / Revision: 64395
Last Changed Date: 2012-03-13 12:56:02 -0700
wilson2 Linux (openSUSE 11.4) / x86_64  OK  OK 
moscato1 Windows Server 2008 R2 Enterprise SP1 (64-bit) / x64  OK  OK  OK 
pitt Mac OS X Leopard (10.5.8) / i386  OK  OK  OK 
Package 27/514HostnameOS / ArchBUILDCHECKBUILD BIN
AGDEX 1.2.0
Cuilan lani Gao
Last Changed Rev: 59920 / Revision: 64395
Last Changed Date: 2011-10-31 15:59:03 -0700
wilson2 Linux (openSUSE 11.4) / x86_64  OK  OK 
moscato1 Windows Server 2008 R2 Enterprise SP1 (64-bit) / x64  OK  OK  OK 
pitt Mac OS X Leopard (10.5.8) / i386  OK  OK  OK 
Package 28/514HostnameOS / ArchBUILDCHECKBUILD BIN
Agi4x44PreProcess 1.14.0
Pedro Lopez-Romero
Last Changed Rev: 59920 / Revision: 64395
Last Changed Date: 2011-10-31 15:59:03 -0700
wilson2 Linux (openSUSE 11.4) / x86_64  OK  OK 
moscato1 Windows Server 2008 R2 Enterprise SP1 (64-bit) / x64  OK  OK  OK 
pitt Mac OS X Leopard (10.5.8) / i386  OK  OK  OK 
Package 29/514HostnameOS / ArchBUILDCHECKBUILD BIN
AgiMicroRna 2.4.0
Pedro Lopez-Romero
Last Changed Rev: 59920 / Revision: 64395
Last Changed Date: 2011-10-31 15:59:03 -0700
wilson2 Linux (openSUSE 11.4) / x86_64  OK  OK 
moscato1 Windows Server 2008 R2 Enterprise SP1 (64-bit) / x64  OK  OK  OK 
pitt Mac OS X Leopard (10.5.8) / i386  OK  OK  OK 
Package 30/514HostnameOS / ArchBUILDCHECKBUILD BIN
altcdfenvs 2.16.0
Laurent Gautier
Last Changed Rev: 59920 / Revision: 64395
Last Changed Date: 2011-10-31 15:59:03 -0700
wilson2 Linux (openSUSE 11.4) / x86_64  OK  OK 
moscato1 Windows Server 2008 R2 Enterprise SP1 (64-bit) / x64  OK  OK  OK 
pitt Mac OS X Leopard (10.5.8) / i386  OK  OK  OK 
Package 31/514HostnameOS / ArchBUILDCHECKBUILD BIN
annaffy 1.26.0
Colin A. Smith
Last Changed Rev: 59920 / Revision: 64395
Last Changed Date: 2011-10-31 15:59:03 -0700
wilson2 Linux (openSUSE 11.4) / x86_64  OK  OK 
moscato1 Windows Server 2008 R2 Enterprise SP1 (64-bit) / x64  OK  OK  OK 
pitt Mac OS X Leopard (10.5.8) / i386  OK  OK  OK 
Package 32/514HostnameOS / ArchBUILDCHECKBUILD BIN
annotate 1.32.3
Bioconductor Package Maintainer
Last Changed Rev: 63882 / Revision: 64395
Last Changed Date: 2012-03-14 13:34:56 -0700
wilson2 Linux (openSUSE 11.4) / x86_64  OK  OK 
moscato1 Windows Server 2008 R2 Enterprise SP1 (64-bit) / x64  OK  OK  OK 
pitt Mac OS X Leopard (10.5.8) / i386  OK  OK  OK 
Package 33/514HostnameOS / ArchBUILDCHECKBUILD BIN
AnnotationDbi 1.16.19
Bioconductor Package Maintainer
Last Changed Rev: 63650 / Revision: 64395
Last Changed Date: 2012-03-08 16:42:31 -0800
wilson2 Linux (openSUSE 11.4) / x86_64  OK  OK 
moscato1 Windows Server 2008 R2 Enterprise SP1 (64-bit) / x64  OK  OK  OK 
pitt Mac OS X Leopard (10.5.8) / i386  OK  OK  OK 
Package 34/514HostnameOS / ArchBUILDCHECKBUILD BIN
AnnotationFuncs 1.4.0
Stefan McKinnon Edwards
Last Changed Rev: 59920 / Revision: 64395
Last Changed Date: 2011-10-31 15:59:03 -0700
wilson2 Linux (openSUSE 11.4) / x86_64  OK  OK 
moscato1 Windows Server 2008 R2 Enterprise SP1 (64-bit) / x64  OK  OK  OK 
pitt Mac OS X Leopard (10.5.8) / i386  OK  OK  OK 
Package 35/514HostnameOS / ArchBUILDCHECKBUILD BIN
annotationTools 1.28.0
Alexandre Kuhn
Last Changed Rev: 59920 / Revision: 64395
Last Changed Date: 2011-10-31 15:59:03 -0700
wilson2 Linux (openSUSE 11.4) / x86_64  OK  OK 
moscato1 Windows Server 2008 R2 Enterprise SP1 (64-bit) / x64  OK  OK  OK 
pitt Mac OS X Leopard (10.5.8) / i386  OK  OK  OK 
Package 36/514HostnameOS / ArchBUILDCHECKBUILD BIN
anota 1.2.0
Ola Larsson
Last Changed Rev: 59920 / Revision: 64395
Last Changed Date: 2011-10-31 15:59:03 -0700
wilson2 Linux (openSUSE 11.4) / x86_64  OK  OK 
moscato1 Windows Server 2008 R2 Enterprise SP1 (64-bit) / x64  OK  OK  OK 
pitt Mac OS X Leopard (10.5.8) / i386  OK  OK  OK 
Package 37/514HostnameOS / ArchBUILDCHECKBUILD BIN
apComplex 2.20.0
Denise Scholtens
Last Changed Rev: 59920 / Revision: 64395
Last Changed Date: 2011-10-31 15:59:03 -0700
wilson2 Linux (openSUSE 11.4) / x86_64  OK  OK 
moscato1 Windows Server 2008 R2 Enterprise SP1 (64-bit) / x64  OK  OK  OK 
pitt Mac OS X Leopard (10.5.8) / i386  OK  OK  OK 
Package 38/514HostnameOS / ArchBUILDCHECKBUILD BIN
aroma.light 1.22.0
Henrik Bengtsson
Last Changed Rev: 59958 / Revision: 64395
Last Changed Date: 2011-11-01 11:41:05 -0700
wilson2 Linux (openSUSE 11.4) / x86_64  OK  OK 
moscato1 Windows Server 2008 R2 Enterprise SP1 (64-bit) / x64  OK  OK  OK 
pitt Mac OS X Leopard (10.5.8) / i386  OK  WARNINGS  OK 
Package 39/514HostnameOS / ArchBUILDCHECKBUILD BIN
ArrayExpress 1.14.0
Audrey Kauffmann
Last Changed Rev: 59920 / Revision: 64395
Last Changed Date: 2011-10-31 15:59:03 -0700
wilson2 Linux (openSUSE 11.4) / x86_64  OK  OK 
moscato1 Windows Server 2008 R2 Enterprise SP1 (64-bit) / x64  OK  OK  OK 
pitt Mac OS X Leopard (10.5.8) / i386  OK  OK  OK 
Package 40/514HostnameOS / ArchBUILDCHECKBUILD BIN
ArrayExpressHTS 1.4.0
Angela Goncalves , Andrew Tikhonov
Last Changed Rev: 59920 / Revision: 64395
Last Changed Date: 2011-10-31 15:59:03 -0700
wilson2 Linux (openSUSE 11.4) / x86_64  OK  OK 
moscato1 Windows Server 2008 R2 Enterprise SP1 (64-bit) / x64 N O T   S U P P O R T E D
pitt Mac OS X Leopard (10.5.8) / i386  OK  WARNINGS  OK 
Package 41/514HostnameOS / ArchBUILDCHECKBUILD BIN
arrayMvout 1.12.0
V. Carey
Last Changed Rev: 59920 / Revision: 64395
Last Changed Date: 2011-10-31 15:59:03 -0700
wilson2 Linux (openSUSE 11.4) / x86_64  OK  OK 
moscato1 Windows Server 2008 R2 Enterprise SP1 (64-bit) / x64  OK  OK  OK 
pitt Mac OS X Leopard (10.5.8) / i386  OK  OK  OK 
Package 42/514HostnameOS / ArchBUILDCHECKBUILD BIN
arrayQuality 1.32.0
Agnes Paquet
Last Changed Rev: 59920 / Revision: 64395
Last Changed Date: 2011-10-31 15:59:03 -0700
wilson2 Linux (openSUSE 11.4) / x86_64  OK  OK 
moscato1 Windows Server 2008 R2 Enterprise SP1 (64-bit) / x64  OK  OK  OK 
pitt Mac OS X Leopard (10.5.8) / i386  OK  OK  OK 
Package 43/514HostnameOS / ArchBUILDCHECKBUILD BIN
arrayQualityMetrics 3.10.0
Audrey Kauffmann
Last Changed Rev: 59920 / Revision: 64395
Last Changed Date: 2011-10-31 15:59:03 -0700
wilson2 Linux (openSUSE 11.4) / x86_64  OK  OK 
moscato1 Windows Server 2008 R2 Enterprise SP1 (64-bit) / x64  OK  OK  OK 
pitt Mac OS X Leopard (10.5.8) / i386  OK  OK  OK 
Package 44/514HostnameOS / ArchBUILDCHECKBUILD BIN
ArrayTools 1.14.0
Arthur Li
Last Changed Rev: 59920 / Revision: 64395
Last Changed Date: 2011-10-31 15:59:03 -0700
wilson2 Linux (openSUSE 11.4) / x86_64  OK  OK 
moscato1 Windows Server 2008 R2 Enterprise SP1 (64-bit) / x64  OK  OK  OK 
pitt Mac OS X Leopard (10.5.8) / i386  OK  OK  OK 
Package 45/514HostnameOS / ArchBUILDCHECKBUILD BIN
attract 1.6.0
Jessica Mar
Last Changed Rev: 59920 / Revision: 64395
Last Changed Date: 2011-10-31 15:59:03 -0700
wilson2 Linux (openSUSE 11.4) / x86_64  OK  OK 
moscato1 Windows Server 2008 R2 Enterprise SP1 (64-bit) / x64  OK  OK  OK 
pitt Mac OS X Leopard (10.5.8) / i386  OK  OK  OK 
B  A [B] C  D  E  F  G  H  I  J  K  L  M  N  O  P  Q  R  S  T  U  V  W  X  Y  Z 
Package 46/514HostnameOS / ArchBUILDCHECKBUILD BIN
BAC 1.14.0
Raphael Gottardo
Last Changed Rev: 59920 / Revision: 64395
Last Changed Date: 2011-10-31 15:59:03 -0700
wilson2 Linux (openSUSE 11.4) / x86_64  OK  OK 
moscato1 Windows Server 2008 R2 Enterprise SP1 (64-bit) / x64  OK  OK  OK 
pitt Mac OS X Leopard (10.5.8) / i386  OK  OK  OK 
Package 47/514HostnameOS / ArchBUILDCHECKBUILD BIN
BayesPeak 1.6.0
Jonathan Cairns
Last Changed Rev: 59920 / Revision: 64395
Last Changed Date: 2011-10-31 15:59:03 -0700
wilson2 Linux (openSUSE 11.4) / x86_64  OK  OK 
moscato1 Windows Server 2008 R2 Enterprise SP1 (64-bit) / x64  OK  OK  OK 
pitt Mac OS X Leopard (10.5.8) / i386  OK  OK  OK 
Package 48/514HostnameOS / ArchBUILDCHECKBUILD BIN
baySeq 1.8.3
Thomas J. Hardcastle
Last Changed Rev: 62640 / Revision: 64395
Last Changed Date: 2012-02-08 09:29:28 -0800
wilson2 Linux (openSUSE 11.4) / x86_64  OK  OK 
moscato1 Windows Server 2008 R2 Enterprise SP1 (64-bit) / x64  OK  OK  OK 
pitt Mac OS X Leopard (10.5.8) / i386  OK  OK  OK 
Package 49/514HostnameOS / ArchBUILDCHECKBUILD BIN
BCRANK 1.16.0
Adam Ameur
Last Changed Rev: 59920 / Revision: 64395
Last Changed Date: 2011-10-31 15:59:03 -0700
wilson2 Linux (openSUSE 11.4) / x86_64  OK  OK 
moscato1 Windows Server 2008 R2 Enterprise SP1 (64-bit) / x64  OK  OK  OK 
pitt Mac OS X Leopard (10.5.8) / i386  OK  OK  OK 
Package 50/514HostnameOS / ArchBUILDCHECKBUILD BIN
beadarray 2.4.2
Mark Dunning
Last Changed Rev: 63576 / Revision: 64395
Last Changed Date: 2012-03-07 07:06:38 -0800
wilson2 Linux (openSUSE 11.4) / x86_64  OK  OK 
moscato1 Windows Server 2008 R2 Enterprise SP1 (64-bit) / x64  OK  OK  OK 
pitt Mac OS X Leopard (10.5.8) / i386  OK  OK  OK 
Package 51/514HostnameOS / ArchBUILDCHECKBUILD BIN
beadarraySNP 1.20.0
Jan Oosting
Last Changed Rev: 59920 / Revision: 64395
Last Changed Date: 2011-10-31 15:59:03 -0700
wilson2 Linux (openSUSE 11.4) / x86_64  OK  OK 
moscato1 Windows Server 2008 R2 Enterprise SP1 (64-bit) / x64  OK  OK  OK 
pitt Mac OS X Leopard (10.5.8) / i386  OK  OK  OK 
Package 52/514HostnameOS / ArchBUILDCHECKBUILD BIN
BeadDataPackR 1.6.0
Mike Smith
Last Changed Rev: 59920 / Revision: 64395
Last Changed Date: 2011-10-31 15:59:03 -0700
wilson2 Linux (openSUSE 11.4) / x86_64  OK  OK 
moscato1 Windows Server 2008 R2 Enterprise SP1 (64-bit) / x64  OK  OK  OK 
pitt Mac OS X Leopard (10.5.8) / i386  OK  OK  OK 
Package 53/514HostnameOS / ArchBUILDCHECKBUILD BIN
betr 1.10.0
Martin Aryee
Last Changed Rev: 59920 / Revision: 64395
Last Changed Date: 2011-10-31 15:59:03 -0700
wilson2 Linux (openSUSE 11.4) / x86_64  OK  OK 
moscato1 Windows Server 2008 R2 Enterprise SP1 (64-bit) / x64  OK  OK  OK 
pitt Mac OS X Leopard (10.5.8) / i386  OK  OK  OK 
Package 54/514HostnameOS / ArchBUILDCHECKBUILD BIN
bgafun 1.16.0
Iain Wallace
Last Changed Rev: 59920 / Revision: 64395
Last Changed Date: 2011-10-31 15:59:03 -0700
wilson2 Linux (openSUSE 11.4) / x86_64  OK  OK 
moscato1 Windows Server 2008 R2 Enterprise SP1 (64-bit) / x64  OK  OK  OK 
pitt Mac OS X Leopard (10.5.8) / i386  OK  OK  OK 
Package 55/514HostnameOS / ArchBUILDCHECKBUILD BIN
BGmix 1.14.0
Alex Lewin
Last Changed Rev: 59920 / Revision: 64395
Last Changed Date: 2011-10-31 15:59:03 -0700
wilson2 Linux (openSUSE 11.4) / x86_64  OK  OK 
moscato1 Windows Server 2008 R2 Enterprise SP1 (64-bit) / x64  ERROR  skipped  skipped 
pitt Mac OS X Leopard (10.5.8) / i386  OK  OK  OK 
Package 56/514HostnameOS / ArchBUILDCHECKBUILD BIN
bgx 1.18.0
Ernest Turro
Last Changed Rev: 59920 / Revision: 64395
Last Changed Date: 2011-10-31 15:59:03 -0700
wilson2 Linux (openSUSE 11.4) / x86_64  OK  OK 
moscato1 Windows Server 2008 R2 Enterprise SP1 (64-bit) / x64  OK  OK  OK 
pitt Mac OS X Leopard (10.5.8) / i386  OK  OK  OK 
Package 57/514HostnameOS / ArchBUILDCHECKBUILD BIN
BHC 1.6.0
Rich Savage
Last Changed Rev: 59920 / Revision: 64395
Last Changed Date: 2011-10-31 15:59:03 -0700
wilson2 Linux (openSUSE 11.4) / x86_64  OK  OK 
moscato1 Windows Server 2008 R2 Enterprise SP1 (64-bit) / x64  OK  OK  OK 
pitt Mac OS X Leopard (10.5.8) / i386  OK  OK  OK 
Package 58/514HostnameOS / ArchBUILDCHECKBUILD BIN
BicARE 1.12.0
Pierre Gestraud
Last Changed Rev: 59920 / Revision: 64395
Last Changed Date: 2011-10-31 15:59:03 -0700
wilson2 Linux (openSUSE 11.4) / x86_64  OK  OK 
moscato1 Windows Server 2008 R2 Enterprise SP1 (64-bit) / x64  OK  OK  OK 
pitt Mac OS X Leopard (10.5.8) / i386  OK  OK  OK 
Package 59/514HostnameOS / ArchBUILDCHECKBUILD BIN
Biobase 2.14.0
Bioconductor Package Maintainer
Last Changed Rev: 59920 / Revision: 64395
Last Changed Date: 2011-10-31 15:59:03 -0700
wilson2 Linux (openSUSE 11.4) / x86_64  OK  OK 
moscato1 Windows Server 2008 R2 Enterprise SP1 (64-bit) / x64  OK  OK  OK 
pitt Mac OS X Leopard (10.5.8) / i386  OK  OK  OK 
Package 60/514HostnameOS / ArchBUILDCHECKBUILD BIN
BiocCaseStudies 1.16.0
Bioconductor Package Maintainer
Last Changed Rev: 59920 / Revision: 64395
Last Changed Date: 2011-10-31 15:59:03 -0700
wilson2 Linux (openSUSE 11.4) / x86_64  OK  OK 
moscato1 Windows Server 2008 R2 Enterprise SP1 (64-bit) / x64  OK  OK  OK 
pitt Mac OS X Leopard (10.5.8) / i386  OK  OK  OK 
Package 61/514HostnameOS / ArchBUILDCHECKBUILD BIN
biocGraph 1.16.1
Florian Hahne
Last Changed Rev: 60016 / Revision: 64395
Last Changed Date: 2011-11-02 12:04:50 -0700
wilson2 Linux (openSUSE 11.4) / x86_64  OK  OK 
moscato1 Windows Server 2008 R2 Enterprise SP1 (64-bit) / x64  OK  OK  OK 
pitt Mac OS X Leopard (10.5.8) / i386  OK  OK  OK 
Package 62/514HostnameOS / ArchBUILDCHECKBUILD BIN
BiocInstaller 1.2.1
Bioconductor Package Maintainer
Last Changed Rev: 60129 / Revision: 64395
Last Changed Date: 2011-11-08 10:17:24 -0800
wilson2 Linux (openSUSE 11.4) / x86_64  OK  OK 
moscato1 Windows Server 2008 R2 Enterprise SP1 (64-bit) / x64  OK  OK  OK 
pitt Mac OS X Leopard (10.5.8) / i386  OK  OK  OK 
Package 63/514HostnameOS / ArchBUILDCHECKBUILD BIN
biocViews 1.22.0
Bioconductor Package Maintainer
Last Changed Rev: 59920 / Revision: 64395
Last Changed Date: 2011-10-31 15:59:03 -0700
wilson2 Linux (openSUSE 11.4) / x86_64  OK  OK 
moscato1 Windows Server 2008 R2 Enterprise SP1 (64-bit) / x64  OK  OK  OK 
pitt Mac OS X Leopard (10.5.8) / i386  OK  OK  OK 
Package 64/514HostnameOS / ArchBUILDCHECKBUILD BIN
bioDist 1.26.0
Bioconductor Package Maintainer
Last Changed Rev: 59920 / Revision: 64395
Last Changed Date: 2011-10-31 15:59:03 -0700
wilson2 Linux (openSUSE 11.4) / x86_64  OK  OK 
moscato1 Windows Server 2008 R2 Enterprise SP1 (64-bit) / x64  OK  OK  OK 
pitt Mac OS X Leopard (10.5.8) / i386  OK  OK  OK 
Package 65/514HostnameOS / ArchBUILDCHECKBUILD BIN
biomaRt 2.10.0
Steffen Durinck
Last Changed Rev: 59920 / Revision: 64395
Last Changed Date: 2011-10-31 15:59:03 -0700
wilson2 Linux (openSUSE 11.4) / x86_64  OK  OK 
moscato1 Windows Server 2008 R2 Enterprise SP1 (64-bit) / x64  OK  OK  OK 
pitt Mac OS X Leopard (10.5.8) / i386  OK  OK  OK 
Package 66/514HostnameOS / ArchBUILDCHECKBUILD BIN
BioMVCClass 1.22.0
Elizabeth Whalen
Last Changed Rev: 59920 / Revision: 64395
Last Changed Date: 2011-10-31 15:59:03 -0700
wilson2 Linux (openSUSE 11.4) / x86_64  OK  OK 
moscato1 Windows Server 2008 R2 Enterprise SP1 (64-bit) / x64  OK  OK  OK 
pitt Mac OS X Leopard (10.5.8) / i386  OK  OK  OK 
Package 67/514HostnameOS / ArchBUILDCHECKBUILD BIN
BioNet 1.12.0
Marcus Dittrich
Last Changed Rev: 59920 / Revision: 64395
Last Changed Date: 2011-10-31 15:59:03 -0700
wilson2 Linux (openSUSE 11.4) / x86_64  OK  OK 
moscato1 Windows Server 2008 R2 Enterprise SP1 (64-bit) / x64  OK  OK  OK 
pitt Mac OS X Leopard (10.5.8) / i386  OK  OK  OK 
Package 68/514HostnameOS / ArchBUILDCHECKBUILD BIN
BioSeqClass 1.12.0
Li Hong
Last Changed Rev: 59920 / Revision: 64395
Last Changed Date: 2011-10-31 15:59:03 -0700
wilson2 Linux (openSUSE 11.4) / x86_64  OK  OK 
moscato1 Windows Server 2008 R2 Enterprise SP1 (64-bit) / x64  OK  OK  OK 
pitt Mac OS X Leopard (10.5.8) / i386  OK  OK  OK 
Package 69/514HostnameOS / ArchBUILDCHECKBUILD BIN
Biostrings 2.22.0
H. Pages
Last Changed Rev: 59932 / Revision: 64395
Last Changed Date: 2011-10-31 17:53:57 -0700
wilson2 Linux (openSUSE 11.4) / x86_64  OK  OK 
moscato1 Windows Server 2008 R2 Enterprise SP1 (64-bit) / x64  OK  OK  OK 
pitt Mac OS X Leopard (10.5.8) / i386  OK  WARNINGS  OK 
Package 70/514HostnameOS / ArchBUILDCHECKBUILD BIN
biovizBase 1.0.4
Tengfei Yin
Last Changed Rev: 62357 / Revision: 64395
Last Changed Date: 2012-01-29 19:55:33 -0800
wilson2 Linux (openSUSE 11.4) / x86_64  OK  WARNINGS 
moscato1 Windows Server 2008 R2 Enterprise SP1 (64-bit) / x64  OK  WARNINGS  OK 
pitt Mac OS X Leopard (10.5.8) / i386  OK  WARNINGS  OK 
Package 71/514HostnameOS / ArchBUILDCHECKBUILD BIN
bridge 1.18.0
Raphael Gottardo
Last Changed Rev: 59920 / Revision: 64395
Last Changed Date: 2011-10-31 15:59:03 -0700
wilson2 Linux (openSUSE 11.4) / x86_64  OK  OK 
moscato1 Windows Server 2008 R2 Enterprise SP1 (64-bit) / x64  OK  OK  OK 
pitt Mac OS X Leopard (10.5.8) / i386  OK  OK  OK 
Package 72/514HostnameOS / ArchBUILDCHECKBUILD BIN
BSgenome 1.22.0
H. Pages
Last Changed Rev: 59920 / Revision: 64395
Last Changed Date: 2011-10-31 15:59:03 -0700
wilson2 Linux (openSUSE 11.4) / x86_64  OK  OK 
moscato1 Windows Server 2008 R2 Enterprise SP1 (64-bit) / x64  OK  OK  OK 
pitt Mac OS X Leopard (10.5.8) / i386  OK  OK  OK 
Package 73/514HostnameOS / ArchBUILDCHECKBUILD BIN
BufferedMatrix 1.18.0
Benjamin Milo Bolstad
Last Changed Rev: 59920 / Revision: 64395
Last Changed Date: 2011-10-31 15:59:03 -0700
wilson2 Linux (openSUSE 11.4) / x86_64  OK  OK 
moscato1 Windows Server 2008 R2 Enterprise SP1 (64-bit) / x64  OK  OK  OK 
pitt Mac OS X Leopard (10.5.8) / i386  OK  OK  OK 
Package 74/514HostnameOS / ArchBUILDCHECKBUILD BIN
BufferedMatrixMethods 1.18.0
B. M. Bolstad
Last Changed Rev: 59920 / Revision: 64395
Last Changed Date: 2011-10-31 15:59:03 -0700
wilson2 Linux (openSUSE 11.4) / x86_64  OK  OK 
moscato1 Windows Server 2008 R2 Enterprise SP1 (64-bit) / x64  OK  OK  OK 
pitt Mac OS X Leopard (10.5.8) / i386  OK  OK  OK 
Package 75/514HostnameOS / ArchBUILDCHECKBUILD BIN
BUS 1.10.0
Yuanhua Liu
Last Changed Rev: 59920 / Revision: 64395
Last Changed Date: 2011-10-31 15:59:03 -0700
wilson2 Linux (openSUSE 11.4) / x86_64  OK  OK 
moscato1 Windows Server 2008 R2 Enterprise SP1 (64-bit) / x64  OK  OK  OK 
pitt Mac OS X Leopard (10.5.8) / i386  OK  OK  OK 
C  A  B [C] D  E  F  G  H  I  J  K  L  M  N  O  P  Q  R  S  T  U  V  W  X  Y  Z 
Package 76/514HostnameOS / ArchBUILDCHECKBUILD BIN
CALIB 1.20.0
Hui Zhao
Last Changed Rev: 59920 / Revision: 64395
Last Changed Date: 2011-10-31 15:59:03 -0700
wilson2 Linux (openSUSE 11.4) / x86_64  OK  OK 
moscato1 Windows Server 2008 R2 Enterprise SP1 (64-bit) / x64  OK  OK  OK 
pitt Mac OS X Leopard (10.5.8) / i386  OK  OK  OK 
Package 77/514HostnameOS / ArchBUILDCHECKBUILD BIN
CAMERA 1.10.0
Carsten Kuhl
Last Changed Rev: 59920 / Revision: 64395
Last Changed Date: 2011-10-31 15:59:03 -0700
wilson2 Linux (openSUSE 11.4) / x86_64  OK  OK 
moscato1 Windows Server 2008 R2 Enterprise SP1 (64-bit) / x64  OK  OK  OK 
pitt Mac OS X Leopard (10.5.8) / i386  OK  OK  OK 
Package 78/514HostnameOS / ArchBUILDCHECKBUILD BIN
Category 2.20.0
Bioconductor Package Maintainer
Last Changed Rev: 59920 / Revision: 64395
Last Changed Date: 2011-10-31 15:59:03 -0700
wilson2 Linux (openSUSE 11.4) / x86_64  OK  OK 
moscato1 Windows Server 2008 R2 Enterprise SP1 (64-bit) / x64  OK  OK  OK 
pitt Mac OS X Leopard (10.5.8) / i386  OK  OK  OK 
Package 79/514HostnameOS / ArchBUILDCHECKBUILD BIN
cellHTS 1.24.0
Ligia Bras
Last Changed Rev: 59920 / Revision: 64395
Last Changed Date: 2011-10-31 15:59:03 -0700
wilson2 Linux (openSUSE 11.4) / x86_64  OK  OK 
moscato1 Windows Server 2008 R2 Enterprise SP1 (64-bit) / x64  OK  OK  OK 
pitt Mac OS X Leopard (10.5.8) / i386  OK  OK  OK 
Package 80/514HostnameOS / ArchBUILDCHECKBUILD BIN
cellHTS2 2.18.0
Joseph Barry
Last Changed Rev: 59920 / Revision: 64395
Last Changed Date: 2011-10-31 15:59:03 -0700
wilson2 Linux (openSUSE 11.4) / x86_64  OK  OK 
moscato1 Windows Server 2008 R2 Enterprise SP1 (64-bit) / x64  OK  OK  OK 
pitt Mac OS X Leopard (10.5.8) / i386  OK  OK  OK 
Package 81/514HostnameOS / ArchBUILDCHECKBUILD BIN
CellNOptR 1.0.0
C.Terfve
Last Changed Rev: 59920 / Revision: 64395
Last Changed Date: 2011-10-31 15:59:03 -0700
wilson2 Linux (openSUSE 11.4) / x86_64  OK  OK 
moscato1 Windows Server 2008 R2 Enterprise SP1 (64-bit) / x64  OK  OK  OK 
pitt Mac OS X Leopard (10.5.8) / i386  OK  OK  OK 
Package 82/514HostnameOS / ArchBUILDCHECKBUILD BIN
CGEN 1.6.0
William Wheeler
Last Changed Rev: 59920 / Revision: 64395
Last Changed Date: 2011-10-31 15:59:03 -0700
wilson2 Linux (openSUSE 11.4) / x86_64  OK  OK 
moscato1 Windows Server 2008 R2 Enterprise SP1 (64-bit) / x64  OK  OK  OK 
pitt Mac OS X Leopard (10.5.8) / i386  OK  OK  OK 
Package 83/514HostnameOS / ArchBUILDCHECKBUILD BIN
CGHbase 1.12.0
Sjoerd Vosse
Last Changed Rev: 59920 / Revision: 64395
Last Changed Date: 2011-10-31 15:59:03 -0700
wilson2 Linux (openSUSE 11.4) / x86_64  OK  OK 
moscato1 Windows Server 2008 R2 Enterprise SP1 (64-bit) / x64  OK  OK  OK 
pitt Mac OS X Leopard (10.5.8) / i386  OK  OK  OK 
Package 84/514HostnameOS / ArchBUILDCHECKBUILD BIN
CGHcall 2.14.0
Mark van de Wiel
Last Changed Rev: 59920 / Revision: 64395
Last Changed Date: 2011-10-31 15:59:03 -0700
wilson2 Linux (openSUSE 11.4) / x86_64  OK  OK 
moscato1 Windows Server 2008 R2 Enterprise SP1 (64-bit) / x64  OK  OK  OK 
pitt Mac OS X Leopard (10.5.8) / i386  OK  OK  OK 
Package 85/514HostnameOS / ArchBUILDCHECKBUILD BIN
cghMCR 1.12.0
J. Zhang
Last Changed Rev: 59920 / Revision: 64395
Last Changed Date: 2011-10-31 15:59:03 -0700
wilson2 Linux (openSUSE 11.4) / x86_64  OK  OK 
moscato1 Windows Server 2008 R2 Enterprise SP1 (64-bit) / x64  OK  OK  OK 
pitt Mac OS X Leopard (10.5.8) / i386  OK  OK  OK 
Package 86/514HostnameOS / ArchBUILDCHECKBUILD BIN
CGHnormaliter 1.8.0
Bart P.P. van Houte
Last Changed Rev: 59920 / Revision: 64395
Last Changed Date: 2011-10-31 15:59:03 -0700
wilson2 Linux (openSUSE 11.4) / x86_64  OK  OK 
moscato1 Windows Server 2008 R2 Enterprise SP1 (64-bit) / x64  OK  OK  OK 
pitt Mac OS X Leopard (10.5.8) / i386  OK  OK  OK 
Package 87/514HostnameOS / ArchBUILDCHECKBUILD BIN
CGHregions 1.12.0
Sjoerd Vosse
Last Changed Rev: 59920 / Revision: 64395
Last Changed Date: 2011-10-31 15:59:03 -0700
wilson2 Linux (openSUSE 11.4) / x86_64  OK  OK 
moscato1 Windows Server 2008 R2 Enterprise SP1 (64-bit) / x64  OK  OK  OK 
pitt Mac OS X Leopard (10.5.8) / i386  OK  OK  OK 
Package 88/514HostnameOS / ArchBUILDCHECKBUILD BIN
charm 1.6.0
Martin Aryee
Last Changed Rev: 59920 / Revision: 64395
Last Changed Date: 2011-10-31 15:59:03 -0700
wilson2 Linux (openSUSE 11.4) / x86_64  OK  OK 
moscato1 Windows Server 2008 R2 Enterprise SP1 (64-bit) / x64  OK  OK  OK 
pitt Mac OS X Leopard (10.5.8) / i386  OK  OK  OK 
Package 89/514HostnameOS / ArchBUILDCHECKBUILD BIN
ChemmineR 2.6.1
ChemmineR Team
Last Changed Rev: 61528 / Revision: 64395
Last Changed Date: 2011-12-21 20:50:07 -0800
wilson2 Linux (openSUSE 11.4) / x86_64  OK  OK 
moscato1 Windows Server 2008 R2 Enterprise SP1 (64-bit) / x64  OK  OK  OK 
pitt Mac OS X Leopard (10.5.8) / i386  OK  OK  OK 
Package 90/514HostnameOS / ArchBUILDCHECKBUILD BIN
ChIPpeakAnno 2.2.0
Lihua Julie Zhu
Last Changed Rev: 59920 / Revision: 64395
Last Changed Date: 2011-10-31 15:59:03 -0700
wilson2 Linux (openSUSE 11.4) / x86_64  OK  OK 
moscato1 Windows Server 2008 R2 Enterprise SP1 (64-bit) / x64  OK  OK  OK 
pitt Mac OS X Leopard (10.5.8) / i386  OK  OK  OK 
Package 91/514HostnameOS / ArchBUILDCHECKBUILD BIN
chipseq 1.4.0
Bioconductor Package Maintainer
Last Changed Rev: 59920 / Revision: 64395
Last Changed Date: 2011-10-31 15:59:03 -0700
wilson2 Linux (openSUSE 11.4) / x86_64  OK  OK 
moscato1 Windows Server 2008 R2 Enterprise SP1 (64-bit) / x64  OK  OK  OK 
pitt Mac OS X Leopard (10.5.8) / i386  OK  OK  OK 
Package 92/514HostnameOS / ArchBUILDCHECKBUILD BIN
ChIPseqR 1.8.0
Peter Humburg
Last Changed Rev: 59920 / Revision: 64395
Last Changed Date: 2011-10-31 15:59:03 -0700
wilson2 Linux (openSUSE 11.4) / x86_64  OK  OK 
moscato1 Windows Server 2008 R2 Enterprise SP1 (64-bit) / x64  OK  OK  OK 
pitt Mac OS X Leopard (10.5.8) / i386  OK  OK  OK 
Package 93/514HostnameOS / ArchBUILDCHECKBUILD BIN
ChIPsim 1.8.0
Peter Humburg
Last Changed Rev: 59920 / Revision: 64395
Last Changed Date: 2011-10-31 15:59:03 -0700
wilson2 Linux (openSUSE 11.4) / x86_64  OK  OK 
moscato1 Windows Server 2008 R2 Enterprise SP1 (64-bit) / x64  OK  OK  OK 
pitt Mac OS X Leopard (10.5.8) / i386  OK  OK  OK 
Package 94/514HostnameOS / ArchBUILDCHECKBUILD BIN
chopsticks 1.18.6
Hin-Tak Leung
Last Changed Rev: 63728 / Revision: 64395
Last Changed Date: 2012-03-10 13:15:37 -0800
wilson2 Linux (openSUSE 11.4) / x86_64  OK  OK 
moscato1 Windows Server 2008 R2 Enterprise SP1 (64-bit) / x64  OK  OK  OK 
pitt Mac OS X Leopard (10.5.8) / i386  OK  OK  OK 
Package 95/514HostnameOS / ArchBUILDCHECKBUILD BIN
ChromHeatMap 1.8.0
Tim F. Rayner
Last Changed Rev: 59920 / Revision: 64395
Last Changed Date: 2011-10-31 15:59:03 -0700
wilson2 Linux (openSUSE 11.4) / x86_64  OK  OK 
moscato1 Windows Server 2008 R2 Enterprise SP1 (64-bit) / x64  OK  OK  OK 
pitt Mac OS X Leopard (10.5.8) / i386  OK  OK  OK 
Package 96/514HostnameOS / ArchBUILDCHECKBUILD BIN
clippda 1.4.0
Stephen Nyangoma
Last Changed Rev: 59920 / Revision: 64395
Last Changed Date: 2011-10-31 15:59:03 -0700
wilson2 Linux (openSUSE 11.4) / x86_64  OK  OK 
moscato1 Windows Server 2008 R2 Enterprise SP1 (64-bit) / x64  OK  OK  OK 
pitt Mac OS X Leopard (10.5.8) / i386  OK  OK  OK 
Package 97/514HostnameOS / ArchBUILDCHECKBUILD BIN
Clonality 1.2.0
Irina Ostrovnaya
Last Changed Rev: 59920 / Revision: 64395
Last Changed Date: 2011-10-31 15:59:03 -0700
wilson2 Linux (openSUSE 11.4) / x86_64  OK  OK 
moscato1 Windows Server 2008 R2 Enterprise SP1 (64-bit) / x64  OK  OK  OK 
pitt Mac OS X Leopard (10.5.8) / i386  OK  OK  OK 
Package 98/514HostnameOS / ArchBUILDCHECKBUILD BIN
clst 1.2.0
Noah Hoffman
Last Changed Rev: 59920 / Revision: 64395
Last Changed Date: 2011-10-31 15:59:03 -0700
wilson2 Linux (openSUSE 11.4) / x86_64  OK  OK 
moscato1 Windows Server 2008 R2 Enterprise SP1 (64-bit) / x64  OK  OK  OK 
pitt Mac OS X Leopard (10.5.8) / i386  OK  OK  OK 
Package 99/514HostnameOS / ArchBUILDCHECKBUILD BIN
clstutils 1.2.0
Noah Hoffman
Last Changed Rev: 59920 / Revision: 64395
Last Changed Date: 2011-10-31 15:59:03 -0700
wilson2 Linux (openSUSE 11.4) / x86_64  OK  OK 
moscato1 Windows Server 2008 R2 Enterprise SP1 (64-bit) / x64  OK  OK  OK 
pitt Mac OS X Leopard (10.5.8) / i386  OK  OK  OK 
Package 100/514HostnameOS / ArchBUILDCHECKBUILD BIN
clusterProfiler 1.2.1
Guangchuang Yu
Last Changed Rev: 62721 / Revision: 64395
Last Changed Date: 2012-02-12 21:51:14 -0800
wilson2 Linux (openSUSE 11.4) / x86_64  OK  OK 
moscato1 Windows Server 2008 R2 Enterprise SP1 (64-bit) / x64  OK  OK  OK 
pitt Mac OS X Leopard (10.5.8) / i386  OK  OK  OK 
Package 101/514HostnameOS / ArchBUILDCHECKBUILD BIN
clusterStab 1.26.0
James W. MacDonald
Last Changed Rev: 59920 / Revision: 64395
Last Changed Date: 2011-10-31 15:59:03 -0700
wilson2 Linux (openSUSE 11.4) / x86_64  OK  OK 
moscato1 Windows Server 2008 R2 Enterprise SP1 (64-bit) / x64  OK  OK  OK 
pitt Mac OS X Leopard (10.5.8) / i386  OK  OK  OK 
Package 102/514HostnameOS / ArchBUILDCHECKBUILD BIN
CMA 1.12.0
Christoph Bernau
Last Changed Rev: 59920 / Revision: 64395
Last Changed Date: 2011-10-31 15:59:03 -0700
wilson2 Linux (openSUSE 11.4) / x86_64  OK  OK 
moscato1 Windows Server 2008 R2 Enterprise SP1 (64-bit) / x64  OK  ERROR  OK 
pitt Mac OS X Leopard (10.5.8) / i386  OK  OK  OK 
Package 103/514HostnameOS / ArchBUILDCHECKBUILD BIN
cn.farms 1.3.5
Andreas Mitterecker
Last Changed Rev: 63735 / Revision: 64395
Last Changed Date: 2012-03-10 18:51:06 -0800
wilson2 Linux (openSUSE 11.4) / x86_64  OK  OK 
moscato1 Windows Server 2008 R2 Enterprise SP1 (64-bit) / x64  OK  OK  OK 
pitt Mac OS X Leopard (10.5.8) / i386  OK  OK  OK 
Package 104/514HostnameOS / ArchBUILDCHECKBUILD BIN
cn.mops 1.0.7
Guenter Klambauer
Last Changed Rev: 62824 / Revision: 64395
Last Changed Date: 2012-02-16 07:57:57 -0800
wilson2 Linux (openSUSE 11.4) / x86_64  OK  OK 
moscato1 Windows Server 2008 R2 Enterprise SP1 (64-bit) / x64  OK  OK  OK 
pitt Mac OS X Leopard (10.5.8) / i386  OK  OK  OK 
Package 105/514HostnameOS / ArchBUILDCHECKBUILD BIN
CNAnorm 1.0.0
Stefano Berri
Last Changed Rev: 59920 / Revision: 64395
Last Changed Date: 2011-10-31 15:59:03 -0700
wilson2 Linux (openSUSE 11.4) / x86_64  OK  OK 
moscato1 Windows Server 2008 R2 Enterprise SP1 (64-bit) / x64  OK  OK  OK 
pitt Mac OS X Leopard (10.5.8) / i386  OK  OK  OK 
Package 106/514HostnameOS / ArchBUILDCHECKBUILD BIN
CNTools 1.10.0
J. Zhang
Last Changed Rev: 59920 / Revision: 64395
Last Changed Date: 2011-10-31 15:59:03 -0700
wilson2 Linux (openSUSE 11.4) / x86_64  OK  OK 
moscato1 Windows Server 2008 R2 Enterprise SP1 (64-bit) / x64  OK  OK  OK 
pitt Mac OS X Leopard (10.5.8) / i386  OK  OK  OK 
Package 107/514HostnameOS / ArchBUILDCHECKBUILD BIN
CNVtools 1.48.0
Chris Barnes
Last Changed Rev: 59920 / Revision: 64395
Last Changed Date: 2011-10-31 15:59:03 -0700
wilson2 Linux (openSUSE 11.4) / x86_64  OK  OK 
moscato1 Windows Server 2008 R2 Enterprise SP1 (64-bit) / x64  OK  OK  OK 
pitt Mac OS X Leopard (10.5.8) / i386  OK  OK  OK 
Package 108/514HostnameOS / ArchBUILDCHECKBUILD BIN
CoCiteStats 1.26.0
Bioconductor Package Maintainer
Last Changed Rev: 59920 / Revision: 64395
Last Changed Date: 2011-10-31 15:59:03 -0700
wilson2 Linux (openSUSE 11.4) / x86_64  OK  OK 
moscato1 Windows Server 2008 R2 Enterprise SP1 (64-bit) / x64  OK  OK  OK 
pitt Mac OS X Leopard (10.5.8) / i386  OK  OK  OK 
Package 109/514HostnameOS / ArchBUILDCHECKBUILD BIN
codelink 1.22.0
Diego Diez
Last Changed Rev: 59920 / Revision: 64395
Last Changed Date: 2011-10-31 15:59:03 -0700
wilson2 Linux (openSUSE 11.4) / x86_64  OK  OK 
moscato1 Windows Server 2008 R2 Enterprise SP1 (64-bit) / x64  OK  OK  OK 
pitt Mac OS X Leopard (10.5.8) / i386  OK  OK  OK 
Package 110/514HostnameOS / ArchBUILDCHECKBUILD BIN
CoGAPS 1.4.0
Elana J. Fertig , Michael F. Ochs
Last Changed Rev: 59920 / Revision: 64395
Last Changed Date: 2011-10-31 15:59:03 -0700
wilson2 Linux (openSUSE 11.4) / x86_64  OK  OK 
moscato1 Windows Server 2008 R2 Enterprise SP1 (64-bit) / x64 N O T   S U P P O R T E D
pitt Mac OS X Leopard (10.5.8) / i386 N O T   S U P P O R T E D
Package 111/514HostnameOS / ArchBUILDCHECKBUILD BIN
ConsensusClusterPlus 1.6.0
Matt Wilkerson
Last Changed Rev: 59920 / Revision: 64395
Last Changed Date: 2011-10-31 15:59:03 -0700
wilson2 Linux (openSUSE 11.4) / x86_64  OK  OK 
moscato1 Windows Server 2008 R2 Enterprise SP1 (64-bit) / x64  OK  OK  OK 
pitt Mac OS X Leopard (10.5.8) / i386  OK  OK  OK 
Package 112/514HostnameOS / ArchBUILDCHECKBUILD BIN
convert 1.30.0
Yee Hwa (Jean) Yang
Last Changed Rev: 59920 / Revision: 64395
Last Changed Date: 2011-10-31 15:59:03 -0700
wilson2 Linux (openSUSE 11.4) / x86_64  OK  OK 
moscato1 Windows Server 2008 R2 Enterprise SP1 (64-bit) / x64  OK  OK  OK 
pitt Mac OS X Leopard (10.5.8) / i386  OK  OK  OK 
Package 113/514HostnameOS / ArchBUILDCHECKBUILD BIN
copa 1.22.0
James W. MacDonald
Last Changed Rev: 59920 / Revision: 64395
Last Changed Date: 2011-10-31 15:59:03 -0700
wilson2 Linux (openSUSE 11.4) / x86_64  OK  OK 
moscato1 Windows Server 2008 R2 Enterprise SP1 (64-bit) / x64  OK  OK  OK 
pitt Mac OS X Leopard (10.5.8) / i386  OK  OK  OK 
Package 114/514HostnameOS / ArchBUILDCHECKBUILD BIN
Cormotif 1.0.0
Yingying Wei
Last Changed Rev: 59920 / Revision: 64395
Last Changed Date: 2011-10-31 15:59:03 -0700
wilson2 Linux (openSUSE 11.4) / x86_64  OK  OK 
moscato1 Windows Server 2008 R2 Enterprise SP1 (64-bit) / x64  OK  OK  OK 
pitt Mac OS X Leopard (10.5.8) / i386  OK  OK  OK 
Package 115/514HostnameOS / ArchBUILDCHECKBUILD BIN
coRNAi 1.4.0
Elin Axelsson
Last Changed Rev: 59920 / Revision: 64395
Last Changed Date: 2011-10-31 15:59:03 -0700
wilson2 Linux (openSUSE 11.4) / x86_64  OK  OK 
moscato1 Windows Server 2008 R2 Enterprise SP1 (64-bit) / x64  OK  OK  OK 
pitt Mac OS X Leopard (10.5.8) / i386  OK  OK  OK 
Package 116/514HostnameOS / ArchBUILDCHECKBUILD BIN
CORREP 1.20.0
Dongxiao Zhu
Last Changed Rev: 59920 / Revision: 64395
Last Changed Date: 2011-10-31 15:59:03 -0700
wilson2 Linux (openSUSE 11.4) / x86_64  OK  OK 
moscato1 Windows Server 2008 R2 Enterprise SP1 (64-bit) / x64  OK  OK  OK 
pitt Mac OS X Leopard (10.5.8) / i386  OK  OK  OK 
Package 117/514HostnameOS / ArchBUILDCHECKBUILD BIN
cosmo 1.20.0
Oliver Bembom
Last Changed Rev: 59920 / Revision: 64395
Last Changed Date: 2011-10-31 15:59:03 -0700
wilson2 Linux (openSUSE 11.4) / x86_64  OK  OK 
moscato1 Windows Server 2008 R2 Enterprise SP1 (64-bit) / x64  OK  OK  OK 
pitt Mac OS X Leopard (10.5.8) / i386  OK  OK  OK 
Package 118/514HostnameOS / ArchBUILDCHECKBUILD BIN
cosmoGUI 1.20.0
Oliver Bembom
Last Changed Rev: 59920 / Revision: 64395
Last Changed Date: 2011-10-31 15:59:03 -0700
wilson2 Linux (openSUSE 11.4) / x86_64  OK  OK 
moscato1 Windows Server 2008 R2 Enterprise SP1 (64-bit) / x64  OK  OK  OK 
pitt Mac OS X Leopard (10.5.8) / i386  OK  OK  OK 
Package 119/514HostnameOS / ArchBUILDCHECKBUILD BIN
cqn 1.0.1
Kasper Daniel Hansen
Last Changed Rev: 62686 / Revision: 64395
Last Changed Date: 2012-02-10 00:57:01 -0800
wilson2 Linux (openSUSE 11.4) / x86_64  OK  OK 
moscato1 Windows Server 2008 R2 Enterprise SP1 (64-bit) / x64  OK  OK  OK 
pitt Mac OS X Leopard (10.5.8) / i386  OK  OK  OK 
Package 120/514HostnameOS / ArchBUILDCHECKBUILD BIN
CRImage 1.4.0
Henrik Failmezger , Yinyin Yuan
Last Changed Rev: 59920 / Revision: 64395
Last Changed Date: 2011-10-31 15:59:03 -0700
wilson2 Linux (openSUSE 11.4) / x86_64  OK  OK 
moscato1 Windows Server 2008 R2 Enterprise SP1 (64-bit) / x64  OK  OK  OK 
pitt Mac OS X Leopard (10.5.8) / i386 N O T   S U P P O R T E D
Package 121/514HostnameOS / ArchBUILDCHECKBUILD BIN
crlmm 1.12.1
Benilton S Carvalho , Robert Scharpf , Matt Ritchie
Last Changed Rev: 61976 / Revision: 64395
Last Changed Date: 2012-01-10 19:39:25 -0800
wilson2 Linux (openSUSE 11.4) / x86_64  OK  OK 
moscato1 Windows Server 2008 R2 Enterprise SP1 (64-bit) / x64  OK  OK  OK 
pitt Mac OS X Leopard (10.5.8) / i386  OK  OK  OK 
Package 122/514HostnameOS / ArchBUILDCHECKBUILD BIN
CSAR 1.6.0
Jose M Muino
Last Changed Rev: 59920 / Revision: 64395
Last Changed Date: 2011-10-31 15:59:03 -0700
wilson2 Linux (openSUSE 11.4) / x86_64  OK  OK 
moscato1 Windows Server 2008 R2 Enterprise SP1 (64-bit) / x64  OK  OK  OK 
pitt Mac OS X Leopard (10.5.8) / i386  OK  OK  OK 
Package 123/514HostnameOS / ArchBUILDCHECKBUILD BIN
ctc 1.28.0
Antoine Lucas
Last Changed Rev: 59920 / Revision: 64395
Last Changed Date: 2011-10-31 15:59:03 -0700
wilson2 Linux (openSUSE 11.4) / x86_64  OK  OK 
moscato1 Windows Server 2008 R2 Enterprise SP1 (64-bit) / x64  OK  OK  OK 
pitt Mac OS X Leopard (10.5.8) / i386  OK  OK  OK 
Package 124/514HostnameOS / ArchBUILDCHECKBUILD BIN
cummeRbund 1.0.0
Loyal A. Goff
Last Changed Rev: 59920 / Revision: 64395
Last Changed Date: 2011-10-31 15:59:03 -0700
wilson2 Linux (openSUSE 11.4) / x86_64  OK  OK 
moscato1 Windows Server 2008 R2 Enterprise SP1 (64-bit) / x64  OK  OK  OK 
pitt Mac OS X Leopard (10.5.8) / i386  OK  OK  OK 
Package 125/514HostnameOS / ArchBUILDCHECKBUILD BIN
cycle 1.8.0
Matthias Futschik
Last Changed Rev: 59920 / Revision: 64395
Last Changed Date: 2011-10-31 15:59:03 -0700
wilson2 Linux (openSUSE 11.4) / x86_64  OK  OK 
moscato1 Windows Server 2008 R2 Enterprise SP1 (64-bit) / x64  OK  OK  OK 
pitt Mac OS X Leopard (10.5.8) / i386  OK  OK  OK 
D  A  B  C [D] E  F  G  H  I  J  K  L  M  N  O  P  Q  R  S  T  U  V  W  X  Y  Z 
Package 126/514HostnameOS / ArchBUILDCHECKBUILD BIN
daMA 1.26.0
Jobst Landgrebe
Last Changed Rev: 59920 / Revision: 64395
Last Changed Date: 2011-10-31 15:59:03 -0700
wilson2 Linux (openSUSE 11.4) / x86_64  OK  OK 
moscato1 Windows Server 2008 R2 Enterprise SP1 (64-bit) / x64  OK  OK  OK 
pitt Mac OS X Leopard (10.5.8) / i386  OK  OK  OK 
Package 127/514HostnameOS / ArchBUILDCHECKBUILD BIN
DAVIDQuery 1.14.0
Roger Day
Last Changed Rev: 59920 / Revision: 64395
Last Changed Date: 2011-10-31 15:59:03 -0700
wilson2 Linux (openSUSE 11.4) / x86_64  OK  OK 
moscato1 Windows Server 2008 R2 Enterprise SP1 (64-bit) / x64  OK  OK  OK 
pitt Mac OS X Leopard (10.5.8) / i386  OK  OK  OK 
Package 128/514HostnameOS / ArchBUILDCHECKBUILD BIN
ddCt 1.8.0
Jitao David Zhang
Last Changed Rev: 59920 / Revision: 64395
Last Changed Date: 2011-10-31 15:59:03 -0700
wilson2 Linux (openSUSE 11.4) / x86_64  OK  OK 
moscato1 Windows Server 2008 R2 Enterprise SP1 (64-bit) / x64  OK  OK  OK 
pitt Mac OS X Leopard (10.5.8) / i386  OK  OK  OK 
Package 129/514HostnameOS / ArchBUILDCHECKBUILD BIN
DECIPHER 1.0.0
Erik Wright
Last Changed Rev: 59920 / Revision: 64395
Last Changed Date: 2011-10-31 15:59:03 -0700
wilson2 Linux (openSUSE 11.4) / x86_64  OK  OK 
moscato1 Windows Server 2008 R2 Enterprise SP1 (64-bit) / x64  OK  OK  OK 
pitt Mac OS X Leopard (10.5.8) / i386  OK  OK  OK 
Package 130/514HostnameOS / ArchBUILDCHECKBUILD BIN
DEDS 1.28.0
Yuanyuan Xiao
Last Changed Rev: 59920 / Revision: 64395
Last Changed Date: 2011-10-31 15:59:03 -0700
wilson2 Linux (openSUSE 11.4) / x86_64  OK  OK 
moscato1 Windows Server 2008 R2 Enterprise SP1 (64-bit) / x64  OK  OK  OK 
pitt Mac OS X Leopard (10.5.8) / i386  OK  OK  OK 
Package 131/514HostnameOS / ArchBUILDCHECKBUILD BIN
DEGraph 1.6.0
Laurent Jacob
Last Changed Rev: 59920 / Revision: 64395
Last Changed Date: 2011-10-31 15:59:03 -0700
wilson2 Linux (openSUSE 11.4) / x86_64  OK  OK 
moscato1 Windows Server 2008 R2 Enterprise SP1 (64-bit) / x64  OK  OK  OK 
pitt Mac OS X Leopard (10.5.8) / i386  OK  OK  OK 
Package 132/514HostnameOS / ArchBUILDCHECKBUILD BIN
DEGseq 1.8.0
Likun Wang
Last Changed Rev: 59920 / Revision: 64395
Last Changed Date: 2011-10-31 15:59:03 -0700
wilson2 Linux (openSUSE 11.4) / x86_64  OK  OK 
moscato1 Windows Server 2008 R2 Enterprise SP1 (64-bit) / x64  OK  OK  OK 
pitt Mac OS X Leopard (10.5.8) / i386  OK  OK  OK 
Package 133/514HostnameOS / ArchBUILDCHECKBUILD BIN
DESeq 1.6.1
Simon Anders
Last Changed Rev: 60544 / Revision: 64395
Last Changed Date: 2011-11-20 01:34:36 -0800
wilson2 Linux (openSUSE 11.4) / x86_64  OK  OK 
moscato1 Windows Server 2008 R2 Enterprise SP1 (64-bit) / x64  OK  OK  OK 
pitt Mac OS X Leopard (10.5.8) / i386  OK  OK  OK 
Package 134/514HostnameOS / ArchBUILDCHECKBUILD BIN
DEXSeq 1.0.2
Alejandro Reyes
Last Changed Rev: 61153 / Revision: 64395
Last Changed Date: 2011-12-06 08:03:09 -0800
wilson2 Linux (openSUSE 11.4) / x86_64  OK  OK 
moscato1 Windows Server 2008 R2 Enterprise SP1 (64-bit) / x64  OK  OK  OK 
pitt Mac OS X Leopard (10.5.8) / i386  OK  OK  OK 
Package 135/514HostnameOS / ArchBUILDCHECKBUILD BIN
DFP 1.12.0
Rodrigo Alvarez-Glez
Last Changed Rev: 59920 / Revision: 64395
Last Changed Date: 2011-10-31 15:59:03 -0700
wilson2 Linux (openSUSE 11.4) / x86_64  OK  OK 
moscato1 Windows Server 2008 R2 Enterprise SP1 (64-bit) / x64  OK  OK  OK 
pitt Mac OS X Leopard (10.5.8) / i386  OK  OK  OK 
Package 136/514HostnameOS / ArchBUILDCHECKBUILD BIN
DiffBind 1.0.9
Rory Stark
Last Changed Rev: 64078 / Revision: 64395
Last Changed Date: 2012-03-18 15:19:15 -0700
wilson2 Linux (openSUSE 11.4) / x86_64  OK  OK 
moscato1 Windows Server 2008 R2 Enterprise SP1 (64-bit) / x64  OK  OK  OK 
pitt Mac OS X Leopard (10.5.8) / i386  OK  OK  OK 
Package 137/514HostnameOS / ArchBUILDCHECKBUILD BIN
diffGeneAnalysis 1.36.0
Choudary Jagarlamudi
Last Changed Rev: 59920 / Revision: 64395
Last Changed Date: 2011-10-31 15:59:03 -0700
wilson2 Linux (openSUSE 11.4) / x86_64  OK  OK 
moscato1 Windows Server 2008 R2 Enterprise SP1 (64-bit) / x64  OK  OK  OK 
pitt Mac OS X Leopard (10.5.8) / i386  OK  OK  OK 
Package 138/514HostnameOS / ArchBUILDCHECKBUILD BIN
dks 1.0.0
Jeffrey T. Leek
Last Changed Rev: 59920 / Revision: 64395
Last Changed Date: 2011-10-31 15:59:03 -0700
wilson2 Linux (openSUSE 11.4) / x86_64  OK  OK 
moscato1 Windows Server 2008 R2 Enterprise SP1 (64-bit) / x64  OK  OK  OK 
pitt Mac OS X Leopard (10.5.8) / i386  OK  OK  OK 
Package 139/514HostnameOS / ArchBUILDCHECKBUILD BIN
DNAcopy 1.28.0
Venkatraman E. Seshan
Last Changed Rev: 59920 / Revision: 64395
Last Changed Date: 2011-10-31 15:59:03 -0700
wilson2 Linux (openSUSE 11.4) / x86_64  OK  OK 
moscato1 Windows Server 2008 R2 Enterprise SP1 (64-bit) / x64  OK  OK  OK 
pitt Mac OS X Leopard (10.5.8) / i386  OK  OK  OK 
Package 140/514HostnameOS / ArchBUILDCHECKBUILD BIN
domainsignatures 1.14.0
Florian Hahne
Last Changed Rev: 59920 / Revision: 64395
Last Changed Date: 2011-10-31 15:59:03 -0700
wilson2 Linux (openSUSE 11.4) / x86_64  OK  OK 
moscato1 Windows Server 2008 R2 Enterprise SP1 (64-bit) / x64  OK  OK  OK 
pitt Mac OS X Leopard (10.5.8) / i386  OK  OK  OK 
Package 141/514HostnameOS / ArchBUILDCHECKBUILD BIN
DOSE 1.0.0
Guangchuang Yu
Last Changed Rev: 59920 / Revision: 64395
Last Changed Date: 2011-10-31 15:59:03 -0700
wilson2 Linux (openSUSE 11.4) / x86_64  OK  OK 
moscato1 Windows Server 2008 R2 Enterprise SP1 (64-bit) / x64  OK  OK  OK 
pitt Mac OS X Leopard (10.5.8) / i386  OK  OK  OK 
Package 142/514HostnameOS / ArchBUILDCHECKBUILD BIN
DTA 1.0.0
Bjoern Schwalb
Last Changed Rev: 59920 / Revision: 64395
Last Changed Date: 2011-10-31 15:59:03 -0700
wilson2 Linux (openSUSE 11.4) / x86_64  OK  OK 
moscato1 Windows Server 2008 R2 Enterprise SP1 (64-bit) / x64  OK  OK  OK 
pitt Mac OS X Leopard (10.5.8) / i386  OK  OK  OK 
Package 143/514HostnameOS / ArchBUILDCHECKBUILD BIN
dualKS 1.14.0
Eric J. Kort
Last Changed Rev: 59920 / Revision: 64395
Last Changed Date: 2011-10-31 15:59:03 -0700
wilson2 Linux (openSUSE 11.4) / x86_64  OK  OK 
moscato1 Windows Server 2008 R2 Enterprise SP1 (64-bit) / x64  OK  OK  OK 
pitt Mac OS X Leopard (10.5.8) / i386  OK  OK  OK 
Package 144/514HostnameOS / ArchBUILDCHECKBUILD BIN
dyebias 1.12.0
Philip Lijnzaad
Last Changed Rev: 59920 / Revision: 64395
Last Changed Date: 2011-10-31 15:59:03 -0700
wilson2 Linux (openSUSE 11.4) / x86_64  OK  OK 
moscato1 Windows Server 2008 R2 Enterprise SP1 (64-bit) / x64  OK  OK  OK 
pitt Mac OS X Leopard (10.5.8) / i386  OK  OK  OK 
Package 145/514HostnameOS / ArchBUILDCHECKBUILD BIN
DynDoc 1.32.0
Bioconductor Package Maintainer
Last Changed Rev: 59920 / Revision: 64395
Last Changed Date: 2011-10-31 15:59:03 -0700
wilson2 Linux (openSUSE 11.4) / x86_64  OK  OK 
moscato1 Windows Server 2008 R2 Enterprise SP1 (64-bit) / x64  OK  OK  OK 
pitt Mac OS X Leopard (10.5.8) / i386  OK  OK  OK 
E  A  B  C  D [E] F  G  H  I  J  K  L  M  N  O  P  Q  R  S  T  U  V  W  X  Y  Z 
Package 146/514HostnameOS / ArchBUILDCHECKBUILD BIN
EBarrays 2.18.0
Ming Yuan
Last Changed Rev: 59920 / Revision: 64395
Last Changed Date: 2011-10-31 15:59:03 -0700
wilson2 Linux (openSUSE 11.4) / x86_64  OK  OK 
moscato1 Windows Server 2008 R2 Enterprise SP1 (64-bit) / x64  OK  OK  OK 
pitt Mac OS X Leopard (10.5.8) / i386  OK  OK  OK 
Package 147/514HostnameOS / ArchBUILDCHECKBUILD BIN
EBImage 3.10.0
Gregoire Pau
Last Changed Rev: 59920 / Revision: 64395
Last Changed Date: 2011-10-31 15:59:03 -0700
wilson2 Linux (openSUSE 11.4) / x86_64  OK  OK 
moscato1 Windows Server 2008 R2 Enterprise SP1 (64-bit) / x64  OK  OK  OK 
pitt Mac OS X Leopard (10.5.8) / i386 N O T   S U P P O R T E D
Package 148/514HostnameOS / ArchBUILDCHECKBUILD BIN
ecolitk 1.26.0
Laurent Gautier
Last Changed Rev: 59920 / Revision: 64395
Last Changed Date: 2011-10-31 15:59:03 -0700
wilson2 Linux (openSUSE 11.4) / x86_64  OK  OK 
moscato1 Windows Server 2008 R2 Enterprise SP1 (64-bit) / x64  OK  OK  OK 
pitt Mac OS X Leopard (10.5.8) / i386  OK  OK  OK 
Package 149/514HostnameOS / ArchBUILDCHECKBUILD BIN
EDASeq 1.0.0
Davide Risso
Last Changed Rev: 59920 / Revision: 64395
Last Changed Date: 2011-10-31 15:59:03 -0700
wilson2 Linux (openSUSE 11.4) / x86_64  OK  OK 
moscato1 Windows Server 2008 R2 Enterprise SP1 (64-bit) / x64  OK  OK  OK 
pitt Mac OS X Leopard (10.5.8) / i386  OK  OK  OK 
Package 150/514HostnameOS / ArchBUILDCHECKBUILD BIN
edd 1.32.0
Vince Carey
Last Changed Rev: 59920 / Revision: 64395
Last Changed Date: 2011-10-31 15:59:03 -0700
wilson2 Linux (openSUSE 11.4) / x86_64  OK  OK 
moscato1 Windows Server 2008 R2 Enterprise SP1 (64-bit) / x64  OK  OK  OK 
pitt Mac OS X Leopard (10.5.8) / i386  OK  OK  OK 
Package 151/514HostnameOS / ArchBUILDCHECKBUILD BIN
edgeR 2.4.6
Mark Robinson , Davis McCarthy , Yunshun Chen , Gordon Smyth
Last Changed Rev: 63835 / Revision: 64395
Last Changed Date: 2012-03-13 15:36:09 -0700
wilson2 Linux (openSUSE 11.4) / x86_64  OK  OK 
moscato1 Windows Server 2008 R2 Enterprise SP1 (64-bit) / x64  OK  OK  OK 
pitt Mac OS X Leopard (10.5.8) / i386  OK  OK  OK 
Package 152/514HostnameOS / ArchBUILDCHECKBUILD BIN
eisa 1.6.0
Gabor Csardi
Last Changed Rev: 59920 / Revision: 64395
Last Changed Date: 2011-10-31 15:59:03 -0700
wilson2 Linux (openSUSE 11.4) / x86_64  OK  OK 
moscato1 Windows Server 2008 R2 Enterprise SP1 (64-bit) / x64  OK  OK  OK 
pitt Mac OS X Leopard (10.5.8) / i386  OK  OK  OK 
Package 153/514HostnameOS / ArchBUILDCHECKBUILD BIN
ENVISIONQuery 1.2.0
Alex Lisovich , Roger Day
Last Changed Rev: 59920 / Revision: 64395
Last Changed Date: 2011-10-31 15:59:03 -0700
wilson2 Linux (openSUSE 11.4) / x86_64  OK  OK 
moscato1 Windows Server 2008 R2 Enterprise SP1 (64-bit) / x64  OK  OK  OK 
pitt Mac OS X Leopard (10.5.8) / i386 N O T   S U P P O R T E D
Package 154/514HostnameOS / ArchBUILDCHECKBUILD BIN
ExiMiR 1.2.0
Sylvain Gubian
Last Changed Rev: 59920 / Revision: 64395
Last Changed Date: 2011-10-31 15:59:03 -0700
wilson2 Linux (openSUSE 11.4) / x86_64  OK  OK 
moscato1 Windows Server 2008 R2 Enterprise SP1 (64-bit) / x64  OK  OK  OK 
pitt Mac OS X Leopard (10.5.8) / i386  OK  OK  OK 
Package 155/514HostnameOS / ArchBUILDCHECKBUILD BIN
exomeCopy 1.0.3
Michael Love
Last Changed Rev: 64098 / Revision: 64395
Last Changed Date: 2012-03-19 09:26:29 -0700
wilson2 Linux (openSUSE 11.4) / x86_64  OK  OK 
moscato1 Windows Server 2008 R2 Enterprise SP1 (64-bit) / x64  OK  OK  OK 
pitt Mac OS X Leopard (10.5.8) / i386  OK  OK  OK 
Package 156/514HostnameOS / ArchBUILDCHECKBUILD BIN
explorase 1.18.0
Michael Lawrence
Last Changed Rev: 59920 / Revision: 64395
Last Changed Date: 2011-10-31 15:59:03 -0700
wilson2 Linux (openSUSE 11.4) / x86_64  OK  OK 
moscato1 Windows Server 2008 R2 Enterprise SP1 (64-bit) / x64  OK  OK  OK 
pitt Mac OS X Leopard (10.5.8) / i386 N O T   S U P P O R T E D
Package 157/514HostnameOS / ArchBUILDCHECKBUILD BIN
ExpressionView 1.6.0
Gabor Csardi
Last Changed Rev: 59920 / Revision: 64395
Last Changed Date: 2011-10-31 15:59:03 -0700
wilson2 Linux (openSUSE 11.4) / x86_64  OK  OK 
moscato1 Windows Server 2008 R2 Enterprise SP1 (64-bit) / x64  OK  OK  OK 
pitt Mac OS X Leopard (10.5.8) / i386  OK  OK  OK 
Package 158/514HostnameOS / ArchBUILDCHECKBUILD BIN
externalVector 1.20.0
Bioconductor Package Maintainer
Last Changed Rev: 59920 / Revision: 64395
Last Changed Date: 2011-10-31 15:59:03 -0700
wilson2 Linux (openSUSE 11.4) / x86_64  OK  OK 
moscato1 Windows Server 2008 R2 Enterprise SP1 (64-bit) / x64  OK  OK  OK 
pitt Mac OS X Leopard (10.5.8) / i386  OK  OK  OK 
F  A  B  C  D  E [F] G  H  I  J  K  L  M  N  O  P  Q  R  S  T  U  V  W  X  Y  Z 
Package 159/514HostnameOS / ArchBUILDCHECKBUILD BIN
fabia 2.0.0
Sepp Hochreiter
Last Changed Rev: 60341 / Revision: 64395
Last Changed Date: 2011-11-15 12:46:03 -0800
wilson2 Linux (openSUSE 11.4) / x86_64  OK  OK 
moscato1 Windows Server 2008 R2 Enterprise SP1 (64-bit) / x64  OK  OK  OK 
pitt Mac OS X Leopard (10.5.8) / i386  OK  OK  OK 
Package 160/514HostnameOS / ArchBUILDCHECKBUILD BIN
factDesign 1.30.0
Denise Scholtens
Last Changed Rev: 59920 / Revision: 64395
Last Changed Date: 2011-10-31 15:59:03 -0700
wilson2 Linux (openSUSE 11.4) / x86_64  OK  OK 
moscato1 Windows Server 2008 R2 Enterprise SP1 (64-bit) / x64  OK  OK  OK 
pitt Mac OS X Leopard (10.5.8) / i386  OK  OK  OK 
Package 161/514HostnameOS / ArchBUILDCHECKBUILD BIN
farms 1.6.0
Djork-Arne Clevert
Last Changed Rev: 59920 / Revision: 64395
Last Changed Date: 2011-10-31 15:59:03 -0700
wilson2 Linux (openSUSE 11.4) / x86_64  OK  OK 
moscato1 Windows Server 2008 R2 Enterprise SP1 (64-bit) / x64  OK  OK  OK 
pitt Mac OS X Leopard (10.5.8) / i386  OK  OK  OK 
Package 162/514HostnameOS / ArchBUILDCHECKBUILD BIN
fastseg 1.0.4
Guenter Klambauer
Last Changed Rev: 63758 / Revision: 64395
Last Changed Date: 2012-03-12 02:23:42 -0700
wilson2 Linux (openSUSE 11.4) / x86_64  OK  OK 
moscato1 Windows Server 2008 R2 Enterprise SP1 (64-bit) / x64  OK  OK  OK 
pitt Mac OS X Leopard (10.5.8) / i386  OK  OK  OK 
Package 163/514HostnameOS / ArchBUILDCHECKBUILD BIN
fdrame 1.26.0
Effi Kenigsberg
Last Changed Rev: 59920 / Revision: 64395
Last Changed Date: 2011-10-31 15:59:03 -0700
wilson2 Linux (openSUSE 11.4) / x86_64  OK  OK 
moscato1 Windows Server 2008 R2 Enterprise SP1 (64-bit) / x64  OK  OK  OK 
pitt Mac OS X Leopard (10.5.8) / i386  OK  OK  OK 
Package 164/514HostnameOS / ArchBUILDCHECKBUILD BIN
flagme 1.10.0
Mark Robinson
Last Changed Rev: 59920 / Revision: 64395
Last Changed Date: 2011-10-31 15:59:03 -0700
wilson2 Linux (openSUSE 11.4) / x86_64  OK  OK 
moscato1 Windows Server 2008 R2 Enterprise SP1 (64-bit) / x64  OK  OK  OK 
pitt Mac OS X Leopard (10.5.8) / i386  OK  OK  OK 
Package 165/514HostnameOS / ArchBUILDCHECKBUILD BIN
flowClust 2.12.1
Raphael Gottardo
Last Changed Rev: 60373 / Revision: 64395
Last Changed Date: 2011-11-15 17:44:53 -0800
wilson2 Linux (openSUSE 11.4) / x86_64  OK  WARNINGS 
moscato1 Windows Server 2008 R2 Enterprise SP1 (64-bit) / x64  OK  WARNINGS  OK 
pitt Mac OS X Leopard (10.5.8) / i386  OK  WARNINGS  OK 
Package 166/514HostnameOS / ArchBUILDCHECKBUILD BIN
flowCore 1.20.0
Mike Jiang
Last Changed Rev: 61510 / Revision: 64395
Last Changed Date: 2011-12-20 15:38:31 -0800
wilson2 Linux (openSUSE 11.4) / x86_64  OK  OK 
moscato1 Windows Server 2008 R2 Enterprise SP1 (64-bit) / x64  OK  OK  OK 
pitt Mac OS X Leopard (10.5.8) / i386  OK  OK  OK 
Package 167/514HostnameOS / ArchBUILDCHECKBUILD BIN
flowFlowJo 1.12.0
John J. Gosink
Last Changed Rev: 59920 / Revision: 64395
Last Changed Date: 2011-10-31 15:59:03 -0700
wilson2 Linux (openSUSE 11.4) / x86_64  OK  OK 
moscato1 Windows Server 2008 R2 Enterprise SP1 (64-bit) / x64  OK  OK  OK 
pitt Mac OS X Leopard (10.5.8) / i386  OK  OK  OK 
Package 168/514HostnameOS / ArchBUILDCHECKBUILD BIN
flowFP 1.12.1
Herb Holyst
Last Changed Rev: 60132 / Revision: 64395
Last Changed Date: 2011-11-08 10:39:30 -0800
wilson2 Linux (openSUSE 11.4) / x86_64  OK  OK 
moscato1 Windows Server 2008 R2 Enterprise SP1 (64-bit) / x64  OK  OK  OK 
pitt Mac OS X Leopard (10.5.8) / i386  OK  OK  OK 
Package 169/514HostnameOS / ArchBUILDCHECKBUILD BIN
flowMeans 1.6.0
Nima Aghaeepour
Last Changed Rev: 59920 / Revision: 64395
Last Changed Date: 2011-10-31 15:59:03 -0700
wilson2 Linux (openSUSE 11.4) / x86_64  OK  OK 
moscato1 Windows Server 2008 R2 Enterprise SP1 (64-bit) / x64  OK  OK  OK 
pitt Mac OS X Leopard (10.5.8) / i386  OK  OK  OK 
Package 170/514HostnameOS / ArchBUILDCHECKBUILD BIN
flowMerge 2.2.0
Greg Finak
Last Changed Rev: 59920 / Revision: 64395
Last Changed Date: 2011-10-31 15:59:03 -0700
wilson2 Linux (openSUSE 11.4) / x86_64  OK  OK 
moscato1 Windows Server 2008 R2 Enterprise SP1 (64-bit) / x64  OK  OK  OK 
pitt Mac OS X Leopard (10.5.8) / i386  OK  OK  OK 
Package 171/514HostnameOS / ArchBUILDCHECKBUILD BIN
flowPhyto 1.6.0
David M. Schruth
Last Changed Rev: 59920 / Revision: 64395
Last Changed Date: 2011-10-31 15:59:03 -0700
wilson2 Linux (openSUSE 11.4) / x86_64  OK  OK 
moscato1 Windows Server 2008 R2 Enterprise SP1 (64-bit) / x64  OK  OK  OK 
pitt Mac OS X Leopard (10.5.8) / i386  OK  OK  OK 
Package 172/514HostnameOS / ArchBUILDCHECKBUILD BIN
flowPlots 1.2.0
N. Hawkins
Last Changed Rev: 59920 / Revision: 64395
Last Changed Date: 2011-10-31 15:59:03 -0700
wilson2 Linux (openSUSE 11.4) / x86_64  OK  OK 
moscato1 Windows Server 2008 R2 Enterprise SP1 (64-bit) / x64  OK  OK  OK 
pitt Mac OS X Leopard (10.5.8) / i386  OK  OK  OK 
Package 173/514HostnameOS / ArchBUILDCHECKBUILD BIN
flowQ 1.14.1
M.Jiang
Last Changed Rev: 61509 / Revision: 64395
Last Changed Date: 2011-12-20 15:37:13 -0800
wilson2 Linux (openSUSE 11.4) / x86_64  OK  OK 
moscato1 Windows Server 2008 R2 Enterprise SP1 (64-bit) / x64  OK  OK  OK 
pitt Mac OS X Leopard (10.5.8) / i386  OK  OK  OK 
Package 174/514HostnameOS / ArchBUILDCHECKBUILD BIN
flowStats 1.12.0
Greg Finak and Mike Jiang
Last Changed Rev: 61512 / Revision: 64395
Last Changed Date: 2011-12-20 15:40:17 -0800
wilson2 Linux (openSUSE 11.4) / x86_64  OK  OK 
moscato1 Windows Server 2008 R2 Enterprise SP1 (64-bit) / x64  OK  OK  OK 
pitt Mac OS X Leopard (10.5.8) / i386  OK  OK  OK 
Package 175/514HostnameOS / ArchBUILDCHECKBUILD BIN
flowTrans 1.6.0
Greg Finak
Last Changed Rev: 59920 / Revision: 64395
Last Changed Date: 2011-10-31 15:59:03 -0700
wilson2 Linux (openSUSE 11.4) / x86_64  OK  OK 
moscato1 Windows Server 2008 R2 Enterprise SP1 (64-bit) / x64  OK  OK  OK 
pitt Mac OS X Leopard (10.5.8) / i386  OK  OK  OK 
Package 176/514HostnameOS / ArchBUILDCHECKBUILD BIN
flowType 1.0.0
Nima Aghaeepour
Last Changed Rev: 59920 / Revision: 64395
Last Changed Date: 2011-10-31 15:59:03 -0700
wilson2 Linux (openSUSE 11.4) / x86_64  OK  OK 
moscato1 Windows Server 2008 R2 Enterprise SP1 (64-bit) / x64  OK  OK  OK 
pitt Mac OS X Leopard (10.5.8) / i386  OK  OK  OK 
Package 177/514HostnameOS / ArchBUILDCHECKBUILD BIN
flowUtils 1.14.0
Nishant Gopalakrishnan
Last Changed Rev: 59920 / Revision: 64395
Last Changed Date: 2011-10-31 15:59:03 -0700
wilson2 Linux (openSUSE 11.4) / x86_64  OK  OK 
moscato1 Windows Server 2008 R2 Enterprise SP1 (64-bit) / x64  OK  OK  OK 
pitt Mac OS X Leopard (10.5.8) / i386  OK  OK  OK 
Package 178/514HostnameOS / ArchBUILDCHECKBUILD BIN
flowViz 1.18.0
Mike Jiang
Last Changed Rev: 61511 / Revision: 64395
Last Changed Date: 2011-12-20 15:39:07 -0800
wilson2 Linux (openSUSE 11.4) / x86_64  OK  WARNINGS 
moscato1 Windows Server 2008 R2 Enterprise SP1 (64-bit) / x64  OK  WARNINGS  OK 
pitt Mac OS X Leopard (10.5.8) / i386  OK  WARNINGS  OK 
Package 179/514HostnameOS / ArchBUILDCHECKBUILD BIN
flowWorkspace 1.0.2
Greg Finak
Last Changed Rev: 62262 / Revision: 64395
Last Changed Date: 2012-01-25 12:26:12 -0800
wilson2 Linux (openSUSE 11.4) / x86_64  OK  OK 
moscato1 Windows Server 2008 R2 Enterprise SP1 (64-bit) / x64  OK  OK  OK 
pitt Mac OS X Leopard (10.5.8) / i386  OK  OK  OK 
Package 180/514HostnameOS / ArchBUILDCHECKBUILD BIN
frma 1.6.0
Matthew N. McCall
Last Changed Rev: 59920 / Revision: 64395
Last Changed Date: 2011-10-31 15:59:03 -0700
wilson2 Linux (openSUSE 11.4) / x86_64  OK  OK 
moscato1 Windows Server 2008 R2 Enterprise SP1 (64-bit) / x64  OK  OK  OK 
pitt Mac OS X Leopard (10.5.8) / i386  OK  OK  OK 
Package 181/514HostnameOS / ArchBUILDCHECKBUILD BIN
frmaTools 1.6.0
Matthew N. McCall
Last Changed Rev: 59920 / Revision: 64395
Last Changed Date: 2011-10-31 15:59:03 -0700
wilson2 Linux (openSUSE 11.4) / x86_64  OK  OK 
moscato1 Windows Server 2008 R2 Enterprise SP1 (64-bit) / x64  OK  OK  OK 
pitt Mac OS X Leopard (10.5.8) / i386  OK  OK  OK 
G  A  B  C  D  E  F [G] H  I  J  K  L  M  N  O  P  Q  R  S  T  U  V  W  X  Y  Z 
Package 182/514HostnameOS / ArchBUILDCHECKBUILD BIN
gaga 2.0.0
David Rossell
Last Changed Rev: 59920 / Revision: 64395
Last Changed Date: 2011-10-31 15:59:03 -0700
wilson2 Linux (openSUSE 11.4) / x86_64  OK  OK 
moscato1 Windows Server 2008 R2 Enterprise SP1 (64-bit) / x64  OK  OK  OK 
pitt Mac OS X Leopard (10.5.8) / i386  OK  OK  OK 
Package 183/514HostnameOS / ArchBUILDCHECKBUILD BIN
gage 2.4.0
Weijun Luo
Last Changed Rev: 59920 / Revision: 64395
Last Changed Date: 2011-10-31 15:59:03 -0700
wilson2 Linux (openSUSE 11.4) / x86_64  OK  OK 
moscato1 Windows Server 2008 R2 Enterprise SP1 (64-bit) / x64  OK  OK  OK 
pitt Mac OS X Leopard (10.5.8) / i386  OK  OK  OK 
Package 184/514HostnameOS / ArchBUILDCHECKBUILD BIN
gaggle 1.22.0
Christopher Bare
Last Changed Rev: 59920 / Revision: 64395
Last Changed Date: 2011-10-31 15:59:03 -0700
wilson2 Linux (openSUSE 11.4) / x86_64  OK  OK 
moscato1 Windows Server 2008 R2 Enterprise SP1 (64-bit) / x64  OK  OK  OK 
pitt Mac OS X Leopard (10.5.8) / i386  OK  OK  OK 
Package 185/514HostnameOS / ArchBUILDCHECKBUILD BIN
gaia 1.8.0
S. Morganella
Last Changed Rev: 59920 / Revision: 64395
Last Changed Date: 2011-10-31 15:59:03 -0700
wilson2 Linux (openSUSE 11.4) / x86_64  OK  OK 
moscato1 Windows Server 2008 R2 Enterprise SP1 (64-bit) / x64  OK  OK  OK 
pitt Mac OS X Leopard (10.5.8) / i386  OK  OK  OK 
Package 186/514HostnameOS / ArchBUILDCHECKBUILD BIN
gcrma 2.26.0
Z. Wu
Last Changed Rev: 59920 / Revision: 64395
Last Changed Date: 2011-10-31 15:59:03 -0700
wilson2 Linux (openSUSE 11.4) / x86_64  OK  OK 
moscato1 Windows Server 2008 R2 Enterprise SP1 (64-bit) / x64  OK  OK  OK 
pitt Mac OS X Leopard (10.5.8) / i386  OK  OK  OK 
Package 187/514HostnameOS / ArchBUILDCHECKBUILD BIN
genArise 1.30.0
IFC Development Team
Last Changed Rev: 59920 / Revision: 64395
Last Changed Date: 2011-10-31 15:59:03 -0700
wilson2 Linux (openSUSE 11.4) / x86_64  OK  OK 
moscato1 Windows Server 2008 R2 Enterprise SP1 (64-bit) / x64  OK  OK  OK 
pitt Mac OS X Leopard (10.5.8) / i386  OK  OK  OK 
Package 188/514HostnameOS / ArchBUILDCHECKBUILD BIN
gene2pathway 2.6.0
Holger Froehlich
Last Changed Rev: 59920 / Revision: 64395
Last Changed Date: 2011-10-31 15:59:03 -0700
wilson2 Linux (openSUSE 11.4) / x86_64  ERROR  skipped 
moscato1 Windows Server 2008 R2 Enterprise SP1 (64-bit) / x64  ERROR  skipped  skipped 
pitt Mac OS X Leopard (10.5.8) / i386  ERROR  skipped  skipped 
Package 189/514HostnameOS / ArchBUILDCHECKBUILD BIN
GeneAnswers 1.10.0
Gang Feng , Pan Du and Tian Xia
Last Changed Rev: 59920 / Revision: 64395
Last Changed Date: 2011-10-31 15:59:03 -0700
wilson2 Linux (openSUSE 11.4) / x86_64  OK  OK 
moscato1 Windows Server 2008 R2 Enterprise SP1 (64-bit) / x64  OK  OK  OK 
pitt Mac OS X Leopard (10.5.8) / i386  OK  OK  OK 
Package 190/514HostnameOS / ArchBUILDCHECKBUILD BIN
GeneExpressionSignature 1.0.0
Yang Cao , Fei Li
Last Changed Rev: 59920 / Revision: 64395
Last Changed Date: 2011-10-31 15:59:03 -0700
wilson2 Linux (openSUSE 11.4) / x86_64  OK  OK 
moscato1 Windows Server 2008 R2 Enterprise SP1 (64-bit) / x64  OK  OK  OK 
pitt Mac OS X Leopard (10.5.8) / i386  OK  OK  OK 
Package 191/514HostnameOS / ArchBUILDCHECKBUILD BIN
genefilter 1.36.0
Bioconductor Package Maintainer
Last Changed Rev: 59920 / Revision: 64395
Last Changed Date: 2011-10-31 15:59:03 -0700
wilson2 Linux (openSUSE 11.4) / x86_64  OK  OK 
moscato1 Windows Server 2008 R2 Enterprise SP1 (64-bit) / x64  OK  OK  OK 
pitt Mac OS X Leopard (10.5.8) / i386  OK  OK  OK 
Package 192/514HostnameOS / ArchBUILDCHECKBUILD BIN
genefu 1.4.0
Benjamin Haibe-Kains , Markus Schroeder
Last Changed Rev: 59920 / Revision: 64395
Last Changed Date: 2011-10-31 15:59:03 -0700
wilson2 Linux (openSUSE 11.4) / x86_64  OK  OK 
moscato1 Windows Server 2008 R2 Enterprise SP1 (64-bit) / x64  OK  OK  OK 
pitt Mac OS X Leopard (10.5.8) / i386  OK  OK  OK 
Package 193/514HostnameOS / ArchBUILDCHECKBUILD BIN
GeneGA 1.4.0
Zhenpeng Li
Last Changed Rev: 59920 / Revision: 64395
Last Changed Date: 2011-10-31 15:59:03 -0700
wilson2 Linux (openSUSE 11.4) / x86_64  OK  OK 
moscato1 Windows Server 2008 R2 Enterprise SP1 (64-bit) / x64 N O T   S U P P O R T E D
pitt Mac OS X Leopard (10.5.8) / i386  OK  OK  OK 
Package 194/514HostnameOS / ArchBUILDCHECKBUILD BIN
GeneMeta 1.26.0
Bioconductor Package Maintainer
Last Changed Rev: 59920 / Revision: 64395
Last Changed Date: 2011-10-31 15:59:03 -0700
wilson2 Linux (openSUSE 11.4) / x86_64  OK  OK 
moscato1 Windows Server 2008 R2 Enterprise SP1 (64-bit) / x64  OK  OK  OK 
pitt Mac OS X Leopard (10.5.8) / i386  OK  OK  OK 
Package 195/514HostnameOS / ArchBUILDCHECKBUILD BIN
geneplotter 1.32.1
Bioconductor Package Maintainer
Last Changed Rev: 59956 / Revision: 64395
Last Changed Date: 2011-11-01 10:32:40 -0700
wilson2 Linux (openSUSE 11.4) / x86_64  OK  OK 
moscato1 Windows Server 2008 R2 Enterprise SP1 (64-bit) / x64  OK  OK  OK 
pitt Mac OS X Leopard (10.5.8) / i386  OK  OK  OK 
Package 196/514HostnameOS / ArchBUILDCHECKBUILD BIN
GeneR 2.24.0
Y. d'Aubenton-Carafa
Last Changed Rev: 59920 / Revision: 64395
Last Changed Date: 2011-10-31 15:59:03 -0700
wilson2 Linux (openSUSE 11.4) / x86_64  OK  OK 
moscato1 Windows Server 2008 R2 Enterprise SP1 (64-bit) / x64  OK  ERROR  OK 
pitt Mac OS X Leopard (10.5.8) / i386  OK  OK  OK 
Package 197/514HostnameOS / ArchBUILDCHECKBUILD BIN
geneRecommender 1.26.0
Greg Hather
Last Changed Rev: 59920 / Revision: 64395
Last Changed Date: 2011-10-31 15:59:03 -0700
wilson2 Linux (openSUSE 11.4) / x86_64  OK  OK 
moscato1 Windows Server 2008 R2 Enterprise SP1 (64-bit) / x64  OK  OK  OK 
pitt Mac OS X Leopard (10.5.8) / i386  OK  OK  OK 
Package 198/514HostnameOS / ArchBUILDCHECKBUILD BIN
GeneRegionScan 1.10.0
Lasse Folkersen
Last Changed Rev: 59920 / Revision: 64395
Last Changed Date: 2011-10-31 15:59:03 -0700
wilson2 Linux (openSUSE 11.4) / x86_64  OK  OK 
moscato1 Windows Server 2008 R2 Enterprise SP1 (64-bit) / x64  OK  OK  OK 
pitt Mac OS X Leopard (10.5.8) / i386  OK  OK  OK 
Package 199/514HostnameOS / ArchBUILDCHECKBUILD BIN
GeneRfold 1.12.0
Antoine Lucas
Last Changed Rev: 59920 / Revision: 64395
Last Changed Date: 2011-10-31 15:59:03 -0700
wilson2 Linux (openSUSE 11.4) / x86_64  OK  OK 
moscato1 Windows Server 2008 R2 Enterprise SP1 (64-bit) / x64 N O T   S U P P O R T E D
pitt Mac OS X Leopard (10.5.8) / i386  OK  OK  OK 
Package 200/514HostnameOS / ArchBUILDCHECKBUILD BIN
GeneSelectMMD 1.10.0
Weiliang Qiu
Last Changed Rev: 59920 / Revision: 64395
Last Changed Date: 2011-10-31 15:59:03 -0700
wilson2 Linux (openSUSE 11.4) / x86_64  OK  OK 
moscato1 Windows Server 2008 R2 Enterprise SP1 (64-bit) / x64  OK  OK  OK 
pitt Mac OS X Leopard (10.5.8) / i386  OK  OK  OK 
Package 201/514HostnameOS / ArchBUILDCHECKBUILD BIN
GeneSelector 2.4.0
Martin Slawski
Last Changed Rev: 59920 / Revision: 64395
Last Changed Date: 2011-10-31 15:59:03 -0700
wilson2 Linux (openSUSE 11.4) / x86_64  OK  OK 
moscato1 Windows Server 2008 R2 Enterprise SP1 (64-bit) / x64  OK  OK  OK 
pitt Mac OS X Leopard (10.5.8) / i386  OK  OK  OK 
Package 202/514HostnameOS / ArchBUILDCHECKBUILD BIN
GeneticsDesign 1.22.0
The R Genetics Project
Last Changed Rev: 59920 / Revision: 64395
Last Changed Date: 2011-10-31 15:59:03 -0700
wilson2 Linux (openSUSE 11.4) / x86_64  OK  OK 
moscato1 Windows Server 2008 R2 Enterprise SP1 (64-bit) / x64  OK  OK  OK 
pitt Mac OS X Leopard (10.5.8) / i386  OK  OK  OK 
Package 203/514HostnameOS / ArchBUILDCHECKBUILD BIN
GeneticsPed 1.16.0
David Henderson
Last Changed Rev: 59920 / Revision: 64395
Last Changed Date: 2011-10-31 15:59:03 -0700
wilson2 Linux (openSUSE 11.4) / x86_64  OK  WARNINGS 
moscato1 Windows Server 2008 R2 Enterprise SP1 (64-bit) / x64  OK  WARNINGS  OK 
pitt Mac OS X Leopard (10.5.8) / i386  OK  WARNINGS  OK 
Package 204/514HostnameOS / ArchBUILDCHECKBUILD BIN
genoCN 1.6.0
Wei Sun
Last Changed Rev: 59920 / Revision: 64395
Last Changed Date: 2011-10-31 15:59:03 -0700
wilson2 Linux (openSUSE 11.4) / x86_64  OK  OK 
moscato1 Windows Server 2008 R2 Enterprise SP1 (64-bit) / x64  OK  OK  OK 
pitt Mac OS X Leopard (10.5.8) / i386  OK  OK  OK 
Package 205/514HostnameOS / ArchBUILDCHECKBUILD BIN
GenomeGraphs 1.14.0
Steffen Durinck
Last Changed Rev: 59920 / Revision: 64395
Last Changed Date: 2011-10-31 15:59:03 -0700
wilson2 Linux (openSUSE 11.4) / x86_64  OK  OK 
moscato1 Windows Server 2008 R2 Enterprise SP1 (64-bit) / x64  OK  OK  OK 
pitt Mac OS X Leopard (10.5.8) / i386  OK  OK  OK 
Package 206/514HostnameOS / ArchBUILDCHECKBUILD BIN
genomeIntervals 1.10.0
Julien Gagneur
Last Changed Rev: 59920 / Revision: 64395
Last Changed Date: 2011-10-31 15:59:03 -0700
wilson2 Linux (openSUSE 11.4) / x86_64  OK  OK 
moscato1 Windows Server 2008 R2 Enterprise SP1 (64-bit) / x64  OK  OK  OK 
pitt Mac OS X Leopard (10.5.8) / i386  OK  OK  OK 
Package 207/514HostnameOS / ArchBUILDCHECKBUILD BIN
genomes 2.0.0
Chris Stubben
Last Changed Rev: 63034 / Revision: 64395
Last Changed Date: 2012-02-23 14:22:02 -0800
wilson2 Linux (openSUSE 11.4) / x86_64  OK  OK 
moscato1 Windows Server 2008 R2 Enterprise SP1 (64-bit) / x64  OK  ERROR  OK 
pitt Mac OS X Leopard (10.5.8) / i386  OK  ERROR  OK 
Package 208/514HostnameOS / ArchBUILDCHECKBUILD BIN
GenomicFeatures 1.6.9
Bioconductor Package Maintainer
Last Changed Rev: 64185 / Revision: 64395
Last Changed Date: 2012-03-20 13:51:57 -0700
wilson2 Linux (openSUSE 11.4) / x86_64  OK  OK 
moscato1 Windows Server 2008 R2 Enterprise SP1 (64-bit) / x64  OK  OK  OK 
pitt Mac OS X Leopard (10.5.8) / i386  OK  OK  OK 
Package 209/514HostnameOS / ArchBUILDCHECKBUILD BIN
GenomicRanges 1.6.7
Bioconductor Package Maintainer
Last Changed Rev: 62589 / Revision: 64395
Last Changed Date: 2012-02-06 13:58:15 -0800
wilson2 Linux (openSUSE 11.4) / x86_64  OK  OK 
moscato1 Windows Server 2008 R2 Enterprise SP1 (64-bit) / x64  OK  OK  OK 
pitt Mac OS X Leopard (10.5.8) / i386  OK  OK  OK 
Package 210/514HostnameOS / ArchBUILDCHECKBUILD BIN
Genominator 1.8.0
James Bullard
Last Changed Rev: 59920 / Revision: 64395
Last Changed Date: 2011-10-31 15:59:03 -0700
wilson2 Linux (openSUSE 11.4) / x86_64  OK  OK 
moscato1 Windows Server 2008 R2 Enterprise SP1 (64-bit) / x64  OK  OK  OK 
pitt Mac OS X Leopard (10.5.8) / i386  OK  OK  OK 
Package 211/514HostnameOS / ArchBUILDCHECKBUILD BIN
genoset 1.2.0
Peter M. Haverty
Last Changed Rev: 59920 / Revision: 64395
Last Changed Date: 2011-10-31 15:59:03 -0700
wilson2 Linux (openSUSE 11.4) / x86_64  OK  OK 
moscato1 Windows Server 2008 R2 Enterprise SP1 (64-bit) / x64  OK  OK  OK 
pitt Mac OS X Leopard (10.5.8) / i386  OK  OK  OK 
Package 212/514HostnameOS / ArchBUILDCHECKBUILD BIN
GEOmetadb 1.14.2
Jack Zhu
Last Changed Rev: 61008 / Revision: 64395
Last Changed Date: 2011-11-30 19:17:52 -0800
wilson2 Linux (openSUSE 11.4) / x86_64  OK  OK 
moscato1 Windows Server 2008 R2 Enterprise SP1 (64-bit) / x64  OK  OK  OK 
pitt Mac OS X Leopard (10.5.8) / i386  OK  OK  OK 
Package 213/514HostnameOS / ArchBUILDCHECKBUILD BIN
GEOquery 2.21.9
Sean Davis
Last Changed Rev: 64272 / Revision: 64395
Last Changed Date: 2012-03-22 04:26:34 -0700
wilson2 Linux (openSUSE 11.4) / x86_64  OK  OK 
moscato1 Windows Server 2008 R2 Enterprise SP1 (64-bit) / x64  OK  OK  OK 
pitt Mac OS X Leopard (10.5.8) / i386  OK  OK  OK 
Package 214/514HostnameOS / ArchBUILDCHECKBUILD BIN
GEOsubmission 1.6.0
Alexandre Kuhn
Last Changed Rev: 59920 / Revision: 64395
Last Changed Date: 2011-10-31 15:59:03 -0700
wilson2 Linux (openSUSE 11.4) / x86_64  OK  OK 
moscato1 Windows Server 2008 R2 Enterprise SP1 (64-bit) / x64  OK  OK  OK 
pitt Mac OS X Leopard (10.5.8) / i386  OK  OK  OK 
Package 215/514HostnameOS / ArchBUILDCHECKBUILD BIN
GGBase 3.14.0
Vince Carey
Last Changed Rev: 59920 / Revision: 64395
Last Changed Date: 2011-10-31 15:59:03 -0700
wilson2 Linux (openSUSE 11.4) / x86_64  OK  OK 
moscato1 Windows Server 2008 R2 Enterprise SP1 (64-bit) / x64  OK  OK  OK 
pitt Mac OS X Leopard (10.5.8) / i386  OK  OK  OK 
Package 216/514HostnameOS / ArchBUILDCHECKBUILD BIN
ggbio 1.0.4
Tengfei Yin
Last Changed Rev: 62510 / Revision: 64395
Last Changed Date: 2012-02-03 06:42:00 -0800
wilson2 Linux (openSUSE 11.4) / x86_64  OK  OK 
moscato1 Windows Server 2008 R2 Enterprise SP1 (64-bit) / x64  OK  OK  OK 
pitt Mac OS X Leopard (10.5.8) / i386  OK  OK  OK 
Package 217/514HostnameOS / ArchBUILDCHECKBUILD BIN
GGtools 4.0.0
Vince Carey
Last Changed Rev: 59920 / Revision: 64395
Last Changed Date: 2011-10-31 15:59:03 -0700
wilson2 Linux (openSUSE 11.4) / x86_64  OK  OK 
moscato1 Windows Server 2008 R2 Enterprise SP1 (64-bit) / x64  OK  OK  OK 
pitt Mac OS X Leopard (10.5.8) / i386  OK  OK  OK 
Package 218/514HostnameOS / ArchBUILDCHECKBUILD BIN
girafe 1.6.0
J. Toedling
Last Changed Rev: 59920 / Revision: 64395
Last Changed Date: 2011-10-31 15:59:03 -0700
wilson2 Linux (openSUSE 11.4) / x86_64  OK  OK 
moscato1 Windows Server 2008 R2 Enterprise SP1 (64-bit) / x64  OK  OK  OK 
pitt Mac OS X Leopard (10.5.8) / i386  OK  OK  OK 
Package 219/514HostnameOS / ArchBUILDCHECKBUILD BIN
GLAD 2.16.2
Philippe Hupe
Last Changed Rev: 63416 / Revision: 64395
Last Changed Date: 2012-03-03 12:36:11 -0800
wilson2 Linux (openSUSE 11.4) / x86_64  OK  OK 
moscato1 Windows Server 2008 R2 Enterprise SP1 (64-bit) / x64  OK  OK  OK 
pitt Mac OS X Leopard (10.5.8) / i386  OK  OK  OK 
Package 220/514HostnameOS / ArchBUILDCHECKBUILD BIN
GlobalAncova 3.22.0
Manuela Hummel
Last Changed Rev: 59920 / Revision: 64395
Last Changed Date: 2011-10-31 15:59:03 -0700
wilson2 Linux (openSUSE 11.4) / x86_64  OK  OK 
moscato1 Windows Server 2008 R2 Enterprise SP1 (64-bit) / x64  OK  OK  OK 
pitt Mac OS X Leopard (10.5.8) / i386  OK  OK  OK 
Package 221/514HostnameOS / ArchBUILDCHECKBUILD BIN
globaltest 5.8.1
Jelle Goeman
Last Changed Rev: 60260 / Revision: 64395
Last Changed Date: 2011-11-11 05:32:56 -0800
wilson2 Linux (openSUSE 11.4) / x86_64  OK  OK 
moscato1 Windows Server 2008 R2 Enterprise SP1 (64-bit) / x64  OK  OK  OK 
pitt Mac OS X Leopard (10.5.8) / i386  OK  OK  OK 
Package 222/514HostnameOS / ArchBUILDCHECKBUILD BIN
GOFunction 1.0.0
Zheng Guo
Last Changed Rev: 59920 / Revision: 64395
Last Changed Date: 2011-10-31 15:59:03 -0700
wilson2 Linux (openSUSE 11.4) / x86_64  OK  OK 
moscato1 Windows Server 2008 R2 Enterprise SP1 (64-bit) / x64  OK  OK  OK 
pitt Mac OS X Leopard (10.5.8) / i386  OK  OK  OK 
Package 223/514HostnameOS / ArchBUILDCHECKBUILD BIN
goProfiles 1.16.0
Alex Sanchez
Last Changed Rev: 59920 / Revision: 64395
Last Changed Date: 2011-10-31 15:59:03 -0700
wilson2 Linux (openSUSE 11.4) / x86_64  OK  OK 
moscato1 Windows Server 2008 R2 Enterprise SP1 (64-bit) / x64  OK  OK  OK 
pitt Mac OS X Leopard (10.5.8) / i386  OK  OK  OK 
Package 224/514HostnameOS / ArchBUILDCHECKBUILD BIN
GOSemSim 1.12.1
Guangchuang Yu
Last Changed Rev: 62497 / Revision: 64395
Last Changed Date: 2012-02-02 19:35:29 -0800
wilson2 Linux (openSUSE 11.4) / x86_64  OK  OK 
moscato1 Windows Server 2008 R2 Enterprise SP1 (64-bit) / x64  OK  OK  OK 
pitt Mac OS X Leopard (10.5.8) / i386  OK  OK  OK 
Package 225/514HostnameOS / ArchBUILDCHECKBUILD BIN
goseq 1.6.1
Matthew Young
Last Changed Rev: 64291 / Revision: 64395
Last Changed Date: 2012-03-22 11:29:35 -0700
wilson2 Linux (openSUSE 11.4) / x86_64  OK  OK 
moscato1 Windows Server 2008 R2 Enterprise SP1 (64-bit) / x64  OK  OK  OK 
pitt Mac OS X Leopard (10.5.8) / i386  ERROR  skipped  skipped 
Package 226/514HostnameOS / ArchBUILDCHECKBUILD BIN
GOstats 2.20.0
Bioconductor Package Maintainer
Last Changed Rev: 59920 / Revision: 64395
Last Changed Date: 2011-10-31 15:59:03 -0700
wilson2 Linux (openSUSE 11.4) / x86_64  OK  OK 
moscato1 Windows Server 2008 R2 Enterprise SP1 (64-bit) / x64  OK  OK  OK 
pitt Mac OS X Leopard (10.5.8) / i386  OK  OK  OK 
Package 227/514HostnameOS / ArchBUILDCHECKBUILD BIN
goTools 1.28.0
Agnes Paquet
Last Changed Rev: 59920 / Revision: 64395
Last Changed Date: 2011-10-31 15:59:03 -0700
wilson2 Linux (openSUSE 11.4) / x86_64  OK  OK 
moscato1 Windows Server 2008 R2 Enterprise SP1 (64-bit) / x64  OK  OK  OK 
pitt Mac OS X Leopard (10.5.8) / i386  OK  OK  OK 
Package 228/514HostnameOS / ArchBUILDCHECKBUILD BIN
gpls 1.26.0
Bioconductor Package Maintainer
Last Changed Rev: 59920 / Revision: 64395
Last Changed Date: 2011-10-31 15:59:03 -0700
wilson2 Linux (openSUSE 11.4) / x86_64  OK  OK 
moscato1 Windows Server 2008 R2 Enterprise SP1 (64-bit) / x64  OK  OK  OK 
pitt Mac OS X Leopard (10.5.8) / i386  OK  OK  OK 
Package 229/514HostnameOS / ArchBUILDCHECKBUILD BIN
graph 1.32.0
Seth Falcon
Last Changed Rev: 59920 / Revision: 64395
Last Changed Date: 2011-10-31 15:59:03 -0700
wilson2 Linux (openSUSE 11.4) / x86_64  OK  OK 
moscato1 Windows Server 2008 R2 Enterprise SP1 (64-bit) / x64  OK  OK  OK 
pitt Mac OS X Leopard (10.5.8) / i386  OK  OK  OK 
Package 230/514HostnameOS / ArchBUILDCHECKBUILD BIN
GraphAlignment 1.16.0
Joern P. Meier
Last Changed Rev: 59920 / Revision: 64395
Last Changed Date: 2011-10-31 15:59:03 -0700
wilson2 Linux (openSUSE 11.4) / x86_64  OK  OK 
moscato1 Windows Server 2008 R2 Enterprise SP1 (64-bit) / x64  OK  OK  OK 
pitt Mac OS X Leopard (10.5.8) / i386  OK  OK  OK 
Package 231/514HostnameOS / ArchBUILDCHECKBUILD BIN
GraphAT 1.26.0
Thomas LaFramboise
Last Changed Rev: 59920 / Revision: 64395
Last Changed Date: 2011-10-31 15:59:03 -0700
wilson2 Linux (openSUSE 11.4) / x86_64  OK  OK 
moscato1 Windows Server 2008 R2 Enterprise SP1 (64-bit) / x64  OK  OK  OK 
pitt Mac OS X Leopard (10.5.8) / i386  OK  OK  OK 
Package 232/514HostnameOS / ArchBUILDCHECKBUILD BIN
graphite 1.0.0
Gabriele Sales
Last Changed Rev: 59920 / Revision: 64395
Last Changed Date: 2011-10-31 15:59:03 -0700
wilson2 Linux (openSUSE 11.4) / x86_64  OK  OK 
moscato1 Windows Server 2008 R2 Enterprise SP1 (64-bit) / x64  OK  OK  OK 
pitt Mac OS X Leopard (10.5.8) / i386  OK  OK  OK 
Package 233/514HostnameOS / ArchBUILDCHECKBUILD BIN
GRENITS 1.6.0
Edward Morrissey
Last Changed Rev: 59920 / Revision: 64395
Last Changed Date: 2011-10-31 15:59:03 -0700
wilson2 Linux (openSUSE 11.4) / x86_64  ERROR  skipped 
moscato1 Windows Server 2008 R2 Enterprise SP1 (64-bit) / x64  ERROR  skipped  skipped 
pitt Mac OS X Leopard (10.5.8) / i386  ERROR  skipped  skipped 
Package 234/514HostnameOS / ArchBUILDCHECKBUILD BIN
GSEABase 1.16.1
Bioconductor Package Maintainer
Last Changed Rev: 62949 / Revision: 64395
Last Changed Date: 2012-02-20 20:18:40 -0800
wilson2 Linux (openSUSE 11.4) / x86_64  OK  OK 
moscato1 Windows Server 2008 R2 Enterprise SP1 (64-bit) / x64  OK  OK  OK 
pitt Mac OS X Leopard (10.5.8) / i386  OK  OK  OK 
Package 235/514HostnameOS / ArchBUILDCHECKBUILD BIN
GSEAlm 1.14.0
Assaf Oron
Last Changed Rev: 59920 / Revision: 64395
Last Changed Date: 2011-10-31 15:59:03 -0700
wilson2 Linux (openSUSE 11.4) / x86_64  OK  OK 
moscato1 Windows Server 2008 R2 Enterprise SP1 (64-bit) / x64  OK  OK  OK 
pitt Mac OS X Leopard (10.5.8) / i386  OK  OK  OK 
Package 236/514HostnameOS / ArchBUILDCHECKBUILD BIN
GSRI 2.2.0
Julian Gehring
Last Changed Rev: 59920 / Revision: 64395
Last Changed Date: 2011-10-31 15:59:03 -0700
wilson2 Linux (openSUSE 11.4) / x86_64  OK  OK 
moscato1 Windows Server 2008 R2 Enterprise SP1 (64-bit) / x64  OK  OK  OK 
pitt Mac OS X Leopard (10.5.8) / i386  OK  OK  OK 
Package 237/514HostnameOS / ArchBUILDCHECKBUILD BIN
GSVA 1.2.4
Justin Guinney
Last Changed Rev: 61398 / Revision: 64395
Last Changed Date: 2011-12-16 01:46:22 -0800
wilson2 Linux (openSUSE 11.4) / x86_64  OK  OK 
moscato1 Windows Server 2008 R2 Enterprise SP1 (64-bit) / x64  OK  OK  OK 
pitt Mac OS X Leopard (10.5.8) / i386  OK  OK  OK 
Package 238/514HostnameOS / ArchBUILDCHECKBUILD BIN
GWASTools 1.0.0
Stephanie Gogarten
Last Changed Rev: 59920 / Revision: 64395
Last Changed Date: 2011-10-31 15:59:03 -0700
wilson2 Linux (openSUSE 11.4) / x86_64  OK  OK 
moscato1 Windows Server 2008 R2 Enterprise SP1 (64-bit) / x64  OK  OK  OK 
pitt Mac OS X Leopard (10.5.8) / i386  OK  OK  OK 
H  A  B  C  D  E  F  G [H] I  J  K  L  M  N  O  P  Q  R  S  T  U  V  W  X  Y  Z 
Package 239/514HostnameOS / ArchBUILDCHECKBUILD BIN
Harshlight 1.26.0
Maurizio Pellegrino
Last Changed Rev: 59920 / Revision: 64395
Last Changed Date: 2011-10-31 15:59:03 -0700
wilson2 Linux (openSUSE 11.4) / x86_64  OK  OK 
moscato1 Windows Server 2008 R2 Enterprise SP1 (64-bit) / x64  OK  OK  OK 
pitt Mac OS X Leopard (10.5.8) / i386  OK  OK  OK 
Package 240/514HostnameOS / ArchBUILDCHECKBUILD BIN
Heatplus 2.1.0
Alexander Ploner
Last Changed Rev: 61326 / Revision: 64395
Last Changed Date: 2011-12-13 17:01:00 -0800
wilson2 Linux (openSUSE 11.4) / x86_64  OK  OK 
moscato1 Windows Server 2008 R2 Enterprise SP1 (64-bit) / x64  OK  OK  OK 
pitt Mac OS X Leopard (10.5.8) / i386  OK  OK  OK 
Package 241/514HostnameOS / ArchBUILDCHECKBUILD BIN
HELP 1.12.0
Reid F. Thompson
Last Changed Rev: 59920 / Revision: 64395
Last Changed Date: 2011-10-31 15:59:03 -0700
wilson2 Linux (openSUSE 11.4) / x86_64  OK  OK 
moscato1 Windows Server 2008 R2 Enterprise SP1 (64-bit) / x64  OK  OK  OK 
pitt Mac OS X Leopard (10.5.8) / i386  OK  OK  OK 
Package 242/514HostnameOS / ArchBUILDCHECKBUILD BIN
HEM 1.26.0
HyungJun Cho
Last Changed Rev: 59920 / Revision: 64395
Last Changed Date: 2011-10-31 15:59:03 -0700
wilson2 Linux (openSUSE 11.4) / x86_64  OK  OK 
moscato1 Windows Server 2008 R2 Enterprise SP1 (64-bit) / x64  OK  OK  OK 
pitt Mac OS X Leopard (10.5.8) / i386  OK  OK  OK 
Package 243/514HostnameOS / ArchBUILDCHECKBUILD BIN
HilbertVis 1.12.0
Simon Anders
Last Changed Rev: 59920 / Revision: 64395
Last Changed Date: 2011-10-31 15:59:03 -0700
wilson2 Linux (openSUSE 11.4) / x86_64  OK  OK 
moscato1 Windows Server 2008 R2 Enterprise SP1 (64-bit) / x64  OK  OK  OK 
pitt Mac OS X Leopard (10.5.8) / i386 N O T   S U P P O R T E D
Package 244/514HostnameOS / ArchBUILDCHECKBUILD BIN
HilbertVisGUI 1.12.1
Simon Anders
Last Changed Rev: 61745 / Revision: 64395
Last Changed Date: 2012-01-03 12:53:52 -0800
wilson2 Linux (openSUSE 11.4) / x86_64  OK  OK 
moscato1 Windows Server 2008 R2 Enterprise SP1 (64-bit) / x64  OK  OK  OK 
pitt Mac OS X Leopard (10.5.8) / i386  OK  OK  OK 
Package 245/514HostnameOS / ArchBUILDCHECKBUILD BIN
hopach 2.14.0
Katherine S. Pollard
Last Changed Rev: 59920 / Revision: 64395
Last Changed Date: 2011-10-31 15:59:03 -0700
wilson2 Linux (openSUSE 11.4) / x86_64  OK  OK 
moscato1 Windows Server 2008 R2 Enterprise SP1 (64-bit) / x64  OK  OK  OK 
pitt Mac OS X Leopard (10.5.8) / i386  OK  OK  OK 
Package 246/514HostnameOS / ArchBUILDCHECKBUILD BIN
HTqPCR 1.8.0
Heidi Dvinge
Last Changed Rev: 59920 / Revision: 64395
Last Changed Date: 2011-10-31 15:59:03 -0700
wilson2 Linux (openSUSE 11.4) / x86_64  OK  OK 
moscato1 Windows Server 2008 R2 Enterprise SP1 (64-bit) / x64  OK  OK  OK 
pitt Mac OS X Leopard (10.5.8) / i386  OK  OK  OK 
Package 247/514HostnameOS / ArchBUILDCHECKBUILD BIN
HTSanalyzeR 2.6.1
Xin Wang
Last Changed Rev: 62730 / Revision: 64395
Last Changed Date: 2012-02-13 08:50:23 -0800
wilson2 Linux (openSUSE 11.4) / x86_64  OK  OK 
moscato1 Windows Server 2008 R2 Enterprise SP1 (64-bit) / x64  OK  OK  OK 
pitt Mac OS X Leopard (10.5.8) / i386  OK  OK  OK 
Package 248/514HostnameOS / ArchBUILDCHECKBUILD BIN
htSeqTools 1.0.0
Oscar Reina
Last Changed Rev: 59920 / Revision: 64395
Last Changed Date: 2011-10-31 15:59:03 -0700
wilson2 Linux (openSUSE 11.4) / x86_64  OK  OK 
moscato1 Windows Server 2008 R2 Enterprise SP1 (64-bit) / x64  OK  OK  OK 
pitt Mac OS X Leopard (10.5.8) / i386  OK  OK  OK 
Package 249/514HostnameOS / ArchBUILDCHECKBUILD BIN
hyperdraw 1.6.0
Paul Murrell
Last Changed Rev: 59920 / Revision: 64395
Last Changed Date: 2011-10-31 15:59:03 -0700
wilson2 Linux (openSUSE 11.4) / x86_64  OK  OK 
moscato1 Windows Server 2008 R2 Enterprise SP1 (64-bit) / x64  OK  OK  OK 
pitt Mac OS X Leopard (10.5.8) / i386  OK  OK  OK 
Package 250/514HostnameOS / ArchBUILDCHECKBUILD BIN
hypergraph 1.26.0
Bioconductor Package Maintainer
Last Changed Rev: 59920 / Revision: 64395
Last Changed Date: 2011-10-31 15:59:03 -0700
wilson2 Linux (openSUSE 11.4) / x86_64  OK  OK 
moscato1 Windows Server 2008 R2 Enterprise SP1 (64-bit) / x64  OK  OK  OK 
pitt Mac OS X Leopard (10.5.8) / i386  OK  OK  OK 
I  A  B  C  D  E  F  G  H [I] J  K  L  M  N  O  P  Q  R  S  T  U  V  W  X  Y  Z 
Package 251/514HostnameOS / ArchBUILDCHECKBUILD BIN
ibh 1.2.0
Kircicegi Korkmaz
Last Changed Rev: 59920 / Revision: 64395
Last Changed Date: 2011-10-31 15:59:03 -0700
wilson2 Linux (openSUSE 11.4) / x86_64  OK  OK 
moscato1 Windows Server 2008 R2 Enterprise SP1 (64-bit) / x64  OK  OK  OK 
pitt Mac OS X Leopard (10.5.8) / i386  OK  OK  OK 
Package 252/514HostnameOS / ArchBUILDCHECKBUILD BIN
Icens 1.26.0
Bioconductor Package Maintainer
Last Changed Rev: 59920 / Revision: 64395
Last Changed Date: 2011-10-31 15:59:03 -0700
wilson2 Linux (openSUSE 11.4) / x86_64  OK  OK 
moscato1 Windows Server 2008 R2 Enterprise SP1 (64-bit) / x64  OK  OK  OK 
pitt Mac OS X Leopard (10.5.8) / i386  OK  OK  OK 
Package 253/514HostnameOS / ArchBUILDCHECKBUILD BIN
iChip 1.8.0
Qianxing Mo
Last Changed Rev: 59920 / Revision: 64395
Last Changed Date: 2011-10-31 15:59:03 -0700
wilson2 Linux (openSUSE 11.4) / x86_64  OK  OK 
moscato1 Windows Server 2008 R2 Enterprise SP1 (64-bit) / x64  OK  OK  OK 
pitt Mac OS X Leopard (10.5.8) / i386  OK  OK  OK 
Package 254/514HostnameOS / ArchBUILDCHECKBUILD BIN
idiogram 1.30.0
Karl J. Dykema
Last Changed Rev: 59920 / Revision: 64395
Last Changed Date: 2011-10-31 15:59:03 -0700
wilson2 Linux (openSUSE 11.4) / x86_64  OK  OK 
moscato1 Windows Server 2008 R2 Enterprise SP1 (64-bit) / x64  OK  OK  OK 
pitt Mac OS X Leopard (10.5.8) / i386  OK  OK  OK 
Package 255/514HostnameOS / ArchBUILDCHECKBUILD BIN
IdMappingRetrieval 1.0.0
Alex Lisovich , Roger Day
Last Changed Rev: 59920 / Revision: 64395
Last Changed Date: 2011-10-31 15:59:03 -0700
wilson2 Linux (openSUSE 11.4) / x86_64  OK  OK 
moscato1 Windows Server 2008 R2 Enterprise SP1 (64-bit) / x64  OK  OK  OK 
pitt Mac OS X Leopard (10.5.8) / i386 N O T   S U P P O R T E D
Package 256/514HostnameOS / ArchBUILDCHECKBUILD BIN
iFlow 2.6.0
Kyongryun Lee
Last Changed Rev: 59920 / Revision: 64395
Last Changed Date: 2011-10-31 15:59:03 -0700
wilson2 Linux (openSUSE 11.4) / x86_64  OK  WARNINGS 
moscato1 Windows Server 2008 R2 Enterprise SP1 (64-bit) / x64 N O T   S U P P O R T E D
pitt Mac OS X Leopard (10.5.8) / i386  OK  WARNINGS  OK 
Package 257/514HostnameOS / ArchBUILDCHECKBUILD BIN
imageHTS 1.4.0
Gregoire Pau
Last Changed Rev: 59920 / Revision: 64395
Last Changed Date: 2011-10-31 15:59:03 -0700
wilson2 Linux (openSUSE 11.4) / x86_64  OK  OK 
moscato1 Windows Server 2008 R2 Enterprise SP1 (64-bit) / x64  OK  OK  OK 
pitt Mac OS X Leopard (10.5.8) / i386 N O T   S U P P O R T E D
Package 258/514HostnameOS / ArchBUILDCHECKBUILD BIN
impute 1.28.0
Balasubramanian Narasimhan
Last Changed Rev: 59920 / Revision: 64395
Last Changed Date: 2011-10-31 15:59:03 -0700
wilson2 Linux (openSUSE 11.4) / x86_64  OK  OK 
moscato1 Windows Server 2008 R2 Enterprise SP1 (64-bit) / x64  OK  OK  OK 
pitt Mac OS X Leopard (10.5.8) / i386  OK  OK  OK 
Package 259/514HostnameOS / ArchBUILDCHECKBUILD BIN
inSilicoDb 1.2.0
Jonatan Taminau , David Steenhoff
Last Changed Rev: 62571 / Revision: 64395
Last Changed Date: 2012-02-06 05:14:07 -0800
wilson2 Linux (openSUSE 11.4) / x86_64  OK  OK 
moscato1 Windows Server 2008 R2 Enterprise SP1 (64-bit) / x64  OK  OK  OK 
pitt Mac OS X Leopard (10.5.8) / i386  OK  OK  OK 
Package 260/514HostnameOS / ArchBUILDCHECKBUILD BIN
inveRsion 1.2.0
Alejandro Caceres
Last Changed Rev: 59920 / Revision: 64395
Last Changed Date: 2011-10-31 15:59:03 -0700
wilson2 Linux (openSUSE 11.4) / x86_64  OK  OK 
moscato1 Windows Server 2008 R2 Enterprise SP1 (64-bit) / x64  OK  OK  OK 
pitt Mac OS X Leopard (10.5.8) / i386  OK  OK  OK 
Package 261/514HostnameOS / ArchBUILDCHECKBUILD BIN
iontree 1.0.0
Mingshu Cao
Last Changed Rev: 59920 / Revision: 64395
Last Changed Date: 2011-10-31 15:59:03 -0700
wilson2 Linux (openSUSE 11.4) / x86_64  OK  OK 
moscato1 Windows Server 2008 R2 Enterprise SP1 (64-bit) / x64  OK  OK  OK 
pitt Mac OS X Leopard (10.5.8) / i386 N O T   S U P P O R T E D
Package 262/514HostnameOS / ArchBUILDCHECKBUILD BIN
IPPD 1.2.0
Martin Slawski
Last Changed Rev: 59920 / Revision: 64395
Last Changed Date: 2011-10-31 15:59:03 -0700
wilson2 Linux (openSUSE 11.4) / x86_64  OK  OK 
moscato1 Windows Server 2008 R2 Enterprise SP1 (64-bit) / x64  OK  OK  OK 
pitt Mac OS X Leopard (10.5.8) / i386  OK  OK  OK 
Package 263/514HostnameOS / ArchBUILDCHECKBUILD BIN
IRanges 1.12.6
Bioconductor Package Maintainer
Last Changed Rev: 62588 / Revision: 64395
Last Changed Date: 2012-02-06 13:54:38 -0800
wilson2 Linux (openSUSE 11.4) / x86_64  OK  WARNINGS 
moscato1 Windows Server 2008 R2 Enterprise SP1 (64-bit) / x64  OK  WARNINGS  OK 
pitt Mac OS X Leopard (10.5.8) / i386  OK  WARNINGS  OK 
Package 264/514HostnameOS / ArchBUILDCHECKBUILD BIN
iSeq 1.6.0
Qianxing Mo
Last Changed Rev: 59920 / Revision: 64395
Last Changed Date: 2011-10-31 15:59:03 -0700
wilson2 Linux (openSUSE 11.4) / x86_64  OK  OK 
moscato1 Windows Server 2008 R2 Enterprise SP1 (64-bit) / x64  OK  OK  OK 
pitt Mac OS X Leopard (10.5.8) / i386  OK  OK  OK 
Package 265/514HostnameOS / ArchBUILDCHECKBUILD BIN
isobar 1.1.1
Florian P Breitwieser
Last Changed Rev: 63217 / Revision: 64395
Last Changed Date: 2012-02-27 01:59:07 -0800
wilson2 Linux (openSUSE 11.4) / x86_64  OK  OK 
moscato1 Windows Server 2008 R2 Enterprise SP1 (64-bit) / x64  OK  OK  OK 
pitt Mac OS X Leopard (10.5.8) / i386  OK  OK  OK 
Package 266/514HostnameOS / ArchBUILDCHECKBUILD BIN
IsoGeneGUI 1.6.0
Setia Pramana
Last Changed Rev: 59920 / Revision: 64395
Last Changed Date: 2011-10-31 15:59:03 -0700
wilson2 Linux (openSUSE 11.4) / x86_64  OK  OK 
moscato1 Windows Server 2008 R2 Enterprise SP1 (64-bit) / x64  OK  OK  OK 
pitt Mac OS X Leopard (10.5.8) / i386  OK  OK  OK 
Package 267/514HostnameOS / ArchBUILDCHECKBUILD BIN
ITALICS 2.14.0
Guillem Rigaill
Last Changed Rev: 59920 / Revision: 64395
Last Changed Date: 2011-10-31 15:59:03 -0700
wilson2 Linux (openSUSE 11.4) / x86_64  OK  OK 
moscato1 Windows Server 2008 R2 Enterprise SP1 (64-bit) / x64  OK  OK  OK 
pitt Mac OS X Leopard (10.5.8) / i386  OK  OK  OK 
Package 268/514HostnameOS / ArchBUILDCHECKBUILD BIN
iterativeBMA 1.12.0
Ka Yee Yeung
Last Changed Rev: 59920 / Revision: 64395
Last Changed Date: 2011-10-31 15:59:03 -0700
wilson2 Linux (openSUSE 11.4) / x86_64  OK  OK 
moscato1 Windows Server 2008 R2 Enterprise SP1 (64-bit) / x64  OK  OK  OK 
pitt Mac OS X Leopard (10.5.8) / i386  OK  OK  OK 
Package 269/514HostnameOS / ArchBUILDCHECKBUILD BIN
iterativeBMAsurv 1.12.0
Ka Yee Yeung
Last Changed Rev: 59920 / Revision: 64395
Last Changed Date: 2011-10-31 15:59:03 -0700
wilson2 Linux (openSUSE 11.4) / x86_64  OK  OK 
moscato1 Windows Server 2008 R2 Enterprise SP1 (64-bit) / x64  OK  OK  OK 
pitt Mac OS X Leopard (10.5.8) / i386  OK  OK  OK 
J  A  B  C  D  E  F  G  H  I [J] K  L  M  N  O  P  Q  R  S  T  U  V  W  X  Y  Z 
Package 270/514HostnameOS / ArchBUILDCHECKBUILD BIN
joda 1.2.0
Ewa Szczurek
Last Changed Rev: 59920 / Revision: 64395
Last Changed Date: 2011-10-31 15:59:03 -0700
wilson2 Linux (openSUSE 11.4) / x86_64  OK  OK 
moscato1 Windows Server 2008 R2 Enterprise SP1 (64-bit) / x64  OK  OK  OK 
pitt Mac OS X Leopard (10.5.8) / i386  OK  OK  OK 
K  A  B  C  D  E  F  G  H  I  J [K] L  M  N  O  P  Q  R  S  T  U  V  W  X  Y  Z 
Package 271/514HostnameOS / ArchBUILDCHECKBUILD BIN
KCsmart 2.12.0
Jorma de Ronde
Last Changed Rev: 59920 / Revision: 64395
Last Changed Date: 2011-10-31 15:59:03 -0700
wilson2 Linux (openSUSE 11.4) / x86_64  OK  OK 
moscato1 Windows Server 2008 R2 Enterprise SP1 (64-bit) / x64  OK  OK  OK 
pitt Mac OS X Leopard (10.5.8) / i386  OK  OK  OK 
Package 272/514HostnameOS / ArchBUILDCHECKBUILD BIN
KEGGgraph 1.10.0
Jitao David Zhang
Last Changed Rev: 59920 / Revision: 64395
Last Changed Date: 2011-10-31 15:59:03 -0700
wilson2 Linux (openSUSE 11.4) / x86_64  OK  OK 
moscato1 Windows Server 2008 R2 Enterprise SP1 (64-bit) / x64  OK  OK  OK 
pitt Mac OS X Leopard (10.5.8) / i386  OK  OK  OK 
Package 273/514HostnameOS / ArchBUILDCHECKBUILD BIN
keggorthology 2.6.0
VJ Carey
Last Changed Rev: 59920 / Revision: 64395
Last Changed Date: 2011-10-31 15:59:03 -0700
wilson2 Linux (openSUSE 11.4) / x86_64  OK  OK 
moscato1 Windows Server 2008 R2 Enterprise SP1 (64-bit) / x64  OK  OK  OK 
pitt Mac OS X Leopard (10.5.8) / i386  OK  OK  OK 
Package 274/514HostnameOS / ArchBUILDCHECKBUILD BIN
KEGGSOAP 1.28.0
Bioconductor Package Maintainer
Last Changed Rev: 59920 / Revision: 64395
Last Changed Date: 2011-10-31 15:59:03 -0700
wilson2 Linux (openSUSE 11.4) / x86_64  OK  OK 
moscato1 Windows Server 2008 R2 Enterprise SP1 (64-bit) / x64  OK  OK  OK 
pitt Mac OS X Leopard (10.5.8) / i386  OK  OK  OK 
L  A  B  C  D  E  F  G  H  I  J  K [L] M  N  O  P  Q  R  S  T  U  V  W  X  Y  Z 
Package 275/514HostnameOS / ArchBUILDCHECKBUILD BIN
lapmix 1.20.0
Yann Ruffieux
Last Changed Rev: 59920 / Revision: 64395
Last Changed Date: 2011-10-31 15:59:03 -0700
wilson2 Linux (openSUSE 11.4) / x86_64  OK  OK 
moscato1 Windows Server 2008 R2 Enterprise SP1 (64-bit) / x64  OK  OK  OK 
pitt Mac OS X Leopard (10.5.8) / i386  OK  OK  OK 
Package 276/514HostnameOS / ArchBUILDCHECKBUILD BIN
LBE 1.22.0
Cyril Dalmasso
Last Changed Rev: 59920 / Revision: 64395
Last Changed Date: 2011-10-31 15:59:03 -0700
wilson2 Linux (openSUSE 11.4) / x86_64  OK  OK 
moscato1 Windows Server 2008 R2 Enterprise SP1 (64-bit) / x64  OK  OK  OK 
pitt Mac OS X Leopard (10.5.8) / i386  OK  OK  OK 
Package 277/514HostnameOS / ArchBUILDCHECKBUILD BIN
les 1.4.0
Julian Gehring
Last Changed Rev: 59920 / Revision: 64395
Last Changed Date: 2011-10-31 15:59:03 -0700
wilson2 Linux (openSUSE 11.4) / x86_64  OK  OK 
moscato1 Windows Server 2008 R2 Enterprise SP1 (64-bit) / x64  OK  OK  OK 
pitt Mac OS X Leopard (10.5.8) / i386  OK  OK  OK 
Package 278/514HostnameOS / ArchBUILDCHECKBUILD BIN
limma 3.10.3
Gordon Smyth
Last Changed Rev: 63378 / Revision: 64395
Last Changed Date: 2012-03-02 15:24:56 -0800
wilson2 Linux (openSUSE 11.4) / x86_64  OK  WARNINGS 
moscato1 Windows Server 2008 R2 Enterprise SP1 (64-bit) / x64  OK  WARNINGS  OK 
pitt Mac OS X Leopard (10.5.8) / i386  OK  WARNINGS  OK 
Package 279/514HostnameOS / ArchBUILDCHECKBUILD BIN
limmaGUI 1.30.0
Keith Satterley
Last Changed Rev: 59920 / Revision: 64395
Last Changed Date: 2011-10-31 15:59:03 -0700
wilson2 Linux (openSUSE 11.4) / x86_64  OK  OK 
moscato1 Windows Server 2008 R2 Enterprise SP1 (64-bit) / x64  OK  OK  OK 
pitt Mac OS X Leopard (10.5.8) / i386  OK  OK  OK 
Package 280/514HostnameOS / ArchBUILDCHECKBUILD BIN
LiquidAssociation 1.8.0
Yen-Yi Ho
Last Changed Rev: 59920 / Revision: 64395
Last Changed Date: 2011-10-31 15:59:03 -0700
wilson2 Linux (openSUSE 11.4) / x86_64  OK  OK 
moscato1 Windows Server 2008 R2 Enterprise SP1 (64-bit) / x64  OK  OK  OK 
pitt Mac OS X Leopard (10.5.8) / i386  OK  OK  OK 
Package 281/514HostnameOS / ArchBUILDCHECKBUILD BIN
LMGene 2.10.0
Blythe Durbin-Johnson
Last Changed Rev: 59920 / Revision: 64395
Last Changed Date: 2011-10-31 15:59:03 -0700
wilson2 Linux (openSUSE 11.4) / x86_64  OK  OK 
moscato1 Windows Server 2008 R2 Enterprise SP1 (64-bit) / x64  OK  OK  OK 
pitt Mac OS X Leopard (10.5.8) / i386  OK  OK  OK 
Package 282/514HostnameOS / ArchBUILDCHECKBUILD BIN
logicFS 1.24.0
Holger Schwender
Last Changed Rev: 59920 / Revision: 64395
Last Changed Date: 2011-10-31 15:59:03 -0700
wilson2 Linux (openSUSE 11.4) / x86_64  OK  OK 
moscato1 Windows Server 2008 R2 Enterprise SP1 (64-bit) / x64  OK  OK  OK 
pitt Mac OS X Leopard (10.5.8) / i386 N O T   S U P P O R T E D
Package 283/514HostnameOS / ArchBUILDCHECKBUILD BIN
logitT 1.12.0
Tobias Guennel
Last Changed Rev: 59920 / Revision: 64395
Last Changed Date: 2011-10-31 15:59:03 -0700
wilson2 Linux (openSUSE 11.4) / x86_64  OK  OK 
moscato1 Windows Server 2008 R2 Enterprise SP1 (64-bit) / x64  OK  OK  OK 
pitt Mac OS X Leopard (10.5.8) / i386  OK  OK  OK 
Package 284/514HostnameOS / ArchBUILDCHECKBUILD BIN
lol 1.2.0
Yinyin Yuan
Last Changed Rev: 59920 / Revision: 64395
Last Changed Date: 2011-10-31 15:59:03 -0700
wilson2 Linux (openSUSE 11.4) / x86_64  OK  OK 
moscato1 Windows Server 2008 R2 Enterprise SP1 (64-bit) / x64  OK  OK  OK 
pitt Mac OS X Leopard (10.5.8) / i386  OK  OK  OK 
Package 285/514HostnameOS / ArchBUILDCHECKBUILD BIN
LPE 1.28.0
Nitin Jain
Last Changed Rev: 59920 / Revision: 64395
Last Changed Date: 2011-10-31 15:59:03 -0700
wilson2 Linux (openSUSE 11.4) / x86_64  OK  OK 
moscato1 Windows Server 2008 R2 Enterprise SP1 (64-bit) / x64  OK  OK  OK 
pitt Mac OS X Leopard (10.5.8) / i386  OK  OK  OK 
Package 286/514HostnameOS / ArchBUILDCHECKBUILD BIN
LPEadj 1.14.0
Carl Murie
Last Changed Rev: 59920 / Revision: 64395
Last Changed Date: 2011-10-31 15:59:03 -0700
wilson2 Linux (openSUSE 11.4) / x86_64  OK  OK 
moscato1 Windows Server 2008 R2 Enterprise SP1 (64-bit) / x64  OK  OK  OK 
pitt Mac OS X Leopard (10.5.8) / i386  OK  OK  OK 
Package 287/514HostnameOS / ArchBUILDCHECKBUILD BIN
lumi 2.6.0
Pan Du
Last Changed Rev: 59920 / Revision: 64395
Last Changed Date: 2011-10-31 15:59:03 -0700
wilson2 Linux (openSUSE 11.4) / x86_64  OK  OK 
moscato1 Windows Server 2008 R2 Enterprise SP1 (64-bit) / x64  OK  OK  OK 
pitt Mac OS X Leopard (10.5.8) / i386  OK  OK  OK 
Package 288/514HostnameOS / ArchBUILDCHECKBUILD BIN
LVSmiRNA 1.4.0
Stefano Calza
Last Changed Rev: 59920 / Revision: 64395
Last Changed Date: 2011-10-31 15:59:03 -0700
wilson2 Linux (openSUSE 11.4) / x86_64  OK  OK 
moscato1 Windows Server 2008 R2 Enterprise SP1 (64-bit) / x64  OK  OK  OK 
pitt Mac OS X Leopard (10.5.8) / i386  OK  OK  OK 
M  A  B  C  D  E  F  G  H  I  J  K  L [M] N  O  P  Q  R  S  T  U  V  W  X  Y  Z 
Package 289/514HostnameOS / ArchBUILDCHECKBUILD BIN
maanova 1.24.0
Keith Sheppard
Last Changed Rev: 59920 / Revision: 64395
Last Changed Date: 2011-10-31 15:59:03 -0700
wilson2 Linux (openSUSE 11.4) / x86_64  OK  OK 
moscato1 Windows Server 2008 R2 Enterprise SP1 (64-bit) / x64  OK  OK  OK 
pitt Mac OS X Leopard (10.5.8) / i386  OK  OK  OK 
Package 290/514HostnameOS / ArchBUILDCHECKBUILD BIN
macat 1.28.0
Joern Toedling
Last Changed Rev: 59920 / Revision: 64395
Last Changed Date: 2011-10-31 15:59:03 -0700
wilson2 Linux (openSUSE 11.4) / x86_64  OK  OK 
moscato1 Windows Server 2008 R2 Enterprise SP1 (64-bit) / x64  OK  OK  OK 
pitt Mac OS X Leopard (10.5.8) / i386  OK  OK  OK 
Package 291/514HostnameOS / ArchBUILDCHECKBUILD BIN
maCorrPlot 1.24.0
Alexander Ploner
Last Changed Rev: 59920 / Revision: 64395
Last Changed Date: 2011-10-31 15:59:03 -0700
wilson2 Linux (openSUSE 11.4) / x86_64  OK  OK 
moscato1 Windows Server 2008 R2 Enterprise SP1 (64-bit) / x64  OK  OK  OK 
pitt Mac OS X Leopard (10.5.8) / i386  OK  OK  OK 
Package 292/514HostnameOS / ArchBUILDCHECKBUILD BIN
maDB 1.26.0
Johannes Rainer
Last Changed Rev: 59920 / Revision: 64395
Last Changed Date: 2011-10-31 15:59:03 -0700
wilson2 Linux (openSUSE 11.4) / x86_64  OK  OK 
moscato1 Windows Server 2008 R2 Enterprise SP1 (64-bit) / x64 N O T   S U P P O R T E D
pitt Mac OS X Leopard (10.5.8) / i386  OK  OK  OK 
Package 293/514HostnameOS / ArchBUILDCHECKBUILD BIN
made4 1.28.0
Aedin Culhane
Last Changed Rev: 59920 / Revision: 64395
Last Changed Date: 2011-10-31 15:59:03 -0700
wilson2 Linux (openSUSE 11.4) / x86_64  OK  OK 
moscato1 Windows Server 2008 R2 Enterprise SP1 (64-bit) / x64  OK  OK  OK 
pitt Mac OS X Leopard (10.5.8) / i386  OK  OK  OK 
Package 294/514HostnameOS / ArchBUILDCHECKBUILD BIN
maigesPack 1.18.0
Gustavo H. Esteves
Last Changed Rev: 59920 / Revision: 64395
Last Changed Date: 2011-10-31 15:59:03 -0700
wilson2 Linux (openSUSE 11.4) / x86_64  OK  OK 
moscato1 Windows Server 2008 R2 Enterprise SP1 (64-bit) / x64  OK  OK  OK 
pitt Mac OS X Leopard (10.5.8) / i386  OK  OK  OK 
Package 295/514HostnameOS / ArchBUILDCHECKBUILD BIN
makecdfenv 1.32.0
James W. MacDonald
Last Changed Rev: 59920 / Revision: 64395
Last Changed Date: 2011-10-31 15:59:03 -0700
wilson2 Linux (openSUSE 11.4) / x86_64  OK  OK 
moscato1 Windows Server 2008 R2 Enterprise SP1 (64-bit) / x64  OK  OK  OK 
pitt Mac OS X Leopard (10.5.8) / i386  OK  OK  OK 
Package 296/514HostnameOS / ArchBUILDCHECKBUILD BIN
MANOR 1.26.0
Pierre Neuvial
Last Changed Rev: 59920 / Revision: 64395
Last Changed Date: 2011-10-31 15:59:03 -0700
wilson2 Linux (openSUSE 11.4) / x86_64  OK  OK 
moscato1 Windows Server 2008 R2 Enterprise SP1 (64-bit) / x64  OK  OK  OK 
pitt Mac OS X Leopard (10.5.8) / i386  OK  OK  OK 
Package 297/514HostnameOS / ArchBUILDCHECKBUILD BIN
MantelCorr 1.24.0
Brian Steinmeyer
Last Changed Rev: 59920 / Revision: 64395
Last Changed Date: 2011-10-31 15:59:03 -0700
wilson2 Linux (openSUSE 11.4) / x86_64  OK  OK 
moscato1 Windows Server 2008 R2 Enterprise SP1 (64-bit) / x64  OK  OK  OK 
pitt Mac OS X Leopard (10.5.8) / i386  OK  OK  OK 
Package 298/514HostnameOS / ArchBUILDCHECKBUILD BIN
marray 1.32.0
Yee Hwa (Jean) Yang
Last Changed Rev: 59920 / Revision: 64395
Last Changed Date: 2011-10-31 15:59:03 -0700
wilson2 Linux (openSUSE 11.4) / x86_64  OK  OK 
moscato1 Windows Server 2008 R2 Enterprise SP1 (64-bit) / x64  OK  OK  OK 
pitt Mac OS X Leopard (10.5.8) / i386  OK  OK  OK 
Package 299/514HostnameOS / ArchBUILDCHECKBUILD BIN
maSigPro 1.26.0
Maria Jose Nueda
Last Changed Rev: 59920 / Revision: 64395
Last Changed Date: 2011-10-31 15:59:03 -0700
wilson2 Linux (openSUSE 11.4) / x86_64  OK  OK 
moscato1 Windows Server 2008 R2 Enterprise SP1 (64-bit) / x64  OK  OK  OK 
pitt Mac OS X Leopard (10.5.8) / i386  OK  OK  OK 
Package 300/514HostnameOS / ArchBUILDCHECKBUILD BIN
MassArray 1.6.0
Reid F. Thompson
Last Changed Rev: 59920 / Revision: 64395
Last Changed Date: 2011-10-31 15:59:03 -0700
wilson2 Linux (openSUSE 11.4) / x86_64  OK  OK 
moscato1 Windows Server 2008 R2 Enterprise SP1 (64-bit) / x64  OK  OK  OK 
pitt Mac OS X Leopard (10.5.8) / i386  OK  OK  OK 
Package 301/514HostnameOS / ArchBUILDCHECKBUILD BIN
MassSpecWavelet 1.20.0
Pan Du
Last Changed Rev: 59920 / Revision: 64395
Last Changed Date: 2011-10-31 15:59:03 -0700
wilson2 Linux (openSUSE 11.4) / x86_64  OK  OK 
moscato1 Windows Server 2008 R2 Enterprise SP1 (64-bit) / x64  OK  OK  OK 
pitt Mac OS X Leopard (10.5.8) / i386  OK  OK  OK 
Package 302/514HostnameOS / ArchBUILDCHECKBUILD BIN
MBCB 1.8.0
Jeff Allen
Last Changed Rev: 59920 / Revision: 64395
Last Changed Date: 2011-10-31 15:59:03 -0700
wilson2 Linux (openSUSE 11.4) / x86_64  OK  OK 
moscato1 Windows Server 2008 R2 Enterprise SP1 (64-bit) / x64  OK  OK  OK 
pitt Mac OS X Leopard (10.5.8) / i386  OK  OK  OK 
Package 303/514HostnameOS / ArchBUILDCHECKBUILD BIN
mBPCR 1.8.0
P.M.V. Rancoita
Last Changed Rev: 59920 / Revision: 64395
Last Changed Date: 2011-10-31 15:59:03 -0700
wilson2 Linux (openSUSE 11.4) / x86_64  OK  OK 
moscato1 Windows Server 2008 R2 Enterprise SP1 (64-bit) / x64  OK  OK  OK 
pitt Mac OS X Leopard (10.5.8) / i386  OK  OK  OK 
Package 304/514HostnameOS / ArchBUILDCHECKBUILD BIN
mcaGUI 1.2.0
Wade K. Copeland
Last Changed Rev: 59920 / Revision: 64395
Last Changed Date: 2011-10-31 15:59:03 -0700
wilson2 Linux (openSUSE 11.4) / x86_64  OK  OK 
moscato1 Windows Server 2008 R2 Enterprise SP1 (64-bit) / x64  OK  OK  OK 
pitt Mac OS X Leopard (10.5.8) / i386  OK  OK  OK 
Package 305/514HostnameOS / ArchBUILDCHECKBUILD BIN
MCRestimate 2.10.0
Marc Johannes
Last Changed Rev: 59920 / Revision: 64395
Last Changed Date: 2011-10-31 15:59:03 -0700
wilson2 Linux (openSUSE 11.4) / x86_64  OK  OK 
moscato1 Windows Server 2008 R2 Enterprise SP1 (64-bit) / x64  OK  OK  OK 
pitt Mac OS X Leopard (10.5.8) / i386  OK  OK  OK 
Package 306/514HostnameOS / ArchBUILDCHECKBUILD BIN
mdqc 1.16.0
Gabriela Cohen-Freue
Last Changed Rev: 59920 / Revision: 64395
Last Changed Date: 2011-10-31 15:59:03 -0700
wilson2 Linux (openSUSE 11.4) / x86_64  OK  OK 
moscato1 Windows Server 2008 R2 Enterprise SP1 (64-bit) / x64  OK  OK  OK 
pitt Mac OS X Leopard (10.5.8) / i386  OK  OK  OK 
Package 307/514HostnameOS / ArchBUILDCHECKBUILD BIN
MeasurementError.cor 1.26.0
Beiying Ding
Last Changed Rev: 59920 / Revision: 64395
Last Changed Date: 2011-10-31 15:59:03 -0700
wilson2 Linux (openSUSE 11.4) / x86_64  OK  OK 
moscato1 Windows Server 2008 R2 Enterprise SP1 (64-bit) / x64  OK  OK  OK 
pitt Mac OS X Leopard (10.5.8) / i386  OK  OK  OK 
Package 308/514HostnameOS / ArchBUILDCHECKBUILD BIN
MEDIPS 1.4.0
Lukas Chavez
Last Changed Rev: 59920 / Revision: 64395
Last Changed Date: 2011-10-31 15:59:03 -0700
wilson2 Linux (openSUSE 11.4) / x86_64  OK  OK 
moscato1 Windows Server 2008 R2 Enterprise SP1 (64-bit) / x64  OK  OK  OK 
pitt Mac OS X Leopard (10.5.8) / i386  OK  OK  OK 
Package 309/514HostnameOS / ArchBUILDCHECKBUILD BIN
MEDME 1.14.0
Mattia Pelizzola
Last Changed Rev: 59920 / Revision: 64395
Last Changed Date: 2011-10-31 15:59:03 -0700
wilson2 Linux (openSUSE 11.4) / x86_64  OK  OK 
moscato1 Windows Server 2008 R2 Enterprise SP1 (64-bit) / x64  OK  OK  OK 
pitt Mac OS X Leopard (10.5.8) / i386  OK  OK  OK 
Package 310/514HostnameOS / ArchBUILDCHECKBUILD BIN
MergeMaid 2.26.0
Xiaogang Zhong
Last Changed Rev: 59920 / Revision: 64395
Last Changed Date: 2011-10-31 15:59:03 -0700
wilson2 Linux (openSUSE 11.4) / x86_64  OK  OK 
moscato1 Windows Server 2008 R2 Enterprise SP1 (64-bit) / x64  OK  OK  OK 
pitt Mac OS X Leopard (10.5.8) / i386  OK  OK  OK 
Package 311/514HostnameOS / ArchBUILDCHECKBUILD BIN
metaArray 1.32.0
Hyungwon Choi
Last Changed Rev: 59920 / Revision: 64395
Last Changed Date: 2011-10-31 15:59:03 -0700
wilson2 Linux (openSUSE 11.4) / x86_64  OK  OK 
moscato1 Windows Server 2008 R2 Enterprise SP1 (64-bit) / x64  OK  OK  OK 
pitt Mac OS X Leopard (10.5.8) / i386  OK  OK  OK 
Package 312/514HostnameOS / ArchBUILDCHECKBUILD BIN
metahdep 1.12.0
John R. Stevens
Last Changed Rev: 59920 / Revision: 64395
Last Changed Date: 2011-10-31 15:59:03 -0700
wilson2 Linux (openSUSE 11.4) / x86_64  OK  OK 
moscato1 Windows Server 2008 R2 Enterprise SP1 (64-bit) / x64  OK  OK  OK 
pitt Mac OS X Leopard (10.5.8) / i386  OK  OK  OK 
Package 313/514HostnameOS / ArchBUILDCHECKBUILD BIN
methVisual 1.6.0
Arie Zackay
Last Changed Rev: 59920 / Revision: 64395
Last Changed Date: 2011-10-31 15:59:03 -0700
wilson2 Linux (openSUSE 11.4) / x86_64  OK  OK 
moscato1 Windows Server 2008 R2 Enterprise SP1 (64-bit) / x64  OK  OK  OK 
pitt Mac OS X Leopard (10.5.8) / i386  OK  OK  OK 
Package 314/514HostnameOS / ArchBUILDCHECKBUILD BIN
methylumi 2.0.13
Sean Davis
Last Changed Rev: 62597 / Revision: 64395
Last Changed Date: 2012-02-07 05:39:48 -0800
wilson2 Linux (openSUSE 11.4) / x86_64  OK  WARNINGS 
moscato1 Windows Server 2008 R2 Enterprise SP1 (64-bit) / x64  OK  WARNINGS  OK 
pitt Mac OS X Leopard (10.5.8) / i386  OK  WARNINGS  OK 
Package 315/514HostnameOS / ArchBUILDCHECKBUILD BIN
Mfuzz 2.12.0
Matthias Futschik
Last Changed Rev: 59920 / Revision: 64395
Last Changed Date: 2011-10-31 15:59:03 -0700
wilson2 Linux (openSUSE 11.4) / x86_64  OK  OK 
moscato1 Windows Server 2008 R2 Enterprise SP1 (64-bit) / x64  OK  OK  OK 
pitt Mac OS X Leopard (10.5.8) / i386  OK  OK  OK 
Package 316/514HostnameOS / ArchBUILDCHECKBUILD BIN
mgsa 1.2.0
Sebastian Bauer
Last Changed Rev: 59920 / Revision: 64395
Last Changed Date: 2011-10-31 15:59:03 -0700
wilson2 Linux (openSUSE 11.4) / x86_64  OK  OK 
moscato1 Windows Server 2008 R2 Enterprise SP1 (64-bit) / x64  OK  OK  OK 
pitt Mac OS X Leopard (10.5.8) / i386  OK  OK  OK 
Package 317/514HostnameOS / ArchBUILDCHECKBUILD BIN
MiChip 1.8.0
Jonathon Blake
Last Changed Rev: 59920 / Revision: 64395
Last Changed Date: 2011-10-31 15:59:03 -0700
wilson2 Linux (openSUSE 11.4) / x86_64  OK  OK 
moscato1 Windows Server 2008 R2 Enterprise SP1 (64-bit) / x64  OK  OK  OK 
pitt Mac OS X Leopard (10.5.8) / i386  OK  OK  OK 
Package 318/514HostnameOS / ArchBUILDCHECKBUILD BIN
microRNA 1.12.0
"James F. Reid"
Last Changed Rev: 59920 / Revision: 64395
Last Changed Date: 2011-10-31 15:59:03 -0700
wilson2 Linux (openSUSE 11.4) / x86_64  OK  OK 
moscato1 Windows Server 2008 R2 Enterprise SP1 (64-bit) / x64  OK  OK  OK 
pitt Mac OS X Leopard (10.5.8) / i386  OK  OK  OK 
Package 319/514HostnameOS / ArchBUILDCHECKBUILD BIN
minet 3.8.0
Patrick E. Meyer
Last Changed Rev: 59920 / Revision: 64395
Last Changed Date: 2011-10-31 15:59:03 -0700
wilson2 Linux (openSUSE 11.4) / x86_64  OK  OK 
moscato1 Windows Server 2008 R2 Enterprise SP1 (64-bit) / x64  OK  OK  OK 
pitt Mac OS X Leopard (10.5.8) / i386  OK  OK  OK 
Package 320/514HostnameOS / ArchBUILDCHECKBUILD BIN
minfi 1.0.0
Kasper Daniel Hansen
Last Changed Rev: 59920 / Revision: 64395
Last Changed Date: 2011-10-31 15:59:03 -0700
wilson2 Linux (openSUSE 11.4) / x86_64  OK  OK 
moscato1 Windows Server 2008 R2 Enterprise SP1 (64-bit) / x64  OK  OK  OK 
pitt Mac OS X Leopard (10.5.8) / i386  OK  OK  OK 
Package 321/514HostnameOS / ArchBUILDCHECKBUILD BIN
MiPP 1.26.0
Sukwoo Kim
Last Changed Rev: 59920 / Revision: 64395
Last Changed Date: 2011-10-31 15:59:03 -0700
wilson2 Linux (openSUSE 11.4) / x86_64  OK  OK 
moscato1 Windows Server 2008 R2 Enterprise SP1 (64-bit) / x64  OK  OK  OK 
pitt Mac OS X Leopard (10.5.8) / i386  OK  OK  OK 
Package 322/514HostnameOS / ArchBUILDCHECKBUILD BIN
miRNApath 1.14.0
James M. Ward
Last Changed Rev: 59920 / Revision: 64395
Last Changed Date: 2011-10-31 15:59:03 -0700
wilson2 Linux (openSUSE 11.4) / x86_64  OK  OK 
moscato1 Windows Server 2008 R2 Enterprise SP1 (64-bit) / x64  OK  OK  OK 
pitt Mac OS X Leopard (10.5.8) / i386  OK  OK  OK 
Package 323/514HostnameOS / ArchBUILDCHECKBUILD BIN
MLInterfaces 1.34.2
V. Carey
Last Changed Rev: 61578 / Revision: 64395
Last Changed Date: 2011-12-27 13:10:30 -0800
wilson2 Linux (openSUSE 11.4) / x86_64  OK  OK 
moscato1 Windows Server 2008 R2 Enterprise SP1 (64-bit) / x64  OK  OK  OK 
pitt Mac OS X Leopard (10.5.8) / i386  OK  OK  OK 
Package 324/514HostnameOS / ArchBUILDCHECKBUILD BIN
MLP 1.2.1
Tobias Verbeke
Last Changed Rev: 62074 / Revision: 64395
Last Changed Date: 2012-01-16 02:53:25 -0800
wilson2 Linux (openSUSE 11.4) / x86_64  OK  OK 
moscato1 Windows Server 2008 R2 Enterprise SP1 (64-bit) / x64  OK  OK  OK 
pitt Mac OS X Leopard (10.5.8) / i386  OK  OK  OK 
Package 325/514HostnameOS / ArchBUILDCHECKBUILD BIN
MmPalateMiRNA 1.2.0
Guy Brock
Last Changed Rev: 59920 / Revision: 64395
Last Changed Date: 2011-10-31 15:59:03 -0700
wilson2 Linux (openSUSE 11.4) / x86_64  OK  OK 
moscato1 Windows Server 2008 R2 Enterprise SP1 (64-bit) / x64  OK  OK  OK 
pitt Mac OS X Leopard (10.5.8) / i386  OK  OK  OK 
Package 326/514HostnameOS / ArchBUILDCHECKBUILD BIN
mosaics 1.2.5
Dongjun Chung
Last Changed Rev: 62717 / Revision: 64395
Last Changed Date: 2012-02-11 20:10:34 -0800
wilson2 Linux (openSUSE 11.4) / x86_64  OK  OK 
moscato1 Windows Server 2008 R2 Enterprise SP1 (64-bit) / x64  OK  OK  OK 
pitt Mac OS X Leopard (10.5.8) / i386  OK  OK  OK 
Package 327/514HostnameOS / ArchBUILDCHECKBUILD BIN
MotIV 1.8.1
Eloi Mercier , Raphael Gottardo
Last Changed Rev: 60373 / Revision: 64395
Last Changed Date: 2011-11-15 17:44:53 -0800
wilson2 Linux (openSUSE 11.4) / x86_64  OK  OK 
moscato1 Windows Server 2008 R2 Enterprise SP1 (64-bit) / x64  OK  OK  OK 
pitt Mac OS X Leopard (10.5.8) / i386  OK  OK  OK 
Package 328/514HostnameOS / ArchBUILDCHECKBUILD BIN
MSnbase 1.2.3
Laurent Gatto
Last Changed Rev: 62814 / Revision: 64395
Last Changed Date: 2012-02-16 02:17:01 -0800
wilson2 Linux (openSUSE 11.4) / x86_64  OK  OK 
moscato1 Windows Server 2008 R2 Enterprise SP1 (64-bit) / x64  OK  OK  OK 
pitt Mac OS X Leopard (10.5.8) / i386  OK  OK  OK 
Package 329/514HostnameOS / ArchBUILDCHECKBUILD BIN
Mulcom 1.4.0
Claudio Isella
Last Changed Rev: 59920 / Revision: 64395
Last Changed Date: 2011-10-31 15:59:03 -0700
wilson2 Linux (openSUSE 11.4) / x86_64  OK  OK 
moscato1 Windows Server 2008 R2 Enterprise SP1 (64-bit) / x64  OK  OK  OK 
pitt Mac OS X Leopard (10.5.8) / i386  OK  OK  OK 
Package 330/514HostnameOS / ArchBUILDCHECKBUILD BIN
multiscan 1.14.0
Mizanur Khondoker
Last Changed Rev: 59920 / Revision: 64395
Last Changed Date: 2011-10-31 15:59:03 -0700
wilson2 Linux (openSUSE 11.4) / x86_64  OK  OK 
moscato1 Windows Server 2008 R2 Enterprise SP1 (64-bit) / x64  OK  OK  OK 
pitt Mac OS X Leopard (10.5.8) / i386  OK  OK  OK 
Package 331/514HostnameOS / ArchBUILDCHECKBUILD BIN
multtest 2.10.0
Katherine S. Pollard
Last Changed Rev: 59920 / Revision: 64395
Last Changed Date: 2011-10-31 15:59:03 -0700
wilson2 Linux (openSUSE 11.4) / x86_64  OK  OK 
moscato1 Windows Server 2008 R2 Enterprise SP1 (64-bit) / x64  OK  OK  OK 
pitt Mac OS X Leopard (10.5.8) / i386  OK  OK  OK 
Package 332/514HostnameOS / ArchBUILDCHECKBUILD BIN
MVCClass 1.28.0
Elizabeth Whalen
Last Changed Rev: 59920 / Revision: 64395
Last Changed Date: 2011-10-31 15:59:03 -0700
wilson2 Linux (openSUSE 11.4) / x86_64  OK  OK 
moscato1 Windows Server 2008 R2 Enterprise SP1 (64-bit) / x64  OK  OK  OK 
pitt Mac OS X Leopard (10.5.8) / i386  OK  OK  OK 
Package 333/514HostnameOS / ArchBUILDCHECKBUILD BIN
mzR 1.0.2
Bernd Fischer
Last Changed Rev: 60414 / Revision: 64395
Last Changed Date: 2011-11-16 16:05:53 -0800
wilson2 Linux (openSUSE 11.4) / x86_64  OK  OK 
moscato1 Windows Server 2008 R2 Enterprise SP1 (64-bit) / x64  OK  ERROR  OK 
pitt Mac OS X Leopard (10.5.8) / i386  OK  OK  OK 
N  A  B  C  D  E  F  G  H  I  J  K  L  M [N] O  P  Q  R  S  T  U  V  W  X  Y  Z 
Package 334/514HostnameOS / ArchBUILDCHECKBUILD BIN
ncdfFlow 1.0.5
M. Jiang
Last Changed Rev: 61934 / Revision: 64395
Last Changed Date: 2012-01-09 17:05:57 -0800
wilson2 Linux (openSUSE 11.4) / x86_64  OK  OK 
moscato1 Windows Server 2008 R2 Enterprise SP1 (64-bit) / x64  ERROR  skipped  skipped 
pitt Mac OS X Leopard (10.5.8) / i386  OK  OK  OK 
Package 335/514HostnameOS / ArchBUILDCHECKBUILD BIN
NCIgraph 1.2.0
Laurent Jacob
Last Changed Rev: 59920 / Revision: 64395
Last Changed Date: 2011-10-31 15:59:03 -0700
wilson2 Linux (openSUSE 11.4) / x86_64  OK  OK 
moscato1 Windows Server 2008 R2 Enterprise SP1 (64-bit) / x64  OK  OK  OK 
pitt Mac OS X Leopard (10.5.8) / i386  OK  OK  OK 
Package 336/514HostnameOS / ArchBUILDCHECKBUILD BIN
nem 2.18.0
Holger Froehlich
Last Changed Rev: 59920 / Revision: 64395
Last Changed Date: 2011-10-31 15:59:03 -0700
wilson2 Linux (openSUSE 11.4) / x86_64  OK  OK 
moscato1 Windows Server 2008 R2 Enterprise SP1 (64-bit) / x64  OK  OK  OK 
pitt Mac OS X Leopard (10.5.8) / i386  OK  OK  OK 
Package 337/514HostnameOS / ArchBUILDCHECKBUILD BIN
netresponse 1.6.0
Leo Lahti
Last Changed Rev: 59920 / Revision: 64395
Last Changed Date: 2011-10-31 15:59:03 -0700
wilson2 Linux (openSUSE 11.4) / x86_64  OK  OK 
moscato1 Windows Server 2008 R2 Enterprise SP1 (64-bit) / x64 N O T   S U P P O R T E D
pitt Mac OS X Leopard (10.5.8) / i386  OK  OK  OK 
Package 338/514HostnameOS / ArchBUILDCHECKBUILD BIN
nnNorm 2.18.0
Adi Laurentiu Tarca
Last Changed Rev: 59920 / Revision: 64395
Last Changed Date: 2011-10-31 15:59:03 -0700
wilson2 Linux (openSUSE 11.4) / x86_64  OK  OK 
moscato1 Windows Server 2008 R2 Enterprise SP1 (64-bit) / x64  OK  OK  OK 
pitt Mac OS X Leopard (10.5.8) / i386  OK  OK  OK 
Package 339/514HostnameOS / ArchBUILDCHECKBUILD BIN
NormqPCR 1.0.0
James Perkins
Last Changed Rev: 59920 / Revision: 64395
Last Changed Date: 2011-10-31 15:59:03 -0700
wilson2 Linux (openSUSE 11.4) / x86_64  OK  OK 
moscato1 Windows Server 2008 R2 Enterprise SP1 (64-bit) / x64  OK  OK  OK 
pitt Mac OS X Leopard (10.5.8) / i386  OK  OK  OK 
Package 340/514HostnameOS / ArchBUILDCHECKBUILD BIN
NTW 1.4.0
Yuanhua Liu
Last Changed Rev: 59920 / Revision: 64395
Last Changed Date: 2011-10-31 15:59:03 -0700
wilson2 Linux (openSUSE 11.4) / x86_64  OK  OK 
moscato1 Windows Server 2008 R2 Enterprise SP1 (64-bit) / x64  OK  OK  OK 
pitt Mac OS X Leopard (10.5.8) / i386  OK  OK  OK 
Package 341/514HostnameOS / ArchBUILDCHECKBUILD BIN
nucleR 1.0.0
Oscar Flores
Last Changed Rev: 59920 / Revision: 64395
Last Changed Date: 2011-10-31 15:59:03 -0700
wilson2 Linux (openSUSE 11.4) / x86_64  OK  OK 
moscato1 Windows Server 2008 R2 Enterprise SP1 (64-bit) / x64  OK  OK  OK 
pitt Mac OS X Leopard (10.5.8) / i386  OK  OK  OK 
Package 342/514HostnameOS / ArchBUILDCHECKBUILD BIN
nudge 1.20.0
N. Dean
Last Changed Rev: 59920 / Revision: 64395
Last Changed Date: 2011-10-31 15:59:03 -0700
wilson2 Linux (openSUSE 11.4) / x86_64  OK  OK 
moscato1 Windows Server 2008 R2 Enterprise SP1 (64-bit) / x64  OK  OK  OK 
pitt Mac OS X Leopard (10.5.8) / i386  OK  OK  OK 
Package 343/514HostnameOS / ArchBUILDCHECKBUILD BIN
NuPoP 1.4.0
Ji-Ping Wang
Last Changed Rev: 59920 / Revision: 64395
Last Changed Date: 2011-10-31 15:59:03 -0700
wilson2 Linux (openSUSE 11.4) / x86_64  OK  OK 
moscato1 Windows Server 2008 R2 Enterprise SP1 (64-bit) / x64  OK  OK  OK 
pitt Mac OS X Leopard (10.5.8) / i386  OK  OK  OK 
O  A  B  C  D  E  F  G  H  I  J  K  L  M  N [O] P  Q  R  S  T  U  V  W  X  Y  Z 
Package 344/514HostnameOS / ArchBUILDCHECKBUILD BIN
occugene 1.14.0
Oliver Will
Last Changed Rev: 59920 / Revision: 64395
Last Changed Date: 2011-10-31 15:59:03 -0700
wilson2 Linux (openSUSE 11.4) / x86_64  OK  OK 
moscato1 Windows Server 2008 R2 Enterprise SP1 (64-bit) / x64  OK  OK  OK 
pitt Mac OS X Leopard (10.5.8) / i386  OK  OK  OK 
Package 345/514HostnameOS / ArchBUILDCHECKBUILD BIN
OCplus 1.28.0
Alexander Ploner
Last Changed Rev: 59920 / Revision: 64395
Last Changed Date: 2011-10-31 15:59:03 -0700
wilson2 Linux (openSUSE 11.4) / x86_64  OK  OK 
moscato1 Windows Server 2008 R2 Enterprise SP1 (64-bit) / x64  OK  OK  OK 
pitt Mac OS X Leopard (10.5.8) / i386  OK  OK  OK 
Package 346/514HostnameOS / ArchBUILDCHECKBUILD BIN
oligo 1.18.1
Benilton Carvalho
Last Changed Rev: 61988 / Revision: 64395
Last Changed Date: 2012-01-11 04:55:33 -0800
wilson2 Linux (openSUSE 11.4) / x86_64  OK  WARNINGS 
moscato1 Windows Server 2008 R2 Enterprise SP1 (64-bit) / x64  OK  WARNINGS  OK 
pitt Mac OS X Leopard (10.5.8) / i386  OK  WARNINGS  OK 
Package 347/514HostnameOS / ArchBUILDCHECKBUILD BIN
oligoClasses 1.16.0
Benilton Carvalho and Robert Scharpf
Last Changed Rev: 59920 / Revision: 64395
Last Changed Date: 2011-10-31 15:59:03 -0700
wilson2 Linux (openSUSE 11.4) / x86_64  OK  OK 
moscato1 Windows Server 2008 R2 Enterprise SP1 (64-bit) / x64  OK  OK  OK 
pitt Mac OS X Leopard (10.5.8) / i386  OK  OK  OK 
Package 348/514HostnameOS / ArchBUILDCHECKBUILD BIN
OLIN 1.32.0
Matthias Futschik
Last Changed Rev: 59920 / Revision: 64395
Last Changed Date: 2011-10-31 15:59:03 -0700
wilson2 Linux (openSUSE 11.4) / x86_64  OK  OK 
moscato1 Windows Server 2008 R2 Enterprise SP1 (64-bit) / x64  OK  OK  OK 
pitt Mac OS X Leopard (10.5.8) / i386  OK  OK  OK 
Package 349/514HostnameOS / ArchBUILDCHECKBUILD BIN
OLINgui 1.28.0
Matthias Futschik
Last Changed Rev: 59920 / Revision: 64395
Last Changed Date: 2011-10-31 15:59:03 -0700
wilson2 Linux (openSUSE 11.4) / x86_64  OK  OK 
moscato1 Windows Server 2008 R2 Enterprise SP1 (64-bit) / x64  OK  OK  OK 
pitt Mac OS X Leopard (10.5.8) / i386  OK  OK  OK 
Package 350/514HostnameOS / ArchBUILDCHECKBUILD BIN
oneChannelGUI 1.20.19
Raffaele A Calogero
Last Changed Rev: 62884 / Revision: 64395
Last Changed Date: 2012-02-20 07:00:14 -0800
wilson2 Linux (openSUSE 11.4) / x86_64  OK  OK 
moscato1 Windows Server 2008 R2 Enterprise SP1 (64-bit) / x64  OK  OK  OK 
pitt Mac OS X Leopard (10.5.8) / i386  OK  OK  OK 
Package 351/514HostnameOS / ArchBUILDCHECKBUILD BIN
ontoCAT 1.6.0
Natalja Kurbatova
Last Changed Rev: 59920 / Revision: 64395
Last Changed Date: 2011-10-31 15:59:03 -0700
wilson2 Linux (openSUSE 11.4) / x86_64  OK  OK 
moscato1 Windows Server 2008 R2 Enterprise SP1 (64-bit) / x64  OK  OK  OK 
pitt Mac OS X Leopard (10.5.8) / i386  OK  OK  OK 
Package 352/514HostnameOS / ArchBUILDCHECKBUILD BIN
ontoTools 1.32.0
Vince Carey
Last Changed Rev: 59920 / Revision: 64395
Last Changed Date: 2011-10-31 15:59:03 -0700
wilson2 Linux (openSUSE 11.4) / x86_64  OK  OK 
moscato1 Windows Server 2008 R2 Enterprise SP1 (64-bit) / x64  OK  OK  OK 
pitt Mac OS X Leopard (10.5.8) / i386  OK  OK  OK 
Package 353/514HostnameOS / ArchBUILDCHECKBUILD BIN
OrderedList 1.26.0
Claudio Lottaz
Last Changed Rev: 59920 / Revision: 64395
Last Changed Date: 2011-10-31 15:59:03 -0700
wilson2 Linux (openSUSE 11.4) / x86_64  OK  OK 
moscato1 Windows Server 2008 R2 Enterprise SP1 (64-bit) / x64  OK  OK  OK 
pitt Mac OS X Leopard (10.5.8) / i386  OK  OK  OK 
Package 354/514HostnameOS / ArchBUILDCHECKBUILD BIN
OTUbase 1.4.0
Daniel Beck
Last Changed Rev: 59920 / Revision: 64395
Last Changed Date: 2011-10-31 15:59:03 -0700
wilson2 Linux (openSUSE 11.4) / x86_64  OK  OK 
moscato1 Windows Server 2008 R2 Enterprise SP1 (64-bit) / x64  OK  OK  OK 
pitt Mac OS X Leopard (10.5.8) / i386  OK  OK  OK 
Package 355/514HostnameOS / ArchBUILDCHECKBUILD BIN
OutlierD 1.18.0
Sukwoo Kim
Last Changed Rev: 59920 / Revision: 64395
Last Changed Date: 2011-10-31 15:59:03 -0700
wilson2 Linux (openSUSE 11.4) / x86_64  OK  OK 
moscato1 Windows Server 2008 R2 Enterprise SP1 (64-bit) / x64  OK  OK  OK 
pitt Mac OS X Leopard (10.5.8) / i386  OK  OK  OK 
P  A  B  C  D  E  F  G  H  I  J  K  L  M  N  O [P] Q  R  S  T  U  V  W  X  Y  Z 
Package 356/514HostnameOS / ArchBUILDCHECKBUILD BIN
PAnnBuilder 1.18.0
Li Hong
Last Changed Rev: 59920 / Revision: 64395
Last Changed Date: 2011-10-31 15:59:03 -0700
wilson2 Linux (openSUSE 11.4) / x86_64  OK  OK 
moscato1 Windows Server 2008 R2 Enterprise SP1 (64-bit) / x64  OK  OK  OK 
pitt Mac OS X Leopard (10.5.8) / i386  OK  OK  OK 
Package 357/514HostnameOS / ArchBUILDCHECKBUILD BIN
panp 1.24.0
Peter Warren
Last Changed Rev: 59920 / Revision: 64395
Last Changed Date: 2011-10-31 15:59:03 -0700
wilson2 Linux (openSUSE 11.4) / x86_64  OK  OK 
moscato1 Windows Server 2008 R2 Enterprise SP1 (64-bit) / x64  OK  OK  OK 
pitt Mac OS X Leopard (10.5.8) / i386  OK  OK  OK 
Package 358/514HostnameOS / ArchBUILDCHECKBUILD BIN
PANR 1.0.2
Xin Wang
Last Changed Rev: 64174 / Revision: 64395
Last Changed Date: 2012-03-20 11:30:55 -0700
wilson2 Linux (openSUSE 11.4) / x86_64  OK  OK 
moscato1 Windows Server 2008 R2 Enterprise SP1 (64-bit) / x64  OK  OK  OK 
pitt Mac OS X Leopard (10.5.8) / i386  OK  OK  OK 
Package 359/514HostnameOS / ArchBUILDCHECKBUILD BIN
parody 1.12.0
VJ Carey
Last Changed Rev: 59920 / Revision: 64395
Last Changed Date: 2011-10-31 15:59:03 -0700
wilson2 Linux (openSUSE 11.4) / x86_64  OK  OK 
moscato1 Windows Server 2008 R2 Enterprise SP1 (64-bit) / x64  OK  OK  OK 
pitt Mac OS X Leopard (10.5.8) / i386  OK  OK  OK 
Package 360/514HostnameOS / ArchBUILDCHECKBUILD BIN
pathRender 1.22.0
Li Long
Last Changed Rev: 59920 / Revision: 64395
Last Changed Date: 2011-10-31 15:59:03 -0700
wilson2 Linux (openSUSE 11.4) / x86_64  OK  OK 
moscato1 Windows Server 2008 R2 Enterprise SP1 (64-bit) / x64  OK  OK  OK 
pitt Mac OS X Leopard (10.5.8) / i386  OK  OK  OK 
Package 361/514HostnameOS / ArchBUILDCHECKBUILD BIN
PatientGeneSets 1.4.0
Simina M. Boca
Last Changed Rev: 59920 / Revision: 64395
Last Changed Date: 2011-10-31 15:59:03 -0700
wilson2 Linux (openSUSE 11.4) / x86_64  OK  OK 
moscato1 Windows Server 2008 R2 Enterprise SP1 (64-bit) / x64  OK  OK  OK 
pitt Mac OS X Leopard (10.5.8) / i386  OK  OK  OK 
Package 362/514HostnameOS / ArchBUILDCHECKBUILD BIN
pcaMethods 1.40.0
Wolfram Stacklies
Last Changed Rev: 59920 / Revision: 64395
Last Changed Date: 2011-10-31 15:59:03 -0700
wilson2 Linux (openSUSE 11.4) / x86_64  OK  OK 
moscato1 Windows Server 2008 R2 Enterprise SP1 (64-bit) / x64  OK  OK  OK 
pitt Mac OS X Leopard (10.5.8) / i386  OK  OK  OK 
Package 363/514HostnameOS / ArchBUILDCHECKBUILD BIN
pcot2 1.22.0
Sarah Song
Last Changed Rev: 59920 / Revision: 64395
Last Changed Date: 2011-10-31 15:59:03 -0700
wilson2 Linux (openSUSE 11.4) / x86_64  OK  OK 
moscato1 Windows Server 2008 R2 Enterprise SP1 (64-bit) / x64  OK  OK  OK 
pitt Mac OS X Leopard (10.5.8) / i386  OK  OK  OK 
Package 364/514HostnameOS / ArchBUILDCHECKBUILD BIN
PCpheno 1.16.0
Nolwenn Le Meur
Last Changed Rev: 59920 / Revision: 64395
Last Changed Date: 2011-10-31 15:59:03 -0700
wilson2 Linux (openSUSE 11.4) / x86_64  OK  OK 
moscato1 Windows Server 2008 R2 Enterprise SP1 (64-bit) / x64  OK  OK  OK 
pitt Mac OS X Leopard (10.5.8) / i386  OK  OK  OK 
Package 365/514HostnameOS / ArchBUILDCHECKBUILD BIN
pdInfoBuilder 1.18.0
Benilton Carvalho
Last Changed Rev: 59920 / Revision: 64395
Last Changed Date: 2011-10-31 15:59:03 -0700
wilson2 Linux (openSUSE 11.4) / x86_64  OK  OK 
moscato1 Windows Server 2008 R2 Enterprise SP1 (64-bit) / x64  OK  OK  OK 
pitt Mac OS X Leopard (10.5.8) / i386  OK  OK  OK 
Package 366/514HostnameOS / ArchBUILDCHECKBUILD BIN
pdmclass 1.26.0
James W. MacDonald
Last Changed Rev: 59920 / Revision: 64395
Last Changed Date: 2011-10-31 15:59:03 -0700
wilson2 Linux (openSUSE 11.4) / x86_64  OK  OK 
moscato1 Windows Server 2008 R2 Enterprise SP1 (64-bit) / x64  OK  OK  OK 
pitt Mac OS X Leopard (10.5.8) / i386  OK  OK  OK 
Package 367/514HostnameOS / ArchBUILDCHECKBUILD BIN
PGSEA 1.28.0
Karl Dykema
Last Changed Rev: 59920 / Revision: 64395
Last Changed Date: 2011-10-31 15:59:03 -0700
wilson2 Linux (openSUSE 11.4) / x86_64  OK  OK 
moscato1 Windows Server 2008 R2 Enterprise SP1 (64-bit) / x64  OK  OK  OK 
pitt Mac OS X Leopard (10.5.8) / i386  OK  OK  OK 
Package 368/514HostnameOS / ArchBUILDCHECKBUILD BIN
pgUtils 1.26.0
Johannes Rainer
Last Changed Rev: 59920 / Revision: 64395
Last Changed Date: 2011-10-31 15:59:03 -0700
wilson2 Linux (openSUSE 11.4) / x86_64  OK  OK 
moscato1 Windows Server 2008 R2 Enterprise SP1 (64-bit) / x64 N O T   S U P P O R T E D
pitt Mac OS X Leopard (10.5.8) / i386  OK  OK  OK 
Package 369/514HostnameOS / ArchBUILDCHECKBUILD BIN
phenoDist 1.2.0
Xian Zhang
Last Changed Rev: 59920 / Revision: 64395
Last Changed Date: 2011-10-31 15:59:03 -0700
wilson2 Linux (openSUSE 11.4) / x86_64  OK  OK 
moscato1 Windows Server 2008 R2 Enterprise SP1 (64-bit) / x64  OK  OK  OK 
pitt Mac OS X Leopard (10.5.8) / i386 N O T   S U P P O R T E D
Package 370/514HostnameOS / ArchBUILDCHECKBUILD BIN
phenoTest 1.2.0
Evarist Planet
Last Changed Rev: 59920 / Revision: 64395
Last Changed Date: 2011-10-31 15:59:03 -0700
wilson2 Linux (openSUSE 11.4) / x86_64  OK  OK 
moscato1 Windows Server 2008 R2 Enterprise SP1 (64-bit) / x64  OK  OK  OK 
pitt Mac OS X Leopard (10.5.8) / i386  OK  OK  OK 
Package 371/514HostnameOS / ArchBUILDCHECKBUILD BIN
pickgene 1.26.0
Brian S. Yandell
Last Changed Rev: 59920 / Revision: 64395
Last Changed Date: 2011-10-31 15:59:03 -0700
wilson2 Linux (openSUSE 11.4) / x86_64  OK  OK 
moscato1 Windows Server 2008 R2 Enterprise SP1 (64-bit) / x64  OK  OK  OK 
pitt Mac OS X Leopard (10.5.8) / i386  OK  OK  OK 
Package 372/514HostnameOS / ArchBUILDCHECKBUILD BIN
PICS 1.8.0
Arnaud Droit
Last Changed Rev: 59920 / Revision: 64395
Last Changed Date: 2011-10-31 15:59:03 -0700
wilson2 Linux (openSUSE 11.4) / x86_64  OK  OK 
moscato1 Windows Server 2008 R2 Enterprise SP1 (64-bit) / x64  OK  OK  OK 
pitt Mac OS X Leopard (10.5.8) / i386  OK  OK  OK 
Package 373/514HostnameOS / ArchBUILDCHECKBUILD BIN
pint 1.6.0
Olli-Pekka Huovilainen
Last Changed Rev: 59920 / Revision: 64395
Last Changed Date: 2011-10-31 15:59:03 -0700
wilson2 Linux (openSUSE 11.4) / x86_64  OK  OK 
moscato1 Windows Server 2008 R2 Enterprise SP1 (64-bit) / x64  OK  OK  OK 
pitt Mac OS X Leopard (10.5.8) / i386  OK  OK  OK 
Package 374/514HostnameOS / ArchBUILDCHECKBUILD BIN
pkgDepTools 1.20.0
Seth Falcon
Last Changed Rev: 59920 / Revision: 64395
Last Changed Date: 2011-10-31 15:59:03 -0700
wilson2 Linux (openSUSE 11.4) / x86_64  OK  OK 
moscato1 Windows Server 2008 R2 Enterprise SP1 (64-bit) / x64  OK  OK  OK 
pitt Mac OS X Leopard (10.5.8) / i386  OK  OK  OK 
Package 375/514HostnameOS / ArchBUILDCHECKBUILD BIN
plateCore 1.12.0
Errol Strain
Last Changed Rev: 59920 / Revision: 64395
Last Changed Date: 2011-10-31 15:59:03 -0700
wilson2 Linux (openSUSE 11.4) / x86_64  OK  OK 
moscato1 Windows Server 2008 R2 Enterprise SP1 (64-bit) / x64  OK  OK  OK 
pitt Mac OS X Leopard (10.5.8) / i386  OK  OK  OK 
Package 376/514HostnameOS / ArchBUILDCHECKBUILD BIN
plgem 1.26.0
Norman Pavelka
Last Changed Rev: 59920 / Revision: 64395
Last Changed Date: 2011-10-31 15:59:03 -0700
wilson2 Linux (openSUSE 11.4) / x86_64  OK  OK 
moscato1 Windows Server 2008 R2 Enterprise SP1 (64-bit) / x64  OK  OK  OK 
pitt Mac OS X Leopard (10.5.8) / i386  OK  OK  OK 
Package 377/514HostnameOS / ArchBUILDCHECKBUILD BIN
plier 1.24.0
Crispin Miller
Last Changed Rev: 59920 / Revision: 64395
Last Changed Date: 2011-10-31 15:59:03 -0700
wilson2 Linux (openSUSE 11.4) / x86_64  OK  OK 
moscato1 Windows Server 2008 R2 Enterprise SP1 (64-bit) / x64  OK  OK  OK 
pitt Mac OS X Leopard (10.5.8) / i386  OK  OK  OK 
Package 378/514HostnameOS / ArchBUILDCHECKBUILD BIN
PLPE 1.14.0
Soo-heang Eo
Last Changed Rev: 59920 / Revision: 64395
Last Changed Date: 2011-10-31 15:59:03 -0700
wilson2 Linux (openSUSE 11.4) / x86_64  OK  OK 
moscato1 Windows Server 2008 R2 Enterprise SP1 (64-bit) / x64  OK  OK  OK 
pitt Mac OS X Leopard (10.5.8) / i386  OK  OK  OK 
Package 379/514HostnameOS / ArchBUILDCHECKBUILD BIN
plw 1.14.0
Magnus Astrand
Last Changed Rev: 59920 / Revision: 64395
Last Changed Date: 2011-10-31 15:59:03 -0700
wilson2 Linux (openSUSE 11.4) / x86_64  OK  OK 
moscato1 Windows Server 2008 R2 Enterprise SP1 (64-bit) / x64  OK  OK  OK 
pitt Mac OS X Leopard (10.5.8) / i386  OK  OK  OK 
Package 380/514HostnameOS / ArchBUILDCHECKBUILD BIN
ppiStats 1.20.0
Tony Chiang
Last Changed Rev: 59920 / Revision: 64395
Last Changed Date: 2011-10-31 15:59:03 -0700
wilson2 Linux (openSUSE 11.4) / x86_64  OK  OK 
moscato1 Windows Server 2008 R2 Enterprise SP1 (64-bit) / x64  OK  OK  OK 
pitt Mac OS X Leopard (10.5.8) / i386  OK  OK  OK 
Package 381/514HostnameOS / ArchBUILDCHECKBUILD BIN
prada 1.30.0
Florian Hahne
Last Changed Rev: 59920 / Revision: 64395
Last Changed Date: 2011-10-31 15:59:03 -0700
wilson2 Linux (openSUSE 11.4) / x86_64  OK  OK 
moscato1 Windows Server 2008 R2 Enterprise SP1 (64-bit) / x64  OK  OK  OK 
pitt Mac OS X Leopard (10.5.8) / i386  OK  OK  OK 
Package 382/514HostnameOS / ArchBUILDCHECKBUILD BIN
PREDA 1.0.0
Francesco Ferrari
Last Changed Rev: 59920 / Revision: 64395
Last Changed Date: 2011-10-31 15:59:03 -0700
wilson2 Linux (openSUSE 11.4) / x86_64  OK  OK 
moscato1 Windows Server 2008 R2 Enterprise SP1 (64-bit) / x64  OK  OK  OK 
pitt Mac OS X Leopard (10.5.8) / i386  OK  OK  OK 
Package 383/514HostnameOS / ArchBUILDCHECKBUILD BIN
predictionet 1.0.0
Benjamin Haibe-Kains , Catharina Olsen
Last Changed Rev: 59920 / Revision: 64395
Last Changed Date: 2011-10-31 15:59:03 -0700
wilson2 Linux (openSUSE 11.4) / x86_64  OK  OK 
moscato1 Windows Server 2008 R2 Enterprise SP1 (64-bit) / x64 N O T   S U P P O R T E D
pitt Mac OS X Leopard (10.5.8) / i386  OK  OK  OK 
Package 384/514HostnameOS / ArchBUILDCHECKBUILD BIN
preprocessCore 1.16.0
Benjamin Milo Bolstad
Last Changed Rev: 59920 / Revision: 64395
Last Changed Date: 2011-10-31 15:59:03 -0700
wilson2 Linux (openSUSE 11.4) / x86_64  OK  OK