explorase 1.17.0 Michael Lawrence
Snapshot Date: 2011-07-06 19:21:50 -0700 (Wed, 06 Jul 2011) | URL: https://hedgehog.fhcrc.org/bioconductor/trunk/madman/Rpacks/explorase | Last Changed Rev: 54802 / Revision: 56603 | Last Changed Date: 2011-04-13 15:36:43 -0700 (Wed, 13 Apr 2011) |
| wilson2 | Linux (openSUSE 11.4) / x86_64 | OK | OK | |
liverpool | Windows Server 2003 R2 (32-bit) / x64 | OK | OK | OK |
gewurz | Windows Server 2008 R2 Enterprise (64-bit) / x64 | N O T S U P P O R T E D |
moscato1 | Windows Server 2008 R2 Enterprise (64-bit) / x64 | [ ERROR ] | skipped | skipped |
pitt | Mac OS X Leopard (10.5.8) / i386 | N O T S U P P O R T E D |
* checking for file 'explorase/DESCRIPTION' ... OK
* preparing 'explorase':
* checking DESCRIPTION meta-information ... OK
* installing the package to re-build vignettes
-----------------------------------
* installing *source* package 'explorase' ...
** R
** inst
** preparing package for lazy loading
Error in inDL(x, as.logical(local), as.logical(now), ...) :
unable to load shared object 'D:/biocbld/bbs-2.9-bioc/R/library/RGtk2/libs/i386/RGtk2.dll':
LoadLibrary failure: The specified module could not be found.
Failed to load RGtk2 dynamic library, attempting to install it.
Please install GTK+ from http://ftp.gnome.org/pub/gnome/binaries/win32/gtk+/2.22/gtk+-bundle_2.22.1-20101227_win32.zip
If the package still does not load, please ensure that GTK+ is installed and that it is on your PATH environment variable
IN ANY CASE, RESTART R BEFORE TRYING TO LOAD THE PACKAGE AGAIN
Error in inDL(x, as.logical(local), as.logical(now), ...) :
unable to load shared object 'D:/biocbld/bbs-2.9-bioc/R/library/rggobi/libs/i386/rggobi.dll':
LoadLibrary failure: The specified procedure could not be found.
Error : .onLoad failed in loadNamespace() for 'rggobi', details:
call: fun(...)
error: Could not load the rggobi library - please ensure GGobi is on the library path
ERROR: lazy loading failed for package 'explorase'
* removing 'D:/biocbld/bbs-2.9-bioc/tmpdir/RtmpELtiwf/Rinst28a94def/explorase'
-----------------------------------
ERROR: package installation failed