beadarray 2.3.5 Mark Dunning
Snapshot Date: 2011-07-06 19:21:50 -0700 (Wed, 06 Jul 2011) | URL: https://hedgehog.fhcrc.org/bioconductor/trunk/madman/Rpacks/beadarray | Last Changed Rev: 55910 / Revision: 56603 | Last Changed Date: 2011-05-31 06:49:49 -0700 (Tue, 31 May 2011) |
| wilson2 | Linux (openSUSE 11.4) / x86_64 | OK | OK | |
liverpool | Windows Server 2003 R2 (32-bit) / x64 | OK | OK | [ OK ] |
gewurz | Windows Server 2008 R2 Enterprise (64-bit) / x64 | OK | OK | OK |
moscato1 | Windows Server 2008 R2 Enterprise (64-bit) / x64 | OK | OK | OK |
pitt | Mac OS X Leopard (10.5.8) / i386 | OK | OK | OK |
* installing *source* package 'beadarray' ...
** libs
gcc -I"E:/biocbld/bbs-2.9-bioc/R/include" -O3 -Wall -std=gnu99 -c BASH.c -o BASH.o
gcc -I"E:/biocbld/bbs-2.9-bioc/R/include" -O3 -Wall -std=gnu99 -c HULK.c -o HULK.o
gcc -I"E:/biocbld/bbs-2.9-bioc/R/include" -O3 -Wall -std=gnu99 -c determiningGridPositions.c -o determiningGridPositions.o
gcc -I"E:/biocbld/bbs-2.9-bioc/R/include" -O3 -Wall -std=gnu99 -c findAllOutliers.c -o findAllOutliers.o
findAllOutliers.c: In function 'findBeadStatus':
findAllOutliers.c:155:9: warning: 'm' may be used uninitialized in this function
findAllOutliers.c:155:12: warning: 'ma' may be used uninitialized in this function
findAllOutliers.c: In function 'findAllOutliers':
findAllOutliers.c:226:20: warning: 'status' may be used uninitialized in this function
gcc -I"E:/biocbld/bbs-2.9-bioc/R/include" -O3 -Wall -std=gnu99 -c imageProcessing.c -o imageProcessing.o
imageProcessing.c: In function 'illuminaBackground':
imageProcessing.c:88:0: warning: ignoring #pragma omp parallel
imageProcessing.c: In function 'medianBackground':
imageProcessing.c:135:0: warning: ignoring #pragma omp parallel
imageProcessing.c: In function 'illuminaSharpen':
imageProcessing.c:238:0: warning: ignoring #pragma omp parallel
imageProcessing.c:245:0: warning: ignoring #pragma omp parallel
gcc -shared -s -static-libgcc -o beadarray.dll tmp.def BASH.o HULK.o determiningGridPositions.o findAllOutliers.o imageProcessing.o -LE:/biocbld/bbs-2.9-bioc/R/bin/i386 -lR
installing to E:/biocbld/bbs-2.9-bioc/meat/beadarray.buildbin-libdir/beadarray/libs/i386
** R
** data
** inst
** preparing package for lazy loading
Welcome to Bioconductor
Vignettes contain introductory material. To view, type
'browseVignettes()'. To cite Bioconductor, see
'citation("Biobase")' and for packages 'citation("pkgname")'.
Creating a generic function for "boxplot" from package "graphics" in package "beadarray"
** help
*** installing help indices
** building package indices ...
*** tangling vignette sources ...
'ImageProcessing.rnw'
'beadarray.rnw'
'beadlevel.rnw'
** testing if installed package can be loaded
Welcome to beadarray version 2.3.5
There have been major changes to beadarray since Bioconductor 2.6 (April 2010). Please see package vignette for details
* MD5 sums
packaged installation of 'beadarray' as beadarray_2.3.5.zip
* DONE (beadarray)