EBImage 3.9.7 Gregoire Pau
Snapshot Date: 2011-07-06 19:21:50 -0700 (Wed, 06 Jul 2011) | URL: https://hedgehog.fhcrc.org/bioconductor/trunk/madman/Rpacks/EBImage | Last Changed Rev: 56489 / Revision: 56603 | Last Changed Date: 2011-07-01 02:50:44 -0700 (Fri, 01 Jul 2011) |
| wilson2 | Linux (openSUSE 11.4) / x86_64 | [ OK ] | OK | |
liverpool | Windows Server 2003 R2 (32-bit) / x64 | ERROR | skipped | skipped |
gewurz | Windows Server 2008 R2 Enterprise (64-bit) / x64 | N O T S U P P O R T E D |
moscato1 | Windows Server 2008 R2 Enterprise (64-bit) / x64 | ERROR | skipped | skipped |
pitt | Mac OS X Leopard (10.5.8) / i386 | N O T S U P P O R T E D |
* checking for file ‘EBImage/DESCRIPTION’ ... OK
* preparing ‘EBImage’:
* checking DESCRIPTION meta-information ... OK
* cleaning src
* installing the package to re-build vignettes
* creating vignettes ... OK
* cleaning src
* checking for LF line-endings in source and make files
* checking for empty or unneeded directories
* building ‘EBImage_3.9.7.tar.gz’