wilson2 |
Linux (openSUSE 11.4) / x86_64 | | | |
liverpool |
Windows Server 2003 R2 (32-bit) / x64 | | | |
gewurz |
Windows Server 2008 R2 Enterprise (64-bit) / x64 | | | |
moscato1 |
Windows Server 2008 R2 Enterprise (64-bit) / x64 | | | |
pitt |
Mac OS X Leopard (10.5.8) / i386 | | | |
|
A [A] B C D E F G H I J K L M N O P Q R S T U V W X Y Z |
a4 1.1.2 Tobias Verbeke
Last Changed Rev: 56260 / Revision: 56603 | Last Changed Date: 2011-06-16 18:18:20 -0700 |
| wilson2 | Linux (openSUSE 11.4) / x86_64 | OK | OK | |
liverpool | Windows Server 2003 R2 (32-bit) / x64 | OK | OK | OK |
gewurz | Windows Server 2008 R2 Enterprise (64-bit) / x64 | OK | WARNINGS | OK |
moscato1 | Windows Server 2008 R2 Enterprise (64-bit) / x64 | OK | OK | OK |
pitt | Mac OS X Leopard (10.5.8) / i386 | OK | OK | OK |
a4Base 1.1.3 Tobias Verbeke
Last Changed Rev: 55770 / Revision: 56603 | Last Changed Date: 2011-05-21 07:15:35 -0700 |
| wilson2 | Linux (openSUSE 11.4) / x86_64 | OK | OK | |
liverpool | Windows Server 2003 R2 (32-bit) / x64 | OK | OK | OK |
gewurz | Windows Server 2008 R2 Enterprise (64-bit) / x64 | OK | ERROR | OK |
moscato1 | Windows Server 2008 R2 Enterprise (64-bit) / x64 | OK | ERROR | ERROR |
pitt | Mac OS X Leopard (10.5.8) / i386 | OK | OK | OK |
a4Classif 1.1.3 Tobias Verbeke
Last Changed Rev: 55769 / Revision: 56603 | Last Changed Date: 2011-05-21 07:15:00 -0700 |
| wilson2 | Linux (openSUSE 11.4) / x86_64 | OK | OK | |
liverpool | Windows Server 2003 R2 (32-bit) / x64 | OK | OK | OK |
gewurz | Windows Server 2008 R2 Enterprise (64-bit) / x64 | OK | WARNINGS | OK |
moscato1 | Windows Server 2008 R2 Enterprise (64-bit) / x64 | OK | OK | OK |
pitt | Mac OS X Leopard (10.5.8) / i386 | OK | OK | OK |
a4Core 1.1.3 Tobias Verbeke
Last Changed Rev: 55992 / Revision: 56603 | Last Changed Date: 2011-06-04 08:28:04 -0700 |
| wilson2 | Linux (openSUSE 11.4) / x86_64 | OK | OK | |
liverpool | Windows Server 2003 R2 (32-bit) / x64 | OK | OK | OK |
gewurz | Windows Server 2008 R2 Enterprise (64-bit) / x64 | OK | OK | OK |
moscato1 | Windows Server 2008 R2 Enterprise (64-bit) / x64 | OK | OK | OK |
pitt | Mac OS X Leopard (10.5.8) / i386 | OK | OK | OK |
a4Preproc 1.1.1 Tobias Verbeke
Last Changed Rev: 54832 / Revision: 56603 | Last Changed Date: 2011-04-14 10:40:32 -0700 |
| wilson2 | Linux (openSUSE 11.4) / x86_64 | OK | OK | |
liverpool | Windows Server 2003 R2 (32-bit) / x64 | OK | OK | OK |
gewurz | Windows Server 2008 R2 Enterprise (64-bit) / x64 | OK | OK | OK |
moscato1 | Windows Server 2008 R2 Enterprise (64-bit) / x64 | OK | OK | OK |
pitt | Mac OS X Leopard (10.5.8) / i386 | OK | OK | OK |
a4Reporting 1.1.1 Tobias Verbeke
Last Changed Rev: 56044 / Revision: 56603 | Last Changed Date: 2011-06-08 02:35:33 -0700 |
| wilson2 | Linux (openSUSE 11.4) / x86_64 | OK | OK | |
liverpool | Windows Server 2003 R2 (32-bit) / x64 | OK | OK | OK |
gewurz | Windows Server 2008 R2 Enterprise (64-bit) / x64 | OK | OK | OK |
moscato1 | Windows Server 2008 R2 Enterprise (64-bit) / x64 | OK | OK | OK |
pitt | Mac OS X Leopard (10.5.8) / i386 | OK | OK | OK |
ABarray 1.21.0 Yongming Andrew Sun
Last Changed Rev: 54810 / Revision: 56603 | Last Changed Date: 2011-04-13 18:14:51 -0700 |
| wilson2 | Linux (openSUSE 11.4) / x86_64 | OK | OK | |
liverpool | Windows Server 2003 R2 (32-bit) / x64 | OK | OK | OK |
gewurz | Windows Server 2008 R2 Enterprise (64-bit) / x64 | OK | OK | OK |
moscato1 | Windows Server 2008 R2 Enterprise (64-bit) / x64 | OK | OK | OK |
pitt | Mac OS X Leopard (10.5.8) / i386 | OK | OK | OK |
aCGH 1.31.0 Peter Dimitrov
Last Changed Rev: 54802 / Revision: 56603 | Last Changed Date: 2011-04-13 15:36:43 -0700 |
| wilson2 | Linux (openSUSE 11.4) / x86_64 | OK | OK | |
liverpool | Windows Server 2003 R2 (32-bit) / x64 | OK | OK | OK |
gewurz | Windows Server 2008 R2 Enterprise (64-bit) / x64 | OK | OK | OK |
moscato1 | Windows Server 2008 R2 Enterprise (64-bit) / x64 | OK | OK | OK |
pitt | Mac OS X Leopard (10.5.8) / i386 | OK | OK | OK |
ACME 2.9.1 Sean Davis
Last Changed Rev: 56198 / Revision: 56603 | Last Changed Date: 2011-06-15 03:36:07 -0700 |
| wilson2 | Linux (openSUSE 11.4) / x86_64 | OK | OK | |
liverpool | Windows Server 2003 R2 (32-bit) / x64 | OK | OK | OK |
gewurz | Windows Server 2008 R2 Enterprise (64-bit) / x64 | OK | OK | OK |
moscato1 | Windows Server 2008 R2 Enterprise (64-bit) / x64 | OK | OK | OK |
pitt | Mac OS X Leopard (10.5.8) / i386 | OK | OK | OK |
ADaCGH2 1.3.0 Ramon Diaz-Uriarte
Last Changed Rev: 56008 / Revision: 56603 | Last Changed Date: 2011-06-06 03:29:55 -0700 |
| wilson2 | Linux (openSUSE 11.4) / x86_64 | ERROR | skipped | |
liverpool | Windows Server 2003 R2 (32-bit) / x64 | ERROR | skipped | skipped |
gewurz | Windows Server 2008 R2 Enterprise (64-bit) / x64 | ERROR | skipped | skipped |
moscato1 | Windows Server 2008 R2 Enterprise (64-bit) / x64 | ERROR | skipped | skipped |
pitt | Mac OS X Leopard (10.5.8) / i386 | ERROR | skipped | skipped |
adSplit 1.23.0 Claudio Lottaz
Last Changed Rev: 54802 / Revision: 56603 | Last Changed Date: 2011-04-13 15:36:43 -0700 |
| wilson2 | Linux (openSUSE 11.4) / x86_64 | OK | OK | |
liverpool | Windows Server 2003 R2 (32-bit) / x64 | OK | OK | OK |
gewurz | Windows Server 2008 R2 Enterprise (64-bit) / x64 | OK | OK | OK |
moscato1 | Windows Server 2008 R2 Enterprise (64-bit) / x64 | OK | OK | OK |
pitt | Mac OS X Leopard (10.5.8) / i386 | OK | OK | OK |
affxparser 1.25.0 Kasper Daniel Hansen
Last Changed Rev: 55774 / Revision: 56603 | Last Changed Date: 2011-05-21 12:39:13 -0700 |
| wilson2 | Linux (openSUSE 11.4) / x86_64 | OK | OK | |
liverpool | Windows Server 2003 R2 (32-bit) / x64 | OK | OK | OK |
gewurz | Windows Server 2008 R2 Enterprise (64-bit) / x64 | OK | OK | OK |
moscato1 | Windows Server 2008 R2 Enterprise (64-bit) / x64 | OK | OK | OK |
pitt | Mac OS X Leopard (10.5.8) / i386 | OK | OK | OK |
affy 1.31.2 Rafael A. Irizarry
Last Changed Rev: 56151 / Revision: 56603 | Last Changed Date: 2011-06-13 15:14:15 -0700 |
| wilson2 | Linux (openSUSE 11.4) / x86_64 | OK | OK | |
liverpool | Windows Server 2003 R2 (32-bit) / x64 | OK | OK | OK |
gewurz | Windows Server 2008 R2 Enterprise (64-bit) / x64 | OK | OK | OK |
moscato1 | Windows Server 2008 R2 Enterprise (64-bit) / x64 | OK | OK | OK |
pitt | Mac OS X Leopard (10.5.8) / i386 | OK | OK | OK |
affycomp 1.29.3 Rafael A. Irizarry
Last Changed Rev: 56049 / Revision: 56603 | Last Changed Date: 2011-06-08 10:04:39 -0700 |
| wilson2 | Linux (openSUSE 11.4) / x86_64 | OK | OK | |
liverpool | Windows Server 2003 R2 (32-bit) / x64 | OK | OK | OK |
gewurz | Windows Server 2008 R2 Enterprise (64-bit) / x64 | OK | OK | OK |
moscato1 | Windows Server 2008 R2 Enterprise (64-bit) / x64 | OK | OK | OK |
pitt | Mac OS X Leopard (10.5.8) / i386 | OK | OK | OK |
AffyCompatible 1.13.0 Martin Morgan
Last Changed Rev: 54802 / Revision: 56603 | Last Changed Date: 2011-04-13 15:36:43 -0700 |
| wilson2 | Linux (openSUSE 11.4) / x86_64 | OK | OK | |
liverpool | Windows Server 2003 R2 (32-bit) / x64 | OK | OK | OK |
gewurz | Windows Server 2008 R2 Enterprise (64-bit) / x64 | OK | OK | OK |
moscato1 | Windows Server 2008 R2 Enterprise (64-bit) / x64 | OK | OK | OK |
pitt | Mac OS X Leopard (10.5.8) / i386 | OK | OK | OK |
affyContam 1.11.0 V. Carey
Last Changed Rev: 56090 / Revision: 56603 | Last Changed Date: 2011-06-09 17:02:42 -0700 |
| wilson2 | Linux (openSUSE 11.4) / x86_64 | OK | OK | |
liverpool | Windows Server 2003 R2 (32-bit) / x64 | OK | OK | OK |
gewurz | Windows Server 2008 R2 Enterprise (64-bit) / x64 | OK | OK | OK |
moscato1 | Windows Server 2008 R2 Enterprise (64-bit) / x64 | OK | OK | OK |
pitt | Mac OS X Leopard (10.5.8) / i386 | OK | OK | OK |
affycoretools 1.25.0 James W. MacDonald
Last Changed Rev: 54802 / Revision: 56603 | Last Changed Date: 2011-04-13 15:36:43 -0700 |
| wilson2 | Linux (openSUSE 11.4) / x86_64 | OK | OK | |
liverpool | Windows Server 2003 R2 (32-bit) / x64 | OK | OK | OK |
gewurz | Windows Server 2008 R2 Enterprise (64-bit) / x64 | OK | OK | OK |
moscato1 | Windows Server 2008 R2 Enterprise (64-bit) / x64 | OK | OK | OK |
pitt | Mac OS X Leopard (10.5.8) / i386 | OK | OK | OK |
AffyExpress 1.19.0 Xuejun Arthur Li
Last Changed Rev: 54802 / Revision: 56603 | Last Changed Date: 2011-04-13 15:36:43 -0700 |
| wilson2 | Linux (openSUSE 11.4) / x86_64 | OK | OK | |
liverpool | Windows Server 2003 R2 (32-bit) / x64 | OK | OK | OK |
gewurz | Windows Server 2008 R2 Enterprise (64-bit) / x64 | OK | OK | OK |
moscato1 | Windows Server 2008 R2 Enterprise (64-bit) / x64 | OK | OK | OK |
pitt | Mac OS X Leopard (10.5.8) / i386 | OK | OK | OK |
affyILM 1.5.0 Myriam Kroll and Fabrice Berger
Last Changed Rev: 56153 / Revision: 56603 | Last Changed Date: 2011-06-13 15:40:41 -0700 |
| wilson2 | Linux (openSUSE 11.4) / x86_64 | OK | OK | |
liverpool | Windows Server 2003 R2 (32-bit) / x64 | OK | OK | OK |
gewurz | Windows Server 2008 R2 Enterprise (64-bit) / x64 | OK | OK | OK |
moscato1 | Windows Server 2008 R2 Enterprise (64-bit) / x64 | OK | OK | OK |
pitt | Mac OS X Leopard (10.5.8) / i386 | OK | OK | OK |
affyio 1.21.2 Benjamin Milo Bolstad
Last Changed Rev: 56148 / Revision: 56603 | Last Changed Date: 2011-06-13 14:27:18 -0700 |
| wilson2 | Linux (openSUSE 11.4) / x86_64 | OK | OK | |
liverpool | Windows Server 2003 R2 (32-bit) / x64 | OK | OK | OK |
gewurz | Windows Server 2008 R2 Enterprise (64-bit) / x64 | OK | OK | OK |
moscato1 | Windows Server 2008 R2 Enterprise (64-bit) / x64 | OK | OK | OK |
pitt | Mac OS X Leopard (10.5.8) / i386 | OK | OK | OK |
affylmGUI 1.27.0 Keith Satterley
Last Changed Rev: 54810 / Revision: 56603 | Last Changed Date: 2011-04-13 18:14:51 -0700 |
| wilson2 | Linux (openSUSE 11.4) / x86_64 | OK | OK | |
liverpool | Windows Server 2003 R2 (32-bit) / x64 | OK | OK | OK |
gewurz | Windows Server 2008 R2 Enterprise (64-bit) / x64 | OK | OK | OK |
moscato1 | Windows Server 2008 R2 Enterprise (64-bit) / x64 | OK | OK | OK |
pitt | Mac OS X Leopard (10.5.8) / i386 | OK | OK | OK |
affyPara 1.13.0 Markus Schmidberger
Last Changed Rev: 54802 / Revision: 56603 | Last Changed Date: 2011-04-13 15:36:43 -0700 |
| wilson2 | Linux (openSUSE 11.4) / x86_64 | OK | OK | |
liverpool | Windows Server 2003 R2 (32-bit) / x64 | OK | OK | OK |
gewurz | Windows Server 2008 R2 Enterprise (64-bit) / x64 | OK | OK | OK |
moscato1 | Windows Server 2008 R2 Enterprise (64-bit) / x64 | OK | OK | OK |
pitt | Mac OS X Leopard (10.5.8) / i386 | OK | OK | OK |
affypdnn 1.27.0 Laurent Gautier
Last Changed Rev: 54802 / Revision: 56603 | Last Changed Date: 2011-04-13 15:36:43 -0700 |
| wilson2 | Linux (openSUSE 11.4) / x86_64 | OK | OK | |
liverpool | Windows Server 2003 R2 (32-bit) / x64 | OK | OK | OK |
gewurz | Windows Server 2008 R2 Enterprise (64-bit) / x64 | OK | OK | OK |
moscato1 | Windows Server 2008 R2 Enterprise (64-bit) / x64 | OK | OK | OK |
pitt | Mac OS X Leopard (10.5.8) / i386 | OK | OK | OK |
affyPLM 1.29.2 Ben Bolstad
Last Changed Rev: 56151 / Revision: 56603 | Last Changed Date: 2011-06-13 15:14:15 -0700 |
| wilson2 | Linux (openSUSE 11.4) / x86_64 | OK | OK | |
liverpool | Windows Server 2003 R2 (32-bit) / x64 | ERROR | skipped | skipped |
gewurz | Windows Server 2008 R2 Enterprise (64-bit) / x64 | OK | OK | OK |
moscato1 | Windows Server 2008 R2 Enterprise (64-bit) / x64 | OK | OK | OK |
pitt | Mac OS X Leopard (10.5.8) / i386 | OK | OK | OK |
affyQCReport 1.31.0 Craig Parman
Last Changed Rev: 54802 / Revision: 56603 | Last Changed Date: 2011-04-13 15:36:43 -0700 |
| wilson2 | Linux (openSUSE 11.4) / x86_64 | OK | OK | |
liverpool | Windows Server 2003 R2 (32-bit) / x64 | OK | OK | OK |
gewurz | Windows Server 2008 R2 Enterprise (64-bit) / x64 | OK | OK | OK |
moscato1 | Windows Server 2008 R2 Enterprise (64-bit) / x64 | OK | OK | OK |
pitt | Mac OS X Leopard (10.5.8) / i386 | OK | OK | OK |
AffyTiling 1.11.0 Charles G. Danko
Last Changed Rev: 54802 / Revision: 56603 | Last Changed Date: 2011-04-13 15:36:43 -0700 |
| wilson2 | Linux (openSUSE 11.4) / x86_64 | OK | OK | |
liverpool | Windows Server 2003 R2 (32-bit) / x64 | OK | OK | OK |
gewurz | Windows Server 2008 R2 Enterprise (64-bit) / x64 | OK | OK | OK |
moscato1 | Windows Server 2008 R2 Enterprise (64-bit) / x64 | OK | OK | OK |
pitt | Mac OS X Leopard (10.5.8) / i386 | OK | OK | OK |
Agi4x44PreProcess 1.13.1 Pedro Lopez-Romero
Last Changed Rev: 55341 / Revision: 56603 | Last Changed Date: 2011-05-08 20:15:32 -0700 |
| wilson2 | Linux (openSUSE 11.4) / x86_64 | OK | OK | |
liverpool | Windows Server 2003 R2 (32-bit) / x64 | OK | OK | OK |
gewurz | Windows Server 2008 R2 Enterprise (64-bit) / x64 | OK | OK | OK |
moscato1 | Windows Server 2008 R2 Enterprise (64-bit) / x64 | OK | OK | OK |
pitt | Mac OS X Leopard (10.5.8) / i386 | OK | OK | OK |
AgiMicroRna 2.3.1 Pedro Lopez-Romero
Last Changed Rev: 55341 / Revision: 56603 | Last Changed Date: 2011-05-08 20:15:32 -0700 |
| wilson2 | Linux (openSUSE 11.4) / x86_64 | OK | OK | |
liverpool | Windows Server 2003 R2 (32-bit) / x64 | OK | OK | OK |
gewurz | Windows Server 2008 R2 Enterprise (64-bit) / x64 | OK | OK | OK |
moscato1 | Windows Server 2008 R2 Enterprise (64-bit) / x64 | OK | OK | OK |
pitt | Mac OS X Leopard (10.5.8) / i386 | OK | OK | OK |
altcdfenvs 2.15.0 Laurent Gautier
Last Changed Rev: 54802 / Revision: 56603 | Last Changed Date: 2011-04-13 15:36:43 -0700 |
| wilson2 | Linux (openSUSE 11.4) / x86_64 | OK | OK | |
liverpool | Windows Server 2003 R2 (32-bit) / x64 | OK | OK | OK |
gewurz | Windows Server 2008 R2 Enterprise (64-bit) / x64 | OK | OK | OK |
moscato1 | Windows Server 2008 R2 Enterprise (64-bit) / x64 | OK | OK | OK |
pitt | Mac OS X Leopard (10.5.8) / i386 | OK | OK | OK |
annaffy 1.25.0 Colin A. Smith
Last Changed Rev: 54802 / Revision: 56603 | Last Changed Date: 2011-04-13 15:36:43 -0700 |
| wilson2 | Linux (openSUSE 11.4) / x86_64 | OK | OK | |
liverpool | Windows Server 2003 R2 (32-bit) / x64 | OK | OK | OK |
gewurz | Windows Server 2008 R2 Enterprise (64-bit) / x64 | OK | OK | OK |
moscato1 | Windows Server 2008 R2 Enterprise (64-bit) / x64 | OK | OK | OK |
pitt | Mac OS X Leopard (10.5.8) / i386 | OK | OK | OK |
annotate 1.31.0 Biocore Team c/o BioC user list
Last Changed Rev: 54802 / Revision: 56603 | Last Changed Date: 2011-04-13 15:36:43 -0700 |
| wilson2 | Linux (openSUSE 11.4) / x86_64 | OK | OK | |
liverpool | Windows Server 2003 R2 (32-bit) / x64 | OK | OK | OK |
gewurz | Windows Server 2008 R2 Enterprise (64-bit) / x64 | OK | OK | OK |
moscato1 | Windows Server 2008 R2 Enterprise (64-bit) / x64 | OK | OK | OK |
pitt | Mac OS X Leopard (10.5.8) / i386 | OK | OK | OK |
AnnotationDbi 1.15.9 Biocore Team c/o BioC user list
Last Changed Rev: 55942 / Revision: 56603 | Last Changed Date: 2011-06-01 14:48:42 -0700 |
| wilson2 | Linux (openSUSE 11.4) / x86_64 | OK | OK | |
liverpool | Windows Server 2003 R2 (32-bit) / x64 | OK | OK | OK |
gewurz | Windows Server 2008 R2 Enterprise (64-bit) / x64 | OK | OK | OK |
moscato1 | Windows Server 2008 R2 Enterprise (64-bit) / x64 | OK | OK | OK |
pitt | Mac OS X Leopard (10.5.8) / i386 | OK | OK | OK |
AnnotationFuncs 1.3.0 Stefan McKinnon Edwards
Last Changed Rev: 56357 / Revision: 56603 | Last Changed Date: 2011-06-22 06:44:22 -0700 |
| wilson2 | Linux (openSUSE 11.4) / x86_64 | OK | OK | |
liverpool | Windows Server 2003 R2 (32-bit) / x64 | OK | OK | OK |
gewurz | Windows Server 2008 R2 Enterprise (64-bit) / x64 | OK | OK | OK |
moscato1 | Windows Server 2008 R2 Enterprise (64-bit) / x64 | OK | OK | OK |
pitt | Mac OS X Leopard (10.5.8) / i386 | OK | OK | OK |
annotationTools 1.27.0 Alexandre Kuhn
Last Changed Rev: 54802 / Revision: 56603 | Last Changed Date: 2011-04-13 15:36:43 -0700 |
| wilson2 | Linux (openSUSE 11.4) / x86_64 | OK | OK | |
liverpool | Windows Server 2003 R2 (32-bit) / x64 | OK | OK | OK |
gewurz | Windows Server 2008 R2 Enterprise (64-bit) / x64 | OK | OK | OK |
moscato1 | Windows Server 2008 R2 Enterprise (64-bit) / x64 | OK | OK | OK |
pitt | Mac OS X Leopard (10.5.8) / i386 | OK | OK | OK |
anota 1.1.0 Ola Larsson
Last Changed Rev: 54802 / Revision: 56603 | Last Changed Date: 2011-04-13 15:36:43 -0700 |
| wilson2 | Linux (openSUSE 11.4) / x86_64 | OK | OK | |
liverpool | Windows Server 2003 R2 (32-bit) / x64 | OK | OK | OK |
gewurz | Windows Server 2008 R2 Enterprise (64-bit) / x64 | OK | OK | OK |
moscato1 | Windows Server 2008 R2 Enterprise (64-bit) / x64 | OK | OK | OK |
pitt | Mac OS X Leopard (10.5.8) / i386 | OK | OK | OK |
apComplex 2.19.0 Denise Scholtens
Last Changed Rev: 54802 / Revision: 56603 | Last Changed Date: 2011-04-13 15:36:43 -0700 |
| wilson2 | Linux (openSUSE 11.4) / x86_64 | OK | OK | |
liverpool | Windows Server 2003 R2 (32-bit) / x64 | OK | OK | OK |
gewurz | Windows Server 2008 R2 Enterprise (64-bit) / x64 | OK | OK | OK |
moscato1 | Windows Server 2008 R2 Enterprise (64-bit) / x64 | OK | OK | OK |
pitt | Mac OS X Leopard (10.5.8) / i386 | OK | OK | OK |
aroma.light 1.21.0 Henrik Bengtsson
Last Changed Rev: 54869 / Revision: 56603 | Last Changed Date: 2011-04-14 18:05:47 -0700 |
| wilson2 | Linux (openSUSE 11.4) / x86_64 | OK | ERROR | |
liverpool | Windows Server 2003 R2 (32-bit) / x64 | OK | ERROR | OK |
gewurz | Windows Server 2008 R2 Enterprise (64-bit) / x64 | OK | ERROR | OK |
moscato1 | Windows Server 2008 R2 Enterprise (64-bit) / x64 | OK | ERROR | ERROR |
pitt | Mac OS X Leopard (10.5.8) / i386 | OK | ERROR | OK |
ArrayExpress 1.13.0 Audrey Kauffmann
Last Changed Rev: 54984 / Revision: 56603 | Last Changed Date: 2011-04-20 09:53:45 -0700 |
| wilson2 | Linux (openSUSE 11.4) / x86_64 | OK | OK | |
liverpool | Windows Server 2003 R2 (32-bit) / x64 | OK | OK | OK |
gewurz | Windows Server 2008 R2 Enterprise (64-bit) / x64 | OK | OK | OK |
moscato1 | Windows Server 2008 R2 Enterprise (64-bit) / x64 | OK | OK | OK |
pitt | Mac OS X Leopard (10.5.8) / i386 | OK | OK | OK |
ArrayExpressHTS 1.3.2 Angela Goncalves , Andrew Tikhonov
Last Changed Rev: 56536 / Revision: 56603 | Last Changed Date: 2011-07-04 02:14:49 -0700 |
| wilson2 | Linux (openSUSE 11.4) / x86_64 | OK | OK | |
liverpool | Windows Server 2003 R2 (32-bit) / x64 | N O T S U P P O R T E D |
gewurz | Windows Server 2008 R2 Enterprise (64-bit) / x64 | N O T S U P P O R T E D |
moscato1 | Windows Server 2008 R2 Enterprise (64-bit) / x64 | N O T S U P P O R T E D |
pitt | Mac OS X Leopard (10.5.8) / i386 | OK | WARNINGS | OK |
arrayMvout 1.11.0 V. Carey
Last Changed Rev: 56090 / Revision: 56603 | Last Changed Date: 2011-06-09 17:02:42 -0700 |
| wilson2 | Linux (openSUSE 11.4) / x86_64 | OK | OK | |
liverpool | Windows Server 2003 R2 (32-bit) / x64 | OK | OK | OK |
gewurz | Windows Server 2008 R2 Enterprise (64-bit) / x64 | OK | OK | OK |
moscato1 | Windows Server 2008 R2 Enterprise (64-bit) / x64 | OK | OK | OK |
pitt | Mac OS X Leopard (10.5.8) / i386 | OK | OK | OK |
arrayQuality 1.31.0 Agnes Paquet
Last Changed Rev: 54802 / Revision: 56603 | Last Changed Date: 2011-04-13 15:36:43 -0700 |
| wilson2 | Linux (openSUSE 11.4) / x86_64 | OK | OK | |
liverpool | Windows Server 2003 R2 (32-bit) / x64 | OK | OK | OK |
gewurz | Windows Server 2008 R2 Enterprise (64-bit) / x64 | OK | OK | OK |
moscato1 | Windows Server 2008 R2 Enterprise (64-bit) / x64 | OK | OK | OK |
pitt | Mac OS X Leopard (10.5.8) / i386 | OK | OK | OK |
arrayQualityMetrics 3.9.3 Audrey Kauffmann
Last Changed Rev: 56446 / Revision: 56603 | Last Changed Date: 2011-06-27 14:44:37 -0700 |
| wilson2 | Linux (openSUSE 11.4) / x86_64 | OK | OK | |
liverpool | Windows Server 2003 R2 (32-bit) / x64 | OK | WARNINGS | OK |
gewurz | Windows Server 2008 R2 Enterprise (64-bit) / x64 | OK | OK | OK |
moscato1 | Windows Server 2008 R2 Enterprise (64-bit) / x64 | OK | OK | OK |
pitt | Mac OS X Leopard (10.5.8) / i386 | OK | OK | OK |
ArrayTools 1.13.0 Arthur Li
Last Changed Rev: 56090 / Revision: 56603 | Last Changed Date: 2011-06-09 17:02:42 -0700 |
| wilson2 | Linux (openSUSE 11.4) / x86_64 | OK | OK | |
liverpool | Windows Server 2003 R2 (32-bit) / x64 | OK | OK | OK |
gewurz | Windows Server 2008 R2 Enterprise (64-bit) / x64 | OK | OK | OK |
moscato1 | Windows Server 2008 R2 Enterprise (64-bit) / x64 | OK | OK | OK |
pitt | Mac OS X Leopard (10.5.8) / i386 | OK | OK | OK |
attract 1.5.0 Jessica Mar
Last Changed Rev: 54802 / Revision: 56603 | Last Changed Date: 2011-04-13 15:36:43 -0700 |
| wilson2 | Linux (openSUSE 11.4) / x86_64 | OK | OK | |
liverpool | Windows Server 2003 R2 (32-bit) / x64 | OK | OK | OK |
gewurz | Windows Server 2008 R2 Enterprise (64-bit) / x64 | OK | OK | OK |
moscato1 | Windows Server 2008 R2 Enterprise (64-bit) / x64 | OK | OK | OK |
pitt | Mac OS X Leopard (10.5.8) / i386 | OK | OK | OK |
|
B A [B] C D E F G H I J K L M N O P Q R S T U V W X Y Z |
BAC 1.13.0 Raphael Gottardo
Last Changed Rev: 54802 / Revision: 56603 | Last Changed Date: 2011-04-13 15:36:43 -0700 |
| wilson2 | Linux (openSUSE 11.4) / x86_64 | OK | OK | |
liverpool | Windows Server 2003 R2 (32-bit) / x64 | OK | OK | OK |
gewurz | Windows Server 2008 R2 Enterprise (64-bit) / x64 | OK | OK | OK |
moscato1 | Windows Server 2008 R2 Enterprise (64-bit) / x64 | OK | OK | OK |
pitt | Mac OS X Leopard (10.5.8) / i386 | OK | OK | OK |
BayesPeak 1.5.0 Jonathan Cairns
Last Changed Rev: 54802 / Revision: 56603 | Last Changed Date: 2011-04-13 15:36:43 -0700 |
| wilson2 | Linux (openSUSE 11.4) / x86_64 | OK | OK | |
liverpool | Windows Server 2003 R2 (32-bit) / x64 | OK | OK | OK |
gewurz | Windows Server 2008 R2 Enterprise (64-bit) / x64 | OK | OK | OK |
moscato1 | Windows Server 2008 R2 Enterprise (64-bit) / x64 | OK | OK | OK |
pitt | Mac OS X Leopard (10.5.8) / i386 | OK | OK | OK |
baySeq 1.7.1 Thomas J. Hardcastle
Last Changed Rev: 55430 / Revision: 56603 | Last Changed Date: 2011-05-11 08:15:52 -0700 |
| wilson2 | Linux (openSUSE 11.4) / x86_64 | OK | OK | |
liverpool | Windows Server 2003 R2 (32-bit) / x64 | OK | OK | OK |
gewurz | Windows Server 2008 R2 Enterprise (64-bit) / x64 | OK | OK | OK |
moscato1 | Windows Server 2008 R2 Enterprise (64-bit) / x64 | OK | OK | OK |
pitt | Mac OS X Leopard (10.5.8) / i386 | OK | OK | OK |
BCRANK 1.15.0 Adam Ameur
Last Changed Rev: 54802 / Revision: 56603 | Last Changed Date: 2011-04-13 15:36:43 -0700 |
| wilson2 | Linux (openSUSE 11.4) / x86_64 | OK | OK | |
liverpool | Windows Server 2003 R2 (32-bit) / x64 | OK | OK | OK |
gewurz | Windows Server 2008 R2 Enterprise (64-bit) / x64 | OK | OK | OK |
moscato1 | Windows Server 2008 R2 Enterprise (64-bit) / x64 | OK | OK | OK |
pitt | Mac OS X Leopard (10.5.8) / i386 | OK | OK | OK |
beadarray 2.3.5 Mark Dunning
Last Changed Rev: 55910 / Revision: 56603 | Last Changed Date: 2011-05-31 06:49:49 -0700 |
| wilson2 | Linux (openSUSE 11.4) / x86_64 | OK | OK | |
liverpool | Windows Server 2003 R2 (32-bit) / x64 | OK | OK | OK |
gewurz | Windows Server 2008 R2 Enterprise (64-bit) / x64 | OK | OK | OK |
moscato1 | Windows Server 2008 R2 Enterprise (64-bit) / x64 | OK | OK | OK |
pitt | Mac OS X Leopard (10.5.8) / i386 | OK | OK | OK |
beadarraySNP 1.19.0 Jan Oosting
Last Changed Rev: 54802 / Revision: 56603 | Last Changed Date: 2011-04-13 15:36:43 -0700 |
| wilson2 | Linux (openSUSE 11.4) / x86_64 | OK | OK | |
liverpool | Windows Server 2003 R2 (32-bit) / x64 | OK | OK | OK |
gewurz | Windows Server 2008 R2 Enterprise (64-bit) / x64 | OK | OK | OK |
moscato1 | Windows Server 2008 R2 Enterprise (64-bit) / x64 | OK | OK | OK |
pitt | Mac OS X Leopard (10.5.8) / i386 | OK | OK | OK |
BeadDataPackR 1.5.2 Mike Smith
Last Changed Rev: 56459 / Revision: 56603 | Last Changed Date: 2011-06-29 03:45:07 -0700 |
| wilson2 | Linux (openSUSE 11.4) / x86_64 | OK | OK | |
liverpool | Windows Server 2003 R2 (32-bit) / x64 | OK | OK | OK |
gewurz | Windows Server 2008 R2 Enterprise (64-bit) / x64 | OK | OK | OK |
moscato1 | Windows Server 2008 R2 Enterprise (64-bit) / x64 | OK | OK | OK |
pitt | Mac OS X Leopard (10.5.8) / i386 | OK | OK | OK |
betr 1.9.0 Martin Aryee
Last Changed Rev: 54802 / Revision: 56603 | Last Changed Date: 2011-04-13 15:36:43 -0700 |
| wilson2 | Linux (openSUSE 11.4) / x86_64 | OK | OK | |
liverpool | Windows Server 2003 R2 (32-bit) / x64 | OK | OK | OK |
gewurz | Windows Server 2008 R2 Enterprise (64-bit) / x64 | OK | OK | OK |
moscato1 | Windows Server 2008 R2 Enterprise (64-bit) / x64 | OK | OK | OK |
pitt | Mac OS X Leopard (10.5.8) / i386 | OK | OK | OK |
bgafun 1.15.0 Iain Wallace
Last Changed Rev: 54802 / Revision: 56603 | Last Changed Date: 2011-04-13 15:36:43 -0700 |
| wilson2 | Linux (openSUSE 11.4) / x86_64 | OK | OK | |
liverpool | Windows Server 2003 R2 (32-bit) / x64 | OK | OK | OK |
gewurz | Windows Server 2008 R2 Enterprise (64-bit) / x64 | OK | WARNINGS | OK |
moscato1 | Windows Server 2008 R2 Enterprise (64-bit) / x64 | OK | OK | OK |
pitt | Mac OS X Leopard (10.5.8) / i386 | OK | OK | OK |
BGmix 1.13.0 Alex Lewin
Last Changed Rev: 54802 / Revision: 56603 | Last Changed Date: 2011-04-13 15:36:43 -0700 |
| wilson2 | Linux (openSUSE 11.4) / x86_64 | OK | OK | |
liverpool | Windows Server 2003 R2 (32-bit) / x64 | OK | OK | OK |
gewurz | Windows Server 2008 R2 Enterprise (64-bit) / x64 | N O T S U P P O R T E D |
moscato1 | Windows Server 2008 R2 Enterprise (64-bit) / x64 | OK | OK | OK |
pitt | Mac OS X Leopard (10.5.8) / i386 | OK | OK | OK |
bgx 1.17.0 Ernest Turro
Last Changed Rev: 54802 / Revision: 56603 | Last Changed Date: 2011-04-13 15:36:43 -0700 |
| wilson2 | Linux (openSUSE 11.4) / x86_64 | OK | OK | |
liverpool | Windows Server 2003 R2 (32-bit) / x64 | OK | OK | OK |
gewurz | Windows Server 2008 R2 Enterprise (64-bit) / x64 | OK | OK | OK |
moscato1 | Windows Server 2008 R2 Enterprise (64-bit) / x64 | OK | OK | OK |
pitt | Mac OS X Leopard (10.5.8) / i386 | OK | OK | OK |
BHC 1.5.0 Rich Savage
Last Changed Rev: 54802 / Revision: 56603 | Last Changed Date: 2011-04-13 15:36:43 -0700 |
| wilson2 | Linux (openSUSE 11.4) / x86_64 | OK | OK | |
liverpool | Windows Server 2003 R2 (32-bit) / x64 | OK | OK | OK |
gewurz | Windows Server 2008 R2 Enterprise (64-bit) / x64 | OK | OK | OK |
moscato1 | Windows Server 2008 R2 Enterprise (64-bit) / x64 | OK | OK | OK |
pitt | Mac OS X Leopard (10.5.8) / i386 | OK | OK | OK |
BicARE 1.11.0 Pierre Gestraud
Last Changed Rev: 54802 / Revision: 56603 | Last Changed Date: 2011-04-13 15:36:43 -0700 |
| wilson2 | Linux (openSUSE 11.4) / x86_64 | OK | OK | |
liverpool | Windows Server 2003 R2 (32-bit) / x64 | OK | OK | OK |
gewurz | Windows Server 2008 R2 Enterprise (64-bit) / x64 | OK | OK | OK |
moscato1 | Windows Server 2008 R2 Enterprise (64-bit) / x64 | OK | OK | OK |
pitt | Mac OS X Leopard (10.5.8) / i386 | OK | OK | OK |
Biobase 2.13.7 Biocore Team c/o BioC user list
Last Changed Rev: 56474 / Revision: 56603 | Last Changed Date: 2011-06-30 12:44:49 -0700 |
| wilson2 | Linux (openSUSE 11.4) / x86_64 | OK | WARNINGS | |
liverpool | Windows Server 2003 R2 (32-bit) / x64 | OK | WARNINGS | OK |
gewurz | Windows Server 2008 R2 Enterprise (64-bit) / x64 | OK | WARNINGS | OK |
moscato1 | Windows Server 2008 R2 Enterprise (64-bit) / x64 | OK | WARNINGS | OK |
pitt | Mac OS X Leopard (10.5.8) / i386 | OK | WARNINGS | OK |
BiocCaseStudies 1.15.0 Biocore Team c/o BioC user list
Last Changed Rev: 54802 / Revision: 56603 | Last Changed Date: 2011-04-13 15:36:43 -0700 |
| wilson2 | Linux (openSUSE 11.4) / x86_64 | OK | OK | |
liverpool | Windows Server 2003 R2 (32-bit) / x64 | OK | OK | OK |
gewurz | Windows Server 2008 R2 Enterprise (64-bit) / x64 | OK | OK | OK |
moscato1 | Windows Server 2008 R2 Enterprise (64-bit) / x64 | OK | OK | OK |
pitt | Mac OS X Leopard (10.5.8) / i386 | OK | OK | OK |
biocGraph 1.15.0 Florian Hahne
Last Changed Rev: 54802 / Revision: 56603 | Last Changed Date: 2011-04-13 15:36:43 -0700 |
| wilson2 | Linux (openSUSE 11.4) / x86_64 | OK | OK | |
liverpool | Windows Server 2003 R2 (32-bit) / x64 | OK | OK | OK |
gewurz | Windows Server 2008 R2 Enterprise (64-bit) / x64 | OK | OK | OK |
moscato1 | Windows Server 2008 R2 Enterprise (64-bit) / x64 | OK | OK | OK |
pitt | Mac OS X Leopard (10.5.8) / i386 | OK | OK | OK |
BiocInstaller 1.1.12 Biocore Team c/o BioC user list
Last Changed Rev: 56402 / Revision: 56603 | Last Changed Date: 2011-06-24 11:02:55 -0700 |
| wilson2 | Linux (openSUSE 11.4) / x86_64 | OK | OK | |
liverpool | Windows Server 2003 R2 (32-bit) / x64 | OK | OK | OK |
gewurz | Windows Server 2008 R2 Enterprise (64-bit) / x64 | OK | OK | OK |
moscato1 | Windows Server 2008 R2 Enterprise (64-bit) / x64 | OK | OK | OK |
pitt | Mac OS X Leopard (10.5.8) / i386 | OK | OK | OK |
biocViews 1.21.4 Biocore Team c/o BioC user list
Last Changed Rev: 56436 / Revision: 56603 | Last Changed Date: 2011-06-27 11:44:28 -0700 |
| wilson2 | Linux (openSUSE 11.4) / x86_64 | OK | WARNINGS | |
liverpool | Windows Server 2003 R2 (32-bit) / x64 | OK | WARNINGS | OK |
gewurz | Windows Server 2008 R2 Enterprise (64-bit) / x64 | OK | WARNINGS | OK |
moscato1 | Windows Server 2008 R2 Enterprise (64-bit) / x64 | OK | WARNINGS | OK |
pitt | Mac OS X Leopard (10.5.8) / i386 | OK | WARNINGS | OK |
bioDist 1.25.1 Biocore Team c/o BioC user list
Last Changed Rev: 56491 / Revision: 56603 | Last Changed Date: 2011-07-01 07:58:17 -0700 |
| wilson2 | Linux (openSUSE 11.4) / x86_64 | OK | OK | |
liverpool | Windows Server 2003 R2 (32-bit) / x64 | OK | OK | OK |
gewurz | Windows Server 2008 R2 Enterprise (64-bit) / x64 | OK | OK | OK |
moscato1 | Windows Server 2008 R2 Enterprise (64-bit) / x64 | OK | OK | OK |
pitt | Mac OS X Leopard (10.5.8) / i386 | OK | OK | OK |
biomaRt 2.9.2 Steffen Durinck
Last Changed Rev: 56048 / Revision: 56603 | Last Changed Date: 2011-06-08 09:13:32 -0700 |
| wilson2 | Linux (openSUSE 11.4) / x86_64 | OK | OK | |
liverpool | Windows Server 2003 R2 (32-bit) / x64 | OK | OK | OK |
gewurz | Windows Server 2008 R2 Enterprise (64-bit) / x64 | OK | OK | OK |
moscato1 | Windows Server 2008 R2 Enterprise (64-bit) / x64 | OK | OK | OK |
pitt | Mac OS X Leopard (10.5.8) / i386 | OK | OK | OK |
BioMVCClass 1.21.0 Elizabeth Whalen
Last Changed Rev: 54802 / Revision: 56603 | Last Changed Date: 2011-04-13 15:36:43 -0700 |
| wilson2 | Linux (openSUSE 11.4) / x86_64 | OK | OK | |
liverpool | Windows Server 2003 R2 (32-bit) / x64 | OK | OK | OK |
gewurz | Windows Server 2008 R2 Enterprise (64-bit) / x64 | OK | OK | OK |
moscato1 | Windows Server 2008 R2 Enterprise (64-bit) / x64 | OK | OK | OK |
pitt | Mac OS X Leopard (10.5.8) / i386 | OK | OK | OK |
BioNet 1.11.1 Marcus Dittrich
Last Changed Rev: 56260 / Revision: 56603 | Last Changed Date: 2011-06-16 18:18:20 -0700 |
| wilson2 | Linux (openSUSE 11.4) / x86_64 | OK | OK | |
liverpool | Windows Server 2003 R2 (32-bit) / x64 | OK | OK | OK |
gewurz | Windows Server 2008 R2 Enterprise (64-bit) / x64 | OK | OK | OK |
moscato1 | Windows Server 2008 R2 Enterprise (64-bit) / x64 | OK | OK | OK |
pitt | Mac OS X Leopard (10.5.8) / i386 | OK | OK | OK |
BioSeqClass 1.11.0 Li Hong
Last Changed Rev: 56578 / Revision: 56603 | Last Changed Date: 2011-07-05 17:51:53 -0700 |
| wilson2 | Linux (openSUSE 11.4) / x86_64 | OK | OK | |
liverpool | Windows Server 2003 R2 (32-bit) / x64 | OK | OK | OK |
gewurz | Windows Server 2008 R2 Enterprise (64-bit) / x64 | OK | OK | OK |
moscato1 | Windows Server 2008 R2 Enterprise (64-bit) / x64 | OK | ERROR | ERROR |
pitt | Mac OS X Leopard (10.5.8) / i386 | OK | OK | OK |
Biostrings 2.21.6 H. Pages
Last Changed Rev: 56217 / Revision: 56603 | Last Changed Date: 2011-06-15 19:47:35 -0700 |
| wilson2 | Linux (openSUSE 11.4) / x86_64 | OK | OK | |
liverpool | Windows Server 2003 R2 (32-bit) / x64 | OK | OK | OK |
gewurz | Windows Server 2008 R2 Enterprise (64-bit) / x64 | OK | OK | OK |
moscato1 | Windows Server 2008 R2 Enterprise (64-bit) / x64 | OK | OK | OK |
pitt | Mac OS X Leopard (10.5.8) / i386 | OK | WARNINGS | OK |
bridge 1.17.0 Raphael Gottardo
Last Changed Rev: 54802 / Revision: 56603 | Last Changed Date: 2011-04-13 15:36:43 -0700 |
| wilson2 | Linux (openSUSE 11.4) / x86_64 | OK | OK | |
liverpool | Windows Server 2003 R2 (32-bit) / x64 | OK | OK | OK |
gewurz | Windows Server 2008 R2 Enterprise (64-bit) / x64 | OK | OK | OK |
moscato1 | Windows Server 2008 R2 Enterprise (64-bit) / x64 | OK | OK | OK |
pitt | Mac OS X Leopard (10.5.8) / i386 | OK | OK | OK |
BSgenome 1.21.3 H. Pages
Last Changed Rev: 56095 / Revision: 56603 | Last Changed Date: 2011-06-09 23:49:52 -0700 |
| wilson2 | Linux (openSUSE 11.4) / x86_64 | OK | OK | |
liverpool | Windows Server 2003 R2 (32-bit) / x64 | OK | OK | OK |
gewurz | Windows Server 2008 R2 Enterprise (64-bit) / x64 | OK | OK | OK |
moscato1 | Windows Server 2008 R2 Enterprise (64-bit) / x64 | OK | OK | OK |
pitt | Mac OS X Leopard (10.5.8) / i386 | OK | OK | OK |
BufferedMatrix 1.17.0 Benjamin Milo Bolstad
Last Changed Rev: 54802 / Revision: 56603 | Last Changed Date: 2011-04-13 15:36:43 -0700 |
| wilson2 | Linux (openSUSE 11.4) / x86_64 | OK | OK | |
liverpool | Windows Server 2003 R2 (32-bit) / x64 | OK | OK | OK |
gewurz | Windows Server 2008 R2 Enterprise (64-bit) / x64 | OK | OK | OK |
moscato1 | Windows Server 2008 R2 Enterprise (64-bit) / x64 | OK | OK | OK |
pitt | Mac OS X Leopard (10.5.8) / i386 | OK | OK | OK |
BufferedMatrixMethods 1.17.0 B. M. Bolstad
Last Changed Rev: 54802 / Revision: 56603 | Last Changed Date: 2011-04-13 15:36:43 -0700 |
| wilson2 | Linux (openSUSE 11.4) / x86_64 | OK | OK | |
liverpool | Windows Server 2003 R2 (32-bit) / x64 | OK | OK | OK |
gewurz | Windows Server 2008 R2 Enterprise (64-bit) / x64 | OK | OK | OK |
moscato1 | Windows Server 2008 R2 Enterprise (64-bit) / x64 | OK | OK | OK |
pitt | Mac OS X Leopard (10.5.8) / i386 | OK | OK | OK |
BUS 1.9.0 Yuanhua Liu
Last Changed Rev: 54802 / Revision: 56603 | Last Changed Date: 2011-04-13 15:36:43 -0700 |
| wilson2 | Linux (openSUSE 11.4) / x86_64 | OK | OK | |
liverpool | Windows Server 2003 R2 (32-bit) / x64 | OK | OK | OK |
gewurz | Windows Server 2008 R2 Enterprise (64-bit) / x64 | OK | OK | OK |
moscato1 | Windows Server 2008 R2 Enterprise (64-bit) / x64 | OK | OK | OK |
pitt | Mac OS X Leopard (10.5.8) / i386 | OK | OK | OK |
|
C A B [C] D E F G H I J K L M N O P Q R S T U V W X Y Z |
CALIB 1.19.0 Hui Zhao
Last Changed Rev: 54802 / Revision: 56603 | Last Changed Date: 2011-04-13 15:36:43 -0700 |
| wilson2 | Linux (openSUSE 11.4) / x86_64 | OK | OK | |
liverpool | Windows Server 2003 R2 (32-bit) / x64 | OK | OK | OK |
gewurz | Windows Server 2008 R2 Enterprise (64-bit) / x64 | OK | OK | OK |
moscato1 | Windows Server 2008 R2 Enterprise (64-bit) / x64 | OK | OK | OK |
pitt | Mac OS X Leopard (10.5.8) / i386 | OK | OK | OK |
CAMERA 1.9.3 Carsten Kuhl
Last Changed Rev: 55802 / Revision: 56603 | Last Changed Date: 2011-05-24 08:33:43 -0700 |
| wilson2 | Linux (openSUSE 11.4) / x86_64 | OK | OK | |
liverpool | Windows Server 2003 R2 (32-bit) / x64 | OK | OK | OK |
gewurz | Windows Server 2008 R2 Enterprise (64-bit) / x64 | OK | OK | OK |
moscato1 | Windows Server 2008 R2 Enterprise (64-bit) / x64 | OK | OK | OK |
pitt | Mac OS X Leopard (10.5.8) / i386 | OK | OK | OK |
Category 2.19.1 Biocore Team c/o BioC user list
Last Changed Rev: 56292 / Revision: 56603 | Last Changed Date: 2011-06-17 18:53:47 -0700 |
| wilson2 | Linux (openSUSE 11.4) / x86_64 | ERROR | skipped | |
liverpool | Windows Server 2003 R2 (32-bit) / x64 | ERROR | skipped | skipped |
gewurz | Windows Server 2008 R2 Enterprise (64-bit) / x64 | ERROR | skipped | skipped |
moscato1 | Windows Server 2008 R2 Enterprise (64-bit) / x64 | ERROR | skipped | skipped |
pitt | Mac OS X Leopard (10.5.8) / i386 | ERROR | skipped | skipped |
cellHTS 1.23.0 Ligia Bras
Last Changed Rev: 54802 / Revision: 56603 | Last Changed Date: 2011-04-13 15:36:43 -0700 |
| wilson2 | Linux (openSUSE 11.4) / x86_64 | OK | OK | |
liverpool | Windows Server 2003 R2 (32-bit) / x64 | OK | OK | OK |
gewurz | Windows Server 2008 R2 Enterprise (64-bit) / x64 | OK | OK | OK |
moscato1 | Windows Server 2008 R2 Enterprise (64-bit) / x64 | OK | OK | OK |
pitt | Mac OS X Leopard (10.5.8) / i386 | OK | OK | OK |
cellHTS2 2.17.2 Florian Hahne
Last Changed Rev: 56202 / Revision: 56603 | Last Changed Date: 2011-06-15 06:46:06 -0700 |
| wilson2 | Linux (openSUSE 11.4) / x86_64 | OK | OK | |
liverpool | Windows Server 2003 R2 (32-bit) / x64 | OK | OK | OK |
gewurz | Windows Server 2008 R2 Enterprise (64-bit) / x64 | OK | OK | OK |
moscato1 | Windows Server 2008 R2 Enterprise (64-bit) / x64 | OK | OK | OK |
pitt | Mac OS X Leopard (10.5.8) / i386 | OK | OK | OK |
CGEN 1.5.0 William Wheeler
Last Changed Rev: 54802 / Revision: 56603 | Last Changed Date: 2011-04-13 15:36:43 -0700 |
| wilson2 | Linux (openSUSE 11.4) / x86_64 | OK | OK | |
liverpool | Windows Server 2003 R2 (32-bit) / x64 | OK | OK | OK |
gewurz | Windows Server 2008 R2 Enterprise (64-bit) / x64 | OK | OK | OK |
moscato1 | Windows Server 2008 R2 Enterprise (64-bit) / x64 | OK | OK | OK |
pitt | Mac OS X Leopard (10.5.8) / i386 | OK | OK | OK |
CGHbase 1.11.0 Sjoerd Vosse
Last Changed Rev: 54802 / Revision: 56603 | Last Changed Date: 2011-04-13 15:36:43 -0700 |
| wilson2 | Linux (openSUSE 11.4) / x86_64 | OK | OK | |
liverpool | Windows Server 2003 R2 (32-bit) / x64 | OK | OK | OK |
gewurz | Windows Server 2008 R2 Enterprise (64-bit) / x64 | OK | OK | OK |
moscato1 | Windows Server 2008 R2 Enterprise (64-bit) / x64 | OK | OK | OK |
pitt | Mac OS X Leopard (10.5.8) / i386 | OK | OK | OK |
CGHcall 2.13.0 Mark van de Wiel
Last Changed Rev: 54810 / Revision: 56603 | Last Changed Date: 2011-04-13 18:14:51 -0700 |
| wilson2 | Linux (openSUSE 11.4) / x86_64 | OK | OK | |
liverpool | Windows Server 2003 R2 (32-bit) / x64 | OK | OK | OK |
gewurz | Windows Server 2008 R2 Enterprise (64-bit) / x64 | OK | OK | OK |
moscato1 | Windows Server 2008 R2 Enterprise (64-bit) / x64 | OK | OK | OK |
pitt | Mac OS X Leopard (10.5.8) / i386 | OK | OK | OK |
cghMCR 1.11.0 J. Zhang
Last Changed Rev: 54802 / Revision: 56603 | Last Changed Date: 2011-04-13 15:36:43 -0700 |
| wilson2 | Linux (openSUSE 11.4) / x86_64 | OK | OK | |
liverpool | Windows Server 2003 R2 (32-bit) / x64 | OK | OK | OK |
gewurz | Windows Server 2008 R2 Enterprise (64-bit) / x64 | OK | OK | OK |
moscato1 | Windows Server 2008 R2 Enterprise (64-bit) / x64 | OK | OK | OK |
pitt | Mac OS X Leopard (10.5.8) / i386 | OK | OK | OK |
CGHnormaliter 1.7.0 Bart P.P. van Houte
Last Changed Rev: 54802 / Revision: 56603 | Last Changed Date: 2011-04-13 15:36:43 -0700 |
| wilson2 | Linux (openSUSE 11.4) / x86_64 | OK | WARNINGS | |
liverpool | Windows Server 2003 R2 (32-bit) / x64 | OK | WARNINGS | OK |
gewurz | Windows Server 2008 R2 Enterprise (64-bit) / x64 | OK | WARNINGS | OK |
moscato1 | Windows Server 2008 R2 Enterprise (64-bit) / x64 | OK | WARNINGS | OK |
pitt | Mac OS X Leopard (10.5.8) / i386 | OK | WARNINGS | OK |
CGHregions 1.11.0 Sjoerd Vosse
Last Changed Rev: 54802 / Revision: 56603 | Last Changed Date: 2011-04-13 15:36:43 -0700 |
| wilson2 | Linux (openSUSE 11.4) / x86_64 | OK | OK | |
liverpool | Windows Server 2003 R2 (32-bit) / x64 | OK | OK | OK |
gewurz | Windows Server 2008 R2 Enterprise (64-bit) / x64 | OK | OK | OK |
moscato1 | Windows Server 2008 R2 Enterprise (64-bit) / x64 | OK | OK | OK |
pitt | Mac OS X Leopard (10.5.8) / i386 | OK | OK | OK |
charm 1.5.5 Martin Aryee
Last Changed Rev: 56014 / Revision: 56603 | Last Changed Date: 2011-06-06 18:42:48 -0700 |
| wilson2 | Linux (openSUSE 11.4) / x86_64 | OK | WARNINGS | |
liverpool | Windows Server 2003 R2 (32-bit) / x64 | OK | WARNINGS | OK |
gewurz | Windows Server 2008 R2 Enterprise (64-bit) / x64 | OK | WARNINGS | OK |
moscato1 | Windows Server 2008 R2 Enterprise (64-bit) / x64 | OK | WARNINGS | OK |
pitt | Mac OS X Leopard (10.5.8) / i386 | OK | WARNINGS | OK |
ChemmineR 2.5.3 ChemmineR Team
Last Changed Rev: 56540 / Revision: 56603 | Last Changed Date: 2011-07-04 11:29:40 -0700 |
| wilson2 | Linux (openSUSE 11.4) / x86_64 | OK | OK | |
liverpool | Windows Server 2003 R2 (32-bit) / x64 | OK | OK | OK |
gewurz | Windows Server 2008 R2 Enterprise (64-bit) / x64 | OK | OK | OK |
moscato1 | Windows Server 2008 R2 Enterprise (64-bit) / x64 | OK | OK | OK |
pitt | Mac OS X Leopard (10.5.8) / i386 | OK | OK | OK |
ChIPpeakAnno 1.9.5 Lihua Julie Zhu
Last Changed Rev: 56501 / Revision: 56603 | Last Changed Date: 2011-07-01 14:01:35 -0700 |
| wilson2 | Linux (openSUSE 11.4) / x86_64 | OK | OK | |
liverpool | Windows Server 2003 R2 (32-bit) / x64 | OK | OK | OK |
gewurz | Windows Server 2008 R2 Enterprise (64-bit) / x64 | OK | WARNINGS | OK |
moscato1 | Windows Server 2008 R2 Enterprise (64-bit) / x64 | OK | OK | OK |
pitt | Mac OS X Leopard (10.5.8) / i386 | OK | OK | OK |
chipseq 1.3.0 Biocore Team c/o BioC user list
Last Changed Rev: 56258 / Revision: 56603 | Last Changed Date: 2011-06-16 17:46:40 -0700 |
| wilson2 | Linux (openSUSE 11.4) / x86_64 | ERROR | skipped | |
liverpool | Windows Server 2003 R2 (32-bit) / x64 | ERROR | skipped | skipped |
gewurz | Windows Server 2008 R2 Enterprise (64-bit) / x64 | ERROR | skipped | skipped |
moscato1 | Windows Server 2008 R2 Enterprise (64-bit) / x64 | ERROR | skipped | skipped |
pitt | Mac OS X Leopard (10.5.8) / i386 | ERROR | skipped | skipped |
ChIPseqR 1.7.0 Peter Humburg
Last Changed Rev: 55011 / Revision: 56603 | Last Changed Date: 2011-04-21 01:15:39 -0700 |
| wilson2 | Linux (openSUSE 11.4) / x86_64 | OK | OK | |
liverpool | Windows Server 2003 R2 (32-bit) / x64 | OK | OK | OK |
gewurz | Windows Server 2008 R2 Enterprise (64-bit) / x64 | OK | OK | OK |
moscato1 | Windows Server 2008 R2 Enterprise (64-bit) / x64 | OK | OK | OK |
pitt | Mac OS X Leopard (10.5.8) / i386 | OK | OK | OK |
ChIPsim 1.7.2 Peter Humburg
Last Changed Rev: 55661 / Revision: 56603 | Last Changed Date: 2011-05-18 01:30:45 -0700 |
| wilson2 | Linux (openSUSE 11.4) / x86_64 | OK | OK | |
liverpool | Windows Server 2003 R2 (32-bit) / x64 | OK | OK | OK |
gewurz | Windows Server 2008 R2 Enterprise (64-bit) / x64 | OK | OK | OK |
moscato1 | Windows Server 2008 R2 Enterprise (64-bit) / x64 | OK | OK | OK |
pitt | Mac OS X Leopard (10.5.8) / i386 | OK | OK | OK |
chopsticks 1.17.1 Hin-Tak Leung
Last Changed Rev: 55058 / Revision: 56603 | Last Changed Date: 2011-04-24 21:27:03 -0700 |
| wilson2 | Linux (openSUSE 11.4) / x86_64 | OK | OK | |
liverpool | Windows Server 2003 R2 (32-bit) / x64 | OK | OK | OK |
gewurz | Windows Server 2008 R2 Enterprise (64-bit) / x64 | OK | OK | OK |
moscato1 | Windows Server 2008 R2 Enterprise (64-bit) / x64 | OK | OK | OK |
pitt | Mac OS X Leopard (10.5.8) / i386 | OK | OK | OK |
ChromHeatMap 1.7.0 Tim F. Rayner
Last Changed Rev: 54810 / Revision: 56603 | Last Changed Date: 2011-04-13 18:14:51 -0700 |
| wilson2 | Linux (openSUSE 11.4) / x86_64 | OK | OK | |
liverpool | Windows Server 2003 R2 (32-bit) / x64 | OK | OK | OK |
gewurz | Windows Server 2008 R2 Enterprise (64-bit) / x64 | OK | OK | OK |
moscato1 | Windows Server 2008 R2 Enterprise (64-bit) / x64 | OK | OK | OK |
pitt | Mac OS X Leopard (10.5.8) / i386 | OK | OK | OK |
clippda 1.3.0 Stephen Nyangoma
Last Changed Rev: 56066 / Revision: 56603 | Last Changed Date: 2011-06-08 15:07:12 -0700 |
| wilson2 | Linux (openSUSE 11.4) / x86_64 | OK | OK | |
liverpool | Windows Server 2003 R2 (32-bit) / x64 | OK | OK | OK |
gewurz | Windows Server 2008 R2 Enterprise (64-bit) / x64 | OK | OK | OK |
moscato1 | Windows Server 2008 R2 Enterprise (64-bit) / x64 | OK | OK | OK |
pitt | Mac OS X Leopard (10.5.8) / i386 | OK | OK | OK |
Clonality 1.1.0 Irina Ostrovnaya
Last Changed Rev: 56066 / Revision: 56603 | Last Changed Date: 2011-06-08 15:07:12 -0700 |
| wilson2 | Linux (openSUSE 11.4) / x86_64 | OK | OK | |
liverpool | Windows Server 2003 R2 (32-bit) / x64 | OK | OK | OK |
gewurz | Windows Server 2008 R2 Enterprise (64-bit) / x64 | OK | OK | OK |
moscato1 | Windows Server 2008 R2 Enterprise (64-bit) / x64 | OK | OK | OK |
pitt | Mac OS X Leopard (10.5.8) / i386 | OK | OK | OK |
clst 1.1.0 Noah Hoffman
Last Changed Rev: 56090 / Revision: 56603 | Last Changed Date: 2011-06-09 17:02:42 -0700 |
| wilson2 | Linux (openSUSE 11.4) / x86_64 | OK | OK | |
liverpool | Windows Server 2003 R2 (32-bit) / x64 | OK | OK | OK |
gewurz | Windows Server 2008 R2 Enterprise (64-bit) / x64 | OK | OK | OK |
moscato1 | Windows Server 2008 R2 Enterprise (64-bit) / x64 | OK | OK | OK |
pitt | Mac OS X Leopard (10.5.8) / i386 | OK | OK | OK |
clstutils 1.1.0 Noah Hoffman
Last Changed Rev: 56090 / Revision: 56603 | Last Changed Date: 2011-06-09 17:02:42 -0700 |
| wilson2 | Linux (openSUSE 11.4) / x86_64 | OK | OK | |
liverpool | Windows Server 2003 R2 (32-bit) / x64 | OK | OK | OK |
gewurz | Windows Server 2008 R2 Enterprise (64-bit) / x64 | OK | OK | OK |
moscato1 | Windows Server 2008 R2 Enterprise (64-bit) / x64 | OK | OK | OK |
pitt | Mac OS X Leopard (10.5.8) / i386 | OK | OK | OK |
clusterProfiler 1.1.15 Guangchuang Yu
Last Changed Rev: 56260 / Revision: 56603 | Last Changed Date: 2011-06-16 18:18:20 -0700 |
| wilson2 | Linux (openSUSE 11.4) / x86_64 | OK | OK | |
liverpool | Windows Server 2003 R2 (32-bit) / x64 | OK | OK | OK |
gewurz | Windows Server 2008 R2 Enterprise (64-bit) / x64 | OK | OK | OK |
moscato1 | Windows Server 2008 R2 Enterprise (64-bit) / x64 | OK | OK | OK |
pitt | Mac OS X Leopard (10.5.8) / i386 | OK | OK | OK |
clusterStab 1.25.1 James W. MacDonald
Last Changed Rev: 54916 / Revision: 56603 | Last Changed Date: 2011-04-18 10:27:55 -0700 |
| wilson2 | Linux (openSUSE 11.4) / x86_64 | OK | OK | |
liverpool | Windows Server 2003 R2 (32-bit) / x64 | OK | OK | OK |
gewurz | Windows Server 2008 R2 Enterprise (64-bit) / x64 | OK | OK | OK |
moscato1 | Windows Server 2008 R2 Enterprise (64-bit) / x64 | OK | OK | OK |
pitt | Mac OS X Leopard (10.5.8) / i386 | OK | OK | OK |
CMA 1.11.0 Christoph Bernau
Last Changed Rev: 54802 / Revision: 56603 | Last Changed Date: 2011-04-13 15:36:43 -0700 |
| wilson2 | Linux (openSUSE 11.4) / x86_64 | OK | OK | |
liverpool | Windows Server 2003 R2 (32-bit) / x64 | OK | OK | OK |
gewurz | Windows Server 2008 R2 Enterprise (64-bit) / x64 | OK | OK | OK |
moscato1 | Windows Server 2008 R2 Enterprise (64-bit) / x64 | OK | OK | OK |
pitt | Mac OS X Leopard (10.5.8) / i386 | OK | OK | OK |
cn.farms 1.1.2 Andreas Mitterecker
Last Changed Rev: 55652 / Revision: 56603 | Last Changed Date: 2011-05-17 16:01:16 -0700 |
| wilson2 | Linux (openSUSE 11.4) / x86_64 | OK | OK | |
liverpool | Windows Server 2003 R2 (32-bit) / x64 | OK | OK | OK |
gewurz | Windows Server 2008 R2 Enterprise (64-bit) / x64 | OK | OK | OK |
moscato1 | Windows Server 2008 R2 Enterprise (64-bit) / x64 | OK | OK | OK |
pitt | Mac OS X Leopard (10.5.8) / i386 | OK | WARNINGS | OK |
CNTools 1.9.0 J. Zhang
Last Changed Rev: 54802 / Revision: 56603 | Last Changed Date: 2011-04-13 15:36:43 -0700 |
| wilson2 | Linux (openSUSE 11.4) / x86_64 | OK | OK | |
liverpool | Windows Server 2003 R2 (32-bit) / x64 | OK | OK | OK |
gewurz | Windows Server 2008 R2 Enterprise (64-bit) / x64 | OK | OK | OK |
moscato1 | Windows Server 2008 R2 Enterprise (64-bit) / x64 | OK | OK | OK |
pitt | Mac OS X Leopard (10.5.8) / i386 | OK | OK | OK |
CNVtools 1.47.0 Chris Barnes
Last Changed Rev: 54802 / Revision: 56603 | Last Changed Date: 2011-04-13 15:36:43 -0700 |
| wilson2 | Linux (openSUSE 11.4) / x86_64 | OK | OK | |
liverpool | Windows Server 2003 R2 (32-bit) / x64 | OK | OK | OK |
gewurz | Windows Server 2008 R2 Enterprise (64-bit) / x64 | OK | OK | OK |
moscato1 | Windows Server 2008 R2 Enterprise (64-bit) / x64 | OK | OK | OK |
pitt | Mac OS X Leopard (10.5.8) / i386 | OK | OK | OK |
CoCiteStats 1.25.0 Biocore Team c/o BioC user list
Last Changed Rev: 54802 / Revision: 56603 | Last Changed Date: 2011-04-13 15:36:43 -0700 |
| wilson2 | Linux (openSUSE 11.4) / x86_64 | OK | OK | |
liverpool | Windows Server 2003 R2 (32-bit) / x64 | OK | OK | OK |
gewurz | Windows Server 2008 R2 Enterprise (64-bit) / x64 | OK | OK | OK |
moscato1 | Windows Server 2008 R2 Enterprise (64-bit) / x64 | OK | OK | OK |
pitt | Mac OS X Leopard (10.5.8) / i386 | OK | OK | OK |
codelink 1.21.0 Diego Diez
Last Changed Rev: 54802 / Revision: 56603 | Last Changed Date: 2011-04-13 15:36:43 -0700 |
| wilson2 | Linux (openSUSE 11.4) / x86_64 | OK | OK | |
liverpool | Windows Server 2003 R2 (32-bit) / x64 | OK | OK | OK |
gewurz | Windows Server 2008 R2 Enterprise (64-bit) / x64 | OK | OK | OK |
moscato1 | Windows Server 2008 R2 Enterprise (64-bit) / x64 | OK | OK | OK |
pitt | Mac OS X Leopard (10.5.8) / i386 | OK | OK | OK |
CoGAPS 1.3.0 Elana J. Fertig , Michael F. Ochs
Last Changed Rev: 54810 / Revision: 56603 | Last Changed Date: 2011-04-13 18:14:51 -0700 |
| wilson2 | Linux (openSUSE 11.4) / x86_64 | OK | OK | |
liverpool | Windows Server 2003 R2 (32-bit) / x64 | N O T S U P P O R T E D |
gewurz | Windows Server 2008 R2 Enterprise (64-bit) / x64 | N O T S U P P O R T E D |
moscato1 | Windows Server 2008 R2 Enterprise (64-bit) / x64 | N O T S U P P O R T E D |
pitt | Mac OS X Leopard (10.5.8) / i386 | N O T S U P P O R T E D |
ConsensusClusterPlus 1.5.1 Matt Wilkerson
Last Changed Rev: 55432 / Revision: 56603 | Last Changed Date: 2011-05-11 09:42:31 -0700 |
| wilson2 | Linux (openSUSE 11.4) / x86_64 | OK | OK | |
liverpool | Windows Server 2003 R2 (32-bit) / x64 | OK | OK | OK |
gewurz | Windows Server 2008 R2 Enterprise (64-bit) / x64 | OK | OK | OK |
moscato1 | Windows Server 2008 R2 Enterprise (64-bit) / x64 | OK | OK | OK |
pitt | Mac OS X Leopard (10.5.8) / i386 | OK | OK | OK |
convert 1.29.0 Yee Hwa (Jean) Yang
Last Changed Rev: 54802 / Revision: 56603 | Last Changed Date: 2011-04-13 15:36:43 -0700 |
| wilson2 | Linux (openSUSE 11.4) / x86_64 | OK | OK | |
liverpool | Windows Server 2003 R2 (32-bit) / x64 | OK | OK | OK |
gewurz | Windows Server 2008 R2 Enterprise (64-bit) / x64 | OK | OK | OK |
moscato1 | Windows Server 2008 R2 Enterprise (64-bit) / x64 | OK | OK | OK |
pitt | Mac OS X Leopard (10.5.8) / i386 | OK | OK | OK |
copa 1.21.0 James W. MacDonald
Last Changed Rev: 54802 / Revision: 56603 | Last Changed Date: 2011-04-13 15:36:43 -0700 |
| wilson2 | Linux (openSUSE 11.4) / x86_64 | OK | OK | |
liverpool | Windows Server 2003 R2 (32-bit) / x64 | OK | OK | OK |
gewurz | Windows Server 2008 R2 Enterprise (64-bit) / x64 | OK | OK | OK |
moscato1 | Windows Server 2008 R2 Enterprise (64-bit) / x64 | OK | OK | OK |
pitt | Mac OS X Leopard (10.5.8) / i386 | OK | OK | OK |
Cormotif 0.99.0 Yingying Wei
Last Changed Rev: 56433 / Revision: 56603 | Last Changed Date: 2011-06-27 10:55:29 -0700 |
| wilson2 | Linux (openSUSE 11.4) / x86_64 | OK | OK | |
liverpool | Windows Server 2003 R2 (32-bit) / x64 | OK | OK | OK |
gewurz | Windows Server 2008 R2 Enterprise (64-bit) / x64 | OK | OK | OK |
moscato1 | Windows Server 2008 R2 Enterprise (64-bit) / x64 | OK | OK | OK |
pitt | Mac OS X Leopard (10.5.8) / i386 | OK | OK | OK |
coRNAi 1.3.0 Elin Axelsson
Last Changed Rev: 54802 / Revision: 56603 | Last Changed Date: 2011-04-13 15:36:43 -0700 |
| wilson2 | Linux (openSUSE 11.4) / x86_64 | OK | OK | |
liverpool | Windows Server 2003 R2 (32-bit) / x64 | OK | OK | OK |
gewurz | Windows Server 2008 R2 Enterprise (64-bit) / x64 | OK | OK | OK |
moscato1 | Windows Server 2008 R2 Enterprise (64-bit) / x64 | OK | OK | OK |
pitt | Mac OS X Leopard (10.5.8) / i386 | OK | OK | OK |
CORREP 1.19.0 Dongxiao Zhu
Last Changed Rev: 54802 / Revision: 56603 | Last Changed Date: 2011-04-13 15:36:43 -0700 |
| wilson2 | Linux (openSUSE 11.4) / x86_64 | OK | OK | |
liverpool | Windows Server 2003 R2 (32-bit) / x64 | OK | OK | OK |
gewurz | Windows Server 2008 R2 Enterprise (64-bit) / x64 | OK | OK | OK |
moscato1 | Windows Server 2008 R2 Enterprise (64-bit) / x64 | OK | OK | OK |
pitt | Mac OS X Leopard (10.5.8) / i386 | OK | OK | OK |
cosmo 1.19.0 Oliver Bembom
Last Changed Rev: 54802 / Revision: 56603 | Last Changed Date: 2011-04-13 15:36:43 -0700 |
| wilson2 | Linux (openSUSE 11.4) / x86_64 | OK | OK | |
liverpool | Windows Server 2003 R2 (32-bit) / x64 | OK | OK | OK |
gewurz | Windows Server 2008 R2 Enterprise (64-bit) / x64 | OK | OK | OK |
moscato1 | Windows Server 2008 R2 Enterprise (64-bit) / x64 | OK | OK | OK |
pitt | Mac OS X Leopard (10.5.8) / i386 | OK | OK | OK |
cosmoGUI 1.19.0 Oliver Bembom
Last Changed Rev: 54802 / Revision: 56603 | Last Changed Date: 2011-04-13 15:36:43 -0700 |
| wilson2 | Linux (openSUSE 11.4) / x86_64 | OK | OK | |
liverpool | Windows Server 2003 R2 (32-bit) / x64 | OK | OK | OK |
gewurz | Windows Server 2008 R2 Enterprise (64-bit) / x64 | OK | OK | OK |
moscato1 | Windows Server 2008 R2 Enterprise (64-bit) / x64 | OK | OK | OK |
pitt | Mac OS X Leopard (10.5.8) / i386 | OK | OK | OK |
cqn 0.99.2 Kasper Daniel Hansen
Last Changed Rev: 56520 / Revision: 56603 | Last Changed Date: 2011-07-03 12:18:01 -0700 |
| wilson2 | Linux (openSUSE 11.4) / x86_64 | OK | OK | |
liverpool | Windows Server 2003 R2 (32-bit) / x64 | OK | OK | OK |
gewurz | Windows Server 2008 R2 Enterprise (64-bit) / x64 | OK | OK | OK |
moscato1 | Windows Server 2008 R2 Enterprise (64-bit) / x64 | OK | OK | OK |
pitt | Mac OS X Leopard (10.5.8) / i386 | OK | OK | OK |
CRImage 1.3.0 Henrik Failmezger , Yinyin Yuan
Last Changed Rev: 54810 / Revision: 56603 | Last Changed Date: 2011-04-13 18:14:51 -0700 |
| wilson2 | Linux (openSUSE 11.4) / x86_64 | OK | OK | |
liverpool | Windows Server 2003 R2 (32-bit) / x64 | ERROR | skipped | skipped |
gewurz | Windows Server 2008 R2 Enterprise (64-bit) / x64 | N O T S U P P O R T E D |
moscato1 | Windows Server 2008 R2 Enterprise (64-bit) / x64 | ERROR | skipped | skipped |
pitt | Mac OS X Leopard (10.5.8) / i386 | N O T S U P P O R T E D |
crlmm 1.11.2 Benilton S Carvalho , Robert Scharpf , Matt Ritchie
Last Changed Rev: 55182 / Revision: 56603 | Last Changed Date: 2011-04-30 04:38:33 -0700 |
| wilson2 | Linux (openSUSE 11.4) / x86_64 | OK | WARNINGS | |
liverpool | Windows Server 2003 R2 (32-bit) / x64 | OK | WARNINGS | OK |
gewurz | Windows Server 2008 R2 Enterprise (64-bit) / x64 | OK | WARNINGS | OK |
moscato1 | Windows Server 2008 R2 Enterprise (64-bit) / x64 | OK | WARNINGS | OK |
pitt | Mac OS X Leopard (10.5.8) / i386 | OK | WARNINGS | OK |
CSAR 1.5.0 Jose M Muino
Last Changed Rev: 54810 / Revision: 56603 | Last Changed Date: 2011-04-13 18:14:51 -0700 |
| wilson2 | Linux (openSUSE 11.4) / x86_64 | OK | OK | |
liverpool | Windows Server 2003 R2 (32-bit) / x64 | OK | OK | OK |
gewurz | Windows Server 2008 R2 Enterprise (64-bit) / x64 | OK | OK | OK |
moscato1 | Windows Server 2008 R2 Enterprise (64-bit) / x64 | OK | OK | OK |
pitt | Mac OS X Leopard (10.5.8) / i386 | OK | OK | OK |
ctc 1.27.0 Antoine Lucas
Last Changed Rev: 54802 / Revision: 56603 | Last Changed Date: 2011-04-13 15:36:43 -0700 |
| wilson2 | Linux (openSUSE 11.4) / x86_64 | OK | OK | |
liverpool | Windows Server 2003 R2 (32-bit) / x64 | OK | OK | OK |
gewurz | Windows Server 2008 R2 Enterprise (64-bit) / x64 | OK | OK | OK |
moscato1 | Windows Server 2008 R2 Enterprise (64-bit) / x64 | OK | OK | OK |
pitt | Mac OS X Leopard (10.5.8) / i386 | OK | OK | OK |
cycle 1.7.0 Matthias Futschik
Last Changed Rev: 54802 / Revision: 56603 | Last Changed Date: 2011-04-13 15:36:43 -0700 |
| wilson2 | Linux (openSUSE 11.4) / x86_64 | OK | OK | |
liverpool | Windows Server 2003 R2 (32-bit) / x64 | OK | OK | OK |
gewurz | Windows Server 2008 R2 Enterprise (64-bit) / x64 | OK | OK | OK |
moscato1 | Windows Server 2008 R2 Enterprise (64-bit) / x64 | OK | OK | OK |
pitt | Mac OS X Leopard (10.5.8) / i386 | OK | OK | OK |
|
D A B C [D] E F G H I J K L M N O P Q R S T U V W X Y Z |
daMA 1.25.0 Jobst Landgrebe
Last Changed Rev: 54802 / Revision: 56603 | Last Changed Date: 2011-04-13 15:36:43 -0700 |
| wilson2 | Linux (openSUSE 11.4) / x86_64 | OK | OK | |
liverpool | Windows Server 2003 R2 (32-bit) / x64 | OK | OK | OK |
gewurz | Windows Server 2008 R2 Enterprise (64-bit) / x64 | OK | OK | OK |
moscato1 | Windows Server 2008 R2 Enterprise (64-bit) / x64 | OK | OK | OK |
pitt | Mac OS X Leopard (10.5.8) / i386 | OK | OK | OK |
DAVIDQuery 1.13.0 Roger Day
Last Changed Rev: 54810 / Revision: 56603 | Last Changed Date: 2011-04-13 18:14:51 -0700 |
| wilson2 | Linux (openSUSE 11.4) / x86_64 | OK | OK | |
liverpool | Windows Server 2003 R2 (32-bit) / x64 | OK | OK | OK |
gewurz | Windows Server 2008 R2 Enterprise (64-bit) / x64 | OK | OK | OK |
moscato1 | Windows Server 2008 R2 Enterprise (64-bit) / x64 | OK | OK | OK |
pitt | Mac OS X Leopard (10.5.8) / i386 | OK | OK | OK |
ddCt 1.7.1 Jitao David Zhang
Last Changed Rev: 56440 / Revision: 56603 | Last Changed Date: 2011-06-27 11:55:31 -0700 |
| wilson2 | Linux (openSUSE 11.4) / x86_64 | OK | OK | |
liverpool | Windows Server 2003 R2 (32-bit) / x64 | OK | OK | OK |
gewurz | Windows Server 2008 R2 Enterprise (64-bit) / x64 | OK | OK | OK |
moscato1 | Windows Server 2008 R2 Enterprise (64-bit) / x64 | OK | OK | OK |
pitt | Mac OS X Leopard (10.5.8) / i386 | OK | OK | OK |
DEDS 1.27.0 Yuanyuan Xiao
Last Changed Rev: 54802 / Revision: 56603 | Last Changed Date: 2011-04-13 15:36:43 -0700 |
| wilson2 | Linux (openSUSE 11.4) / x86_64 | OK | OK | |
liverpool | Windows Server 2003 R2 (32-bit) / x64 | OK | OK | OK |
gewurz | Windows Server 2008 R2 Enterprise (64-bit) / x64 | OK | OK | OK |
moscato1 | Windows Server 2008 R2 Enterprise (64-bit) / x64 | OK | OK | OK |
pitt | Mac OS X Leopard (10.5.8) / i386 | OK | OK | OK |
DEGraph 1.5.0 Laurent Jacob
Last Changed Rev: 54802 / Revision: 56603 | Last Changed Date: 2011-04-13 15:36:43 -0700 |
| wilson2 | Linux (openSUSE 11.4) / x86_64 | OK | OK | |
liverpool | Windows Server 2003 R2 (32-bit) / x64 | OK | OK | OK |
gewurz | Windows Server 2008 R2 Enterprise (64-bit) / x64 | OK | OK | OK |
moscato1 | Windows Server 2008 R2 Enterprise (64-bit) / x64 | OK | OK | OK |
pitt | Mac OS X Leopard (10.5.8) / i386 | OK | OK | OK |
DEGseq 1.7.1 Likun Wang
Last Changed Rev: 56066 / Revision: 56603 | Last Changed Date: 2011-06-08 15:07:12 -0700 |
| wilson2 | Linux (openSUSE 11.4) / x86_64 | OK | OK | |
liverpool | Windows Server 2003 R2 (32-bit) / x64 | OK | OK | OK |
gewurz | Windows Server 2008 R2 Enterprise (64-bit) / x64 | OK | OK | OK |
moscato1 | Windows Server 2008 R2 Enterprise (64-bit) / x64 | OK | OK | OK |
pitt | Mac OS X Leopard (10.5.8) / i386 | OK | OK | OK |
DESeq 1.5.19 Simon Anders
Last Changed Rev: 56486 / Revision: 56603 | Last Changed Date: 2011-07-01 01:46:33 -0700 |
| wilson2 | Linux (openSUSE 11.4) / x86_64 | OK | OK | |
liverpool | Windows Server 2003 R2 (32-bit) / x64 | OK | OK | OK |
gewurz | Windows Server 2008 R2 Enterprise (64-bit) / x64 | OK | OK | OK |
moscato1 | Windows Server 2008 R2 Enterprise (64-bit) / x64 | OK | OK | OK |
pitt | Mac OS X Leopard (10.5.8) / i386 | OK | OK | OK |
DEXSeq 0.1.10 Alejandro Reyes
Last Changed Rev: 56539 / Revision: 56603 | Last Changed Date: 2011-07-04 09:07:13 -0700 |
| wilson2 | Linux (openSUSE 11.4) / x86_64 | OK | OK | |
liverpool | Windows Server 2003 R2 (32-bit) / x64 | OK | OK | OK |
gewurz | Windows Server 2008 R2 Enterprise (64-bit) / x64 | OK | OK | OK |
moscato1 | Windows Server 2008 R2 Enterprise (64-bit) / x64 | OK | OK | OK |
pitt | Mac OS X Leopard (10.5.8) / i386 | OK | OK | OK |
DFP 1.11.0 Rodrigo Alvarez-Glez
Last Changed Rev: 54802 / Revision: 56603 | Last Changed Date: 2011-04-13 15:36:43 -0700 |
| wilson2 | Linux (openSUSE 11.4) / x86_64 | OK | OK | |
liverpool | Windows Server 2003 R2 (32-bit) / x64 | OK | OK | OK |
gewurz | Windows Server 2008 R2 Enterprise (64-bit) / x64 | OK | OK | OK |
moscato1 | Windows Server 2008 R2 Enterprise (64-bit) / x64 | OK | OK | OK |
pitt | Mac OS X Leopard (10.5.8) / i386 | OK | OK | OK |
diffGeneAnalysis 1.35.0 Choudary Jagarlamudi
Last Changed Rev: 54802 / Revision: 56603 | Last Changed Date: 2011-04-13 15:36:43 -0700 |
| wilson2 | Linux (openSUSE 11.4) / x86_64 | OK | OK | |
liverpool | Windows Server 2003 R2 (32-bit) / x64 | OK | OK | OK |
gewurz | Windows Server 2008 R2 Enterprise (64-bit) / x64 | OK | OK | OK |
moscato1 | Windows Server 2008 R2 Enterprise (64-bit) / x64 | OK | OK | OK |
pitt | Mac OS X Leopard (10.5.8) / i386 | OK | OK | OK |
DNAcopy 1.27.1 Venkatraman E. Seshan
Last Changed Rev: 56460 / Revision: 56603 | Last Changed Date: 2011-06-29 09:01:20 -0700 |
| wilson2 | Linux (openSUSE 11.4) / x86_64 | OK | OK | |
liverpool | Windows Server 2003 R2 (32-bit) / x64 | OK | OK | OK |
gewurz | Windows Server 2008 R2 Enterprise (64-bit) / x64 | OK | OK | OK |
moscato1 | Windows Server 2008 R2 Enterprise (64-bit) / x64 | OK | OK | OK |
pitt | Mac OS X Leopard (10.5.8) / i386 | OK | OK | OK |
domainsignatures 1.13.0 Florian Hahne
Last Changed Rev: 54802 / Revision: 56603 | Last Changed Date: 2011-04-13 15:36:43 -0700 |
| wilson2 | Linux (openSUSE 11.4) / x86_64 | OK | OK | |
liverpool | Windows Server 2003 R2 (32-bit) / x64 | OK | OK | OK |
gewurz | Windows Server 2008 R2 Enterprise (64-bit) / x64 | OK | OK | OK |
moscato1 | Windows Server 2008 R2 Enterprise (64-bit) / x64 | OK | OK | OK |
pitt | Mac OS X Leopard (10.5.8) / i386 | OK | OK | OK |
DOSE 0.99.7 Guangchuang Yu
Last Changed Rev: 56163 / Revision: 56603 | Last Changed Date: 2011-06-14 00:28:24 -0700 |
| wilson2 | Linux (openSUSE 11.4) / x86_64 | OK | OK | |
liverpool | Windows Server 2003 R2 (32-bit) / x64 | OK | OK | OK |
gewurz | Windows Server 2008 R2 Enterprise (64-bit) / x64 | OK | OK | OK |
moscato1 | Windows Server 2008 R2 Enterprise (64-bit) / x64 | OK | OK | OK |
pitt | Mac OS X Leopard (10.5.8) / i386 | OK | OK | OK |
dualKS 1.13.0 Eric J. Kort
Last Changed Rev: 54802 / Revision: 56603 | Last Changed Date: 2011-04-13 15:36:43 -0700 |
| wilson2 | Linux (openSUSE 11.4) / x86_64 | OK | OK | |
liverpool | Windows Server 2003 R2 (32-bit) / x64 | OK | OK | OK |
gewurz | Windows Server 2008 R2 Enterprise (64-bit) / x64 | OK | OK | OK |
moscato1 | Windows Server 2008 R2 Enterprise (64-bit) / x64 | OK | OK | OK |
pitt | Mac OS X Leopard (10.5.8) / i386 | OK | OK | OK |
dyebias 1.11.0 Philip Lijnzaad
Last Changed Rev: 54802 / Revision: 56603 | Last Changed Date: 2011-04-13 15:36:43 -0700 |
| wilson2 | Linux (openSUSE 11.4) / x86_64 | OK | OK | |
liverpool | Windows Server 2003 R2 (32-bit) / x64 | OK | OK | OK |
gewurz | Windows Server 2008 R2 Enterprise (64-bit) / x64 | OK | OK | OK |
moscato1 | Windows Server 2008 R2 Enterprise (64-bit) / x64 | OK | OK | OK |
pitt | Mac OS X Leopard (10.5.8) / i386 | OK | OK | OK |
DynDoc 1.31.0 Biocore Team c/o BioC user list
Last Changed Rev: 54802 / Revision: 56603 | Last Changed Date: 2011-04-13 15:36:43 -0700 |
| wilson2 | Linux (openSUSE 11.4) / x86_64 | OK | OK | |
liverpool | Windows Server 2003 R2 (32-bit) / x64 | OK | OK | OK |
gewurz | Windows Server 2008 R2 Enterprise (64-bit) / x64 | OK | OK | OK |
moscato1 | Windows Server 2008 R2 Enterprise (64-bit) / x64 | OK | OK | OK |
pitt | Mac OS X Leopard (10.5.8) / i386 | OK | OK | OK |
|
E A B C D [E] F G H I J K L M N O P Q R S T U V W X Y Z |
EBarrays 2.17.0 Ming Yuan
Last Changed Rev: 56336 / Revision: 56603 | Last Changed Date: 2011-06-20 15:48:10 -0700 |
| wilson2 | Linux (openSUSE 11.4) / x86_64 | OK | OK | |
liverpool | Windows Server 2003 R2 (32-bit) / x64 | OK | OK | OK |
gewurz | Windows Server 2008 R2 Enterprise (64-bit) / x64 | OK | OK | OK |
moscato1 | Windows Server 2008 R2 Enterprise (64-bit) / x64 | OK | OK | OK |
pitt | Mac OS X Leopard (10.5.8) / i386 | OK | OK | OK |
EBImage 3.9.7 Gregoire Pau
Last Changed Rev: 56489 / Revision: 56603 | Last Changed Date: 2011-07-01 02:50:44 -0700 |
| wilson2 | Linux (openSUSE 11.4) / x86_64 | OK | OK | |
liverpool | Windows Server 2003 R2 (32-bit) / x64 | ERROR | skipped | skipped |
gewurz | Windows Server 2008 R2 Enterprise (64-bit) / x64 | N O T S U P P O R T E D |
moscato1 | Windows Server 2008 R2 Enterprise (64-bit) / x64 | ERROR | skipped | skipped |
pitt | Mac OS X Leopard (10.5.8) / i386 | N O T S U P P O R T E D |
ecolitk 1.25.0 Laurent Gautier
Last Changed Rev: 54802 / Revision: 56603 | Last Changed Date: 2011-04-13 15:36:43 -0700 |
| wilson2 | Linux (openSUSE 11.4) / x86_64 | OK | WARNINGS | |
liverpool | Windows Server 2003 R2 (32-bit) / x64 | OK | WARNINGS | OK |
gewurz | Windows Server 2008 R2 Enterprise (64-bit) / x64 | OK | WARNINGS | OK |
moscato1 | Windows Server 2008 R2 Enterprise (64-bit) / x64 | OK | WARNINGS | OK |
pitt | Mac OS X Leopard (10.5.8) / i386 | OK | WARNINGS | OK |
edd 1.31.0 Vince Carey
Last Changed Rev: 56260 / Revision: 56603 | Last Changed Date: 2011-06-16 18:18:20 -0700 |
| wilson2 | Linux (openSUSE 11.4) / x86_64 | OK | OK | |
liverpool | Windows Server 2003 R2 (32-bit) / x64 | OK | OK | OK |
gewurz | Windows Server 2008 R2 Enterprise (64-bit) / x64 | OK | OK | OK |
moscato1 | Windows Server 2008 R2 Enterprise (64-bit) / x64 | OK | OK | OK |
pitt | Mac OS X Leopard (10.5.8) / i386 | OK | OK | OK |
edgeR 2.3.29 Mark Robinson , Davis McCarthy , Gordon Smyth
Last Changed Rev: 56416 / Revision: 56603 | Last Changed Date: 2011-06-27 01:21:02 -0700 |
| wilson2 | Linux (openSUSE 11.4) / x86_64 | OK | OK | |
liverpool | Windows Server 2003 R2 (32-bit) / x64 | OK | OK | OK |
gewurz | Windows Server 2008 R2 Enterprise (64-bit) / x64 | OK | OK | OK |
moscato1 | Windows Server 2008 R2 Enterprise (64-bit) / x64 | OK | OK | OK |
pitt | Mac OS X Leopard (10.5.8) / i386 | OK | OK | OK |
eisa 1.5.0 Gabor Csardi
Last Changed Rev: 56066 / Revision: 56603 | Last Changed Date: 2011-06-08 15:07:12 -0700 |
| wilson2 | Linux (openSUSE 11.4) / x86_64 | OK | OK | |
liverpool | Windows Server 2003 R2 (32-bit) / x64 | ERROR | skipped | skipped |
gewurz | Windows Server 2008 R2 Enterprise (64-bit) / x64 | OK | OK | OK |
moscato1 | Windows Server 2008 R2 Enterprise (64-bit) / x64 | OK | OK | OK |
pitt | Mac OS X Leopard (10.5.8) / i386 | OK | OK | OK |
ENVISIONQuery 1.1.2 Alex Lisovich , Roger Day
Last Changed Rev: 54973 / Revision: 56603 | Last Changed Date: 2011-04-19 19:42:31 -0700 |
| wilson2 | Linux (openSUSE 11.4) / x86_64 | ERROR | skipped | |
liverpool | Windows Server 2003 R2 (32-bit) / x64 | ERROR | skipped | skipped |
gewurz | Windows Server 2008 R2 Enterprise (64-bit) / x64 | ERROR | skipped | skipped |
moscato1 | Windows Server 2008 R2 Enterprise (64-bit) / x64 | ERROR | skipped | skipped |
pitt | Mac OS X Leopard (10.5.8) / i386 | ERROR | skipped | skipped |
ExiMiR 1.1.0 Sylvain Gubian
Last Changed Rev: 54979 / Revision: 56603 | Last Changed Date: 2011-04-20 04:39:49 -0700 |
| wilson2 | Linux (openSUSE 11.4) / x86_64 | OK | OK | |
liverpool | Windows Server 2003 R2 (32-bit) / x64 | OK | OK | OK |
gewurz | Windows Server 2008 R2 Enterprise (64-bit) / x64 | OK | OK | OK |
moscato1 | Windows Server 2008 R2 Enterprise (64-bit) / x64 | OK | OK | OK |
pitt | Mac OS X Leopard (10.5.8) / i386 | OK | OK | OK |
explorase 1.17.0 Michael Lawrence
Last Changed Rev: 54802 / Revision: 56603 | Last Changed Date: 2011-04-13 15:36:43 -0700 |
| wilson2 | Linux (openSUSE 11.4) / x86_64 | OK | OK | |
liverpool | Windows Server 2003 R2 (32-bit) / x64 | OK | OK | OK |
gewurz | Windows Server 2008 R2 Enterprise (64-bit) / x64 | N O T S U P P O R T E D |
moscato1 | Windows Server 2008 R2 Enterprise (64-bit) / x64 | ERROR | skipped | skipped |
pitt | Mac OS X Leopard (10.5.8) / i386 | N O T S U P P O R T E D |
ExpressionView 1.5.0 Gabor Csardi
Last Changed Rev: 56066 / Revision: 56603 | Last Changed Date: 2011-06-08 15:07:12 -0700 |
| wilson2 | Linux (openSUSE 11.4) / x86_64 | OK | WARNINGS | |
liverpool | Windows Server 2003 R2 (32-bit) / x64 | OK | WARNINGS | OK |
gewurz | Windows Server 2008 R2 Enterprise (64-bit) / x64 | OK | WARNINGS | OK |
moscato1 | Windows Server 2008 R2 Enterprise (64-bit) / x64 | OK | WARNINGS | OK |
pitt | Mac OS X Leopard (10.5.8) / i386 | OK | WARNINGS | OK |
externalVector 1.19.0 Biocore Team c/o BioC user list
Last Changed Rev: 54802 / Revision: 56603 | Last Changed Date: 2011-04-13 15:36:43 -0700 |
| wilson2 | Linux (openSUSE 11.4) / x86_64 | OK | OK | |
liverpool | Windows Server 2003 R2 (32-bit) / x64 | OK | OK | OK |
gewurz | Windows Server 2008 R2 Enterprise (64-bit) / x64 | OK | OK | OK |
moscato1 | Windows Server 2008 R2 Enterprise (64-bit) / x64 | OK | OK | OK |
pitt | Mac OS X Leopard (10.5.8) / i386 | OK | OK | OK |
|
F A B C D E [F] G H I J K L M N O P Q R S T U V W X Y Z |
fabia 1.5.0 Sepp Hochreiter
Last Changed Rev: 56066 / Revision: 56603 | Last Changed Date: 2011-06-08 15:07:12 -0700 |
| wilson2 | Linux (openSUSE 11.4) / x86_64 | OK | OK | |
liverpool | Windows Server 2003 R2 (32-bit) / x64 | OK | OK | OK |
gewurz | Windows Server 2008 R2 Enterprise (64-bit) / x64 | OK | OK | OK |
moscato1 | Windows Server 2008 R2 Enterprise (64-bit) / x64 | OK | OK | OK |
pitt | Mac OS X Leopard (10.5.8) / i386 | OK | OK | OK |
factDesign 1.29.0 Denise Scholtens
Last Changed Rev: 54802 / Revision: 56603 | Last Changed Date: 2011-04-13 15:36:43 -0700 |
| wilson2 | Linux (openSUSE 11.4) / x86_64 | OK | OK | |
liverpool | Windows Server 2003 R2 (32-bit) / x64 | OK | OK | OK |
gewurz | Windows Server 2008 R2 Enterprise (64-bit) / x64 | OK | OK | OK |
moscato1 | Windows Server 2008 R2 Enterprise (64-bit) / x64 | OK | OK | OK |
pitt | Mac OS X Leopard (10.5.8) / i386 | OK | OK | OK |
farms 1.5.0 Djork-Arne Clevert
Last Changed Rev: 54810 / Revision: 56603 | Last Changed Date: 2011-04-13 18:14:51 -0700 |
| wilson2 | Linux (openSUSE 11.4) / x86_64 | OK | OK | |
liverpool | Windows Server 2003 R2 (32-bit) / x64 | OK | OK | OK |
gewurz | Windows Server 2008 R2 Enterprise (64-bit) / x64 | OK | OK | OK |
moscato1 | Windows Server 2008 R2 Enterprise (64-bit) / x64 | OK | OK | OK |
pitt | Mac OS X Leopard (10.5.8) / i386 | OK | OK | OK |
fdrame 1.25.0 Effi Kenigsberg
Last Changed Rev: 54810 / Revision: 56603 | Last Changed Date: 2011-04-13 18:14:51 -0700 |
| wilson2 | Linux (openSUSE 11.4) / x86_64 | OK | OK | |
liverpool | Windows Server 2003 R2 (32-bit) / x64 | OK | OK | OK |
gewurz | Windows Server 2008 R2 Enterprise (64-bit) / x64 | OK | OK | OK |
moscato1 | Windows Server 2008 R2 Enterprise (64-bit) / x64 | OK | OK | OK |
pitt | Mac OS X Leopard (10.5.8) / i386 | OK | OK | OK |
flagme 1.9.0 Mark Robinson
Last Changed Rev: 54810 / Revision: 56603 | Last Changed Date: 2011-04-13 18:14:51 -0700 |
| wilson2 | Linux (openSUSE 11.4) / x86_64 | OK | OK | |
liverpool | Windows Server 2003 R2 (32-bit) / x64 | OK | OK | OK |
gewurz | Windows Server 2008 R2 Enterprise (64-bit) / x64 | OK | OK | OK |
moscato1 | Windows Server 2008 R2 Enterprise (64-bit) / x64 | OK | OK | OK |
pitt | Mac OS X Leopard (10.5.8) / i386 | OK | OK | OK |
flowClust 2.11.0 Raphael Gottardo
Last Changed Rev: 56153 / Revision: 56603 | Last Changed Date: 2011-06-13 15:40:41 -0700 |
| wilson2 | Linux (openSUSE 11.4) / x86_64 | OK | WARNINGS | |
liverpool | Windows Server 2003 R2 (32-bit) / x64 | OK | WARNINGS | OK |
gewurz | Windows Server 2008 R2 Enterprise (64-bit) / x64 | OK | WARNINGS | OK |
moscato1 | Windows Server 2008 R2 Enterprise (64-bit) / x64 | OK | WARNINGS | OK |
pitt | Mac OS X Leopard (10.5.8) / i386 | OK | WARNINGS | OK |
flowCore 1.19.2 F. Hahne
Last Changed Rev: 56203 / Revision: 56603 | Last Changed Date: 2011-06-15 07:43:08 -0700 |
| wilson2 | Linux (openSUSE 11.4) / x86_64 | OK | OK | |
liverpool | Windows Server 2003 R2 (32-bit) / x64 | OK | OK | OK |
gewurz | Windows Server 2008 R2 Enterprise (64-bit) / x64 | OK | OK | OK |
moscato1 | Windows Server 2008 R2 Enterprise (64-bit) / x64 | OK | OK | OK |
pitt | Mac OS X Leopard (10.5.8) / i386 | OK | OK | OK |
flowFlowJo 1.11.0 John J. Gosink
Last Changed Rev: 54802 / Revision: 56603 | Last Changed Date: 2011-04-13 15:36:43 -0700 |
| wilson2 | Linux (openSUSE 11.4) / x86_64 | OK | OK | |
liverpool | Windows Server 2003 R2 (32-bit) / x64 | OK | OK | OK |
gewurz | Windows Server 2008 R2 Enterprise (64-bit) / x64 | OK | OK | OK |
moscato1 | Windows Server 2008 R2 Enterprise (64-bit) / x64 | OK | OK | OK |
pitt | Mac OS X Leopard (10.5.8) / i386 | OK | OK | OK |
flowFP 1.9.0 Herb Holyst
Last Changed Rev: 54802 / Revision: 56603 | Last Changed Date: 2011-04-13 15:36:43 -0700 |
| wilson2 | Linux (openSUSE 11.4) / x86_64 | ERROR | skipped | |
liverpool | Windows Server 2003 R2 (32-bit) / x64 | ERROR | skipped | skipped |
gewurz | Windows Server 2008 R2 Enterprise (64-bit) / x64 | ERROR | skipped | skipped |
moscato1 | Windows Server 2008 R2 Enterprise (64-bit) / x64 | ERROR | skipped | skipped |
pitt | Mac OS X Leopard (10.5.8) / i386 | ERROR | skipped | skipped |
flowMeans 1.5.2 Nima Aghaeepour
Last Changed Rev: 56361 / Revision: 56603 | Last Changed Date: 2011-06-22 11:55:41 -0700 |
| wilson2 | Linux (openSUSE 11.4) / x86_64 | OK | OK | |
liverpool | Windows Server 2003 R2 (32-bit) / x64 | OK | OK | OK |
gewurz | Windows Server 2008 R2 Enterprise (64-bit) / x64 | OK | OK | OK |
moscato1 | Windows Server 2008 R2 Enterprise (64-bit) / x64 | OK | OK | OK |
pitt | Mac OS X Leopard (10.5.8) / i386 | OK | OK | OK |
flowMerge 2.1.6 Greg Finak
Last Changed Rev: 56173 / Revision: 56603 | Last Changed Date: 2011-06-14 10:47:38 -0700 |
| wilson2 | Linux (openSUSE 11.4) / x86_64 | OK | OK | |
liverpool | Windows Server 2003 R2 (32-bit) / x64 | OK | OK | OK |
gewurz | Windows Server 2008 R2 Enterprise (64-bit) / x64 | OK | OK | OK |
moscato1 | Windows Server 2008 R2 Enterprise (64-bit) / x64 | OK | OK | OK |
pitt | Mac OS X Leopard (10.5.8) / i386 | OK | OK | OK |
flowPhyto 1.5.0 David M. Schruth
Last Changed Rev: 54802 / Revision: 56603 | Last Changed Date: 2011-04-13 15:36:43 -0700 |
| wilson2 | Linux (openSUSE 11.4) / x86_64 | OK | WARNINGS | |
liverpool | Windows Server 2003 R2 (32-bit) / x64 | OK | WARNINGS | OK |
gewurz | Windows Server 2008 R2 Enterprise (64-bit) / x64 | OK | WARNINGS | OK |
moscato1 | Windows Server 2008 R2 Enterprise (64-bit) / x64 | OK | ERROR | ERROR |
pitt | Mac OS X Leopard (10.5.8) / i386 | OK | WARNINGS | OK |
flowPlots 1.1.0 N. Hawkins
Last Changed Rev: 54802 / Revision: 56603 | Last Changed Date: 2011-04-13 15:36:43 -0700 |
| wilson2 | Linux (openSUSE 11.4) / x86_64 | OK | OK | |
liverpool | Windows Server 2003 R2 (32-bit) / x64 | OK | OK | OK |
gewurz | Windows Server 2008 R2 Enterprise (64-bit) / x64 | OK | OK | OK |
moscato1 | Windows Server 2008 R2 Enterprise (64-bit) / x64 | OK | OK | OK |
pitt | Mac OS X Leopard (10.5.8) / i386 | OK | OK | OK |
flowQ 1.13.0 F. Hahne
Last Changed Rev: 54802 / Revision: 56603 | Last Changed Date: 2011-04-13 15:36:43 -0700 |
| wilson2 | Linux (openSUSE 11.4) / x86_64 | ERROR | skipped | |
liverpool | Windows Server 2003 R2 (32-bit) / x64 | ERROR | skipped | skipped |
gewurz | Windows Server 2008 R2 Enterprise (64-bit) / x64 | ERROR | skipped | skipped |
moscato1 | Windows Server 2008 R2 Enterprise (64-bit) / x64 | ERROR | skipped | skipped |
pitt | Mac OS X Leopard (10.5.8) / i386 | ERROR | skipped | skipped |
flowStats 1.11.0 Florian Hahne and Chao-Jen Wong
Last Changed Rev: 54802 / Revision: 56603 | Last Changed Date: 2011-04-13 15:36:43 -0700 |
| wilson2 | Linux (openSUSE 11.4) / x86_64 | OK | OK | |
liverpool | Windows Server 2003 R2 (32-bit) / x64 | OK | OK | OK |
gewurz | Windows Server 2008 R2 Enterprise (64-bit) / x64 | OK | OK | OK |
moscato1 | Windows Server 2008 R2 Enterprise (64-bit) / x64 | OK | OK | OK |
pitt | Mac OS X Leopard (10.5.8) / i386 | OK | OK | OK |
flowTrans 1.5.0 Greg Finak
Last Changed Rev: 54802 / Revision: 56603 | Last Changed Date: 2011-04-13 15:36:43 -0700 |
| wilson2 | Linux (openSUSE 11.4) / x86_64 | OK | OK | |
liverpool | Windows Server 2003 R2 (32-bit) / x64 | OK | OK | OK |
gewurz | Windows Server 2008 R2 Enterprise (64-bit) / x64 | OK | OK | OK |
moscato1 | Windows Server 2008 R2 Enterprise (64-bit) / x64 | OK | OK | OK |
pitt | Mac OS X Leopard (10.5.8) / i386 | OK | OK | OK |
flowType 0.99.3 Nima Aghaeepour
Last Changed Rev: 56450 / Revision: 56603 | Last Changed Date: 2011-06-27 19:54:53 -0700 |
| wilson2 | Linux (openSUSE 11.4) / x86_64 | OK | OK | |
liverpool | Windows Server 2003 R2 (32-bit) / x64 | OK | OK | OK |
gewurz | Windows Server 2008 R2 Enterprise (64-bit) / x64 | OK | OK | OK |
moscato1 | Windows Server 2008 R2 Enterprise (64-bit) / x64 | OK | OK | OK |
pitt | Mac OS X Leopard (10.5.8) / i386 | OK | OK | OK |
flowUtils 1.13.0 Nishant Gopalakrishnan
Last Changed Rev: 54802 / Revision: 56603 | Last Changed Date: 2011-04-13 15:36:43 -0700 |
| wilson2 | Linux (openSUSE 11.4) / x86_64 | OK | OK | |
liverpool | Windows Server 2003 R2 (32-bit) / x64 | OK | OK | OK |
gewurz | Windows Server 2008 R2 Enterprise (64-bit) / x64 | OK | OK | OK |
moscato1 | Windows Server 2008 R2 Enterprise (64-bit) / x64 | OK | OK | OK |
pitt | Mac OS X Leopard (10.5.8) / i386 | OK | OK | OK |
flowViz 1.17.0 Florian Hahne
Last Changed Rev: 54802 / Revision: 56603 | Last Changed Date: 2011-04-13 15:36:43 -0700 |
| wilson2 | Linux (openSUSE 11.4) / x86_64 | OK | OK | |
liverpool | Windows Server 2003 R2 (32-bit) / x64 | OK | OK | OK |
gewurz | Windows Server 2008 R2 Enterprise (64-bit) / x64 | OK | OK | OK |
moscato1 | Windows Server 2008 R2 Enterprise (64-bit) / x64 | OK | OK | OK |
pitt | Mac OS X Leopard (10.5.8) / i386 | OK | OK | OK |
flowWorkspace 0.99.11 Greg Finak
Last Changed Rev: 56181 / Revision: 56603 | Last Changed Date: 2011-06-14 17:49:10 -0700 |
| wilson2 | Linux (openSUSE 11.4) / x86_64 | OK | OK | |
liverpool | Windows Server 2003 R2 (32-bit) / x64 | OK | ERROR | OK |
gewurz | Windows Server 2008 R2 Enterprise (64-bit) / x64 | OK | OK | OK |
moscato1 | Windows Server 2008 R2 Enterprise (64-bit) / x64 | OK | OK | OK |
pitt | Mac OS X Leopard (10.5.8) / i386 | ERROR | skipped | skipped |
frma 1.5.0 Matthew N. McCall
Last Changed Rev: 54802 / Revision: 56603 | Last Changed Date: 2011-04-13 15:36:43 -0700 |
| wilson2 | Linux (openSUSE 11.4) / x86_64 | OK | OK | |
liverpool | Windows Server 2003 R2 (32-bit) / x64 | OK | OK | OK |
gewurz | Windows Server 2008 R2 Enterprise (64-bit) / x64 | OK | OK | OK |
moscato1 | Windows Server 2008 R2 Enterprise (64-bit) / x64 | OK | OK | OK |
pitt | Mac OS X Leopard (10.5.8) / i386 | OK | WARNINGS | OK |
frmaTools 1.5.0 Matthew N. McCall
Last Changed Rev: 54802 / Revision: 56603 | Last Changed Date: 2011-04-13 15:36:43 -0700 |
| wilson2 | Linux (openSUSE 11.4) / x86_64 | OK | OK | |
liverpool | Windows Server 2003 R2 (32-bit) / x64 | OK | OK | OK |
gewurz | Windows Server 2008 R2 Enterprise (64-bit) / x64 | OK | OK | OK |
moscato1 | Windows Server 2008 R2 Enterprise (64-bit) / x64 | OK | OK | OK |
pitt | Mac OS X Leopard (10.5.8) / i386 | OK | OK | OK |
|
G A B C D E F [G] H I J K L M N O P Q R S T U V W X Y Z |
gaga 1.99.0 David Rossell
Last Changed Rev: 55903 / Revision: 56603 | Last Changed Date: 2011-05-30 06:18:51 -0700 |
| wilson2 | Linux (openSUSE 11.4) / x86_64 | OK | OK | |
liverpool | Windows Server 2003 R2 (32-bit) / x64 | OK | OK | OK |
gewurz | Windows Server 2008 R2 Enterprise (64-bit) / x64 | OK | OK | OK |
moscato1 | Windows Server 2008 R2 Enterprise (64-bit) / x64 | OK | OK | OK |
pitt | Mac OS X Leopard (10.5.8) / i386 | OK | OK | OK |
gage 2.3.2 Weijun Luo
Last Changed Rev: 55045 / Revision: 56603 | Last Changed Date: 2011-04-22 10:03:08 -0700 |
| wilson2 | Linux (openSUSE 11.4) / x86_64 | OK | OK | |
liverpool | Windows Server 2003 R2 (32-bit) / x64 | OK | OK | OK |
gewurz | Windows Server 2008 R2 Enterprise (64-bit) / x64 | OK | OK | OK |
moscato1 | Windows Server 2008 R2 Enterprise (64-bit) / x64 | OK | OK | OK |
pitt | Mac OS X Leopard (10.5.8) / i386 | OK | OK | OK |
gaggle 1.21.0 Christopher Bare
Last Changed Rev: 54802 / Revision: 56603 | Last Changed Date: 2011-04-13 15:36:43 -0700 |
| wilson2 | Linux (openSUSE 11.4) / x86_64 | OK | OK | |
liverpool | Windows Server 2003 R2 (32-bit) / x64 | OK | OK | OK |
gewurz | Windows Server 2008 R2 Enterprise (64-bit) / x64 | OK | OK | OK |
moscato1 | Windows Server 2008 R2 Enterprise (64-bit) / x64 | OK | ERROR | ERROR |
pitt | Mac OS X Leopard (10.5.8) / i386 | OK | OK | OK |
gaia 1.3.0 S. Morganella
Last Changed Rev: 56554 / Revision: 56603 | Last Changed Date: 2011-07-05 06:24:20 -0700 |
| wilson2 | Linux (openSUSE 11.4) / x86_64 | OK | OK | |
liverpool | Windows Server 2003 R2 (32-bit) / x64 | OK | OK | OK |
gewurz | Windows Server 2008 R2 Enterprise (64-bit) / x64 | OK | OK | OK |
moscato1 | Windows Server 2008 R2 Enterprise (64-bit) / x64 | OK | OK | OK |
pitt | Mac OS X Leopard (10.5.8) / i386 | OK | OK | OK |
gcrma 2.25.2 Z. Wu
Last Changed Rev: 55007 / Revision: 56603 | Last Changed Date: 2011-04-20 22:13:27 -0700 |
| wilson2 | Linux (openSUSE 11.4) / x86_64 | OK | OK | |
liverpool | Windows Server 2003 R2 (32-bit) / x64 | OK | OK | OK |
gewurz | Windows Server 2008 R2 Enterprise (64-bit) / x64 | OK | OK | OK |
moscato1 | Windows Server 2008 R2 Enterprise (64-bit) / x64 | OK | OK | OK |
pitt | Mac OS X Leopard (10.5.8) / i386 | OK | OK | OK |
genArise 1.29.0 IFC Development Team
Last Changed Rev: 54802 / Revision: 56603 | Last Changed Date: 2011-04-13 15:36:43 -0700 |
| wilson2 | Linux (openSUSE 11.4) / x86_64 | OK | OK | |
liverpool | Windows Server 2003 R2 (32-bit) / x64 | OK | OK | OK |
gewurz | Windows Server 2008 R2 Enterprise (64-bit) / x64 | OK | OK | OK |
moscato1 | Windows Server 2008 R2 Enterprise (64-bit) / x64 | OK | OK | OK |
pitt | Mac OS X Leopard (10.5.8) / i386 | OK | OK | OK |
gene2pathway 2.3.0 Holger Froehlich
Last Changed Rev: 54802 / Revision: 56603 | Last Changed Date: 2011-04-13 15:36:43 -0700 |
| wilson2 | Linux (openSUSE 11.4) / x86_64 | OK | ERROR | |
liverpool | Windows Server 2003 R2 (32-bit) / x64 | OK | ERROR | OK |
gewurz | Windows Server 2008 R2 Enterprise (64-bit) / x64 | OK | ERROR | OK |
moscato1 | Windows Server 2008 R2 Enterprise (64-bit) / x64 | OK | ERROR | ERROR |
pitt | Mac OS X Leopard (10.5.8) / i386 | OK | ERROR | OK |
GeneAnswers 1.9.0 Gang Feng , Pan Du and Tian Xia
Last Changed Rev: 56090 / Revision: 56603 | Last Changed Date: 2011-06-09 17:02:42 -0700 |
| wilson2 | Linux (openSUSE 11.4) / x86_64 | OK | OK | |
liverpool | Windows Server 2003 R2 (32-bit) / x64 | OK | OK | OK |
gewurz | Windows Server 2008 R2 Enterprise (64-bit) / x64 | OK | OK | OK |
moscato1 | Windows Server 2008 R2 Enterprise (64-bit) / x64 | OK | OK | OK |
pitt | Mac OS X Leopard (10.5.8) / i386 | OK | OK | OK |
genefilter 1.35.0 Biocore Team c/o BioC user list
Last Changed Rev: 54802 / Revision: 56603 | Last Changed Date: 2011-04-13 15:36:43 -0700 |
| wilson2 | Linux (openSUSE 11.4) / x86_64 | OK | OK | |
liverpool | Windows Server 2003 R2 (32-bit) / x64 | OK | OK | OK |
gewurz | Windows Server 2008 R2 Enterprise (64-bit) / x64 | OK | OK | OK |
moscato1 | Windows Server 2008 R2 Enterprise (64-bit) / x64 | OK | OK | OK |
pitt | Mac OS X Leopard (10.5.8) / i386 | OK | OK | OK |
genefu 1.3.2 Benjamin Haibe-Kains , Markus Schroeder
Last Changed Rev: 55722 / Revision: 56603 | Last Changed Date: 2011-05-19 10:51:16 -0700 |
| wilson2 | Linux (openSUSE 11.4) / x86_64 | OK | OK | |
liverpool | Windows Server 2003 R2 (32-bit) / x64 | OK | OK | OK |
gewurz | Windows Server 2008 R2 Enterprise (64-bit) / x64 | OK | OK | OK |
moscato1 | Windows Server 2008 R2 Enterprise (64-bit) / x64 | OK | OK | OK |
pitt | Mac OS X Leopard (10.5.8) / i386 | OK | OK | OK |
GeneGA 1.3.0 Zhenpeng Li
Last Changed Rev: 54802 / Revision: 56603 | Last Changed Date: 2011-04-13 15:36:43 -0700 |
| wilson2 | Linux (openSUSE 11.4) / x86_64 | OK | OK | |
liverpool | Windows Server 2003 R2 (32-bit) / x64 | N O T S U P P O R T E D |
gewurz | Windows Server 2008 R2 Enterprise (64-bit) / x64 | N O T S U P P O R T E D |
moscato1 | Windows Server 2008 R2 Enterprise (64-bit) / x64 | N O T S U P P O R T E D |
pitt | Mac OS X Leopard (10.5.8) / i386 | OK | OK | OK |
GeneMeta 1.25.0 Biocore Team c/o BioC user list
Last Changed Rev: 54802 / Revision: 56603 | Last Changed Date: 2011-04-13 15:36:43 -0700 |
| wilson2 | Linux (openSUSE 11.4) / x86_64 | OK | OK | |
liverpool | Windows Server 2003 R2 (32-bit) / x64 | OK | OK | OK |
gewurz | Windows Server 2008 R2 Enterprise (64-bit) / x64 | OK | OK | OK |
moscato1 | Windows Server 2008 R2 Enterprise (64-bit) / x64 | OK | OK | OK |
pitt | Mac OS X Leopard (10.5.8) / i386 | OK | OK | OK |
geneplotter 1.31.0 Biocore Team c/o BioC user list
Last Changed Rev: 54802 / Revision: 56603 | Last Changed Date: 2011-04-13 15:36:43 -0700 |
| wilson2 | Linux (openSUSE 11.4) / x86_64 | OK | OK | |
liverpool | Windows Server 2003 R2 (32-bit) / x64 | OK | OK | OK |
gewurz | Windows Server 2008 R2 Enterprise (64-bit) / x64 | OK | OK | OK |
moscato1 | Windows Server 2008 R2 Enterprise (64-bit) / x64 | OK | OK | OK |
pitt | Mac OS X Leopard (10.5.8) / i386 | OK | OK | OK |
GeneR 2.23.0 Y. d'Aubenton-Carafa
Last Changed Rev: 54802 / Revision: 56603 | Last Changed Date: 2011-04-13 15:36:43 -0700 |
| wilson2 | Linux (openSUSE 11.4) / x86_64 | OK | OK | |
liverpool | Windows Server 2003 R2 (32-bit) / x64 | OK | OK | OK |
gewurz | Windows Server 2008 R2 Enterprise (64-bit) / x64 | OK | ERROR | OK |
moscato1 | Windows Server 2008 R2 Enterprise (64-bit) / x64 | OK | ERROR | ERROR |
pitt | Mac OS X Leopard (10.5.8) / i386 | OK | OK | OK |
geneRecommender 1.25.0 Greg Hather
Last Changed Rev: 54802 / Revision: 56603 | Last Changed Date: 2011-04-13 15:36:43 -0700 |
| wilson2 | Linux (openSUSE 11.4) / x86_64 | OK | OK | |
liverpool | Windows Server 2003 R2 (32-bit) / x64 | OK | OK | OK |
gewurz | Windows Server 2008 R2 Enterprise (64-bit) / x64 | OK | OK | OK |
moscato1 | Windows Server 2008 R2 Enterprise (64-bit) / x64 | OK | OK | OK |
pitt | Mac OS X Leopard (10.5.8) / i386 | OK | OK | OK |
GeneRegionScan 1.9.7 Lasse Folkersen
Last Changed Rev: 56324 / Revision: 56603 | Last Changed Date: 2011-06-20 05:50:23 -0700 |
| wilson2 | Linux (openSUSE 11.4) / x86_64 | OK | OK | |
liverpool | Windows Server 2003 R2 (32-bit) / x64 | OK | OK | OK |
gewurz | Windows Server 2008 R2 Enterprise (64-bit) / x64 | OK | OK | OK |
moscato1 | Windows Server 2008 R2 Enterprise (64-bit) / x64 | OK | OK | OK |
pitt | Mac OS X Leopard (10.5.8) / i386 | OK | OK | OK |
GeneRfold 1.11.0 Antoine Lucas
Last Changed Rev: 54802 / Revision: 56603 | Last Changed Date: 2011-04-13 15:36:43 -0700 |
| wilson2 | Linux (openSUSE 11.4) / x86_64 | OK | OK | |
liverpool | Windows Server 2003 R2 (32-bit) / x64 | N O T S U P P O R T E D |
gewurz | Windows Server 2008 R2 Enterprise (64-bit) / x64 | N O T S U P P O R T E D |
moscato1 | Windows Server 2008 R2 Enterprise (64-bit) / x64 | N O T S U P P O R T E D |
pitt | Mac OS X Leopard (10.5.8) / i386 | OK | OK | OK |
GeneSelectMMD 1.9.0 Weiliang Qiu
Last Changed Rev: 54802 / Revision: 56603 | Last Changed Date: 2011-04-13 15:36:43 -0700 |
| wilson2 | Linux (openSUSE 11.4) / x86_64 | OK | OK | |
liverpool | Windows Server 2003 R2 (32-bit) / x64 | OK | OK | OK |
gewurz | Windows Server 2008 R2 Enterprise (64-bit) / x64 | OK | OK | OK |
moscato1 | Windows Server 2008 R2 Enterprise (64-bit) / x64 | OK | OK | OK |
pitt | Mac OS X Leopard (10.5.8) / i386 | OK | OK | OK |
GeneSelector 2.3.0 Martin Slawski
Last Changed Rev: 54802 / Revision: 56603 | Last Changed Date: 2011-04-13 15:36:43 -0700 |
| wilson2 | Linux (openSUSE 11.4) / x86_64 | OK | OK | |
liverpool | Windows Server 2003 R2 (32-bit) / x64 | OK | OK | OK |
gewurz | Windows Server 2008 R2 Enterprise (64-bit) / x64 | OK | OK | OK |
moscato1 | Windows Server 2008 R2 Enterprise (64-bit) / x64 | OK | OK | OK |
pitt | Mac OS X Leopard (10.5.8) / i386 | OK | OK | OK |
GeneticsDesign 1.21.0 The R Genetics Project
Last Changed Rev: 54802 / Revision: 56603 | Last Changed Date: 2011-04-13 15:36:43 -0700 |
| wilson2 | Linux (openSUSE 11.4) / x86_64 | OK | OK | |
liverpool | Windows Server 2003 R2 (32-bit) / x64 | OK | OK | OK |
gewurz | Windows Server 2008 R2 Enterprise (64-bit) / x64 | OK | OK | OK |
moscato1 | Windows Server 2008 R2 Enterprise (64-bit) / x64 | OK | OK | OK |
pitt | Mac OS X Leopard (10.5.8) / i386 | OK | OK | OK |
GeneticsPed 1.15.0 David Henderson
Last Changed Rev: 54802 / Revision: 56603 | Last Changed Date: 2011-04-13 15:36:43 -0700 |
| wilson2 | Linux (openSUSE 11.4) / x86_64 | OK | OK | |
liverpool | Windows Server 2003 R2 (32-bit) / x64 | OK | OK | OK |
gewurz | Windows Server 2008 R2 Enterprise (64-bit) / x64 | OK | WARNINGS | OK |
moscato1 | Windows Server 2008 R2 Enterprise (64-bit) / x64 | OK | OK | OK |
pitt | Mac OS X Leopard (10.5.8) / i386 | OK | OK | OK |
GeneTraffic 1.25.0 Daniel Iordan
Last Changed Rev: 54802 / Revision: 56603 | Last Changed Date: 2011-04-13 15:36:43 -0700 |
| wilson2 | Linux (openSUSE 11.4) / x86_64 | OK | ERROR | |
liverpool | Windows Server 2003 R2 (32-bit) / x64 | OK | ERROR | OK |
gewurz | Windows Server 2008 R2 Enterprise (64-bit) / x64 | OK | ERROR | OK |
moscato1 | Windows Server 2008 R2 Enterprise (64-bit) / x64 | OK | ERROR | ERROR |
pitt | Mac OS X Leopard (10.5.8) / i386 | OK | ERROR | OK |
genoCN 1.5.0 Wei Sun
Last Changed Rev: 54802 / Revision: 56603 | Last Changed Date: 2011-04-13 15:36:43 -0700 |
| wilson2 | Linux (openSUSE 11.4) / x86_64 | OK | OK | |
liverpool | Windows Server 2003 R2 (32-bit) / x64 | OK | OK | OK |
gewurz | Windows Server 2008 R2 Enterprise (64-bit) / x64 | OK | OK | OK |
moscato1 | Windows Server 2008 R2 Enterprise (64-bit) / x64 | OK | OK | OK |
pitt | Mac OS X Leopard (10.5.8) / i386 | OK | OK | OK |
GenomeGraphs 1.13.0 Steffen Durinck
Last Changed Rev: 54802 / Revision: 56603 | Last Changed Date: 2011-04-13 15:36:43 -0700 |
| wilson2 | Linux (openSUSE 11.4) / x86_64 | OK | OK | |
liverpool | Windows Server 2003 R2 (32-bit) / x64 | OK | OK | OK |
gewurz | Windows Server 2008 R2 Enterprise (64-bit) / x64 | OK | OK | OK |
moscato1 | Windows Server 2008 R2 Enterprise (64-bit) / x64 | OK | OK | OK |
pitt | Mac OS X Leopard (10.5.8) / i386 | OK | OK | OK |
genomeIntervals 1.9.0 Julien Gagneur
Last Changed Rev: 54802 / Revision: 56603 | Last Changed Date: 2011-04-13 15:36:43 -0700 |
| wilson2 | Linux (openSUSE 11.4) / x86_64 | OK | OK | |
liverpool | Windows Server 2003 R2 (32-bit) / x64 | OK | OK | OK |
gewurz | Windows Server 2008 R2 Enterprise (64-bit) / x64 | OK | OK | OK |
moscato1 | Windows Server 2008 R2 Enterprise (64-bit) / x64 | OK | OK | OK |
pitt | Mac OS X Leopard (10.5.8) / i386 | OK | OK | OK |
genomes 1.9.1 Chris Stubben
Last Changed Rev: 56026 / Revision: 56603 | Last Changed Date: 2011-06-07 14:12:31 -0700 |
| wilson2 | Linux (openSUSE 11.4) / x86_64 | OK | OK | |
liverpool | Windows Server 2003 R2 (32-bit) / x64 | OK | OK | OK |
gewurz | Windows Server 2008 R2 Enterprise (64-bit) / x64 | OK | OK | OK |
moscato1 | Windows Server 2008 R2 Enterprise (64-bit) / x64 | OK | OK | OK |
pitt | Mac OS X Leopard (10.5.8) / i386 | OK | OK | OK |
GenomicFeatures 1.5.14 Biocore Team c/o BioC user list
Last Changed Rev: 56409 / Revision: 56603 | Last Changed Date: 2011-06-24 15:36:43 -0700 |
| wilson2 | Linux (openSUSE 11.4) / x86_64 | OK | OK | |
liverpool | Windows Server 2003 R2 (32-bit) / x64 | OK | OK | OK |
gewurz | Windows Server 2008 R2 Enterprise (64-bit) / x64 | OK | OK | OK |
moscato1 | Windows Server 2008 R2 Enterprise (64-bit) / x64 | OK | OK | OK |
pitt | Mac OS X Leopard (10.5.8) / i386 | OK | OK | OK |
GenomicRanges 1.5.16 Biocore Team c/o BioC user list
Last Changed Rev: 56570 / Revision: 56603 | Last Changed Date: 2011-07-05 14:16:40 -0700 |
| wilson2 | Linux (openSUSE 11.4) / x86_64 | OK | OK | |
liverpool | Windows Server 2003 R2 (32-bit) / x64 | OK | OK | OK |
gewurz | Windows Server 2008 R2 Enterprise (64-bit) / x64 | OK | OK | OK |
moscato1 | Windows Server 2008 R2 Enterprise (64-bit) / x64 | OK | OK | OK |
pitt | Mac OS X Leopard (10.5.8) / i386 | OK | OK | OK |
Genominator 1.7.0 James Bullard
Last Changed Rev: 54802 / Revision: 56603 | Last Changed Date: 2011-04-13 15:36:43 -0700 |
| wilson2 | Linux (openSUSE 11.4) / x86_64 | OK | OK | |
liverpool | Windows Server 2003 R2 (32-bit) / x64 | OK | OK | OK |
gewurz | Windows Server 2008 R2 Enterprise (64-bit) / x64 | OK | OK | OK |
moscato1 | Windows Server 2008 R2 Enterprise (64-bit) / x64 | OK | OK | OK |
pitt | Mac OS X Leopard (10.5.8) / i386 | OK | OK | OK |
genoset 1.1.0 Peter M. Haverty
Last Changed Rev: 54802 / Revision: 56603 | Last Changed Date: 2011-04-13 15:36:43 -0700 |
| wilson2 | Linux (openSUSE 11.4) / x86_64 | OK | OK | |
liverpool | Windows Server 2003 R2 (32-bit) / x64 | OK | OK | OK |
gewurz | Windows Server 2008 R2 Enterprise (64-bit) / x64 | OK | OK | OK |
moscato1 | Windows Server 2008 R2 Enterprise (64-bit) / x64 | OK | OK | OK |
pitt | Mac OS X Leopard (10.5.8) / i386 | OK | OK | OK |
GEOmetadb 1.13.0 Jack Zhu
Last Changed Rev: 54802 / Revision: 56603 | Last Changed Date: 2011-04-13 15:36:43 -0700 |
| wilson2 | Linux (openSUSE 11.4) / x86_64 | OK | OK | |
liverpool | Windows Server 2003 R2 (32-bit) / x64 | OK | OK | OK |
gewurz | Windows Server 2008 R2 Enterprise (64-bit) / x64 | OK | OK | OK |
moscato1 | Windows Server 2008 R2 Enterprise (64-bit) / x64 | OK | OK | OK |
pitt | Mac OS X Leopard (10.5.8) / i386 | OK | OK | OK |
GEOquery 2.19.2 Sean Davis
Last Changed Rev: 56553 / Revision: 56603 | Last Changed Date: 2011-07-05 02:35:35 -0700 |
| wilson2 | Linux (openSUSE 11.4) / x86_64 | OK | OK | |
liverpool | Windows Server 2003 R2 (32-bit) / x64 | OK | OK | OK |
gewurz | Windows Server 2008 R2 Enterprise (64-bit) / x64 | OK | OK | OK |
moscato1 | Windows Server 2008 R2 Enterprise (64-bit) / x64 | OK | OK | OK |
pitt | Mac OS X Leopard (10.5.8) / i386 | OK | OK | OK |
GEOsubmission 1.5.0 Alexandre Kuhn
Last Changed Rev: 54802 / Revision: 56603 | Last Changed Date: 2011-04-13 15:36:43 -0700 |
| wilson2 | Linux (openSUSE 11.4) / x86_64 | OK | OK | |
liverpool | Windows Server 2003 R2 (32-bit) / x64 | OK | OK | OK |
gewurz | Windows Server 2008 R2 Enterprise (64-bit) / x64 | OK | OK | OK |
moscato1 | Windows Server 2008 R2 Enterprise (64-bit) / x64 | OK | OK | OK |
pitt | Mac OS X Leopard (10.5.8) / i386 | OK | OK | OK |
GGBase 3.13.3 Vince Carey
Last Changed Rev: 56158 / Revision: 56603 | Last Changed Date: 2011-06-13 19:22:33 -0700 |
| wilson2 | Linux (openSUSE 11.4) / x86_64 | OK | OK | |
liverpool | Windows Server 2003 R2 (32-bit) / x64 | OK | OK | OK |
gewurz | Windows Server 2008 R2 Enterprise (64-bit) / x64 | OK | OK | OK |
moscato1 | Windows Server 2008 R2 Enterprise (64-bit) / x64 | OK | OK | OK |
pitt | Mac OS X Leopard (10.5.8) / i386 | OK | OK | OK |
GGtools 3.11.31 Vince Carey
Last Changed Rev: 56132 / Revision: 56603 | Last Changed Date: 2011-06-13 03:37:12 -0700 |
| wilson2 | Linux (openSUSE 11.4) / x86_64 | OK | OK | |
liverpool | Windows Server 2003 R2 (32-bit) / x64 | OK | OK | OK |
gewurz | Windows Server 2008 R2 Enterprise (64-bit) / x64 | OK | OK | OK |
moscato1 | Windows Server 2008 R2 Enterprise (64-bit) / x64 | OK | ERROR | ERROR |
pitt | Mac OS X Leopard (10.5.8) / i386 | OK | WARNINGS | OK |
girafe 1.5.2 J. Toedling
Last Changed Rev: 56583 / Revision: 56603 | Last Changed Date: 2011-07-06 01:47:14 -0700 |
| wilson2 | Linux (openSUSE 11.4) / x86_64 | OK | OK | |
liverpool | Windows Server 2003 R2 (32-bit) / x64 | OK | OK | OK |
gewurz | Windows Server 2008 R2 Enterprise (64-bit) / x64 | OK | OK | OK |
moscato1 | Windows Server 2008 R2 Enterprise (64-bit) / x64 | OK | OK | OK |
pitt | Mac OS X Leopard (10.5.8) / i386 | OK | OK | OK |
GLAD 2.15.1 Philippe Hupe
Last Changed Rev: 56197 / Revision: 56603 | Last Changed Date: 2011-06-15 03:25:00 -0700 |
| wilson2 | Linux (openSUSE 11.4) / x86_64 | OK | OK | |
liverpool | Windows Server 2003 R2 (32-bit) / x64 | OK | OK | OK |
gewurz | Windows Server 2008 R2 Enterprise (64-bit) / x64 | OK | OK | OK |
moscato1 | Windows Server 2008 R2 Enterprise (64-bit) / x64 | OK | OK | OK |
pitt | Mac OS X Leopard (10.5.8) / i386 | OK | OK | OK |
GlobalAncova 3.21.0 Manuela Hummel
Last Changed Rev: 55093 / Revision: 56603 | Last Changed Date: 2011-04-27 01:26:53 -0700 |
| wilson2 | Linux (openSUSE 11.4) / x86_64 | OK | OK | |
liverpool | Windows Server 2003 R2 (32-bit) / x64 | OK | OK | OK |
gewurz | Windows Server 2008 R2 Enterprise (64-bit) / x64 | OK | OK | OK |
moscato1 | Windows Server 2008 R2 Enterprise (64-bit) / x64 | OK | OK | OK |
pitt | Mac OS X Leopard (10.5.8) / i386 | OK | OK | OK |
globaltest 5.7.4 Jelle Goeman
Last Changed Rev: 56354 / Revision: 56603 | Last Changed Date: 2011-06-22 01:30:47 -0700 |
| wilson2 | Linux (openSUSE 11.4) / x86_64 | OK | OK | |
liverpool | Windows Server 2003 R2 (32-bit) / x64 | OK | OK | OK |
gewurz | Windows Server 2008 R2 Enterprise (64-bit) / x64 | OK | OK | OK |
moscato1 | Windows Server 2008 R2 Enterprise (64-bit) / x64 | OK | OK | OK |
pitt | Mac OS X Leopard (10.5.8) / i386 | OK | OK | OK |
GOFunction 0.99.0 Zheng Guo
Last Changed Rev: 56453 / Revision: 56603 | Last Changed Date: 2011-06-28 12:41:44 -0700 |
| wilson2 | Linux (openSUSE 11.4) / x86_64 | OK | OK | |
liverpool | Windows Server 2003 R2 (32-bit) / x64 | ERROR | skipped | skipped |
gewurz | Windows Server 2008 R2 Enterprise (64-bit) / x64 | OK | OK | OK |
moscato1 | Windows Server 2008 R2 Enterprise (64-bit) / x64 | OK | OK | OK |
pitt | Mac OS X Leopard (10.5.8) / i386 | OK | OK | OK |
goProfiles 1.15.0 Alex Sanchez
Last Changed Rev: 54810 / Revision: 56603 | Last Changed Date: 2011-04-13 18:14:51 -0700 |
| wilson2 | Linux (openSUSE 11.4) / x86_64 | OK | WARNINGS | |
liverpool | Windows Server 2003 R2 (32-bit) / x64 | OK | WARNINGS | OK |
gewurz | Windows Server 2008 R2 Enterprise (64-bit) / x64 | OK | WARNINGS | OK |
moscato1 | Windows Server 2008 R2 Enterprise (64-bit) / x64 | OK | WARNINGS | OK |
pitt | Mac OS X Leopard (10.5.8) / i386 | OK | WARNINGS | OK |
GOSemSim 1.11.4 Guangchuang Yu
Last Changed Rev: 56374 / Revision: 56603 | Last Changed Date: 2011-06-23 04:45:22 -0700 |
| wilson2 | Linux (openSUSE 11.4) / x86_64 | OK | OK | |
liverpool | Windows Server 2003 R2 (32-bit) / x64 | OK | OK | OK |
gewurz | Windows Server 2008 R2 Enterprise (64-bit) / x64 | OK | OK | OK |
moscato1 | Windows Server 2008 R2 Enterprise (64-bit) / x64 | OK | OK | OK |
pitt | Mac OS X Leopard (10.5.8) / i386 | OK | OK | OK |
goseq 1.5.0 Matthew Young
Last Changed Rev: 54802 / Revision: 56603 | Last Changed Date: 2011-04-13 15:36:43 -0700 |
| wilson2 | Linux (openSUSE 11.4) / x86_64 | OK | OK | |
liverpool | Windows Server 2003 R2 (32-bit) / x64 | OK | OK | OK |
gewurz | Windows Server 2008 R2 Enterprise (64-bit) / x64 | OK | OK | OK |
moscato1 | Windows Server 2008 R2 Enterprise (64-bit) / x64 | OK | OK | OK |
pitt | Mac OS X Leopard (10.5.8) / i386 | OK | OK | OK |
GOstats 2.19.0 Biocore Team c/o BioC user list
Last Changed Rev: 54802 / Revision: 56603 | Last Changed Date: 2011-04-13 15:36:43 -0700 |
| wilson2 | Linux (openSUSE 11.4) / x86_64 | OK | OK | |
liverpool | Windows Server 2003 R2 (32-bit) / x64 | OK | OK | OK |
gewurz | Windows Server 2008 R2 Enterprise (64-bit) / x64 | OK | OK | OK |
moscato1 | Windows Server 2008 R2 Enterprise (64-bit) / x64 | OK | OK | OK |
pitt | Mac OS X Leopard (10.5.8) / i386 | OK | OK | OK |
goTools 1.27.0 Agnes Paquet
Last Changed Rev: 54802 / Revision: 56603 | Last Changed Date: 2011-04-13 15:36:43 -0700 |
| wilson2 | Linux (openSUSE 11.4) / x86_64 | OK | OK | |
liverpool | Windows Server 2003 R2 (32-bit) / x64 | OK | OK | OK |
gewurz | Windows Server 2008 R2 Enterprise (64-bit) / x64 | OK | OK | OK |
moscato1 | Windows Server 2008 R2 Enterprise (64-bit) / x64 | OK | OK | OK |
pitt | Mac OS X Leopard (10.5.8) / i386 | OK | OK | OK |
gpls 1.25.0 Biocore Team c/o BioC user list
Last Changed Rev: 54802 / Revision: 56603 | Last Changed Date: 2011-04-13 15:36:43 -0700 |
| wilson2 | Linux (openSUSE 11.4) / x86_64 | OK | OK | |
liverpool | Windows Server 2003 R2 (32-bit) / x64 | OK | OK | OK |
gewurz | Windows Server 2008 R2 Enterprise (64-bit) / x64 | OK | OK | OK |
moscato1 | Windows Server 2008 R2 Enterprise (64-bit) / x64 | OK | OK | OK |
pitt | Mac OS X Leopard (10.5.8) / i386 | OK | OK | OK |
graph 1.31.1 Seth Falcon
Last Changed Rev: 54945 / Revision: 56603 | Last Changed Date: 2011-04-19 13:42:15 -0700 |
| wilson2 | Linux (openSUSE 11.4) / x86_64 | OK | OK | |
liverpool | Windows Server 2003 R2 (32-bit) / x64 | OK | WARNINGS | OK |
gewurz | Windows Server 2008 R2 Enterprise (64-bit) / x64 | OK | WARNINGS | OK |
moscato1 | Windows Server 2008 R2 Enterprise (64-bit) / x64 | OK | OK | OK |
pitt | Mac OS X Leopard (10.5.8) / i386 | OK | OK | OK |
GraphAlignment 1.15.0 Joern P. Meier
Last Changed Rev: 54802 / Revision: 56603 | Last Changed Date: 2011-04-13 15:36:43 -0700 |
| wilson2 | Linux (openSUSE 11.4) / x86_64 | OK | OK | |
liverpool | Windows Server 2003 R2 (32-bit) / x64 | OK | OK | OK |
gewurz | Windows Server 2008 R2 Enterprise (64-bit) / x64 | OK | OK | OK |
moscato1 | Windows Server 2008 R2 Enterprise (64-bit) / x64 | OK | OK | OK |
pitt | Mac OS X Leopard (10.5.8) / i386 | OK | OK | OK |
GraphAT 1.25.0 Thomas LaFramboise
Last Changed Rev: 54802 / Revision: 56603 | Last Changed Date: 2011-04-13 15:36:43 -0700 |
| wilson2 | Linux (openSUSE 11.4) / x86_64 | OK | OK | |
liverpool | Windows Server 2003 R2 (32-bit) / x64 | OK | OK | OK |
gewurz | Windows Server 2008 R2 Enterprise (64-bit) / x64 | OK | OK | OK |
moscato1 | Windows Server 2008 R2 Enterprise (64-bit) / x64 | OK | OK | OK |
pitt | Mac OS X Leopard (10.5.8) / i386 | OK | OK | OK |
GRENITS 1.4.1 Edward Morrissey
Last Changed Rev: 56559 / Revision: 56603 | Last Changed Date: 2011-07-05 10:02:03 -0700 |
| wilson2 | Linux (openSUSE 11.4) / x86_64 | OK | OK | |
liverpool | Windows Server 2003 R2 (32-bit) / x64 | OK | OK | OK |
gewurz | Windows Server 2008 R2 Enterprise (64-bit) / x64 | OK | OK | OK |
moscato1 | Windows Server 2008 R2 Enterprise (64-bit) / x64 | OK | OK | OK |
pitt | Mac OS X Leopard (10.5.8) / i386 | OK | OK | OK |
GSEABase 1.15.0 Biocore Team c/o BioC user list
Last Changed Rev: 54802 / Revision: 56603 | Last Changed Date: 2011-04-13 15:36:43 -0700 |
| wilson2 | Linux (openSUSE 11.4) / x86_64 | OK | OK | |
liverpool | Windows Server 2003 R2 (32-bit) / x64 | OK | OK | OK |
gewurz | Windows Server 2008 R2 Enterprise (64-bit) / x64 | OK | OK | OK |
moscato1 | Windows Server 2008 R2 Enterprise (64-bit) / x64 | OK | OK | OK |
pitt | Mac OS X Leopard (10.5.8) / i386 | OK | OK | OK |
GSEAlm 1.13.0 Assaf Oron
Last Changed Rev: 54802 / Revision: 56603 | Last Changed Date: 2011-04-13 15:36:43 -0700 |
| wilson2 | Linux (openSUSE 11.4) / x86_64 | OK | OK | |
liverpool | Windows Server 2003 R2 (32-bit) / x64 | OK | OK | OK |
gewurz | Windows Server 2008 R2 Enterprise (64-bit) / x64 | OK | OK | OK |
moscato1 | Windows Server 2008 R2 Enterprise (64-bit) / x64 | OK | OK | OK |
pitt | Mac OS X Leopard (10.5.8) / i386 | OK | OK | OK |
GSRI 2.1.0 Julian Gehring
Last Changed Rev: 54802 / Revision: 56603 | Last Changed Date: 2011-04-13 15:36:43 -0700 |
| wilson2 | Linux (openSUSE 11.4) / x86_64 | OK | OK | |
liverpool | Windows Server 2003 R2 (32-bit) / x64 | OK | OK | OK |
gewurz | Windows Server 2008 R2 Enterprise (64-bit) / x64 | OK | OK | OK |
moscato1 | Windows Server 2008 R2 Enterprise (64-bit) / x64 | OK | OK | OK |
pitt | Mac OS X Leopard (10.5.8) / i386 | OK | WARNINGS | OK |
GSVA 1.1.2 Justin Guinney
Last Changed Rev: 56153 / Revision: 56603 | Last Changed Date: 2011-06-13 15:40:41 -0700 |
| wilson2 | Linux (openSUSE 11.4) / x86_64 | OK | OK | |
liverpool | Windows Server 2003 R2 (32-bit) / x64 | OK | OK | OK |
gewurz | Windows Server 2008 R2 Enterprise (64-bit) / x64 | OK | OK | OK |
moscato1 | Windows Server 2008 R2 Enterprise (64-bit) / x64 | OK | OK | OK |
pitt | Mac OS X Leopard (10.5.8) / i386 | OK | OK | ERROR |
|
H A B C D E F G [H] I J K L M N O P Q R S T U V W X Y Z |
Harshlight 1.25.0 Maurizio Pellegrino
Last Changed Rev: 54802 / Revision: 56603 | Last Changed Date: 2011-04-13 15:36:43 -0700 |
| wilson2 | Linux (openSUSE 11.4) / x86_64 | OK | OK | |
liverpool | Windows Server 2003 R2 (32-bit) / x64 | OK | OK | OK |
gewurz | Windows Server 2008 R2 Enterprise (64-bit) / x64 | OK | OK | OK |
moscato1 | Windows Server 2008 R2 Enterprise (64-bit) / x64 | OK | OK | OK |
pitt | Mac OS X Leopard (10.5.8) / i386 | OK | OK | OK |
Heatplus 1.23.0 Alexander Ploner
Last Changed Rev: 54802 / Revision: 56603 | Last Changed Date: 2011-04-13 15:36:43 -0700 |
| wilson2 | Linux (openSUSE 11.4) / x86_64 | OK | OK | |
liverpool | Windows Server 2003 R2 (32-bit) / x64 | OK | OK | OK |
gewurz | Windows Server 2008 R2 Enterprise (64-bit) / x64 | OK | OK | OK |
moscato1 | Windows Server 2008 R2 Enterprise (64-bit) / x64 | OK | OK | OK |
pitt | Mac OS X Leopard (10.5.8) / i386 | OK | OK | OK |
HELP 1.11.0 Reid F. Thompson
Last Changed Rev: 54802 / Revision: 56603 | Last Changed Date: 2011-04-13 15:36:43 -0700 |
| wilson2 | Linux (openSUSE 11.4) / x86_64 | OK | OK | |
liverpool | Windows Server 2003 R2 (32-bit) / x64 | OK | OK | OK |
gewurz | Windows Server 2008 R2 Enterprise (64-bit) / x64 | OK | OK | OK |
moscato1 | Windows Server 2008 R2 Enterprise (64-bit) / x64 | OK | OK | OK |
pitt | Mac OS X Leopard (10.5.8) / i386 | OK | OK | OK |
HEM 1.25.0 HyungJun Cho
Last Changed Rev: 54810 / Revision: 56603 | Last Changed Date: 2011-04-13 18:14:51 -0700 |
| wilson2 | Linux (openSUSE 11.4) / x86_64 | OK | OK | |
liverpool | Windows Server 2003 R2 (32-bit) / x64 | OK | OK | OK |
gewurz | Windows Server 2008 R2 Enterprise (64-bit) / x64 | OK | OK | OK |
moscato1 | Windows Server 2008 R2 Enterprise (64-bit) / x64 | OK | OK | OK |
pitt | Mac OS X Leopard (10.5.8) / i386 | OK | OK | OK |
hexbin 1.27.0 Nicholas Lewin-Koh
Last Changed Rev: 54802 / Revision: 56603 | Last Changed Date: 2011-04-13 15:36:43 -0700 |
| wilson2 | Linux (openSUSE 11.4) / x86_64 | OK | OK | |
liverpool | Windows Server 2003 R2 (32-bit) / x64 | OK | OK | OK |
gewurz | Windows Server 2008 R2 Enterprise (64-bit) / x64 | OK | OK | OK |
moscato1 | Windows Server 2008 R2 Enterprise (64-bit) / x64 | OK | OK | OK |
pitt | Mac OS X Leopard (10.5.8) / i386 | OK | OK | OK |
HilbertVis 1.11.1 Simon Anders
Last Changed Rev: 55297 / Revision: 56603 | Last Changed Date: 2011-05-06 01:24:29 -0700 |
| wilson2 | Linux (openSUSE 11.4) / x86_64 | OK | WARNINGS | |
liverpool | Windows Server 2003 R2 (32-bit) / x64 | OK | WARNINGS | OK |
gewurz | Windows Server 2008 R2 Enterprise (64-bit) / x64 | N O T S U P P O R T E D |
moscato1 | Windows Server 2008 R2 Enterprise (64-bit) / x64 | OK | WARNINGS | OK |
pitt | Mac OS X Leopard (10.5.8) / i386 | N O T S U P P O R T E D |
HilbertVisGUI 1.11.0 Simon Anders
Last Changed Rev: 55180 / Revision: 56603 | Last Changed Date: 2011-04-30 02:24:17 -0700 |
| wilson2 | Linux (openSUSE 11.4) / x86_64 | OK | OK | |
liverpool | Windows Server 2003 R2 (32-bit) / x64 | ERROR | skipped | skipped |
gewurz | Windows Server 2008 R2 Enterprise (64-bit) / x64 | N O T S U P P O R T E D |
moscato1 | Windows Server 2008 R2 Enterprise (64-bit) / x64 | ERROR | skipped | skipped |
pitt | Mac OS X Leopard (10.5.8) / i386 | OK | OK | OK |
hopach 2.13.0 Katherine S. Pollard
Last Changed Rev: 54810 / Revision: 56603 | Last Changed Date: 2011-04-13 18:14:51 -0700 |
| wilson2 | Linux (openSUSE 11.4) / x86_64 | OK | OK | |
liverpool | Windows Server 2003 R2 (32-bit) / x64 | OK | OK | OK |
gewurz | Windows Server 2008 R2 Enterprise (64-bit) / x64 | OK | OK | OK |
moscato1 | Windows Server 2008 R2 Enterprise (64-bit) / x64 | OK | OK | OK |
pitt | Mac OS X Leopard (10.5.8) / i386 | OK | OK | OK |
HTqPCR 1.7.1 Heidi Dvinge
Last Changed Rev: 56439 / Revision: 56603 | Last Changed Date: 2011-06-27 11:54:55 -0700 |
| wilson2 | Linux (openSUSE 11.4) / x86_64 | ERROR | skipped | |
liverpool | Windows Server 2003 R2 (32-bit) / x64 | ERROR | skipped | skipped |
gewurz | Windows Server 2008 R2 Enterprise (64-bit) / x64 | ERROR | skipped | skipped |
moscato1 | Windows Server 2008 R2 Enterprise (64-bit) / x64 | ERROR | skipped | skipped |
pitt | Mac OS X Leopard (10.5.8) / i386 | ERROR | skipped | skipped |
HTSanalyzeR 2.5.1 Xin Wang
Last Changed Rev: 56081 / Revision: 56603 | Last Changed Date: 2011-06-09 08:39:08 -0700 |
| wilson2 | Linux (openSUSE 11.4) / x86_64 | OK | OK | |
liverpool | Windows Server 2003 R2 (32-bit) / x64 | OK | OK | OK |
gewurz | Windows Server 2008 R2 Enterprise (64-bit) / x64 | OK | OK | OK |
moscato1 | Windows Server 2008 R2 Enterprise (64-bit) / x64 | OK | OK | OK |
pitt | Mac OS X Leopard (10.5.8) / i386 | OK | OK | OK |
htSeqTools 0.99.1 Oscar Reina
Last Changed Rev: 56572 / Revision: 56603 | Last Changed Date: 2011-07-05 15:04:58 -0700 |
| wilson2 | Linux (openSUSE 11.4) / x86_64 | OK | OK | |
liverpool | Windows Server 2003 R2 (32-bit) / x64 | OK | ERROR | OK |
gewurz | Windows Server 2008 R2 Enterprise (64-bit) / x64 | OK | OK | OK |
moscato1 | Windows Server 2008 R2 Enterprise (64-bit) / x64 | OK | ERROR | ERROR |
pitt | Mac OS X Leopard (10.5.8) / i386 | OK | OK | OK |
hyperdraw 1.5.0 Paul Murrell
Last Changed Rev: 54802 / Revision: 56603 | Last Changed Date: 2011-04-13 15:36:43 -0700 |
| wilson2 | Linux (openSUSE 11.4) / x86_64 | OK | OK | |
liverpool | Windows Server 2003 R2 (32-bit) / x64 | OK | OK | OK |
gewurz | Windows Server 2008 R2 Enterprise (64-bit) / x64 | OK | OK | OK |
moscato1 | Windows Server 2008 R2 Enterprise (64-bit) / x64 | OK | OK | OK |
pitt | Mac OS X Leopard (10.5.8) / i386 | OK | OK | OK |
hypergraph 1.25.0 Biocore Team c/o BioC user list
Last Changed Rev: 54802 / Revision: 56603 | Last Changed Date: 2011-04-13 15:36:43 -0700 |
| wilson2 | Linux (openSUSE 11.4) / x86_64 | OK | OK | |
liverpool | Windows Server 2003 R2 (32-bit) / x64 | OK | OK | OK |
gewurz | Windows Server 2008 R2 Enterprise (64-bit) / x64 | OK | OK | OK |
moscato1 | Windows Server 2008 R2 Enterprise (64-bit) / x64 | OK | OK | OK |
pitt | Mac OS X Leopard (10.5.8) / i386 | OK | OK | OK |
|
I A B C D E F G H [I] J K L M N O P Q R S T U V W X Y Z |
ibh 1.1.0 Kircicegi Korkmaz
Last Changed Rev: 54810 / Revision: 56603 | Last Changed Date: 2011-04-13 18:14:51 -0700 |
| wilson2 | Linux (openSUSE 11.4) / x86_64 | OK | OK | |
liverpool | Windows Server 2003 R2 (32-bit) / x64 | OK | OK | OK |
gewurz | Windows Server 2008 R2 Enterprise (64-bit) / x64 | OK | OK | OK |
moscato1 | Windows Server 2008 R2 Enterprise (64-bit) / x64 | OK | OK | OK |
pitt | Mac OS X Leopard (10.5.8) / i386 | OK | OK | OK |
Icens 1.25.0 Biocore Team c/o BioC user list
Last Changed Rev: 54802 / Revision: 56603 | Last Changed Date: 2011-04-13 15:36:43 -0700 |
| wilson2 | Linux (openSUSE 11.4) / x86_64 | OK | OK | |
liverpool | Windows Server 2003 R2 (32-bit) / x64 | OK | OK | OK |
gewurz | Windows Server 2008 R2 Enterprise (64-bit) / x64 | OK | OK | OK |
moscato1 | Windows Server 2008 R2 Enterprise (64-bit) / x64 | OK | OK | OK |
pitt | Mac OS X Leopard (10.5.8) / i386 | OK | OK | OK |
iChip 1.7.0 Qianxing Mo
Last Changed Rev: 54810 / Revision: 56603 | Last Changed Date: 2011-04-13 18:14:51 -0700 |
| wilson2 | Linux (openSUSE 11.4) / x86_64 | OK | OK | |
liverpool | Windows Server 2003 R2 (32-bit) / x64 | OK | OK | OK |
gewurz | Windows Server 2008 R2 Enterprise (64-bit) / x64 | OK | OK | OK |
moscato1 | Windows Server 2008 R2 Enterprise (64-bit) / x64 | OK | OK | OK |
pitt | Mac OS X Leopard (10.5.8) / i386 | OK | OK | OK |
idiogram 1.29.0 Karl J. Dykema
Last Changed Rev: 54802 / Revision: 56603 | Last Changed Date: 2011-04-13 15:36:43 -0700 |
| wilson2 | Linux (openSUSE 11.4) / x86_64 | OK | OK | |
liverpool | Windows Server 2003 R2 (32-bit) / x64 | OK | OK | OK |
gewurz | Windows Server 2008 R2 Enterprise (64-bit) / x64 | OK | OK | OK |
moscato1 | Windows Server 2008 R2 Enterprise (64-bit) / x64 | OK | OK | OK |
pitt | Mac OS X Leopard (10.5.8) / i386 | OK | OK | OK |
IdMappingRetrieval 0.99.1 Alex Lisovich , Roger Day
Last Changed Rev: 56498 / Revision: 56603 | Last Changed Date: 2011-07-01 11:30:04 -0700 |
| wilson2 | Linux (openSUSE 11.4) / x86_64 | OK | OK | |
liverpool | Windows Server 2003 R2 (32-bit) / x64 | OK | OK | OK |
gewurz | Windows Server 2008 R2 Enterprise (64-bit) / x64 | OK | OK | OK |
moscato1 | Windows Server 2008 R2 Enterprise (64-bit) / x64 | OK | ERROR | ERROR |
pitt | Mac OS X Leopard (10.5.8) / i386 | ERROR | skipped | skipped |
iFlow 2.5.0 Kyongryun Lee
Last Changed Rev: 54802 / Revision: 56603 | Last Changed Date: 2011-04-13 15:36:43 -0700 |
| wilson2 | Linux (openSUSE 11.4) / x86_64 | OK | WARNINGS | |
liverpool | Windows Server 2003 R2 (32-bit) / x64 | N O T S U P P O R T E D |
gewurz | Windows Server 2008 R2 Enterprise (64-bit) / x64 | N O T S U P P O R T E D |
moscato1 | Windows Server 2008 R2 Enterprise (64-bit) / x64 | N O T S U P P O R T E D |
pitt | Mac OS X Leopard (10.5.8) / i386 | OK | WARNINGS | OK |
imageHTS 1.3.1 Gregoire Pau
Last Changed Rev: 56548 / Revision: 56603 | Last Changed Date: 2011-07-05 01:00:39 -0700 |
| wilson2 | Linux (openSUSE 11.4) / x86_64 | OK | OK | |
liverpool | Windows Server 2003 R2 (32-bit) / x64 | ERROR | skipped | skipped |
gewurz | Windows Server 2008 R2 Enterprise (64-bit) / x64 | N O T S U P P O R T E D |
moscato1 | Windows Server 2008 R2 Enterprise (64-bit) / x64 | ERROR | skipped | skipped |
pitt | Mac OS X Leopard (10.5.8) / i386 | N O T S U P P O R T E D |
impute 1.27.0 Balasubramanian Narasimhan
Last Changed Rev: 54802 / Revision: 56603 | Last Changed Date: 2011-04-13 15:36:43 -0700 |
| wilson2 | Linux (openSUSE 11.4) / x86_64 | OK | OK | |
liverpool | Windows Server 2003 R2 (32-bit) / x64 | OK | OK | OK |
gewurz | Windows Server 2008 R2 Enterprise (64-bit) / x64 | OK | OK | OK |
moscato1 | Windows Server 2008 R2 Enterprise (64-bit) / x64 | OK | OK | OK |
pitt | Mac OS X Leopard (10.5.8) / i386 | OK | OK | OK |
inSilicoDb 0.99.3 Jonatan Taminau , David Steenhoff
Last Changed Rev: 56549 / Revision: 56603 | Last Changed Date: 2011-07-05 01:26:02 -0700 |
| wilson2 | Linux (openSUSE 11.4) / x86_64 | OK | OK | |
liverpool | Windows Server 2003 R2 (32-bit) / x64 | OK | OK | OK |
gewurz | Windows Server 2008 R2 Enterprise (64-bit) / x64 | OK | OK | OK |
moscato1 | Windows Server 2008 R2 Enterprise (64-bit) / x64 | OK | OK | OK |
pitt | Mac OS X Leopard (10.5.8) / i386 | OK | OK | OK |
inveRsion 1.1.0 Alejandro Caceres
Last Changed Rev: 54810 / Revision: 56603 | Last Changed Date: 2011-04-13 18:14:51 -0700 |
| wilson2 | Linux (openSUSE 11.4) / x86_64 | OK | OK | |
liverpool | Windows Server 2003 R2 (32-bit) / x64 | OK | OK | OK |
gewurz | Windows Server 2008 R2 Enterprise (64-bit) / x64 | OK | OK | OK |
moscato1 | Windows Server 2008 R2 Enterprise (64-bit) / x64 | OK | OK | OK |
pitt | Mac OS X Leopard (10.5.8) / i386 | OK | OK | OK |
IPPD 1.1.0 Martin Slawski
Last Changed Rev: 54810 / Revision: 56603 | Last Changed Date: 2011-04-13 18:14:51 -0700 |
| wilson2 | Linux (openSUSE 11.4) / x86_64 | OK | OK | |
liverpool | Windows Server 2003 R2 (32-bit) / x64 | OK | OK | OK |
gewurz | Windows Server 2008 R2 Enterprise (64-bit) / x64 | OK | OK | OK |
moscato1 | Windows Server 2008 R2 Enterprise (64-bit) / x64 | OK | OK | OK |
pitt | Mac OS X Leopard (10.5.8) / i386 | OK | OK | OK |
IRanges 1.11.11 Biocore Team c/o BioC user list
Last Changed Rev: 56456 / Revision: 56603 | Last Changed Date: 2011-06-28 16:33:41 -0700 |
| wilson2 | Linux (openSUSE 11.4) / x86_64 | OK | WARNINGS | |
liverpool | Windows Server 2003 R2 (32-bit) / x64 | OK | WARNINGS | OK |
gewurz | Windows Server 2008 R2 Enterprise (64-bit) / x64 | OK | WARNINGS | OK |
moscato1 | Windows Server 2008 R2 Enterprise (64-bit) / x64 | OK | WARNINGS | OK |
pitt | Mac OS X Leopard (10.5.8) / i386 | OK | WARNINGS | OK |
iSeq 1.5.0 Qianxing Mo
Last Changed Rev: 54810 / Revision: 56603 | Last Changed Date: 2011-04-13 18:14:51 -0700 |
| wilson2 | Linux (openSUSE 11.4) / x86_64 | OK | OK | |
liverpool | Windows Server 2003 R2 (32-bit) / x64 | OK | OK | OK |
gewurz | Windows Server 2008 R2 Enterprise (64-bit) / x64 | OK | OK | OK |
moscato1 | Windows Server 2008 R2 Enterprise (64-bit) / x64 | OK | OK | OK |
pitt | Mac OS X Leopard (10.5.8) / i386 | OK | OK | OK |
IsoGeneGUI 1.5.0 Setia Pramana
Last Changed Rev: 54810 / Revision: 56603 | Last Changed Date: 2011-04-13 18:14:51 -0700 |
| wilson2 | Linux (openSUSE 11.4) / x86_64 | OK | OK | |
liverpool | Windows Server 2003 R2 (32-bit) / x64 | OK | OK | OK |
gewurz | Windows Server 2008 R2 Enterprise (64-bit) / x64 | OK | OK | OK |
moscato1 | Windows Server 2008 R2 Enterprise (64-bit) / x64 | OK | OK | OK |
pitt | Mac OS X Leopard (10.5.8) / i386 | OK | WARNINGS | OK |
ITALICS 2.13.0 Guillem Rigaill
Last Changed Rev: 54810 / Revision: 56603 | Last Changed Date: 2011-04-13 18:14:51 -0700 |
| wilson2 | Linux (openSUSE 11.4) / x86_64 | OK | OK | |
liverpool | Windows Server 2003 R2 (32-bit) / x64 | OK | OK | OK |
gewurz | Windows Server 2008 R2 Enterprise (64-bit) / x64 | OK | OK | OK |
moscato1 | Windows Server 2008 R2 Enterprise (64-bit) / x64 | OK | OK | OK |
pitt | Mac OS X Leopard (10.5.8) / i386 | OK | WARNINGS | OK |
iterativeBMA 1.11.0 Ka Yee Yeung
Last Changed Rev: 54810 / Revision: 56603 | Last Changed Date: 2011-04-13 18:14:51 -0700 |
| wilson2 | Linux (openSUSE 11.4) / x86_64 | OK | OK | |
liverpool | Windows Server 2003 R2 (32-bit) / x64 | OK | OK | OK |
gewurz | Windows Server 2008 R2 Enterprise (64-bit) / x64 | OK | OK | OK |
moscato1 | Windows Server 2008 R2 Enterprise (64-bit) / x64 | OK | OK | OK |
pitt | Mac OS X Leopard (10.5.8) / i386 | OK | OK | OK |
iterativeBMAsurv 1.11.0 Ka Yee Yeung
Last Changed Rev: 54802 / Revision: 56603 | Last Changed Date: 2011-04-13 15:36:43 -0700 |
| wilson2 | Linux (openSUSE 11.4) / x86_64 | OK | OK | |
liverpool | Windows Server 2003 R2 (32-bit) / x64 | OK | OK | OK |
gewurz | Windows Server 2008 R2 Enterprise (64-bit) / x64 | OK | OK | OK |
moscato1 | Windows Server 2008 R2 Enterprise (64-bit) / x64 | OK | OK | OK |
pitt | Mac OS X Leopard (10.5.8) / i386 | OK | OK | OK |
|
J A B C D E F G H I [J] K L M N O P Q R S T U V W X Y Z |
joda 1.1.0 Ewa Szczurek
Last Changed Rev: 54802 / Revision: 56603 | Last Changed Date: 2011-04-13 15:36:43 -0700 |
| wilson2 | Linux (openSUSE 11.4) / x86_64 | OK | OK | |
liverpool | Windows Server 2003 R2 (32-bit) / x64 | OK | OK | OK |
gewurz | Windows Server 2008 R2 Enterprise (64-bit) / x64 | OK | OK | OK |
moscato1 | Windows Server 2008 R2 Enterprise (64-bit) / x64 | OK | OK | OK |
pitt | Mac OS X Leopard (10.5.8) / i386 | OK | OK | OK |
|
K A B C D E F G H I J [K] L M N O P Q R S T U V W X Y Z |
KCsmart 2.11.0 Jorma de Ronde
Last Changed Rev: 54802 / Revision: 56603 | Last Changed Date: 2011-04-13 15:36:43 -0700 |
| wilson2 | Linux (openSUSE 11.4) / x86_64 | OK | OK | |
liverpool | Windows Server 2003 R2 (32-bit) / x64 | OK | OK | OK |
gewurz | Windows Server 2008 R2 Enterprise (64-bit) / x64 | OK | OK | OK |
moscato1 | Windows Server 2008 R2 Enterprise (64-bit) / x64 | OK | OK | OK |
pitt | Mac OS X Leopard (10.5.8) / i386 | OK | OK | OK |
KEGGgraph 1.9.0 Jitao David Zhang
Last Changed Rev: 54802 / Revision: 56603 | Last Changed Date: 2011-04-13 15:36:43 -0700 |
| wilson2 | Linux (openSUSE 11.4) / x86_64 | OK | OK | |
liverpool | Windows Server 2003 R2 (32-bit) / x64 | OK | OK | OK |
gewurz | Windows Server 2008 R2 Enterprise (64-bit) / x64 | OK | OK | OK |
moscato1 | Windows Server 2008 R2 Enterprise (64-bit) / x64 | OK | OK | OK |
pitt | Mac OS X Leopard (10.5.8) / i386 | OK | ERROR | OK |
keggorthology 2.5.0 VJ Carey
Last Changed Rev: 54802 / Revision: 56603 | Last Changed Date: 2011-04-13 15:36:43 -0700 |
| wilson2 | Linux (openSUSE 11.4) / x86_64 | OK | OK | |
liverpool | Windows Server 2003 R2 (32-bit) / x64 | OK | OK | OK |
gewurz | Windows Server 2008 R2 Enterprise (64-bit) / x64 | OK | OK | OK |
moscato1 | Windows Server 2008 R2 Enterprise (64-bit) / x64 | OK | OK | OK |
pitt | Mac OS X Leopard (10.5.8) / i386 | OK | OK | OK |
KEGGSOAP 1.27.0 Biocore Team c/o BioC user list
Last Changed Rev: 54802 / Revision: 56603 | Last Changed Date: 2011-04-13 15:36:43 -0700 |
| wilson2 | Linux (openSUSE 11.4) / x86_64 | OK | OK | |
liverpool | Windows Server 2003 R2 (32-bit) / x64 | OK | OK | OK |
gewurz | Windows Server 2008 R2 Enterprise (64-bit) / x64 | OK | OK | OK |
moscato1 | Windows Server 2008 R2 Enterprise (64-bit) / x64 | OK | OK | OK |
pitt | Mac OS X Leopard (10.5.8) / i386 | OK | OK | OK |
|
L A B C D E F G H I J K [L] M N O P Q R S T U V W X Y Z |
lapmix 1.19.0 Yann Ruffieux
Last Changed Rev: 54802 / Revision: 56603 | Last Changed Date: 2011-04-13 15:36:43 -0700 |
| wilson2 | Linux (openSUSE 11.4) / x86_64 | OK | OK | |
liverpool | Windows Server 2003 R2 (32-bit) / x64 | OK | OK | OK |
gewurz | Windows Server 2008 R2 Enterprise (64-bit) / x64 | OK | OK | OK |
moscato1 | Windows Server 2008 R2 Enterprise (64-bit) / x64 | OK | OK | OK |
pitt | Mac OS X Leopard (10.5.8) / i386 | OK | OK | OK |
LBE 1.21.0 Cyril Dalmasso
Last Changed Rev: 54802 / Revision: 56603 | Last Changed Date: 2011-04-13 15:36:43 -0700 |
| wilson2 | Linux (openSUSE 11.4) / x86_64 | OK | OK | |
liverpool | Windows Server 2003 R2 (32-bit) / x64 | OK | OK | OK |
gewurz | Windows Server 2008 R2 Enterprise (64-bit) / x64 | OK | OK | OK |
moscato1 | Windows Server 2008 R2 Enterprise (64-bit) / x64 | OK | OK | OK |
pitt | Mac OS X Leopard (10.5.8) / i386 | OK | OK | OK |
les 1.3.0 Julian Gehring
Last Changed Rev: 54802 / Revision: 56603 | Last Changed Date: 2011-04-13 15:36:43 -0700 |
| wilson2 | Linux (openSUSE 11.4) / x86_64 | OK | OK | |
liverpool | Windows Server 2003 R2 (32-bit) / x64 | OK | OK | OK |
gewurz | Windows Server 2008 R2 Enterprise (64-bit) / x64 | OK |   |