flowMerge 2.1.0 Greg Finak
Snapshot Date: 2011-05-09 07:20:56 -0700 (Mon, 09 May 2011) | URL: https://hedgehog.fhcrc.org/bioconductor/trunk/madman/Rpacks/flowMerge | Last Changed Rev: 54802 / Revision: 55359 | Last Changed Date: 2011-04-13 15:36:43 -0700 (Wed, 13 Apr 2011) |
| wilson2 | Linux (openSUSE 11.4) / x86_64 | OK | WARNINGS | |
liverpool | Windows Server 2003 R2 (32-bit) / x64 | N O T S U P P O R T E D |
gewurz | Windows Server 2008 R2 Enterprise (64-bit) / x64 | N O T S U P P O R T E D |
pelham | Mac OS X Leopard (10.5.8) / i386 | OK | WARNINGS | [ OK ] |
>>>>>>>
>>>>>>> INSTALLATION WITH 'R CMD INSTALL --preclean --library=flowMerge.buildbin-libdir flowMerge_2.1.0.tar.gz'
>>>>>>>
* installing *source* package ‘flowMerge’ ...
** R
** data
** inst
** preparing package for lazy loading
Loading required package: mnormt
Loading required package: ellipse
Loading required package: Biobase
Welcome to Bioconductor
Vignettes contain introductory material. To view, type
'browseVignettes()'. To cite Bioconductor, see
'citation("Biobase")' and for packages 'citation("pkgname")'.
Loading required package: flowCore
Loading required package: rrcov
Loading required package: robustbase
Loading required package: pcaPP
Loading required package: mvtnorm
Scalable Robust Estimators with High Breakdown Point (version 1.3-00)
Attaching package: ‘flowCore’
The following object(s) are masked from ‘package:stats’:
alias, filter
Attaching package: ‘flowClust’
The following object(s) are masked from ‘package:mvtnorm’:
dmvt
The following object(s) are masked from ‘package:graphics’:
box
Attaching package: ‘snow’
The following object(s) are masked from ‘package:base’:
enquote
Loading required package: iterators
Loading required package: codetools
Creating a new generic function for "merge" in "flowMerge"
** help
*** installing help indices
** building package indices ...
*** tangling vignette sources ...
‘flowMerge.Rnw’
Warning: value of 'results' option should be lowercase
** testing if installed package can be loaded
Scalable Robust Estimators with High Breakdown Point (version 1.3-00)
* DONE (flowMerge)