Back to the "Multiple platform build/check report"
Package 183/188 | Hostname | OS | Arch | BUILD | CHECK | BUILD BIN |
vsn1.12.0Wolfgang HuberLast Changed Date: 2006-10-03 12:16:03 -0700 Last Changed Rev: 20373 | lamb1 | Linux (SUSE 10.1) | x86_64 | OK | WARNINGS | |
wellington | Linux (SUSE 9.2) | i686 | OK | OK | ||
churchill | Solaris 2.9 | sparc | OK | OK | ||
lemming | Windows Server 2003 | x86_64 | OK | OK | [ OK ] |
Package: vsn |
Version: 1.12.0 |
Command: D:\biocbld\bbs-1.9\R\bin\R.exe CMD INSTALL --build --library=vsn.instdir vsn_1.12.0.tar.gz |
RetCode: 0 |
Time: 20.7 seconds |
Status: OK |
PackageFile: vsn_1.12.0.zip |
installing R.css in D:/biocbld/bbs-1.9/meat/vsn.instdir Using auto-selected zip options 'vsn-ZIPDATA=zip' ---------- Making package vsn ------------ adding build stamp to DESCRIPTION installing NAMESPACE file and metadata making DLL ... making vsn.d from vsn.c gcc -ID:/biocbld/bbs-1.9/R/include -Wall -O2 -std=gnu99 -c vsn.c -o vsn.o windres --include-dir D:/biocbld/bbs-1.9/R/include -i vsn_res.rc -o vsn_res.o gcc -shared -s -o vsn.dll vsn.def vsn.o vsn_res.o -LD:/biocbld/bbs-1.9/R/bin -lR ... DLL made installing DLL installing R files installing inst files installing data files installing man source files installing indices zipping data installing help >>> Building/Updating help pages for package 'vsn' Formats: text html latex example chm getIntensityMatrix text html latex example chm kidney text html latex example chm lymphoma text html latex example chm meanSdPlot text html latex example chm normalize.AffyBatch.vsn text html latex example chm sagmbSimulateData text html latex example chm vsn text html latex example chm vsnPlotPar text html latex example chm vsnh text html latex example chm Microsoft HTML Help Compiler 4.74.8702 Compiling d:\biocbld\bbs-1.9\meat\R.INSTALL\vsn\chm\vsn.chm Compile time: 0 minutes, 0 seconds 10 Topics 46 Local links 7 Internet links 1 Graphic Created d:\biocbld\bbs-1.9\meat\R.INSTALL\vsn\chm\vsn.chm, 36,762 bytes Compression decreased file by 10,554 bytes. adding MD5 sums packaged installation of package 'vsn' as vsn_1.12.0.zip * DONE (vsn)