Back to Multiple platform build/check report
Package: limmaGUI |
Version: 1.8.0 |
Command: D:\biocbld\R-2.3.0\bin\R.exe CMD build limmaGUI |
RetCode: 0 |
Time: 29.8 seconds |
Status: OK |
PackageFile: limmaGUI_1.8.0.tar.gz |
* checking for file 'limmaGUI/DESCRIPTION' ... OK * preparing 'limmaGUI': * checking DESCRIPTION meta-information ... OK * installing the package to re-build vignettes installing R.css in D:/biocbld/work-area/1.8d/tmpdir/Rinst680893109 ---------- Making package limmaGUI ------------ adding build stamp to DESCRIPTION installing R files installing inst files installing man source files installing indices installing help >>> Building/Updating help pages for package 'limmaGUI' Formats: text html latex example chm LGchangelog text html latex chm limmaGUI text html latex chm Microsoft HTML Help Compiler 4.74.8702 Compiling d:\biocbld\work-area\1.8d\madman\Rpacks\limmaGUI\chm\limmaGUI.chm Compile time: 0 minutes, 0 seconds 3 Topics 143 Local links 0 Internet links 1 Graphic Created d:\biocbld\work-area\1.8d\madman\Rpacks\limmaGUI\chm\limmaGUI.chm, 25,117 bytes Compression decreased file by 35,610 bytes. preparing package limmaGUI for lazy loading adding MD5 sums * DONE (limmaGUI) * creating vignettes ... OK * removing junk files * checking for LF line-endings in source files * checking for empty or unneeded directories * building 'limmaGUI_1.8.0.tar.gz'