Back to Multiple platform build/check report
Package: RMAPPER |
Version: 1.2.0 |
Command: D:\biocbld\R-2.3.0\bin\R.exe CMD build RMAPPER |
RetCode: 0 |
Time: 3.0 seconds |
Status: OK |
PackageFile: RMAPPER_1.2.0.tar.gz |
* checking for file 'RMAPPER/DESCRIPTION' ... OK * preparing 'RMAPPER': * checking DESCRIPTION meta-information ... OK * removing junk files * checking for LF line-endings in source files * checking for empty or unneeded directories WARNING: directory 'RMAPPER/inst/doc' is empty * building 'RMAPPER_1.2.0.tar.gz'